{"text_format":"1","workbook":"xlsx","n_sheets":18,"sheets":["Jan","Febr","März","Apr","Mai","Juni","Juli","Aug","Sept","Okt","Nov","Dez","Einstellungen","Projektdaten","Check","Hinweise!","English help","Makros deaktiviert!"],"not_rendered":{"charts":0,"images":26,"macros":1,"external_links":0,"defined_names":15,"comments":0,"pivot_tables":0},"unopened":[],"bounds":{"document_bytes":16777216,"sheet_cells":100000,"rows_first":2000,"rows_last":500,"rows_between":2000,"halvings":0,"cell_chars":16384,"cell_head_chars":4096},"cells_cut":0,"cells_raw":0,"read":"whole","date_system":"1900"}

{"sheet":"Jan","index":0,"n_rows":63,"n_cols":60,"rows_kept":63,"cut":false,"hidden":true,"merged":[[0,31,0,32],[0,23,0,24],[0,25,0,26],[0,27,0,28],[0,29,0,30],[1,23,1,24],[1,25,1,26],[37,0,37,1],[38,0,38,2],[2,23,2,24],[2,25,2,26],[28,0,28,1],[29,0,29,1],[30,0,30,2],[35,0,35,1],[7,0,7,3],[39,0,39,1],[46,0,46,3],[47,0,47,3],[49,0,49,3],[54,23,54,24],[50,0,52,5],[40,3,40,5],[41,3,41,5],[44,3,44,5],[61,21,61,22],[63,25,63,26],[54,27,54,28],[54,29,54,30],[54,31,54,32],[54,25,54,26],[0,42,2,43],[0,44,2,45],[0,46,2,47],[0,33,2,35],[0,36,2,38],[0,39,2,41],[0,58,2,59],[0,48,2,49],[0,50,2,51],[0,52,2,53],[0,54,2,55],[0,56,2,57]]}
[{"$f":"Einstellungen!A27","v":"Universität Hohenheim KIM © 2026"},null,null,null,null,null,null,null,"Datum",null,"Arbeits-",null,null,"Arbeits-","Arb.Zeit ohne",null,"Sonstige Unterbrechungen",null,null,"Erläuterungen, Hinweise,","U,K","Reine Arb.-",null,"Productive",null,"Productive",null,"Sonstiges",null,"Summe ",null,"Summe",null,{"$f":"Projektdaten!D4","v":"EU Projekt 1"},null,null,{"$f":"Projektdaten!D6","v":"EU Projekt 2"},null,null,{"$f":"Projektdaten!D8","v":"EU Projekt 3"},null,null,{"$f":"Projektdaten!D13","v":"Projekt 1"},null,{"$f":"Projektdaten!D15","v":"Projekt 2"},null,{"$f":"Projektdaten!D17","v":"Projekt 3"},null,{"$f":"Projektdaten!D19","v":"Projekt 4"},null,{"$f":"Projektdaten!D21","v":"Projekt 5"},null,{"$f":"Projektdaten!D23","v":"Projekt 6"},null,{"$f":"Projektdaten!D25","v":"Projekt 7"},null,{"$f":"Projektdaten!D27","v":"Projekt 8"},null,{"$f":"Projektdaten!D29","v":"Projekt 9"}]
["Arbeitszeitblatt",null,null,{"$f":"Einstellungen!A28","v":"Version 5.12"},null,null,null,null,"Tag","Wo-","beginn","Mittagspause",null,"ende","Mittagspause",null,"von - bis","Gesamtdauer",null,"Vermerke, z.B. Dienstreise","F,X","Zeit","IST","Hours",null,"Hours",null,null,null,"EU-",null,"andere"]
[null,null,null,null,null,null,null,null,null,"tag",null,"von","bis",null,"Std.","Min.",null,"Std.","Min.","  - non eligible -","A,B","Std.","Min.","i.S.d. EU",null,"verteilt",null,null," ","Projekte",null,"Projekte"]
[null,null,null,null,null,null,null,null,null,null,null,null,null,null,null,null,null,null,null,null,null,null,null,"Std.","Min.","Std.","Min.","Std.","Min.","Std.","Min.","Std.","Min.","Std.","Min.","Geleistete Arbeitspakete nach Annex 1","Std.","Min.","Geleistete Arbeitspakete nach Annex 1","Std.","Min.","Geleistete Arbeitspakete nach Annex 1","Std.","Min.","Std.","Min.","Std.","Min.","Std.","Min.","Std.","Min.","Std.","Min.","Std.","Min.","Std.","Min.","Std.","Min."]
[null,null,null,null,null,"U",{"$f":"IF(AND(E14>0,I5<>\"\",U5<>\"f\"),1,0)","v":0},{"$f":"IF(AND(I5<>\"\",U5<>\"f\"),1,0)","v":0},{"$f":"IF(CHOOSE(WEEKDAY(Einstellungen!$A$3,2),\"Mo\",\"Di\",\"Mi\",\"Do\",\"Fr\",\"Sa\",\"So\")=J5,Einstellungen!$A$3,\"\")","v":"2026-01-01"},"Do",null,null,null,null,{"$f":"HOUR(N5-K5-(M5-L5))","v":0},{"$f":"MINUTE(N5-K5-(M5-L5))","v":0},null,null,null,"nur dienstl. Sonderfälle!*","F",{"$f":"IF(OR(U5=\"U\",U5=\"k\",U5=\"B\"),$C$14,IF(S5>P5,O5-1-R5,O5-R5))","v":0},{"$f":"IF(OR(U5=\"U\",U5=\"k\",U5=\"B\"),$D$14,IF(S5>P5,P5+60-S5,P5-S5))","v":0},{"$f":"IF(OR(U5=\"U\",U5=\"K\",U5=\"B\"),0,V5)","v":0},{"$f":"IF(OR(U5=\"U\",U5=\"K\",U5=\"B\"),0,W5)","v":0},{"$f":"INT(((SUM(AB5,AH5,AK5,AN5,AQ5,AS5,AU5,AW5,AY5,BA5,BC5,BE5,BG5)*100)+(SUM(AC5,AI5,AL5,AO5,AR5,AT5,AV5,AX5,AZ5,BB5,BD5,BF5,BH5)/60*100))/100)","v":0},{"$f":"MOD(((SUM(AC5,AI5,AL5,AO5,AR5,AT5,AV5,AX5,AZ5,BB5,BD5,BF5,BH5)*100)+(SUM(AC5,AI5,AL5,AO5,AR5,AT5,AV5,AX5,AZ5,BB5,BD5,BF5,BH5)/60*100))/100,1)*60","v":0},null,null,{"$f":"INT(((SUM(AH5,AK5,AN5)*100)+SUM(AI5,AL5,AO5)/60*100)/100)","v":0},{"$f":"MOD(((SUM(AI5,AL5,AO5)*100)+(SUM(AI5,AL5,AO5)/60*100))/100,1)*60","v":0},{"$f":"INT(((SUM(AQ5+AS5+AU5+AW5+AY5+BA5+BC5+BE5+BG5)*100)+SUM(AR5+AT5+AV5+AX5+AZ5+BB5+BD5+BF5+BH5)/60*100)/100)","v":0},{"$f":"MOD(((SUM(AR5+AT5+AV5+AX5+AZ5+BB5+BD5+BF5+BH5)*100)+(SUM(AR5+AT5+AV5+AX5+AZ5+BB5+BD5+BF5+BH5)/60*100))/100,1)*60","v":0},null,null,"",null,null,"",null,null,""]
[null,null,null,null,null,"K",{"$f":"IF(AND(E15>0,I6<>\"\",U6<>\"f\"),F14,0)","v":1},{"$f":"IF(AND(I6<>\"\",U6<>\"f\"),1,0)","v":1},{"$f":"IF(I5<>\"\",I5+1,IF(CHOOSE(WEEKDAY(Einstellungen!$A$3,2),\"Mo\",\"Di\",\"Mi\",\"Do\",\"Fr\",\"Sa\",\"So\")=J6,Einstellungen!$A$3,\"\"))","v":"2026-01-02"},"Fr",null,null,null,null,{"$f":"HOUR(N6-K6-(M6-L6))","v":0},{"$f":"MINUTE(N6-K6-(M6-L6))","v":0},null,null,null,null,null,{"$f":"IF(OR(U6=\"U\",U6=\"k\",U6=\"B\"),$C$15,IF(S6>P6,O6-1-R6,O6-R6))","v":0},{"$f":"IF(OR(U6=\"U\",U6=\"k\",U6=\"B\"),$D$15,IF(S6>P6,P6+60-S6,P6-S6))","v":0},{"$f":"IF(OR(U6=\"U\",U6=\"K\",U6=\"B\"),0,V6)","v":0},{"$f":"IF(OR(U6=\"U\",U6=\"K\",U6=\"B\"),0,W6)","v":0},{"$f":"INT(((SUM(AB6,AH6,AK6,AN6,AQ6,AS6,AU6,AW6,AY6,BA6,BC6,BE6,BG6)*100)+(SUM(AC6,AI6,AL6,AO6,AR6,AT6,AV6,AX6,AZ6,BB6,BD6,BF6,BH6)/60*100))/100)","v":0},{"$f":"MOD(((SUM(AC6,AI6,AL6,AO6,AR6,AT6,AV6,AX6,AZ6,BB6,BD6,BF6,BH6)*100)+(SUM(AC6,AI6,AL6,AO6,AR6,AT6,AV6,AX6,AZ6,BB6,BD6,BF6,BH6)/60*100))/100,1)*60","v":0},null,null,{"$f":"INT(((SUM(AH6,AK6,AN6)*100)+SUM(AI6,AL6,AO6)/60*100)/100)","v":0},{"$f":"MOD(((SUM(AI6,AL6,AO6)*100)+(SUM(AI6,AL6,AO6)/60*100))/100,1)*60","v":0},{"$f":"INT(((SUM(AQ6+AS6+AU6+AW6+AY6+BA6+BC6+BE6+BG6)*100)+SUM(AR6+AT6+AV6+AX6+AZ6+BB6+BD6+BF6+BH6)/60*100)/100)","v":0},{"$f":"MOD(((SUM(AR6+AT6+AV6+AX6+AZ6+BB6+BD6+BF6+BH6)*100)+(SUM(AR6+AT6+AV6+AX6+AZ6+BB6+BD6+BF6+BH6)/60*100))/100,1)*60","v":0},null,null,"",null,null,"",null,null,""]
[null,null,null,null,null,"A",{"$f":"IF(AND(E16>0,I7<>\"\",U7<>\"f\"),F15,0)","v":0},null,{"$f":"IF(I6<>\"\",I6+1,IF(CHOOSE(WEEKDAY(Einstellungen!$A$3,2),\"Mo\",\"Di\",\"Mi\",\"Do\",\"Fr\",\"Sa\",\"So\")=J7,Einstellungen!$A$3,\"\"))","v":"2026-01-03"},"Sa",null,null,null,null,{"$f":"HOUR(N7-K7-(M7-L7))","v":0},{"$f":"MINUTE(N7-K7-(M7-L7))","v":0},null,null,null,"nur dienstl. Sonderfälle!*",null,{"$f":"IF(S7>P7,O7-1-R7,O7-R7)","v":0},{"$f":"IF(S7>P7,P7+60-S7,P7-S7)","v":0},0,0,{"$f":"INT(((SUM(AB7,AH7,AK7,AN7,AQ7,AS7,AU7,AW7,AY7,BA7,BC7,BE7,BG7)*100)+(SUM(AC7,AI7,AL7,AO7,AR7,AT7,AV7,AX7,AZ7,BB7,BD7,BF7,BH7)/60*100))/100)","v":0},{"$f":"MOD(((SUM(AC7,AI7,AL7,AO7,AR7,AT7,AV7,AX7,AZ7,BB7,BD7,BF7,BH7)*100)+(SUM(AC7,AI7,AL7,AO7,AR7,AT7,AV7,AX7,AZ7,BB7,BD7,BF7,BH7)/60*100))/100,1)*60","v":0},null,null,{"$f":"INT(((SUM(AH7,AK7,AN7)*100)+SUM(AI7,AL7,AO7)/60*100)/100)","v":0},{"$f":"MOD(((SUM(AI7,AL7,AO7)*100)+(SUM(AI7,AL7,AO7)/60*100))/100,1)*60","v":0},{"$f":"INT(((SUM(AQ7+AS7+AU7+AW7+AY7+BA7+BC7+BE7+BG7)*100)+SUM(AR7+AT7+AV7+AX7+AZ7+BB7+BD7+BF7+BH7)/60*100)/100)","v":0},{"$f":"MOD(((SUM(AR7+AT7+AV7+AX7+AZ7+BB7+BD7+BF7+BH7)*100)+(SUM(AR7+AT7+AV7+AX7+AZ7+BB7+BD7+BF7+BH7)/60*100))/100,1)*60","v":0},null,null,"",null,null,"",null,null,""]
[{"$f":"IF(Einstellungen!D25>0.0005,\"Bitte Werte prüfen\",\"\")","v":""},null,null,null,null,"B",null,null,{"$f":"IF(I7<>\"\",I7+1,IF(CHOOSE(WEEKDAY(Einstellungen!$A$3,2),\"Mo\",\"Di\",\"Mi\",\"Do\",\"Fr\",\"Sa\",\"So\")=J8,Einstellungen!$A$3,\"\"))","v":"2026-01-04"},"So",null,null,null,null,{"$f":"HOUR(N8-K8-(M8-L8))","v":0},{"$f":"MINUTE(N8-K8-(M8-L8))","v":0},null,null,null,"nur dienstl. Sonderfälle!*",null,{"$f":"IF(S8>P8,O8-1-R8,O8-R8)","v":0},{"$f":"IF(S8>P8,P8+60-S8,P8-S8)","v":0},0,0,{"$f":"INT(((SUM(AB8,AH8,AK8,AN8,AQ8,AS8,AU8,AW8,AY8,BA8,BC8,BE8,BG8)*100)+(SUM(AC8,AI8,AL8,AO8,AR8,AT8,AV8,AX8,AZ8,BB8,BD8,BF8,BH8)/60*100))/100)","v":0},{"$f":"MOD(((SUM(AC8,AI8,AL8,AO8,AR8,AT8,AV8,AX8,AZ8,BB8,BD8,BF8,BH8)*100)+(SUM(AC8,AI8,AL8,AO8,AR8,AT8,AV8,AX8,AZ8,BB8,BD8,BF8,BH8)/60*100))/100,1)*60","v":0},null,null,{"$f":"INT(((SUM(AH8,AK8,AN8)*100)+SUM(AI8,AL8,AO8)/60*100)/100)","v":0},{"$f":"MOD(((SUM(AI8,AL8,AO8)*100)+(SUM(AI8,AL8,AO8)/60*100))/100,1)*60","v":0},{"$f":"INT(((SUM(AQ8+AS8+AU8+AW8+AY8+BA8+BC8+BE8+BG8)*100)+SUM(AR8+AT8+AV8+AX8+AZ8+BB8+BD8+BF8+BH8)/60*100)/100)","v":0},{"$f":"MOD(((SUM(AR8+AT8+AV8+AX8+AZ8+BB8+BD8+BF8+BH8)*100)+(SUM(AR8+AT8+AV8+AX8+AZ8+BB8+BD8+BF8+BH8)/60*100))/100,1)*60","v":0},null,null,"",null,null,"",null,null,""]
["Meine tägl. Regelarbeitszeit:",null,null,null,null,"X",null,null,null,null,null,null,null,null,null,null,null,null,null,null,null,{"$f":"INT((60*SUM(V5:V8)+SUM(W5:W8)-W9)/60)","v":0},{"$f":"INT(60*SUM(V5:V8)+SUM(W5:W8)-60*INT((60*SUM(V5:V8)+SUM(W5:W8))/60))","v":0},{"$f":"INT((60*SUM(X5:X8)+SUM(Y5:Y8)-Y9)/60)","v":0},{"$f":"INT(60*SUM(X5:X8)+SUM(Y5:Y8)-60*INT((60*SUM(X5:X8)+SUM(Y5:Y8))/60))","v":0},{"$f":"INT((60*SUM(Z5:Z8)+SUM(AA5:AA8)-AA9)/60)","v":0},{"$f":"INT(60*SUM(Z5:Z8)+SUM(AA5:AA8)-60*INT((60*SUM(Z5:Z8)+SUM(AA5:AA8))/60))","v":0},{"$f":"INT((60*SUM(AB5:AB8)+SUM(AC5:AC8)-AC9)/60)","v":0},{"$f":"INT(60*SUM(AB5:AB8)+SUM(AC5:AC8)-60*INT((60*SUM(AB5:AB8)+SUM(AC5:AC8))/60))","v":0},{"$f":"INT((60*SUM(AD5:AD8)+SUM(AE5:AE8)-AE9)/60)","v":0},{"$f":"INT(60*SUM(AD5:AD8)+SUM(AE5:AE8)-60*INT((60*SUM(AD5:AD8)+SUM(AE5:AE8))/60))","v":0},{"$f":"INT((60*SUM(AF5:AF8)+SUM(AG5:AG8)-AG9)/60)","v":0},{"$f":"INT(60*SUM(AF5:AF8)+SUM(AG5:AG8)-60*INT((60*SUM(AF5:AF8)+SUM(AG5:AG8))/60))","v":0},{"$f":"INT((60*SUM(AH5:AH8)+SUM(AI5:AI8)-AI9)/60)","v":0},{"$f":"INT(60*SUM(AH5:AH8)+SUM(AI5:AI8)-60*INT((60*SUM(AH5:AH8)+SUM(AI5:AI8))/60))","v":0},null,{"$f":"INT((60*SUM(AK5:AK8)+SUM(AL5:AL8)-AL9)/60)","v":0},{"$f":"INT(60*SUM(AK5:AK8)+SUM(AL5:AL8)-60*INT((60*SUM(AK5:AK8)+SUM(AL5:AL8))/60))","v":0},null,{"$f":"INT((60*SUM(AN5:AN8)+SUM(AO5:AO8)-AO9)/60)","v":0},{"$f":"INT(60*SUM(AN5:AN8)+SUM(AO5:AO8)-60*INT((60*SUM(AN5:AN8)+SUM(AO5:AO8))/60))","v":0},null,{"$f":"INT((60*SUM(AQ5:AQ8)+SUM(AR5:AR8)-AR9)/60)","v":0},{"$f":"INT(60*SUM(AQ5:AQ8)+SUM(AR5:AR8)-60*INT((60*SUM(AQ5:AQ8)+SUM(AR5:AR8))/60))","v":0},{"$f":"INT((60*SUM(AS5:AS8)+SUM(AT5:AT8)-AT9)/60)","v":0},{"$f":"INT(60*SUM(AS5:AS8)+SUM(AT5:AT8)-60*INT((60*SUM(AS5:AS8)+SUM(AT5:AT8))/60))","v":0},{"$f":"INT((60*SUM(AU5:AU8)+SUM(AV5:AV8)-AV9)/60)","v":0},{"$f":"INT(60*SUM(AU5:AU8)+SUM(AV5:AV8)-60*INT((60*SUM(AU5:AU8)+SUM(AV5:AV8))/60))","v":0},{"$f":"INT((60*SUM(AW5:AW8)+SUM(AX5:AX8)-AX9)/60)","v":0},{"$f":"INT(60*SUM(AW5:AW8)+SUM(AX5:AX8)-60*INT((60*SUM(AW5:AW8)+SUM(AX5:AX8))/60))","v":0},{"$f":"INT((60*SUM(AY5:AY8)+SUM(AZ5:AZ8)-AZ9)/60)","v":0},{"$f":"INT(60*SUM(AY5:AY8)+SUM(AZ5:AZ8)-60*INT((60*SUM(AY5:AY8)+SUM(AZ5:AZ8))/60))","v":0},{"$f":"INT((60*SUM(BA5:BA8)+SUM(BB5:BB8)-BB9)/60)","v":0},{"$f":"INT(60*SUM(BA5:BA8)+SUM(BB5:BB8)-60*INT((60*SUM(BA5:BA8)+SUM(BB5:BB8))/60))","v":0},{"$f":"INT((60*SUM(BC5:BC8)+SUM(BD5:BD8)-BD9)/60)","v":0},{"$f":"INT(60*SUM(BC5:BC8)+SUM(BD5:BD8)-60*INT((60*SUM(BC5:BC8)+SUM(BD5:BD8))/60))","v":0},{"$f":"INT((60*SUM(BE5:BE8)+SUM(BF5:BF8)-BF9)/60)","v":0},{"$f":"INT(60*SUM(BE5:BE8)+SUM(BF5:BF8)-60*INT((60*SUM(BE5:BE8)+SUM(BF5:BF8))/60))","v":0},{"$f":"INT((60*SUM(BG5:BG8)+SUM(BH5:BH8)-BH9)/60)","v":0},{"$f":"INT(60*SUM(BG5:BG8)+SUM(BH5:BH8)-60*INT((60*SUM(BG5:BG8)+SUM(BH5:BH8))/60))","v":0}]
[null,null,null,null,{"$f":"5-COUNTIF(E11:E15,0)","v":5},{"$f":"(SUM(C11:C15)*60+SUM(D11:D15))/E10","v":474}]
["Mo",{"$f":"IF(E11=0,\"frei\",\"\")","v":""},{"$f":"SUM(Einstellungen!C19)","v":7},{"$f":"SUM(Einstellungen!D19)","v":54},{"$f":"C11*60+D11","v":474},{"$f":"E11/$F$10","v":1},{"$f":"IF(AND(E11>0,I11<>\"\",U11<>\"f\"),F11,0)","v":1},{"$f":"IF(AND(I11<>\"\",U11<>\"f\"),1,0)","v":1},{"$f":"IF(I8<>\"\",I8+1,IF(CHOOSE(WEEKDAY(Einstellungen!$A$3,2),\"Mo\",\"Di\",\"Mi\",\"Do\",\"Fr\",\"Sa\",\"So\")=J11,Einstellungen!$A$3,\"\"))","v":"2026-01-05"},"Mo",null,null,null,null,{"$f":"HOUR(N11-K11-(M11-L11))","v":0},{"$f":"MINUTE(N11-K11-(M11-L11))","v":0},null,null,null,null,null,{"$f":"IF(OR(U11=\"U\",U11=\"k\",U11=\"B\"),$C$11,IF(S11>P11,O11-1-R11,O11-R11))","v":0},{"$f":"IF(OR(U11=\"U\",U11=\"k\",U11=\"B\"),$D$11,IF(S11>P11,P11+60-S11,P11-S11))","v":0},{"$f":"IF(OR(U11=\"U\",U11=\"K\",U11=\"B\"),0,V11)","v":0},{"$f":"IF(OR(U11=\"U\",U11=\"K\",U11=\"B\"),0,W11)","v":0},{"$f":"INT(((SUM(AB11,AH11,AK11,AN11,AQ11,AS11,AU11,AW11,AY11,BA11,BC11,BE11,BG11)*100)+(SUM(AC11,AI11,AL11,AO11,AR11,AT11,AV11,AX11,AZ11,BB11,BD11,BF11,BH11)/60*100))/100)","v":0},{"$f":"MOD(((SUM(AC11,AI11,AL11,AO11,AR11,AT11,AV11,AX11,AZ11,BB11,BD11,BF11,BH11)*100)+(SUM(AC11,AI11,AL11,AO11,AR11,AT11,AV11,AX11,AZ11,BB11,BD11,BF11,BH11)/60*100))/100,1)*60","v":0},null,null,{"$f":"INT(((SUM(AH11,AK11,AN11)*100)+SUM(AI11,AL11,AO11)/60*100)/100)","v":0},{"$f":"MOD(((SUM(AI11,AL11,AO11)*100)+(SUM(AI11,AL11,AO11)/60*100))/100,1)*60","v":0},{"$f":"INT(((SUM(AQ11+AS11+AU11+AW11+AY11+BA11+BC11+BE11+BG11)*100)+SUM(AR11+AT11+AV11+AX11+AZ11+BB11+BD11+BF11+BH11)/60*100)/100)","v":0},{"$f":"MOD(((SUM(AR11+AT11+AV11+AX11+AZ11+BB11+BD11+BF11+BH11)*100)+(SUM(AR11+AT11+AV11+AX11+AZ11+BB11+BD11+BF11+BH11)/60*100))/100,1)*60","v":0},null,null,"",null,null,"",null,null,""]
["Di",{"$f":"IF(E12=0,\"frei\",\"\")","v":""},{"$f":"SUM(Einstellungen!C20)","v":7},{"$f":"SUM(Einstellungen!D20)","v":54},{"$f":"C12*60+D12","v":474},{"$f":"E12/$F$10","v":1},{"$f":"IF(AND(E12>0,I12<>\"\",U12<>\"f\"),F12,0)","v":0},{"$f":"IF(AND(I12<>\"\",U12<>\"f\"),1,0)","v":0},{"$f":"IF(I11<>\"\",I11+1,IF(CHOOSE(WEEKDAY(Einstellungen!$A$3,2),\"Mo\",\"Di\",\"Mi\",\"Do\",\"Fr\",\"Sa\",\"So\")=J12,Einstellungen!$A$3,\"\"))","v":"2026-01-06"},"Di",null,null,null,null,{"$f":"HOUR(N12-K12-(M12-L12))","v":0},{"$f":"MINUTE(N12-K12-(M12-L12))","v":0},null,null,null,"nur dienstl. Sonderfälle!*","F",{"$f":"IF(OR(U12=\"U\",U12=\"k\",U12=\"B\"),$C$12,IF(S12>P12,O12-1-R12,O12-R12))","v":0},{"$f":"IF(OR(U12=\"U\",U12=\"k\",U12=\"B\"),$D$12,IF(S12>P12,P12+60-S12,P12-S12))","v":0},0,0,0,0,null,null,0,0,0,0,null,null,"",null,null,"",null,null,""]
["Mi",{"$f":"IF(E13=0,\"frei\",\"\")","v":""},{"$f":"SUM(Einstellungen!C21)","v":7},{"$f":"SUM(Einstellungen!D21)","v":54},{"$f":"C13*60+D13","v":474},{"$f":"E13/$F$10","v":1},{"$f":"IF(AND(E13>0,I13<>\"\",U13<>\"f\"),F13,0)","v":1},{"$f":"IF(AND(I13<>\"\",U13<>\"f\"),1,0)","v":1},{"$f":"IF(I12<>\"\",I12+1,IF(CHOOSE(WEEKDAY(Einstellungen!$A$3,2),\"Mo\",\"Di\",\"Mi\",\"Do\",\"Fr\",\"Sa\",\"So\")=J13,Einstellungen!$A$3,\"\"))","v":"2026-01-07"},"Mi",null,null,null,null,0,0,null,null,null,null,null,{"$f":"IF(OR(U13=\"U\",U13=\"k\",U13=\"B\"),$C$13,IF(S13>P13,O13-1-R13,O13-R13))","v":0},{"$f":"IF(OR(U13=\"U\",U13=\"k\",U13=\"B\"),$D$13,IF(S13>P13,P13+60-S13,P13-S13))","v":0},0,0,0,0,null,null,0,0,0,0,null,null,"",null,null,"",null,null,""]
["Do",{"$f":"IF(E14=0,\"frei\",\"\")","v":""},{"$f":"SUM(Einstellungen!C22)","v":7},{"$f":"SUM(Einstellungen!D22)","v":54},{"$f":"C14*60+D14","v":474},{"$f":"E14/$F$10","v":1},{"$f":"IF(AND(E14>0,I14<>\"\",U14<>\"f\"),F14,0)","v":1},{"$f":"IF(AND(I14<>\"\",U14<>\"f\"),1,0)","v":1},{"$f":"IF(I13<>\"\",I13+1,IF(CHOOSE(WEEKDAY(Einstellungen!$A$3,2),\"Mo\",\"Di\",\"Mi\",\"Do\",\"Fr\",\"Sa\",\"So\")=J14,Einstellungen!$A$3,\"\"))","v":"2026-01-08"},"Do",null,null,null,null,0,0,null,null,null,null,null,{"$f":"IF(OR(U14=\"U\",U14=\"k\",U14=\"B\"),$C$14,IF(S14>P14,O14-1-R14,O14-R14))","v":0},{"$f":"IF(OR(U14=\"U\",U14=\"k\",U14=\"B\"),$D$14,IF(S14>P14,P14+60-S14,P14-S14))","v":0},0,0,0,0,null,null,0,0,0,0,null,null,"",null,null,"",null,null,""]
["Fr",{"$f":"IF(E15=0,\"frei\",\"\")","v":""},{"$f":"SUM(Einstellungen!C23)","v":7},{"$f":"SUM(Einstellungen!D23)","v":54},{"$f":"C15*60+D15","v":474},{"$f":"E15/$F$10","v":1},{"$f":"IF(AND(E15>0,I15<>\"\",U15<>\"f\"),F15,0)","v":1},{"$f":"IF(AND(I15<>\"\",U15<>\"f\"),1,0)","v":1},{"$f":"I14+1","v":"2026-01-09"},"Fr",null,null,null,null,0,0,null,null,null,null,null,{"$f":"IF(OR(U15=\"U\",U15=\"k\",U15=\"B\"),$C$15,IF(S15>P15,O15-1-R15,O15-R15))","v":0},{"$f":"IF(OR(U15=\"U\",U15=\"k\",U15=\"B\"),$D$15,IF(S15>P15,P15+60-S15,P15-S15))","v":0},0,0,0,0,null,null,0,0,0,0,null,null,"",null,null,"",null,null,""]
[{"$f":"Einstellungen!$L$1","v":"Hinweise:"},null,null,null,null,null,null,null,{"$f":"I15+1","v":"2026-01-10"},"Sa",null,null,null,null,0,0,null,null,null,"nur dienstl. Sonderfälle!*",null,{"$f":"IF(S16>P16,O16-1-R16,O16-R16)","v":0},{"$f":"IF(S16>P16,P16+60-S16,P16-S16)","v":0},0,0,0,0,null,null,0,0,0,0,null,null,"",null,null,"",null,null,""]
[{"$f":"Einstellungen!$L$2","v":"I Beschäftigte mit 39,5 Std-Woche"},null,null,null,null,null,null,null,{"$f":"I16+1","v":"2026-01-11"},"So",null,null,null,null,0,0,null,null,null,"nur dienstl. Sonderfälle!*",null,{"$f":"IF(S17>P17,O17-1-R17,O17-R17)","v":0},{"$f":"IF(S17>P17,P17+60-S17,P17-S17)","v":0},0,0,0,0,null,null,0,0,0,0,null,null,"",null,null,"",null,null,""]
[{"$f":"Einstellungen!$L$3","v":""},null,{"$f":"Einstellungen!$N$3","v":"Beschäftigungsumfang"},null,null,null,null,null,null,null,null,null,null,null,null,null,null,null,null,null,null,{"$f":"INT((60*SUM(V11:V17)+SUM(W11:W17)-W18)/60)","v":0},{"$f":"INT(60*SUM(V11:V17)+SUM(W11:W17)-60*INT((60*SUM(V11:V17)+SUM(W11:W17))/60))","v":0},{"$f":"INT((60*SUM(X11:X17)+SUM(Y11:Y17)-Y18)/60)","v":0},{"$f":"INT(60*SUM(X11:X17)+SUM(Y11:Y17)-60*INT((60*SUM(X11:X17)+SUM(Y11:Y17))/60))","v":0},{"$f":"INT((60*SUM(Z11:Z17)+SUM(AA11:AA17)-AA18)/60)","v":0},{"$f":"INT(60*SUM(Z11:Z17)+SUM(AA11:AA17)-60*INT((60*SUM(Z11:Z17)+SUM(AA11:AA17))/60))","v":0},{"$f":"INT((60*SUM(AB11:AB17)+SUM(AC11:AC17)-AC18)/60)","v":0},{"$f":"INT(60*SUM(AB11:AB17)+SUM(AC11:AC17)-60*INT((60*SUM(AB11:AB17)+SUM(AC11:AC17))/60))","v":0},{"$f":"INT((60*SUM(AD11:AD17)+SUM(AE11:AE17)-AE18)/60)","v":0},{"$f":"INT(60*SUM(AD11:AD17)+SUM(AE11:AE17)-60*INT((60*SUM(AD11:AD17)+SUM(AE11:AE17))/60))","v":0},{"$f":"INT((60*SUM(AF11:AF17)+SUM(AG11:AG17)-AG18)/60)","v":0},{"$f":"INT(60*SUM(AF11:AF17)+SUM(AG11:AG17)-60*INT((60*SUM(AF11:AF17)+SUM(AG11:AG17))/60))","v":0},{"$f":"INT((60*SUM(AH11:AH17)+SUM(AI11:AI17)-AI18)/60)","v":0},{"$f":"INT(60*SUM(AH11:AH17)+SUM(AI11:AI17)-60*INT((60*SUM(AH11:AH17)+SUM(AI11:AI17))/60))","v":0},null,{"$f":"INT((60*SUM(AK11:AK17)+SUM(AL11:AL17)-AL18)/60)","v":0},{"$f":"INT(60*SUM(AK11:AK17)+SUM(AL11:AL17)-60*INT((60*SUM(AK11:AK17)+SUM(AL11:AL17))/60))","v":0},null,{"$f":"INT((60*SUM(AN11:AN17)+SUM(AO11:AO17)-AO18)/60)","v":0},{"$f":"INT(60*SUM(AN11:AN17)+SUM(AO11:AO17)-60*INT((60*SUM(AN11:AN17)+SUM(AO11:AO17))/60))","v":0},null,{"$f":"INT((60*SUM(AQ11:AQ17)+SUM(AR11:AR17)-AR18)/60)","v":0},{"$f":"INT(60*SUM(AQ11:AQ17)+SUM(AR11:AR17)-60*INT((60*SUM(AQ11:AQ17)+SUM(AR11:AR17))/60))","v":0},{"$f":"INT((60*SUM(AS11:AS17)+SUM(AT11:AT17)-AT18)/60)","v":0},{"$f":"INT(60*SUM(AS11:AS17)+SUM(AT11:AT17)-60*INT((60*SUM(AS11:AS17)+SUM(AT11:AT17))/60))","v":0},{"$f":"INT((60*SUM(AU11:AU17)+SUM(AV11:AV17)-AV18)/60)","v":0},{"$f":"INT(60*SUM(AU11:AU17)+SUM(AV11:AV17)-60*INT((60*SUM(AU11:AU17)+SUM(AV11:AV17))/60))","v":0},{"$f":"INT((60*SUM(AW11:AW17)+SUM(AX11:AX17)-AX18)/60)","v":0},{"$f":"INT(60*SUM(AW11:AW17)+SUM(AX11:AX17)-60*INT((60*SUM(AW11:AW17)+SUM(AX11:AX17))/60))","v":0},{"$f":"INT((60*SUM(AY11:AY17)+SUM(AZ11:AZ17)-AZ18)/60)","v":0},{"$f":"INT(60*SUM(AY11:AY17)+SUM(AZ11:AZ17)-60*INT((60*SUM(AY11:AY17)+SUM(AZ11:AZ17))/60))","v":0},{"$f":"INT((60*SUM(BA11:BA17)+SUM(BB11:BB17)-BB18)/60)","v":0},{"$f":"INT(60*SUM(BA11:BA17)+SUM(BB11:BB17)-60*INT((60*SUM(BA11:BA17)+SUM(BB11:BB17))/60))","v":0},{"$f":"INT((60*SUM(BC11:BC17)+SUM(BD11:BD17)-BD18)/60)","v":0},{"$f":"INT(60*SUM(BC11:BC17)+SUM(BD11:BD17)-60*INT((60*SUM(BC11:BC17)+SUM(BD11:BD17))/60))","v":0},{"$f":"INT((60*SUM(BE11:BE17)+SUM(BF11:BF17)-BF18)/60)","v":0},{"$f":"INT(60*SUM(BE11:BE17)+SUM(BF11:BF17)-60*INT((60*SUM(BE11:BE17)+SUM(BF11:BF17))/60))","v":0},{"$f":"INT((60*SUM(BG11:BG17)+SUM(BH11:BH17)-BH18)/60)","v":0},{"$f":"INT(60*SUM(BG11:BG17)+SUM(BH11:BH17)-60*INT((60*SUM(BG11:BG17)+SUM(BH11:BH17))/60))","v":0}]
[]
[{"$f":"Einstellungen!$L$4","v":"5 Tage-Woche"},null,{"$f":"Einstellungen!$N$4","v":1},{"$f":"Einstellungen!$O$4","v":0.75},null,{"$f":"Einstellungen!$Q$4","v":0.5},{"$f":"IF(AND(E11>0,I20<>\"\",U20<>\"f\"),F11,0)","v":1},{"$f":"IF(AND(I20<>\"\",U20<>\"f\"),1,0)","v":1},{"$f":"I17+1","v":"2026-01-12"},"Mo",null,null,null,null,{"$f":"HOUR(N20-K20-(M20-L20))","v":0},{"$f":"MINUTE(N20-K20-(M20-L20))","v":0},null,null,null,null,null,{"$f":"IF(OR(U20=\"U\",U20=\"k\",U20=\"B\"),$C$11,IF(S20>P20,O20-1-R20,O20-R20))","v":0},{"$f":"IF(OR(U20=\"U\",U20=\"k\",U20=\"B\"),$D$11,IF(S20>P20,P20+60-S20,P20-S20))","v":0},{"$f":"IF(OR(U20=\"U\",U20=\"K\",U20=\"B\"),0,V20)","v":0},{"$f":"IF(OR(U20=\"U\",U20=\"K\",U20=\"B\"),0,W20)","v":0},{"$f":"INT(((SUM(AB20,AH20,AK20,AN20,AQ20,AS20,AU20,AW20,AY20,BA20,BC20,BE20,BG20)*100)+(SUM(AC20,AI20,AL20,AO20,AR20,AT20,AV20,AX20,AZ20,BB20,BD20,BF20,BH20)/60*100))/100)","v":0},{"$f":"MOD(((SUM(AC20,AI20,AL20,AO20,AR20,AT20,AV20,AX20,AZ20,BB20,BD20,BF20,BH20)*100)+(SUM(AC20,AI20,AL20,AO20,AR20,AT20,AV20,AX20,AZ20,BB20,BD20,BF20,BH20)/60*100))/100,1)*60","v":0},null,null,{"$f":"INT(((SUM(AH20,AK20,AN20)*100)+SUM(AI20,AL20,AO20)/60*100)/100)","v":0},{"$f":"MOD(((SUM(AI20,AL20,AO20)*100)+(SUM(AI20,AL20,AO20)/60*100))/100,1)*60","v":0},{"$f":"INT(((SUM(AQ20+AS20+AU20+AW20+AY20+BA20+BC20+BE20+BG20)*100)+SUM(AR20+AT20+AV20+AX20+AZ20+BB20+BD20+BF20+BH20)/60*100)/100)","v":0},{"$f":"MOD(((SUM(AR20+AT20+AV20+AX20+AZ20+BB20+BD20+BF20+BH20)*100)+(SUM(AR20+AT20+AV20+AX20+AZ20+BB20+BD20+BF20+BH20)/60*100))/100,1)*60","v":0},null,null,"",null,null,"",null,null,""]
[{"$f":"Einstellungen!$L$5","v":""},null," "," ",null," ",{"$f":"IF(AND(E12>0,I21<>\"\",U21<>\"f\"),F12,0)","v":1},{"$f":"IF(AND(I21<>\"\",U21<>\"f\"),1,0)","v":1},{"$f":"I20+1","v":"2026-01-13"},"Di",null,null,null,null,0,0,null,null,null,null,null,{"$f":"IF(OR(U21=\"U\",U21=\"k\",U21=\"B\"),$C$12,IF(S21>P21,O21-1-R21,O21-R21))","v":0},{"$f":"IF(OR(U21=\"U\",U21=\"k\",U21=\"B\"),$D$12,IF(S21>P21,P21+60-S21,P21-S21))","v":0},0,0,0,0,null,null,0,0,0,0,null,null,"",null,null,"",null,null,""]
[{"$f":"Einstellungen!$L$6","v":"tägliche Regel-"},null," "," ",null," ",{"$f":"IF(AND(E13>0,I22<>\"\",U22<>\"f\"),F13,0)","v":1},{"$f":"IF(AND(I22<>\"\",U22<>\"f\"),1,0)","v":1},{"$f":"I21+1","v":"2026-01-14"},"Mi",null,null,null,null,0,0,null,null,null,null,null,{"$f":"IF(OR(U22=\"U\",U22=\"k\",U22=\"B\"),$C$13,IF(S22>P22,O22-1-R22,O22-R22))","v":0},{"$f":"IF(OR(U22=\"U\",U22=\"k\",U22=\"B\"),$D$13,IF(S22>P22,P22+60-S22,P22-S22))","v":0},0,0,0,0,null,null,0,0,0,0,null,null,"",null,null,"",null,null,""]
[{"$f":"Einstellungen!$L$7","v":"arbeitszeit für"},null,null,null,null,null,{"$f":"IF(AND(E14>0,I23<>\"\",U23<>\"f\"),F14,0)","v":1},{"$f":"IF(AND(I23<>\"\",U23<>\"f\"),1,0)","v":1},"2026-01-15","Do",null,null,null,null,0,0,null,null,null,null,null,{"$f":"IF(OR(U23=\"U\",U23=\"k\",U23=\"B\"),$C$14,IF(S23>P23,O23-1-R23,O23-R23))","v":0},{"$f":"IF(OR(U23=\"U\",U23=\"k\",U23=\"B\"),$D$14,IF(S23>P23,P23+60-S23,P23-S23))","v":0},0,0,0,0,null,null,0,0,0,0,null,null,"",null,null,"",null,null,""]
[{"$f":"Einstellungen!$L$8","v":"Wochenfeier-"},null,null,null,null,null,{"$f":"IF(AND(E15>0,I24<>\"\",U24<>\"f\"),F15,0)","v":1},{"$f":"IF(AND(I24<>\"\",U24<>\"f\"),1,0)","v":1},"2026-01-16","Fr",null,null,null,null,0,0,null,null,null,null,null,{"$f":"IF(OR(U24=\"U\",U24=\"k\",U24=\"B\"),$C$15,IF(S24>P24,O24-1-R24,O24-R24))","v":0},{"$f":"IF(OR(U24=\"U\",U24=\"k\",U24=\"B\"),$D$15,IF(S24>P24,P24+60-S24,P24-S24))","v":0},0,0,0,0,null,null,0,0,0,0,null,null,"",null,null,"",null,null,""]
[{"$f":"Einstellungen!$L$9","v":"tage, bei Urlaub"},null,null,null,null,null,null,null,"2026-01-17","Sa",null,null,null,null,0,0,null,null,null,"nur dienstl. Sonderfälle!*",null,{"$f":"IF(S25>P25,O25-1-R25,O25-R25)","v":0},{"$f":"IF(S25>P25,P25+60-S25,P25-S25)","v":0},0,0,0,0,null,null,0,0,0,0,null,null,"",null,null,"",null,null,""]
[{"$f":"Einstellungen!$L$10","v":"oder Krankheit"},null,null,null,null,null,null,null,"2026-01-18","So",null,null,null,null,0,0,null,null,null,"nur dienstl. Sonderfälle!*",null,{"$f":"IF(S26>P26,O26-1-R26,O26-R26)","v":0},{"$f":"IF(S26>P26,P26+60-S26,P26-S26)","v":0},0,0,0,0,null,null,0,0,0,0,null,null,"",null,null,"",null,null,""]
[{"$f":"Einstellungen!$L$11","v":"Mo-Fr  "},{"$f":"Einstellungen!$M$11","v":"Std.Min"},{"$f":"Einstellungen!$N$11","v":" 7.54"},{"$f":"Einstellungen!$O$11","v":" 5.56"},null,{"$f":"Einstellungen!$Q$11","v":" 3.57"},null,null,null,null,null,null,null,null,null,null,null,null,null,null,null,{"$f":"INT((60*SUM(V20:V26)+SUM(W20:W26)-W27)/60)","v":0},{"$f":"INT(60*SUM(V20:V26)+SUM(W20:W26)-60*INT((60*SUM(V20:V26)+SUM(W20:W26))/60))","v":0},{"$f":"INT((60*SUM(X20:X26)+SUM(Y20:Y26)-Y27)/60)","v":0},{"$f":"INT(60*SUM(X20:X26)+SUM(Y20:Y26)-60*INT((60*SUM(X20:X26)+SUM(Y20:Y26))/60))","v":0},{"$f":"INT((60*SUM(Z20:Z26)+SUM(AA20:AA26)-AA27)/60)","v":0},{"$f":"INT(60*SUM(Z20:Z26)+SUM(AA20:AA26)-60*INT((60*SUM(Z20:Z26)+SUM(AA20:AA26))/60))","v":0},{"$f":"INT((60*SUM(AB20:AB26)+SUM(AC20:AC26)-AC27)/60)","v":0},{"$f":"INT(60*SUM(AB20:AB26)+SUM(AC20:AC26)-60*INT((60*SUM(AB20:AB26)+SUM(AC20:AC26))/60))","v":0},{"$f":"INT((60*SUM(AD20:AD26)+SUM(AE20:AE26)-AE27)/60)","v":0},{"$f":"INT(60*SUM(AD20:AD26)+SUM(AE20:AE26)-60*INT((60*SUM(AD20:AD26)+SUM(AE20:AE26))/60))","v":0},{"$f":"INT((60*SUM(AF20:AF26)+SUM(AG20:AG26)-AG27)/60)","v":0},{"$f":"INT(60*SUM(AF20:AF26)+SUM(AG20:AG26)-60*INT((60*SUM(AF20:AF26)+SUM(AG20:AG26))/60))","v":0},{"$f":"INT((60*SUM(AH20:AH26)+SUM(AI20:AI26)-AI27)/60)","v":0},{"$f":"INT(60*SUM(AH20:AH26)+SUM(AI20:AI26)-60*INT((60*SUM(AH20:AH26)+SUM(AI20:AI26))/60))","v":0},null,{"$f":"INT((60*SUM(AK20:AK26)+SUM(AL20:AL26)-AL27)/60)","v":0},{"$f":"INT(60*SUM(AK20:AK26)+SUM(AL20:AL26)-60*INT((60*SUM(AK20:AK26)+SUM(AL20:AL26))/60))","v":0},null,{"$f":"INT((60*SUM(AN20:AN26)+SUM(AO20:AO26)-AO27)/60)","v":0},{"$f":"INT(60*SUM(AN20:AN26)+SUM(AO20:AO26)-60*INT((60*SUM(AN20:AN26)+SUM(AO20:AO26))/60))","v":0},null,{"$f":"INT((60*SUM(AQ20:AQ26)+SUM(AR20:AR26)-AR27)/60)","v":0},{"$f":"INT(60*SUM(AQ20:AQ26)+SUM(AR20:AR26)-60*INT((60*SUM(AQ20:AQ26)+SUM(AR20:AR26))/60))","v":0},{"$f":"INT((60*SUM(AS20:AS26)+SUM(AT20:AT26)-AT27)/60)","v":0},{"$f":"INT(60*SUM(AS20:AS26)+SUM(AT20:AT26)-60*INT((60*SUM(AS20:AS26)+SUM(AT20:AT26))/60))","v":0},{"$f":"INT((60*SUM(AU20:AU26)+SUM(AV20:AV26)-AV27)/60)","v":0},{"$f":"INT(60*SUM(AU20:AU26)+SUM(AV20:AV26)-60*INT((60*SUM(AU20:AU26)+SUM(AV20:AV26))/60))","v":0},{"$f":"INT((60*SUM(AW20:AW26)+SUM(AX20:AX26)-AX27)/60)","v":0},{"$f":"INT(60*SUM(AW20:AW26)+SUM(AX20:AX26)-60*INT((60*SUM(AW20:AW26)+SUM(AX20:AX26))/60))","v":0},{"$f":"INT((60*SUM(AY20:AY26)+SUM(AZ20:AZ26)-AZ27)/60)","v":0},{"$f":"INT(60*SUM(AY20:AY26)+SUM(AZ20:AZ26)-60*INT((60*SUM(AY20:AY26)+SUM(AZ20:AZ26))/60))","v":0},{"$f":"INT((60*SUM(BA20:BA26)+SUM(BB20:BB26)-BB27)/60)","v":0},{"$f":"INT(60*SUM(BA20:BA26)+SUM(BB20:BB26)-60*INT((60*SUM(BA20:BA26)+SUM(BB20:BB26))/60))","v":0},{"$f":"INT((60*SUM(BC20:BC26)+SUM(BD20:BD26)-BD27)/60)","v":0},{"$f":"INT(60*SUM(BC20:BC26)+SUM(BD20:BD26)-60*INT((60*SUM(BC20:BC26)+SUM(BD20:BD26))/60))","v":0},{"$f":"INT((60*SUM(BE20:BE26)+SUM(BF20:BF26)-BF27)/60)","v":0},{"$f":"INT(60*SUM(BE20:BE26)+SUM(BF20:BF26)-60*INT((60*SUM(BE20:BE26)+SUM(BF20:BF26))/60))","v":0},{"$f":"INT((60*SUM(BG20:BG26)+SUM(BH20:BH26)-BH27)/60)","v":0},{"$f":"INT(60*SUM(BG20:BG26)+SUM(BH20:BH26)-60*INT((60*SUM(BG20:BG26)+SUM(BH20:BH26))/60))","v":0}]
[" "," "," "," ",null," "]
[{"$f":"Einstellungen!$L$13","v":"Wochen"},null," "," ",null," ",{"$f":"IF(AND(E11>0,I29<>\"\",U29<>\"f\"),F11,0)","v":1},{"$f":"IF(AND(I29<>\"\",U29<>\"f\"),1,0)","v":1},{"$f":"I26+1","v":"2026-01-19"},"Mo",null,null,null,null,{"$f":"HOUR(N29-K29-(M29-L29))","v":0},{"$f":"MINUTE(N29-K29-(M29-L29))","v":0},null,null,null,null,null,{"$f":"IF(OR(U29=\"U\",U29=\"k\",U29=\"B\"),$C$11,IF(S29>P29,O29-1-R29,O29-R29))","v":0},{"$f":"IF(OR(U29=\"U\",U29=\"k\",U29=\"B\"),$D$11,IF(S29>P29,P29+60-S29,P29-S29))","v":0},{"$f":"IF(OR(U29=\"U\",U29=\"K\",U29=\"B\"),0,V29)","v":0},{"$f":"IF(OR(U29=\"U\",U29=\"K\",U29=\"B\"),0,W29)","v":0},{"$f":"INT(((SUM(AB29,AH29,AK29,AN29,AQ29,AS29,AU29,AW29,AY29,BA29,BC29,BE29,BG29)*100)+(SUM(AC29,AI29,AL29,AO29,AR29,AT29,AV29,AX29,AZ29,BB29,BD29,BF29,BH29)/60*100))/100)","v":0},{"$f":"MOD(((SUM(AC29,AI29,AL29,AO29,AR29,AT29,AV29,AX29,AZ29,BB29,BD29,BF29,BH29)*100)+(SUM(AC29,AI29,AL29,AO29,AR29,AT29,AV29,AX29,AZ29,BB29,BD29,BF29,BH29)/60*100))/100,1)*60","v":0},null,null,{"$f":"INT(((SUM(AH29,AK29,AN29)*100)+SUM(AI29,AL29,AO29)/60*100)/100)","v":0},{"$f":"MOD(((SUM(AI29,AL29,AO29)*100)+(SUM(AI29,AL29,AO29)/60*100))/100,1)*60","v":0},{"$f":"INT(((SUM(AQ29+AS29+AU29+AW29+AY29+BA29+BC29+BE29+BG29)*100)+SUM(AR29+AT29+AV29+AX29+AZ29+BB29+BD29+BF29+BH29)/60*100)/100)","v":0},{"$f":"MOD(((SUM(AR29+AT29+AV29+AX29+AZ29+BB29+BD29+BF29+BH29)*100)+(SUM(AR29+AT29+AV29+AX29+AZ29+BB29+BD29+BF29+BH29)/60*100))/100,1)*60","v":0},null,null,"",null,null,"",null,null,""]
[{"$f":"CONCATENATE(Einstellungen!$L$14,\" \",Einstellungen!$M$14)","v":"Arbeitzeit Std.Min"},null,{"$f":"Einstellungen!$N$14","v":"39.30"},{"$f":"Einstellungen!$O$14","v":"29.38"},null,{"$f":"Einstellungen!$Q$14","v":"19.45"},{"$f":"IF(AND(E12>0,I30<>\"\",U30<>\"f\"),F12,0)","v":1},{"$f":"IF(AND(I30<>\"\",U30<>\"f\"),1,0)","v":1},{"$f":"I29+1","v":"2026-01-20"},"Di",null,null,null,null,0,0,null,null,null,null,null,{"$f":"IF(OR(U30=\"U\",U30=\"k\",U30=\"B\"),$C$12,IF(S30>P30,O30-1-R30,O30-R30))","v":0},{"$f":"IF(OR(U30=\"U\",U30=\"k\",U30=\"B\"),$D$12,IF(S30>P30,P30+60-S30,P30-S30))","v":0},0,0,0,0,null,null,0,0,0,0,null,null,"",null,null,"",null,null,""]
[{"$f":"Einstellungen!$L$15","v":"max.Übertrag auf das"},null,null," ",null," ",{"$f":"IF(AND(E13>0,I31<>\"\",U31<>\"f\"),F13,0)","v":1},{"$f":"IF(AND(I31<>\"\",U31<>\"f\"),1,0)","v":1},{"$f":"I30+1","v":"2026-01-21"},"Mi",null,null,null,null,0,0,null,null,null,null,null,{"$f":"IF(OR(U31=\"U\",U31=\"k\",U31=\"B\"),$C$13,IF(S31>P31,O31-1-R31,O31-R31))","v":0},{"$f":"IF(OR(U31=\"U\",U31=\"k\",U31=\"B\"),$D$13,IF(S31>P31,P31+60-S31,P31-S31))","v":0},0,0,0,0,null,null,0,0,0,0,null,null,"",null,null,"",null,null,""]
[{"$f":"Einstellungen!$L$16","v":"Folgejahr Std.Min"},null,{"$f":"Einstellungen!$N$16","v":"39.30"},{"$f":"Einstellungen!$O$16","v":"39.30"},null,{"$f":"Einstellungen!$Q$16","v":"39.30"},{"$f":"IF(AND(E14>0,I32<>\"\",U32<>\"f\"),F14,0)","v":1},{"$f":"IF(AND(I32<>\"\",U32<>\"f\"),1,0)","v":1},"2026-01-22","Do",null,null,null,null,0,0,null,null,null,null,null,{"$f":"IF(OR(U32=\"U\",U32=\"k\",U32=\"B\"),$C$14,IF(S32>P32,O32-1-R32,O32-R32))","v":0},{"$f":"IF(OR(U32=\"U\",U32=\"k\",U32=\"B\"),$D$14,IF(S32>P32,P32+60-S32,P32-S32))","v":0},0,0,0,0,null,null,0,0,0,0,null,null,"",null,null,"",null,null,""]
[{"$f":"Einstellungen!$L$17","v":"II Beschäftigte mit 41 Std-Woche"},null,null,null,null,null,{"$f":"IF(AND(E15>0,I33<>\"\",U33<>\"f\"),F15,0)","v":1},{"$f":"IF(AND(I33<>\"\",U33<>\"f\"),1,0)","v":1},"2026-01-23","Fr",null,null,null,null,0,0,null,null,null,null,null,{"$f":"IF(OR(U33=\"U\",U33=\"k\",U33=\"B\"),$C$15,IF(S33>P33,O33-1-R33,O33-R33))","v":0},{"$f":"IF(OR(U33=\"U\",U33=\"k\",U33=\"B\"),$D$15,IF(S33>P33,P33+60-S33,P33-S33))","v":0},0,0,0,0,null,null,0,0,0,0,null,null,"",null,null,"",null,null,""]
[{"$f":"Einstellungen!$L$18","v":"tägliche Arbeitszeit"},null,null,null,null,null,null,null,"2026-01-24","Sa",null,null,null,null,0,0,null,null,null,"nur dienstl. Sonderfälle!*",null,{"$f":"IF(S34>P34,O34-1-R34,O34-R34)","v":0},{"$f":"IF(S34>P34,P34+60-S34,P34-S34)","v":0},0,0,0,0,null,null,0,0,0,0,null,null,"",null,null,"",null,null,""]
[{"$f":"Einstellungen!$L$19","v":"Mo-Fr  "},{"$f":"Einstellungen!$M$19","v":"Std.Min"},{"$f":"Einstellungen!$N$19","v":"8.12"},{"$f":"Einstellungen!$O$19","v":"6.09"},null,{"$f":"Einstellungen!$Q$19","v":"4.06"},null,null,"2026-01-25","So",null,null,null,null,0,0,null,null,null,"nur dienstl. Sonderfälle!*",null,{"$f":"IF(S35>P35,O35-1-R35,O35-R35)","v":0},{"$f":"IF(S35>P35,P35+60-S35,P35-S35)","v":0},0,0,0,0,null,null,0,0,0,0,null,null,"",null,null,"",null,null,""]
[{"$f":"Einstellungen!$L$20","v":"Wochen"},null," "," ",null," ",null,null,null,null,null,null,null,null,null,null,null,null,null,null,null,{"$f":"INT((60*SUM(V29:V35)+SUM(W29:W35)-W36)/60)","v":0},{"$f":"INT(60*SUM(V29:V35)+SUM(W29:W35)-60*INT((60*SUM(V29:V35)+SUM(W29:W35))/60))","v":0},{"$f":"INT((60*SUM(X29:X35)+SUM(Y29:Y35)-Y36)/60)","v":0},{"$f":"INT(60*SUM(X29:X35)+SUM(Y29:Y35)-60*INT((60*SUM(X29:X35)+SUM(Y29:Y35))/60))","v":0},{"$f":"INT((60*SUM(Z29:Z35)+SUM(AA29:AA35)-AA36)/60)","v":0},{"$f":"INT(60*SUM(Z29:Z35)+SUM(AA29:AA35)-60*INT((60*SUM(Z29:Z35)+SUM(AA29:AA35))/60))","v":0},{"$f":"INT((60*SUM(AB29:AB35)+SUM(AC29:AC35)-AC36)/60)","v":0},{"$f":"INT(60*SUM(AB29:AB35)+SUM(AC29:AC35)-60*INT((60*SUM(AB29:AB35)+SUM(AC29:AC35))/60))","v":0},{"$f":"INT((60*SUM(AD29:AD35)+SUM(AE29:AE35)-AE36)/60)","v":0},{"$f":"INT(60*SUM(AD29:AD35)+SUM(AE29:AE35)-60*INT((60*SUM(AD29:AD35)+SUM(AE29:AE35))/60))","v":0},{"$f":"INT((60*SUM(AF29:AF35)+SUM(AG29:AG35)-AG36)/60)","v":0},{"$f":"INT(60*SUM(AF29:AF35)+SUM(AG29:AG35)-60*INT((60*SUM(AF29:AF35)+SUM(AG29:AG35))/60))","v":0},{"$f":"INT((60*SUM(AH29:AH35)+SUM(AI29:AI35)-AI36)/60)","v":0},{"$f":"INT(60*SUM(AH29:AH35)+SUM(AI29:AI35)-60*INT((60*SUM(AH29:AH35)+SUM(AI29:AI35))/60))","v":0},null,{"$f":"INT((60*SUM(AK29:AK35)+SUM(AL29:AL35)-AL36)/60)","v":0},{"$f":"INT(60*SUM(AK29:AK35)+SUM(AL29:AL35)-60*INT((60*SUM(AK29:AK35)+SUM(AL29:AL35))/60))","v":0},null,{"$f":"INT((60*SUM(AN29:AN35)+SUM(AO29:AO35)-AO36)/60)","v":0},{"$f":"INT(60*SUM(AN29:AN35)+SUM(AO29:AO35)-60*INT((60*SUM(AN29:AN35)+SUM(AO29:AO35))/60))","v":0},null,{"$f":"INT((60*SUM(AQ29:AQ35)+SUM(AR29:AR35)-AR36)/60)","v":0},{"$f":"INT(60*SUM(AQ29:AQ35)+SUM(AR29:AR35)-60*INT((60*SUM(AQ29:AQ35)+SUM(AR29:AR35))/60))","v":0},{"$f":"INT((60*SUM(AS29:AS35)+SUM(AT29:AT35)-AT36)/60)","v":0},{"$f":"INT(60*SUM(AS29:AS35)+SUM(AT29:AT35)-60*INT((60*SUM(AS29:AS35)+SUM(AT29:AT35))/60))","v":0},{"$f":"INT((60*SUM(AU29:AU35)+SUM(AV29:AV35)-AV36)/60)","v":0},{"$f":"INT(60*SUM(AU29:AU35)+SUM(AV29:AV35)-60*INT((60*SUM(AU29:AU35)+SUM(AV29:AV35))/60))","v":0},{"$f":"INT((60*SUM(AW29:AW35)+SUM(AX29:AX35)-AX36)/60)","v":0},{"$f":"INT(60*SUM(AW29:AW35)+SUM(AX29:AX35)-60*INT((60*SUM(AW29:AW35)+SUM(AX29:AX35))/60))","v":0},{"$f":"INT((60*SUM(AY29:AY35)+SUM(AZ29:AZ35)-AZ36)/60)","v":0},{"$f":"INT(60*SUM(AY29:AY35)+SUM(AZ29:AZ35)-60*INT((60*SUM(AY29:AY35)+SUM(AZ29:AZ35))/60))","v":0},{"$f":"INT((60*SUM(BA29:BA35)+SUM(BB29:BB35)-BB36)/60)","v":0},{"$f":"INT(60*SUM(BA29:BA35)+SUM(BB29:BB35)-60*INT((60*SUM(BA29:BA35)+SUM(BB29:BB35))/60))","v":0},{"$f":"INT((60*SUM(BC29:BC35)+SUM(BD29:BD35)-BD36)/60)","v":0},{"$f":"INT(60*SUM(BC29:BC35)+SUM(BD29:BD35)-60*INT((60*SUM(BC29:BC35)+SUM(BD29:BD35))/60))","v":0},{"$f":"INT((60*SUM(BE29:BE35)+SUM(BF29:BF35)-BF36)/60)","v":0},{"$f":"INT(60*SUM(BE29:BE35)+SUM(BF29:BF35)-60*INT((60*SUM(BE29:BE35)+SUM(BF29:BF35))/60))","v":0},{"$f":"INT((60*SUM(BG29:BG35)+SUM(BH29:BH35)-BH36)/60)","v":0},{"$f":"INT(60*SUM(BG29:BG35)+SUM(BH29:BH35)-60*INT((60*SUM(BG29:BG35)+SUM(BH29:BH35))/60))","v":0}]
[]
[{"$f":"CONCATENATE(Einstellungen!$L$21,\" \",Einstellungen!$M$21)","v":"Arbeitzeit Std.Min"},null,{"$f":"Einstellungen!$N$21","v":"41.00"},{"$f":"Einstellungen!$O$21","v":"30.45"},null,{"$f":"Einstellungen!$Q$21","v":"20.30"},{"$f":"IF(AND(E11>0,I38<>\"\",U38<>\"f\"),F11,0)","v":1},{"$f":"IF(AND(I38<>\"\",U38<>\"f\"),1,0)","v":1},{"$f":"IF(I35<>\"\",IF(MONTH(I35)=MONTH(I35+1),I35+1,\"\"),\"\")","v":"2026-01-26"},"Mo",null,null,null,null,{"$f":"HOUR(N38-K38-(M38-L38))","v":0},{"$f":"MINUTE(N38-K38-(M38-L38))","v":0},null,null,null,null,null,{"$f":"IF(OR(U38=\"U\",U38=\"k\",U38=\"B\"),$C$11,IF(S38>P38,O38-1-R38,O38-R38))","v":0},{"$f":"IF(OR(U38=\"U\",U38=\"k\",U38=\"B\"),$D$11,IF(S38>P38,P38+60-S38,P38-S38))","v":0},{"$f":"IF(OR(U38=\"U\",U38=\"K\",U38=\"B\"),0,V38)","v":0},{"$f":"IF(OR(U38=\"U\",U38=\"K\",U38=\"B\"),0,W38)","v":0},{"$f":"INT(((SUM(AB38,AH38,AK38,AN38,AQ38,AS38,AU38,AW38,AY38,BA38,BC38,BE38,BG38)*100)+(SUM(AC38,AI38,AL38,AO38,AR38,AT38,AV38,AX38,AZ38,BB38,BD38,BF38,BH38)/60*100))/100)","v":0},{"$f":"MOD(((SUM(AC38,AI38,AL38,AO38,AR38,AT38,AV38,AX38,AZ38,BB38,BD38,BF38,BH38)*100)+(SUM(AC38,AI38,AL38,AO38,AR38,AT38,AV38,AX38,AZ38,BB38,BD38,BF38,BH38)/60*100))/100,1)*60","v":0},null,null,{"$f":"INT(((SUM(AH38,AK38,AN38)*100)+SUM(AI38,AL38,AO38)/60*100)/100)","v":0},{"$f":"MOD(((SUM(AI38,AL38,AO38)*100)+(SUM(AI38,AL38,AO38)/60*100))/100,1)*60","v":0},{"$f":"INT(((SUM(AQ38+AS38+AU38+AW38+AY38+BA38+BC38+BE38+BG38)*100)+SUM(AR38+AT38+AV38+AX38+AZ38+BB38+BD38+BF38+BH38)/60*100)/100)","v":0},{"$f":"MOD(((SUM(AR38+AT38+AV38+AX38+AZ38+BB38+BD38+BF38+BH38)*100)+(SUM(AR38+AT38+AV38+AX38+AZ38+BB38+BD38+BF38+BH38)/60*100))/100,1)*60","v":0},null,null,"",null,null,"",null,null,""]
[{"$f":"Einstellungen!$L$22","v":"max.Übertrag auf das"},null,null," "," "," ",{"$f":"IF(AND(E12>0,I39<>\"\",U39<>\"f\"),F12,0)","v":1},{"$f":"IF(AND(I39<>\"\",U39<>\"f\"),1,0)","v":1},{"$f":"IF(I38<>\"\",IF(MONTH(I38)=MONTH(I38+1),I38+1,\"\"),\"\")","v":"2026-01-27"},"Di",null,null,null,null,0,0,null,null,null,null,null,{"$f":"IF(OR(U39=\"U\",U39=\"k\",U39=\"B\"),$C$12,IF(S39>P39,O39-1-R39,O39-R39))","v":0},{"$f":"IF(OR(U39=\"U\",U39=\"k\",U39=\"B\"),$D$12,IF(S39>P39,P39+60-S39,P39-S39))","v":0},0,0,0,0,null,null,0,0,0,0,null,null,"",null,null,"",null,null,""]
[{"$f":"Einstellungen!$L$23","v":"Folgejahr Std.Min"},null,{"$f":"Einstellungen!$N$23","v":"41.00"},{"$f":"Einstellungen!$O$23","v":"41.00"}," ",{"$f":"Einstellungen!$Q$23","v":"41.00"},{"$f":"IF(AND(E13>0,I40<>\"\",U40<>\"f\"),F13,0)","v":1},{"$f":"IF(AND(I40<>\"\",U40<>\"f\"),1,0)","v":1},{"$f":"IF(I39<>\"\",IF(MONTH(I39)=MONTH(I39+1),I39+1,\"\"),\"\")","v":"2026-01-28"},"Mi",null,null,null,null,0,0,null,null,null,null,null,{"$f":"IF(OR(U40=\"U\",U40=\"k\",U40=\"B\"),$C$13,IF(S40>P40,O40-1-R40,O40-R40))","v":0},{"$f":"IF(OR(U40=\"U\",U40=\"k\",U40=\"B\"),$D$13,IF(S40>P40,P40+60-S40,P40-S40))","v":0},0,0,0,0,null,null,0,0,0,0,null,null,"",null,null,"",null,null,""]
[{"$f":"Einstellungen!$L$24","v":"Kernarbeitszeit:"},null,{"$f":"Einstellungen!$N$24","v":"Mo-Do"},{"$f":"Einstellungen!$O$24","v":"9:00 - 14:30 Uhr"},null,null,{"$f":"IF(AND(E14>0,I41<>\"\",U41<>\"f\"),F14,0)","v":1},{"$f":"IF(AND(I41<>\"\",U41<>\"f\"),1,0)","v":1},"2026-01-29","Do",null,null,null,null,0,0,null,null,null,null,null,{"$f":"IF(OR(U41=\"U\",U41=\"k\",U41=\"B\"),$C$14,IF(S41>P41,O41-1-R41,O41-R41))","v":0},{"$f":"IF(OR(U41=\"U\",U41=\"k\",U41=\"B\"),$D$14,IF(S41>P41,P41+60-S41,P41-S41))","v":0},0,0,0,0,null,null,0,0,0,0,null,null,"",null,null,"",null,null,""]
[{"$f":"Einstellungen!$L$25","v":""},{"$f":"Einstellungen!$M$25","v":""},{"$f":"Einstellungen!$N$25","v":"Fr"},{"$f":"Einstellungen!$O$25","v":"9:00 - 12:00 Uhr"},null,null,{"$f":"IF(AND(E15>0,I42<>\"\",U42<>\"f\"),F15,0)","v":1},{"$f":"IF(AND(I42<>\"\",U42<>\"f\"),1,0)","v":1},"2026-01-30","Fr",null,null,null,null,0,0,null,null,null,null,null,{"$f":"IF(OR(U42=\"U\",U42=\"k\",U42=\"B\"),$C$15,IF(S42>P42,O42-1-R42,O42-R42))","v":0},{"$f":"IF(OR(U42=\"U\",U42=\"k\",U42=\"B\"),$D$15,IF(S42>P42,P42+60-S42,P42-S42))","v":0},0,0,0,0,null,null,0,0,0,0,null,null,"",null,null,"",null,null,""]
[{"$f":"Einstellungen!$L$26","v":"Gleitzeit:"},{"$f":"Einstellungen!$M$26","v":"frühester Beginn"},null,null,null,{"$f":"Einstellungen!$P$26","v":"6:00 Uhr"},null,null,"2026-01-31","Sa",null,null,null,null,0,0,null,null,null,"nur dienstl. Sonderfälle!*",null,{"$f":"IF(S43>P43,O43-1-R43,O43-R43)","v":0},{"$f":"IF(S43>P43,P43+60-S43,P43-S43)","v":0},0,0,0,0,null,null,0,0,0,0,null,null,"",null,null,"",null,null,""]
[{"$f":"Einstellungen!$L$27","v":""},{"$f":"Einstellungen!$M$27","v":"spätestes Ende"},null,null,null,{"$f":"Einstellungen!$P$27","v":"21:00 Uhr"},null,null,"","So",null,null,null,null,0,0,null,null,null,"nur dienstl. Sonderfälle!*",null,{"$f":"IF(S44>P44,O44-1-R44,O44-R44)","v":0},{"$f":"IF(S44>P44,P44+60-S44,P44-S44)","v":0},0,0,0,0,null,null,0,0,0,0,null,null,"",null,null,"",null,null,""]
[{"$f":"Einstellungen!$L$29","v":"Mittagspause zw."},null,null,{"$f":"Einstellungen!$O$29","v":"11:15 - 14:00 Uhr"},null,null,null,null,null,null,null,null,null,null,null,null,null,null,null,null,null,{"$f":"INT((60*SUM(V38:V44)+SUM(W38:W44)-W45)/60)","v":0},{"$f":"INT(60*SUM(V38:V44)+SUM(W38:W44)-60*INT((60*SUM(V38:V44)+SUM(W38:W44))/60))","v":0},{"$f":"INT((60*SUM(X38:X44)+SUM(Y38:Y44)-Y45)/60)","v":0},{"$f":"INT(60*SUM(X38:X44)+SUM(Y38:Y44)-60*INT((60*SUM(X38:X44)+SUM(Y38:Y44))/60))","v":0},{"$f":"INT((60*SUM(Z38:Z44)+SUM(AA38:AA44)-AA45)/60)","v":0},{"$f":"INT(60*SUM(Z38:Z44)+SUM(AA38:AA44)-60*INT((60*SUM(Z38:Z44)+SUM(AA38:AA44))/60))","v":0},{"$f":"INT((60*SUM(AB38:AB44)+SUM(AC38:AC44)-AC45)/60)","v":0},{"$f":"INT(60*SUM(AB38:AB44)+SUM(AC38:AC44)-60*INT((60*SUM(AB38:AB44)+SUM(AC38:AC44))/60))","v":0},{"$f":"INT((60*SUM(AD38:AD44)+SUM(AE38:AE44)-AE45)/60)","v":0},{"$f":"INT(60*SUM(AD38:AD44)+SUM(AE38:AE44)-60*INT((60*SUM(AD38:AD44)+SUM(AE38:AE44))/60))","v":0},{"$f":"INT((60*SUM(AF38:AF44)+SUM(AG38:AG44)-AG45)/60)","v":0},{"$f":"INT(60*SUM(AF38:AF44)+SUM(AG38:AG44)-60*INT((60*SUM(AF38:AF44)+SUM(AG38:AG44))/60))","v":0},{"$f":"INT((60*SUM(AH38:AH44)+SUM(AI38:AI44)-AI45)/60)","v":0},{"$f":"INT(60*SUM(AH38:AH44)+SUM(AI38:AI44)-60*INT((60*SUM(AH38:AH44)+SUM(AI38:AI44))/60))","v":0},null,{"$f":"INT((60*SUM(AK38:AK44)+SUM(AL38:AL44)-AL45)/60)","v":0},{"$f":"INT(60*SUM(AK38:AK44)+SUM(AL38:AL44)-60*INT((60*SUM(AK38:AK44)+SUM(AL38:AL44))/60))","v":0},null,{"$f":"INT((60*SUM(AN38:AN44)+SUM(AO38:AO44)-AO45)/60)","v":0},{"$f":"INT(60*SUM(AN38:AN44)+SUM(AO38:AO44)-60*INT((60*SUM(AN38:AN44)+SUM(AO38:AO44))/60))","v":0},null,{"$f":"INT((60*SUM(AQ38:AQ44)+SUM(AR38:AR44)-AR45)/60)","v":0},{"$f":"INT(60*SUM(AQ38:AQ44)+SUM(AR38:AR44)-60*INT((60*SUM(AQ38:AQ44)+SUM(AR38:AR44))/60))","v":0},{"$f":"INT((60*SUM(AS38:AS44)+SUM(AT38:AT44)-AT45)/60)","v":0},{"$f":"INT(60*SUM(AS38:AS44)+SUM(AT38:AT44)-60*INT((60*SUM(AS38:AS44)+SUM(AT38:AT44))/60))","v":0},{"$f":"INT((60*SUM(AU38:AU44)+SUM(AV38:AV44)-AV45)/60)","v":0},{"$f":"INT(60*SUM(AU38:AU44)+SUM(AV38:AV44)-60*INT((60*SUM(AU38:AU44)+SUM(AV38:AV44))/60))","v":0},{"$f":"INT((60*SUM(AW38:AW44)+SUM(AX38:AX44)-AX45)/60)","v":0},{"$f":"INT(60*SUM(AW38:AW44)+SUM(AX38:AX44)-60*INT((60*SUM(AW38:AW44)+SUM(AX38:AX44))/60))","v":0},{"$f":"INT((60*SUM(AY38:AY44)+SUM(AZ38:AZ44)-AZ45)/60)","v":0},{"$f":"INT(60*SUM(AY38:AY44)+SUM(AZ38:AZ44)-60*INT((60*SUM(AY38:AY44)+SUM(AZ38:AZ44))/60))","v":0},{"$f":"INT((60*SUM(BA38:BA44)+SUM(BB38:BB44)-BB45)/60)","v":0},{"$f":"INT(60*SUM(BA38:BA44)+SUM(BB38:BB44)-60*INT((60*SUM(BA38:BA44)+SUM(BB38:BB44))/60))","v":0},{"$f":"INT((60*SUM(BC38:BC44)+SUM(BD38:BD44)-BD45)/60)","v":0},{"$f":"INT(60*SUM(BC38:BC44)+SUM(BD38:BD44)-60*INT((60*SUM(BC38:BC44)+SUM(BD38:BD44))/60))","v":0},{"$f":"INT((60*SUM(BE38:BE44)+SUM(BF38:BF44)-BF45)/60)","v":0},{"$f":"INT(60*SUM(BE38:BE44)+SUM(BF38:BF44)-60*INT((60*SUM(BE38:BE44)+SUM(BF38:BF44))/60))","v":0},{"$f":"INT((60*SUM(BG38:BG44)+SUM(BH38:BH44)-BH45)/60)","v":0},{"$f":"INT(60*SUM(BG38:BG44)+SUM(BH38:BH44)-60*INT((60*SUM(BG38:BG44)+SUM(BH38:BH44))/60))","v":0}]
[]
[{"$f":"Einstellungen!$L$30","v":"ab 6 Std. Arbeitszeit: Dauer min."},null,null,null,null,{"$f":"Einstellungen!$Q$30","v":"30 Min"},{"$f":"IF(AND(E11>0,I47<>\"\",U47<>\"f\"),F11,0)","v":0},{"$f":"IF(AND(I47<>\"\",U47<>\"f\"),1,0)","v":0},{"$f":"IF(I44<>\"\",IF(MONTH(I44)=MONTH(I44+1),I44+1,\"\"),\"\")","v":""},"Mo",null,null,null,null,{"$f":"HOUR(N47-K47-(M47-L47))","v":0},{"$f":"MINUTE(N47-K47-(M47-L47))","v":0},null,null,null,null,null,{"$f":"IF(OR(U47=\"U\",U47=\"k\",U47=\"B\"),$C$11,IF(S47>P47,O47-1-R47,O47-R47))","v":0},{"$f":"IF(OR(U47=\"U\",U47=\"k\",U47=\"B\"),$D$11,IF(S47>P47,P47+60-S47,P47-S47))","v":0},{"$f":"IF(OR(U47=\"U\",U47=\"K\",U47=\"B\"),0,V47)","v":0},{"$f":"IF(OR(U47=\"U\",U47=\"K\",U47=\"B\"),0,W47)","v":0},{"$f":"INT(((SUM(AB47,AH47,AK47,AN47,AQ47,AS47,AU47,AW47,AY47,BA47,BC47,BE47,BG47)*100)+(SUM(AC47,AI47,AL47,AO47,AR47,AT47,AV47,AX47,AZ47,BB47,BD47,BF47,BH47)/60*100))/100)","v":0},{"$f":"MOD(((SUM(AC47,AI47,AL47,AO47,AR47,AT47,AV47,AX47,AZ47,BB47,BD47,BF47,BH47)*100)+(SUM(AC47,AI47,AL47,AO47,AR47,AT47,AV47,AX47,AZ47,BB47,BD47,BF47,BH47)/60*100))/100,1)*60","v":0},null,null,{"$f":"INT(((SUM(AH47,AK47,AN47)*100)+SUM(AI47,AL47,AO47)/60*100)/100)","v":0},{"$f":"MOD(((SUM(AI47,AL47,AO47)*100)+(SUM(AI47,AL47,AO47)/60*100))/100,1)*60","v":0},{"$f":"INT(((SUM(AQ47+AS47+AU47+AW47+AY47+BA47+BC47+BE47+BG47)*100)+SUM(AR47+AT47+AV47+AX47+AZ47+BB47+BD47+BF47+BH47)/60*100)/100)","v":0},{"$f":"MOD(((SUM(AR47+AT47+AV47+AX47+AZ47+BB47+BD47+BF47+BH47)*100)+(SUM(AR47+AT47+AV47+AX47+AZ47+BB47+BD47+BF47+BH47)/60*100))/100,1)*60","v":0},null,null,"",null,null,"",null,null,""]
[{"$f":"Einstellungen!$L$31","v":"ab 9 Std. (exklusiv Beamte) min."},null,null,null,null,{"$f":"Einstellungen!$Q$31","v":"45 Min"},{"$f":"IF(AND(E12>0,I48<>\"\",U48<>\"f\"),F12,0)","v":0},{"$f":"IF(AND(I48<>\"\",U48<>\"f\"),1,0)","v":0},{"$f":"IF(I47<>\"\",IF(MONTH(I47)=MONTH(I47+1),I47+1,\"\"),\"\")","v":""},"Di",null,null,null,null,0,0,null,null,null,null,null,{"$f":"IF(OR(U48=\"U\",U48=\"k\",U48=\"B\"),$C$12,IF(S48>P48,O48-1-R48,O48-R48))","v":0},{"$f":"IF(OR(U48=\"U\",U48=\"k\",U48=\"B\"),$D$12,IF(S48>P48,P48+60-S48,P48-S48))","v":0},0,0,0,0,null,null,0,0,0,0,null,null,"",null,null,"",null,null,""]
[{"$f":"Einstellungen!$L$32","v":""},null," ",{"$f":"Einstellungen!$O$32","v":"max."},null,{"$f":"Einstellungen!$Q$32","v":"120 Min"},{"$f":"IF(AND(E13>0,I49<>\"\",U49<>\"f\"),F13,0)","v":0},{"$f":"IF(AND(I49<>\"\",U49<>\"f\"),1,0)","v":0},{"$f":"IF(I48<>\"\",IF(MONTH(I48)=MONTH(I48+1),I48+1,\"\"),\"\")","v":""},"Mi",null,null,null,null,0,0,null,null,null,null,null,{"$f":"IF(OR(U49=\"U\",U49=\"k\",U49=\"B\"),$C$13,IF(S49>P49,O49-1-R49,O49-R49))","v":0},{"$f":"IF(OR(U49=\"U\",U49=\"k\",U49=\"B\"),$D$13,IF(S49>P49,P49+60-S49,P49-S49))","v":0},0,0,0,0,null,null,0,0,0,0,null,null,"",null,null,"",null,null,""]
[{"$f":"Einstellungen!$L$33","v":"tägliche Arbeitszeit  "},null,null,null,null,{"$f":"Einstellungen!$Q$33","v":" 10 Std"},{"$f":"IF(AND(E14>0,I50<>\"\",U50<>\"f\"),F14,0)","v":0},{"$f":"IF(AND(I50<>\"\",U50<>\"f\"),1,0)","v":0},"","Do",null,null,null,null,0,0,null,null,null,null,null,{"$f":"IF(OR(U50=\"U\",U50=\"k\",U50=\"B\"),$C$14,IF(S50>P50,O50-1-R50,O50-R50))","v":0},{"$f":"IF(OR(U50=\"U\",U50=\"k\",U50=\"B\"),$D$14,IF(S50>P50,P50+60-S50,P50-S50))","v":0},0,0,0,0,null,null,0,0,0,0,null,null,"",null,null,"",null,null,""]
[{"$f":"Einstellungen!$L$34","v":"*) beachte § 5 der Dienstvereinbarung vom 17.04.2024 über die Arbeitszeit der Beschäftigten der Universität Hohenheim"},null,null,null,null,null,{"$f":"IF(AND(E15>0,I51<>\"\",U51<>\"f\"),F15,0)","v":0},{"$f":"IF(AND(I51<>\"\",U51<>\"f\"),1,0)","v":0},"","Fr",null,null,null,null,0,0,null,null,null,null,null,{"$f":"IF(OR(U51=\"U\",U51=\"k\",U51=\"B\"),$C$15,IF(S51>P51,O51-1-R51,O51-R51))","v":0},{"$f":"IF(OR(U51=\"U\",U51=\"k\",U51=\"B\"),$D$15,IF(S51>P51,P51+60-S51,P51-S51))","v":0},0,0,0,0,null,null,0,0,0,0,null,null,"",null,null,"",null,null,""]
[null,null,null,null,null,null,null,null,"","Sa",null,null,null,null,0,0,null,null,null,"nur dienstl. Sonderfälle!*",null,{"$f":"IF(S52>P52,O52-1-R52,O52-R52)","v":0},{"$f":"IF(S52>P52,P52+60-S52,P52-S52)","v":0},0,0,0,0,null,null,0,0,0,0,null,null,"",null,null,"",null,null,""]
[null,null,null,null,null,null,null,null,"","So",null,null,null,null,0,0,null,null,null,"nur dienstl. Sonderfälle!*",null,{"$f":"IF(S53>P53,O53-1-R53,O53-R53)","v":0},{"$f":"IF(S53>P53,P53+60-S53,P53-S53)","v":0},0,0,0,0,null,null,0,0,0,0,null,null,"",null,null,"",null,null,""]
[null,null,null,null,null,null,null,null,null,null,null,null,null,null,null,null,null,null,null,null,null,{"$f":"INT((60*SUM(V47:V53)+SUM(W47:W53)-W54)/60)","v":0},{"$f":"INT(60*SUM(V47:V53)+SUM(W47:W53)-60*INT((60*SUM(V47:V53)+SUM(W47:W53))/60))","v":0},{"$f":"INT((60*SUM(X47:X53)+SUM(Y47:Y53)-Y54)/60)","v":0},{"$f":"INT(60*SUM(X47:X53)+SUM(Y47:Y53)-60*INT((60*SUM(X47:X53)+SUM(Y47:Y53))/60))","v":0},{"$f":"INT((60*SUM(Z47:Z53)+SUM(AA47:AA53)-AA54)/60)","v":0},{"$f":"INT(60*SUM(Z47:Z53)+SUM(AA47:AA53)-60*INT((60*SUM(Z47:Z53)+SUM(AA47:AA53))/60))","v":0},{"$f":"INT((60*SUM(AB47:AB53)+SUM(AC47:AC53)-AC54)/60)","v":0},{"$f":"INT(60*SUM(AB47:AB53)+SUM(AC47:AC53)-60*INT((60*SUM(AB47:AB53)+SUM(AC47:AC53))/60))","v":0},{"$f":"INT((60*SUM(AD47:AD53)+SUM(AE47:AE53)-AE54)/60)","v":0},{"$f":"INT(60*SUM(AD47:AD53)+SUM(AE47:AE53)-60*INT((60*SUM(AD47:AD53)+SUM(AE47:AE53))/60))","v":0},{"$f":"INT((60*SUM(AF47:AF53)+SUM(AG47:AG53)-AG54)/60)","v":0},{"$f":"INT(60*SUM(AF47:AF53)+SUM(AG47:AG53)-60*INT((60*SUM(AF47:AF53)+SUM(AG47:AG53))/60))","v":0},{"$f":"INT((60*SUM(AH47:AH53)+SUM(AI47:AI53)-AI54)/60)","v":0},{"$f":"INT(60*SUM(AH47:AH53)+SUM(AI47:AI53)-60*INT((60*SUM(AH47:AH53)+SUM(AI47:AI53))/60))","v":0},null,{"$f":"INT((60*SUM(AK47:AK53)+SUM(AL47:AL53)-AL54)/60)","v":0},{"$f":"INT(60*SUM(AK47:AK53)+SUM(AL47:AL53)-60*INT((60*SUM(AK47:AK53)+SUM(AL47:AL53))/60))","v":0},null,{"$f":"INT((60*SUM(AN47:AN53)+SUM(AO47:AO53)-AO54)/60)","v":0},{"$f":"INT(60*SUM(AN47:AN53)+SUM(AO47:AO53)-60*INT((60*SUM(AN47:AN53)+SUM(AO47:AO53))/60))","v":0},null,{"$f":"INT((60*SUM(AQ47:AQ53)+SUM(AR47:AR53)-AR54)/60)","v":0},{"$f":"INT(60*SUM(AQ47:AQ53)+SUM(AR47:AR53)-60*INT((60*SUM(AQ47:AQ53)+SUM(AR47:AR53))/60))","v":0},{"$f":"INT((60*SUM(AS47:AS53)+SUM(AT47:AT53)-AT54)/60)","v":0},{"$f":"INT(60*SUM(AS47:AS53)+SUM(AT47:AT53)-60*INT((60*SUM(AS47:AS53)+SUM(AT47:AT53))/60))","v":0},{"$f":"INT((60*SUM(AU47:AU53)+SUM(AV47:AV53)-AV54)/60)","v":0},{"$f":"INT(60*SUM(AU47:AU53)+SUM(AV47:AV53)-60*INT((60*SUM(AU47:AU53)+SUM(AV47:AV53))/60))","v":0},{"$f":"INT((60*SUM(AW47:AW53)+SUM(AX47:AX53)-AX54)/60)","v":0},{"$f":"INT(60*SUM(AW47:AW53)+SUM(AX47:AX53)-60*INT((60*SUM(AW47:AW53)+SUM(AX47:AX53))/60))","v":0},{"$f":"INT((60*SUM(AY47:AY53)+SUM(AZ47:AZ53)-AZ54)/60)","v":0},{"$f":"INT(60*SUM(AY47:AY53)+SUM(AZ47:AZ53)-60*INT((60*SUM(AY47:AY53)+SUM(AZ47:AZ53))/60))","v":0},{"$f":"INT((60*SUM(BA47:BA53)+SUM(BB47:BB53)-BB54)/60)","v":0},{"$f":"INT(60*SUM(BA47:BA53)+SUM(BB47:BB53)-60*INT((60*SUM(BA47:BA53)+SUM(BB47:BB53))/60))","v":0},{"$f":"INT((60*SUM(BC47:BC53)+SUM(BD47:BD53)-BD54)/60)","v":0},{"$f":"INT(60*SUM(BC47:BC53)+SUM(BD47:BD53)-60*INT((60*SUM(BC47:BC53)+SUM(BD47:BD53))/60))","v":0},{"$f":"INT((60*SUM(BE47:BE53)+SUM(BF47:BF53)-BF54)/60)","v":0},{"$f":"INT(60*SUM(BE47:BE53)+SUM(BF47:BF53)-60*INT((60*SUM(BE47:BE53)+SUM(BF47:BF53))/60))","v":0},{"$f":"INT((60*SUM(BG47:BG53)+SUM(BH47:BH53)-BH54)/60)","v":0},{"$f":"INT(60*SUM(BG47:BG53)+SUM(BH47:BH53)-60*INT((60*SUM(BG47:BG53)+SUM(BH47:BH53))/60))","v":0}]
[null,null,null,null,null,null,{"$f":"SUM(G5:G53)","v":20},{"$f":"SUM(H5:H53)","v":20},"Januar",null,null,null,null,null,null,{"$f":"Einstellungen!A1","v":2026},null,null,null,null,null,null,null,"Summe:",null,"Summe:",null,"Summe:",null,"Summe:",null,"Summe:",null,{"$f":"INT(((SUM(AH9,AH18,AH27,AH36,AH45,AH54)*100)+(SUM(AI9,AI18,AI27,AI36,AI45,AI54)/60*100))/100)","v":0},{"$f":"MOD(((SUM(AH9,AH18,AH27,AH36,AH45,AH54)*100)+(SUM(AI9,AI18,AI27,AI36,AI45,AI54)/60*100))/100,1)*60","v":0},null,{"$f":"INT(((SUM(AK9,AK18,AK27,AK36,AK45,AK54)*100)+(SUM(AL9,AL18,AL27,AL36,AL45,AL54)/60*100))/100)","v":0},{"$f":"MOD(((SUM(AK9,AK18,AK27,AK36,AK45,AK54)*100)+(SUM(AL9,AL18,AL27,AL36,AL45,AL54)/60*100))/100,1)*60","v":0},null,{"$f":"INT(((SUM(AN9,AN18,AN27,AN36,AN45,AN54)*100)+(SUM(AO9,AO18,AO27,AO36,AO45,AO54)/60*100))/100)","v":0},{"$f":"MOD(((SUM(AN9,AN18,AN27,AN36,AN45,AN54)*100)+(SUM(AO9,AO18,AO27,AO36,AO45,AO54)/60*100))/100,1)*60","v":0},null,{"$f":"INT(((SUM(AQ9,AQ18,AQ27,AQ36,AQ45,AQ54)*100)+(SUM(AR9,AR18,AR27,AR36,AR45,AR54)/60*100))/100)","v":0},{"$f":"MOD(((SUM(AQ9,AQ18,AQ27,AQ36,AQ45,AQ54)*100)+(SUM(AR9,AR18,AR27,AR36,AR45,AR54)/60*100))/100,1)*60","v":0},{"$f":"INT(((SUM(AS9,AS18,AS27,AS36,AS45,AS54)*100)+(SUM(AT9,AT18,AT27,AT36,AT45,AT54)/60*100))/100)","v":0},{"$f":"MOD(((SUM(AS9,AS18,AS27,AS36,AS45,AS54)*100)+(SUM(AT9,AT18,AT27,AT36,AT45,AT54)/60*100))/100,1)*60","v":0},{"$f":"INT(((SUM(AU9,AU18,AU27,AU36,AU45,AU54)*100)+(SUM(AV9,AV18,AV27,AV36,AV45,AV54)/60*100))/100)","v":0},{"$f":"MOD(((SUM(AU9,AU18,AU27,AU36,AU45,AU54)*100)+(SUM(AV9,AV18,AV27,AV36,AV45,AV54)/60*100))/100,1)*60","v":0},{"$f":"INT(((SUM(AW9,AW18,AW27,AW36,AW45,AW54)*100)+(SUM(AX9,AX18,AX27,AX36,AX45,AX54)/60*100))/100)","v":0},{"$f":"MOD(((SUM(AW9,AW18,AW27,AW36,AW45,AW54)*100)+(SUM(AX9,AX18,AX27,AX36,AX45,AX54)/60*100))/100,1)*60","v":0},{"$f":"INT(((SUM(AY9,AY18,AY27,AY36,AY45,AY54)*100)+(SUM(AZ9,AZ18,AZ27,AZ36,AZ45,AZ54)/60*100))/100)","v":0},{"$f":"MOD(((SUM(AY9,AY18,AY27,AY36,AY45,AY54)*100)+(SUM(AZ9,AZ18,AZ27,AZ36,AZ45,AZ54)/60*100))/100,1)*60","v":0},{"$f":"INT(((SUM(BA9,BA18,BA27,BA36,BA45,BA54)*100)+(SUM(BB9,BB18,BB27,BB36,BB45,BB54)/60*100))/100)","v":0},{"$f":"MOD(((SUM(BA9,BA18,BA27,BA36,BA45,BA54)*100)+(SUM(BB9,BB18,BB27,BB36,BB45,BB54)/60*100))/100,1)*60","v":0},{"$f":"INT(((SUM(BC9,BC18,BC27,BC36,BC45,BC54)*100)+(SUM(BD9,BD18,BD27,BD36,BD45,BD54)/60*100))/100)","v":0},{"$f":"MOD(((SUM(BC9,BC18,BC27,BC36,BC45,BC54)*100)+(SUM(BD9,BD18,BD27,BD36,BD45,BD54)/60*100))/100,1)*60","v":0},{"$f":"INT(((SUM(BE9,BE18,BE27,BE36,BE45,BE54)*100)+(SUM(BF9,BF18,BF27,BF36,BF45,BF54)/60*100))/100)","v":0},{"$f":"MOD(((SUM(BE9,BE18,BE27,BE36,BE45,BE54)*100)+(SUM(BF9,BF18,BF27,BF36,BF45,BF54)/60*100))/100,1)*60","v":0},{"$f":"INT(((SUM(BG9,BG18,BG27,BG36,BG45,BG54)*100)+(SUM(BH9,BH18,BH27,BH36,BH45,BH54)/60*100))/100)","v":0},{"$f":"MOD(((SUM(BG9,BG18,BG27,BG36,BG45,BG54)*100)+(SUM(BH9,BH18,BH27,BH36,BH45,BH54)/60*100))/100,1)*60","v":0}]
[null,null,null,null,null,null,null,null,"Abrechnungsmonat",null,null,null,null,null,null,"Jahr",null,null,null,"Monatsarbeitszeit IST",null,{"$f":"INT((60*SUM(V54,V45,V36,V27,V18,V9)+SUM(W54,W45,W36,W27,W18,W9)-W56)/60)","v":0},{"$f":"INT(60*SUM(V54,V45,V36,V27,V18,V9)+SUM(W54,W45,W36,W27,W18,W9)-60*INT((60*SUM(V54,V45,V36,V27,V18,V9)+SUM(W54,W45,W36,W27,W18,W9))/60))","v":0},{"$f":"INT((60*SUM(X54,X45,X36,X27,X18,X9)+SUM(Y54,Y45,Y36,Y27,Y18,Y9)-Y56)/60)","v":0},{"$f":"INT(60*SUM(X54,X45,X36,X27,X18,X9)+SUM(Y54,Y45,Y36,Y27,Y18,Y9)-60*INT((60*SUM(X54,X45,X36,X27,X18,X9)+SUM(Y54,Y45,Y36,Y27,Y18,Y9))/60))","v":0},{"$f":"INT((60*SUM(Z54,Z45,Z36,Z27,Z18,Z9)+SUM(AA54,AA45,AA36,AA27,AA18,AA9)-AA56)/60)","v":0},{"$f":"INT(60*SUM(Z54,Z45,Z36,Z27,Z18,Z9)+SUM(AA54,AA45,AA36,AA27,AA18,AA9)-60*INT((60*SUM(Z54,Z45,Z36,Z27,Z18,Z9)+SUM(AA54,AA45,AA36,AA27,AA18,AA9))/60))","v":0},{"$f":"INT((60*SUM(AB54,AB45,AB36,AB27,AB18,AB9)+SUM(AC54,AC45,AC36,AC27,AC18,AC9)-AC56)/60)","v":0},{"$f":"INT(60*SUM(AB54,AB45,AB36,AB27,AB18,AB9)+SUM(AC54,AC45,AC36,AC27,AC18,AC9)-60*INT((60*SUM(AB54,AB45,AB36,AB27,AB18,AB9)+SUM(AC54,AC45,AC36,AC27,AC18,AC9))/60))","v":0},{"$f":"INT((60*SUM(AD54,AD45,AD36,AD27,AD18,AD9)+SUM(AE54,AE45,AE36,AE27,AE18,AE9)-AE56)/60)","v":0},{"$f":"INT(60*SUM(AD54,AD45,AD36,AD27,AD18,AD9)+SUM(AE54,AE45,AE36,AE27,AE18,AE9)-60*INT((60*SUM(AD54,AD45,AD36,AD27,AD18,AD9)+SUM(AE54,AE45,AE36,AE27,AE18,AE9))/60))","v":0},{"$f":"INT((60*SUM(AF54,AF45,AF36,AF27,AF18,AF9)+SUM(AG54,AG45,AG36,AG27,AG18,AG9)-AG56)/60)","v":0},{"$f":"INT(60*SUM(AF54,AF45,AF36,AF27,AF18,AF9)+SUM(AG54,AG45,AG36,AG27,AG18,AG9)-60*INT((60*SUM(AF54,AF45,AF36,AF27,AF18,AF9)+SUM(AG54,AG45,AG36,AG27,AG18,AG9))/60))","v":0}]
[null,null,null,null,null,null,null,null,{"$f":"Einstellungen!K23","v":"Franziska von Hohenheim"},null,null,null,null,null,null,null,null,null,null,"Übertrag aus Vormonat (+/-)",{"$f":"IF(V57*W57<0,\"!\",\"\")","v":""},0,0]
[null,null,null,null,null,null,null,null,"Name, Vorname",null,null,null,null,null,null,null,"Datum",null,null,"Summe",null,{"$f":"ROUND(SIGN(V56+V57+(W56+W57)/60)*ROUNDDOWN(ABS(V56+V57+(W56+W57)/60),0),0)","v":0},{"$f":"ROUND(SIGN(V56+V57+(W56+W57)/60)*(ABS(V56+V57+(W56+W57)/60)-ABS(V58))*60,0)","v":0}]
[null,null,null,null,null,null,null,null,{"$f":"Einstellungen!$K$25","v":"630"},null,{"$f":"Einstellungen!K24","v":"KIM"},null,null,null,null,null,null,null,null,"Monatsarbeitszeit SOLL",null,{"$f":"SUM(Einstellungen!B3)","v":158},{"$f":"SUM(Einstellungen!C3)","v":0}]
[null,null,null,null,null,null,null,null,"Einr.-Nr.",null,"Abt. / FG",null,null,null,null,null,"Name Leiter/in",null,null,"Zeitübertrag auf Folgemonat",{"$f":"IF(V60*W60<0,\"!\",\"\")","v":""},{"$f":"ROUND(SIGN(V58-V59+(W58-W59)/60)*ROUNDDOWN(ABS(V58-V59+(W58-W59)/60),0),0)","v":-158},{"$f":"ROUND(SIGN(V58-V59+(W58-W59)/60)*(ABS(V58-V59+(W58-W59)/60)-ABS(V60))*60,0)","v":0}]
[]
[null,null,null,null,null,null,null,null,null,null,null,null,null,null,null,null,null,null,null,"Summe Urlaubstage",null,{"$f":"SUMPRODUCT((U5:U6=\"U\")*(E14:E15>0))+SUMPRODUCT((U11:U15=\"U\")*(E11:E15>0))+SUMPRODUCT((U20:U24=\"U\")*(E11:E15>0))+SUMPRODUCT((U29:U33=\"U\")*(E11:E15>0))+SUMPRODUCT((U38:U42=\"U\")*(E11:E15>0))+SUMPRODUCT((U47:U51=\"U\")*(E11:E15>0))","v":0}]
[null,null,null,null,null,null,null,null,"Datum",null,"Unterschrift Mitarbeiter/in",null,null,null,null,null,"Unterschrift Leiter/in",null,null,"alter / neuer Übertrag",null,{"$f":"IF(SUM(Einstellungen!K27:K30)>0,SUM(Einstellungen!K27:K30),\"--- \")","v":30},{"$f":"IF(SUM(Einstellungen!K27:K30)>0,V63-V62,\"--- \")","v":30}]

{"sheet":"Febr","index":1,"n_rows":63,"n_cols":60,"rows_kept":63,"cut":false,"hidden":true,"merged":[[0,31,0,32],[0,23,0,24],[0,25,0,26],[0,27,0,28],[0,29,0,30],[1,23,1,24],[1,25,1,26],[37,0,37,1],[38,0,38,2],[2,23,2,24],[2,25,2,26],[28,0,28,1],[29,0,29,1],[30,0,30,2],[35,0,35,1],[7,0,7,3],[39,0,39,1],[46,0,46,3],[47,0,47,3],[49,0,49,3],[54,23,54,24],[50,0,52,5],[40,3,40,5],[41,3,41,5],[44,3,44,5],[61,21,61,22],[63,25,63,26],[54,27,54,28],[54,29,54,30],[54,31,54,32],[54,25,54,26],[0,42,2,43],[0,44,2,45],[0,46,2,47],[0,33,2,35],[0,36,2,38],[0,39,2,41],[0,58,2,59],[0,48,2,49],[0,50,2,51],[0,52,2,53],[0,54,2,55],[0,56,2,57]]}
[{"$f":"Einstellungen!A27","v":"Universität Hohenheim KIM © 2026"},null,null,null,null,null,null,null,"Datum",null,"Arbeits-",null,null,"Arbeits-","Arb.Zeit ohne",null,"Sonstige Unterbrechungen",null,null,"Erläuterungen, Hinweise,","U,K","Reine Arb.-",null,"Productive",null,"Productive",null,"Sonstiges",null,"Summe ",null,"Summe",null,{"$f":"Projektdaten!D4","v":"EU Projekt 1"},null,null,{"$f":"Projektdaten!D6","v":"EU Projekt 2"},null,null,{"$f":"Projektdaten!D8","v":"EU Projekt 3"},null,null,{"$f":"Projektdaten!D13","v":"Projekt 1"},null,{"$f":"Projektdaten!D15","v":"Projekt 2"},null,{"$f":"Projektdaten!D17","v":"Projekt 3"},null,{"$f":"Projektdaten!D19","v":"Projekt 4"},null,{"$f":"Projektdaten!D21","v":"Projekt 5"},null,{"$f":"Projektdaten!D23","v":"Projekt 6"},null,{"$f":"Projektdaten!D25","v":"Projekt 7"},null,{"$f":"Projektdaten!D27","v":"Projekt 8"},null,{"$f":"Projektdaten!D29","v":"Projekt 9"}]
["Arbeitszeitblatt",null,null,{"$f":"Einstellungen!A28","v":"Version 5.12"},null,null,null,null,"Tag","Wo-","beginn","Mittagspause",null,"ende","Mittagspause",null,"von - bis","Gesamtdauer",null,"Vermerke, z.B. Dienstreise","F,X","Zeit","IST","Hours",null,"Hours",null,null,null,"EU-",null,"andere"]
[null,null,null,null,null,null,null,null,null,"tag",null,"von","bis",null,"Std.","Min.",null,"Std.","Min.","  - non eligible -","A,B","Std.","Min.","i.S.d. EU",null,"verteilt",null,null," ","Projekte",null,"Projekte"]
[null,null,null,null,null,null,null,null,null,null,null,null,null,null,null,null,null,null,null,null,null,null,null,"Std.","Min.","Std.","Min.","Std.","Min.","Std.","Min.","Std.","Min.","Std.","Min.","Geleistete Arbeitspakete nach Annex 1","Std.","Min.","Geleistete Arbeitspakete nach Annex 1","Std.","Min.","Geleistete Arbeitspakete nach Annex 1","Std.","Min.","Std.","Min.","Std.","Min.","Std.","Min.","Std.","Min.","Std.","Min.","Std.","Min.","Std.","Min.","Std.","Min."]
[null,null,null,null,null,"U",{"$f":"IF(AND(E14>0,I5<>\"\",U5<>\"f\"),1,0)","v":0},{"$f":"IF(AND(I5<>\"\",U5<>\"f\"),1,0)","v":0},{"$f":"IF(CHOOSE(WEEKDAY(Einstellungen!$A$4,2),\"Mo\",\"Di\",\"Mi\",\"Do\",\"Fr\",\"Sa\",\"So\")=J5,Einstellungen!$A$4,\"\")","v":""},"Do",null,null,null,null,{"$f":"HOUR(N5-K5-(M5-L5))","v":0},{"$f":"MINUTE(N5-K5-(M5-L5))","v":0},null,null,null,null,null,{"$f":"IF(OR(U5=\"U\",U5=\"k\",U5=\"B\"),$C$14,IF(S5>P5,O5-1-R5,O5-R5))","v":0},{"$f":"IF(OR(U5=\"U\",U5=\"k\",U5=\"B\"),$D$14,IF(S5>P5,P5+60-S5,P5-S5))","v":0},{"$f":"IF(OR(U5=\"U\",U5=\"K\",U5=\"B\"),0,V5)","v":0},{"$f":"IF(OR(U5=\"U\",U5=\"K\",U5=\"B\"),0,W5)","v":0},{"$f":"INT(((SUM(AB5,AH5,AK5,AN5,AQ5,AS5,AU5,AW5,AY5,BA5,BC5,BE5,BG5)*100)+(SUM(AC5,AI5,AL5,AO5,AR5,AT5,AV5,AX5,AZ5,BB5,BD5,BF5,BH5)/60*100))/100)","v":0},{"$f":"MOD(((SUM(AC5,AI5,AL5,AO5,AR5,AT5,AV5,AX5,AZ5,BB5,BD5,BF5,BH5)*100)+(SUM(AC5,AI5,AL5,AO5,AR5,AT5,AV5,AX5,AZ5,BB5,BD5,BF5,BH5)/60*100))/100,1)*60","v":0},null,null,{"$f":"INT(((SUM(AH5,AK5,AN5)*100)+SUM(AI5,AL5,AO5)/60*100)/100)","v":0},{"$f":"MOD(((SUM(AI5,AL5,AO5)*100)+(SUM(AI5,AL5,AO5)/60*100))/100,1)*60","v":0},{"$f":"INT(((SUM(AQ5+AS5+AU5+AW5+AY5+BA5+BC5+BE5+BG5)*100)+SUM(AR5+AT5+AV5+AX5+AZ5+BB5+BD5+BF5+BH5)/60*100)/100)","v":0},{"$f":"MOD(((SUM(AR5+AT5+AV5+AX5+AZ5+BB5+BD5+BF5+BH5)*100)+(SUM(AR5+AT5+AV5+AX5+AZ5+BB5+BD5+BF5+BH5)/60*100))/100,1)*60","v":0},null,null,"",null,null,"",null,null,""]
[null,null,null,null,null,"K",{"$f":"IF(AND(E15>0,I6<>\"\",U6<>\"f\"),F14,0)","v":0},{"$f":"IF(AND(I6<>\"\",U6<>\"f\"),1,0)","v":0},{"$f":"IF(I5<>\"\",I5+1,IF(CHOOSE(WEEKDAY(Einstellungen!$A$4,2),\"Mo\",\"Di\",\"Mi\",\"Do\",\"Fr\",\"Sa\",\"So\")=J6,Einstellungen!$A$4,\"\"))","v":""},"Fr",null,null,null,null,{"$f":"HOUR(N6-K6-(M6-L6))","v":0},{"$f":"MINUTE(N6-K6-(M6-L6))","v":0},null,null,null,null,null,{"$f":"IF(OR(U6=\"U\",U6=\"k\",U6=\"B\"),$C$15,IF(S6>P6,O6-1-R6,O6-R6))","v":0},{"$f":"IF(OR(U6=\"U\",U6=\"k\",U6=\"B\"),$D$15,IF(S6>P6,P6+60-S6,P6-S6))","v":0},{"$f":"IF(OR(U6=\"U\",U6=\"K\",U6=\"B\"),0,V6)","v":0},{"$f":"IF(OR(U6=\"U\",U6=\"K\",U6=\"B\"),0,W6)","v":0},{"$f":"INT(((SUM(AB6,AH6,AK6,AN6,AQ6,AS6,AU6,AW6,AY6,BA6,BC6,BE6,BG6)*100)+(SUM(AC6,AI6,AL6,AO6,AR6,AT6,AV6,AX6,AZ6,BB6,BD6,BF6,BH6)/60*100))/100)","v":0},{"$f":"MOD(((SUM(AC6,AI6,AL6,AO6,AR6,AT6,AV6,AX6,AZ6,BB6,BD6,BF6,BH6)*100)+(SUM(AC6,AI6,AL6,AO6,AR6,AT6,AV6,AX6,AZ6,BB6,BD6,BF6,BH6)/60*100))/100,1)*60","v":0},null,null,{"$f":"INT(((SUM(AH6,AK6,AN6)*100)+SUM(AI6,AL6,AO6)/60*100)/100)","v":0},{"$f":"MOD(((SUM(AI6,AL6,AO6)*100)+(SUM(AI6,AL6,AO6)/60*100))/100,1)*60","v":0},{"$f":"INT(((SUM(AQ6+AS6+AU6+AW6+AY6+BA6+BC6+BE6+BG6)*100)+SUM(AR6+AT6+AV6+AX6+AZ6+BB6+BD6+BF6+BH6)/60*100)/100)","v":0},{"$f":"MOD(((SUM(AR6+AT6+AV6+AX6+AZ6+BB6+BD6+BF6+BH6)*100)+(SUM(AR6+AT6+AV6+AX6+AZ6+BB6+BD6+BF6+BH6)/60*100))/100,1)*60","v":0},null,null,"",null,null,"",null,null,""]
[null,null,null,null,null,"A",{"$f":"IF(AND(E16>0,I7<>\"\",U7<>\"f\"),F15,0)","v":0},null,{"$f":"IF(I6<>\"\",I6+1,IF(CHOOSE(WEEKDAY(Einstellungen!$A$4,2),\"Mo\",\"Di\",\"Mi\",\"Do\",\"Fr\",\"Sa\",\"So\")=J7,Einstellungen!$A$4,\"\"))","v":""},"Sa",null,null,null,null,{"$f":"HOUR(N7-K7-(M7-L7))","v":0},{"$f":"MINUTE(N7-K7-(M7-L7))","v":0},null,null,null,"nur dienstl. Sonderfälle!*",null,{"$f":"IF(S7>P7,O7-1-R7,O7-R7)","v":0},{"$f":"IF(S7>P7,P7+60-S7,P7-S7)","v":0},0,0,{"$f":"INT(((SUM(AB7,AH7,AK7,AN7,AQ7,AS7,AU7,AW7,AY7,BA7,BC7,BE7,BG7)*100)+(SUM(AC7,AI7,AL7,AO7,AR7,AT7,AV7,AX7,AZ7,BB7,BD7,BF7,BH7)/60*100))/100)","v":0},{"$f":"MOD(((SUM(AC7,AI7,AL7,AO7,AR7,AT7,AV7,AX7,AZ7,BB7,BD7,BF7,BH7)*100)+(SUM(AC7,AI7,AL7,AO7,AR7,AT7,AV7,AX7,AZ7,BB7,BD7,BF7,BH7)/60*100))/100,1)*60","v":0},null,null,{"$f":"INT(((SUM(AH7,AK7,AN7)*100)+SUM(AI7,AL7,AO7)/60*100)/100)","v":0},{"$f":"MOD(((SUM(AI7,AL7,AO7)*100)+(SUM(AI7,AL7,AO7)/60*100))/100,1)*60","v":0},{"$f":"INT(((SUM(AQ7+AS7+AU7+AW7+AY7+BA7+BC7+BE7+BG7)*100)+SUM(AR7+AT7+AV7+AX7+AZ7+BB7+BD7+BF7+BH7)/60*100)/100)","v":0},{"$f":"MOD(((SUM(AR7+AT7+AV7+AX7+AZ7+BB7+BD7+BF7+BH7)*100)+(SUM(AR7+AT7+AV7+AX7+AZ7+BB7+BD7+BF7+BH7)/60*100))/100,1)*60","v":0},null,null,"",null,null,"",null,null,""]
[{"$f":"IF(Einstellungen!D25>0.0005,\"Bitte Werte prüfen\",\"\")","v":""},null,null,null,null,"B",null,null,{"$f":"IF(I7<>\"\",I7+1,IF(CHOOSE(WEEKDAY(Einstellungen!$A$4,2),\"Mo\",\"Di\",\"Mi\",\"Do\",\"Fr\",\"Sa\",\"So\")=J8,Einstellungen!$A$4,\"\"))","v":"2026-02-01"},"So",null,null,null,null,{"$f":"HOUR(N8-K8-(M8-L8))","v":0},{"$f":"MINUTE(N8-K8-(M8-L8))","v":0},null,null,null,"nur dienstl. Sonderfälle!*",null,{"$f":"IF(S8>P8,O8-1-R8,O8-R8)","v":0},{"$f":"IF(S8>P8,P8+60-S8,P8-S8)","v":0},0,0,{"$f":"INT(((SUM(AB8,AH8,AK8,AN8,AQ8,AS8,AU8,AW8,AY8,BA8,BC8,BE8,BG8)*100)+(SUM(AC8,AI8,AL8,AO8,AR8,AT8,AV8,AX8,AZ8,BB8,BD8,BF8,BH8)/60*100))/100)","v":0},{"$f":"MOD(((SUM(AC8,AI8,AL8,AO8,AR8,AT8,AV8,AX8,AZ8,BB8,BD8,BF8,BH8)*100)+(SUM(AC8,AI8,AL8,AO8,AR8,AT8,AV8,AX8,AZ8,BB8,BD8,BF8,BH8)/60*100))/100,1)*60","v":0},null,null,{"$f":"INT(((SUM(AH8,AK8,AN8)*100)+SUM(AI8,AL8,AO8)/60*100)/100)","v":0},{"$f":"MOD(((SUM(AI8,AL8,AO8)*100)+(SUM(AI8,AL8,AO8)/60*100))/100,1)*60","v":0},{"$f":"INT(((SUM(AQ8+AS8+AU8+AW8+AY8+BA8+BC8+BE8+BG8)*100)+SUM(AR8+AT8+AV8+AX8+AZ8+BB8+BD8+BF8+BH8)/60*100)/100)","v":0},{"$f":"MOD(((SUM(AR8+AT8+AV8+AX8+AZ8+BB8+BD8+BF8+BH8)*100)+(SUM(AR8+AT8+AV8+AX8+AZ8+BB8+BD8+BF8+BH8)/60*100))/100,1)*60","v":0},null,null,"",null,null,"",null,null,""]
["Meine tägl. Regelarbeitszeit:",null,null,null,null,"X",null,null,null,null,null,null,null,null,null,null,null,null,null,null,null,{"$f":"INT((60*SUM(V5:V8)+SUM(W5:W8)-W9)/60)","v":0},{"$f":"INT(60*SUM(V5:V8)+SUM(W5:W8)-60*INT((60*SUM(V5:V8)+SUM(W5:W8))/60))","v":0},{"$f":"INT((60*SUM(X5:X8)+SUM(Y5:Y8)-Y9)/60)","v":0},{"$f":"INT(60*SUM(X5:X8)+SUM(Y5:Y8)-60*INT((60*SUM(X5:X8)+SUM(Y5:Y8))/60))","v":0},{"$f":"INT((60*SUM(Z5:Z8)+SUM(AA5:AA8)-AA9)/60)","v":0},{"$f":"INT(60*SUM(Z5:Z8)+SUM(AA5:AA8)-60*INT((60*SUM(Z5:Z8)+SUM(AA5:AA8))/60))","v":0},{"$f":"INT((60*SUM(AB5:AB8)+SUM(AC5:AC8)-AC9)/60)","v":0},{"$f":"INT(60*SUM(AB5:AB8)+SUM(AC5:AC8)-60*INT((60*SUM(AB5:AB8)+SUM(AC5:AC8))/60))","v":0},{"$f":"INT((60*SUM(AD5:AD8)+SUM(AE5:AE8)-AE9)/60)","v":0},{"$f":"INT(60*SUM(AD5:AD8)+SUM(AE5:AE8)-60*INT((60*SUM(AD5:AD8)+SUM(AE5:AE8))/60))","v":0},{"$f":"INT((60*SUM(AF5:AF8)+SUM(AG5:AG8)-AG9)/60)","v":0},{"$f":"INT(60*SUM(AF5:AF8)+SUM(AG5:AG8)-60*INT((60*SUM(AF5:AF8)+SUM(AG5:AG8))/60))","v":0},{"$f":"INT((60*SUM(AH5:AH8)+SUM(AI5:AI8)-AI9)/60)","v":0},{"$f":"INT(60*SUM(AH5:AH8)+SUM(AI5:AI8)-60*INT((60*SUM(AH5:AH8)+SUM(AI5:AI8))/60))","v":0},null,{"$f":"INT((60*SUM(AK5:AK8)+SUM(AL5:AL8)-AL9)/60)","v":0},{"$f":"INT(60*SUM(AK5:AK8)+SUM(AL5:AL8)-60*INT((60*SUM(AK5:AK8)+SUM(AL5:AL8))/60))","v":0},null,{"$f":"INT((60*SUM(AN5:AN8)+SUM(AO5:AO8)-AO9)/60)","v":0},{"$f":"INT(60*SUM(AN5:AN8)+SUM(AO5:AO8)-60*INT((60*SUM(AN5:AN8)+SUM(AO5:AO8))/60))","v":0},null,{"$f":"INT((60*SUM(AQ5:AQ8)+SUM(AR5:AR8)-AR9)/60)","v":0},{"$f":"INT(60*SUM(AQ5:AQ8)+SUM(AR5:AR8)-60*INT((60*SUM(AQ5:AQ8)+SUM(AR5:AR8))/60))","v":0},{"$f":"INT((60*SUM(AS5:AS8)+SUM(AT5:AT8)-AT9)/60)","v":0},{"$f":"INT(60*SUM(AS5:AS8)+SUM(AT5:AT8)-60*INT((60*SUM(AS5:AS8)+SUM(AT5:AT8))/60))","v":0},{"$f":"INT((60*SUM(AU5:AU8)+SUM(AV5:AV8)-AV9)/60)","v":0},{"$f":"INT(60*SUM(AU5:AU8)+SUM(AV5:AV8)-60*INT((60*SUM(AU5:AU8)+SUM(AV5:AV8))/60))","v":0},{"$f":"INT((60*SUM(AW5:AW8)+SUM(AX5:AX8)-AX9)/60)","v":0},{"$f":"INT(60*SUM(AW5:AW8)+SUM(AX5:AX8)-60*INT((60*SUM(AW5:AW8)+SUM(AX5:AX8))/60))","v":0},{"$f":"INT((60*SUM(AY5:AY8)+SUM(AZ5:AZ8)-AZ9)/60)","v":0},{"$f":"INT(60*SUM(AY5:AY8)+SUM(AZ5:AZ8)-60*INT((60*SUM(AY5:AY8)+SUM(AZ5:AZ8))/60))","v":0},{"$f":"INT((60*SUM(BA5:BA8)+SUM(BB5:BB8)-BB9)/60)","v":0},{"$f":"INT(60*SUM(BA5:BA8)+SUM(BB5:BB8)-60*INT((60*SUM(BA5:BA8)+SUM(BB5:BB8))/60))","v":0},{"$f":"INT((60*SUM(BC5:BC8)+SUM(BD5:BD8)-BD9)/60)","v":0},{"$f":"INT(60*SUM(BC5:BC8)+SUM(BD5:BD8)-60*INT((60*SUM(BC5:BC8)+SUM(BD5:BD8))/60))","v":0},{"$f":"INT((60*SUM(BE5:BE8)+SUM(BF5:BF8)-BF9)/60)","v":0},{"$f":"INT(60*SUM(BE5:BE8)+SUM(BF5:BF8)-60*INT((60*SUM(BE5:BE8)+SUM(BF5:BF8))/60))","v":0},{"$f":"INT((60*SUM(BG5:BG8)+SUM(BH5:BH8)-BH9)/60)","v":0},{"$f":"INT(60*SUM(BG5:BG8)+SUM(BH5:BH8)-60*INT((60*SUM(BG5:BG8)+SUM(BH5:BH8))/60))","v":0}]
[null,null,null,null,{"$f":"5-COUNTIF(E11:E15,0)","v":5},{"$f":"(SUM(C11:C15)*60+SUM(D11:D15))/E10","v":474}]
["Mo",{"$f":"IF(E11=0,\"frei\",\"\")","v":""},{"$f":"SUM(Einstellungen!C19)","v":7},{"$f":"SUM(Einstellungen!D19)","v":54},{"$f":"C11*60+D11","v":474},{"$f":"E11/$F$10","v":1},{"$f":"IF(AND(E11>0,I11<>\"\",U11<>\"f\"),F11,0)","v":1},{"$f":"IF(AND(I11<>\"\",U11<>\"f\"),1,0)","v":1},{"$f":"IF(I8<>\"\",I8+1,IF(CHOOSE(WEEKDAY(Einstellungen!$A$4,2),\"Mo\",\"Di\",\"Mi\",\"Do\",\"Fr\",\"Sa\",\"So\")=J11,Einstellungen!$A$4,\"\"))","v":"2026-02-02"},"Mo",null,null,null,null,{"$f":"HOUR(N11-K11-(M11-L11))","v":0},{"$f":"MINUTE(N11-K11-(M11-L11))","v":0},null,null,null,null,null,{"$f":"IF(OR(U11=\"U\",U11=\"k\",U11=\"B\"),$C$11,IF(S11>P11,O11-1-R11,O11-R11))","v":0},{"$f":"IF(OR(U11=\"U\",U11=\"k\",U11=\"B\"),$D$11,IF(S11>P11,P11+60-S11,P11-S11))","v":0},{"$f":"IF(OR(U11=\"U\",U11=\"K\",U11=\"B\"),0,V11)","v":0},{"$f":"IF(OR(U11=\"U\",U11=\"K\",U11=\"B\"),0,W11)","v":0},{"$f":"INT(((SUM(AB11,AH11,AK11,AN11,AQ11,AS11,AU11,AW11,AY11,BA11,BC11,BE11,BG11)*100)+(SUM(AC11,AI11,AL11,AO11,AR11,AT11,AV11,AX11,AZ11,BB11,BD11,BF11,BH11)/60*100))/100)","v":0},{"$f":"MOD(((SUM(AC11,AI11,AL11,AO11,AR11,AT11,AV11,AX11,AZ11,BB11,BD11,BF11,BH11)*100)+(SUM(AC11,AI11,AL11,AO11,AR11,AT11,AV11,AX11,AZ11,BB11,BD11,BF11,BH11)/60*100))/100,1)*60","v":0},null,null,{"$f":"INT(((SUM(AH11,AK11,AN11)*100)+SUM(AI11,AL11,AO11)/60*100)/100)","v":0},{"$f":"MOD(((SUM(AI11,AL11,AO11)*100)+(SUM(AI11,AL11,AO11)/60*100))/100,1)*60","v":0},{"$f":"INT(((SUM(AQ11+AS11+AU11+AW11+AY11+BA11+BC11+BE11+BG11)*100)+SUM(AR11+AT11+AV11+AX11+AZ11+BB11+BD11+BF11+BH11)/60*100)/100)","v":0},{"$f":"MOD(((SUM(AR11+AT11+AV11+AX11+AZ11+BB11+BD11+BF11+BH11)*100)+(SUM(AR11+AT11+AV11+AX11+AZ11+BB11+BD11+BF11+BH11)/60*100))/100,1)*60","v":0},null,null,"",null,null,"",null,null,""]
["Di",{"$f":"IF(E12=0,\"frei\",\"\")","v":""},{"$f":"SUM(Einstellungen!C20)","v":7},{"$f":"SUM(Einstellungen!D20)","v":54},{"$f":"C12*60+D12","v":474},{"$f":"E12/$F$10","v":1},{"$f":"IF(AND(E12>0,I12<>\"\",U12<>\"f\"),F12,0)","v":1},{"$f":"IF(AND(I12<>\"\",U12<>\"f\"),1,0)","v":1},{"$f":"IF(I11<>\"\",I11+1,IF(CHOOSE(WEEKDAY(Einstellungen!$A$4,2),\"Mo\",\"Di\",\"Mi\",\"Do\",\"Fr\",\"Sa\",\"So\")=J12,Einstellungen!$A$4,\"\"))","v":"2026-02-03"},"Di",null,null,null,null,0,0,null,null,null,null,null,{"$f":"IF(OR(U12=\"U\",U12=\"k\",U12=\"B\"),$C$12,IF(S12>P12,O12-1-R12,O12-R12))","v":0},{"$f":"IF(OR(U12=\"U\",U12=\"k\",U12=\"B\"),$D$12,IF(S12>P12,P12+60-S12,P12-S12))","v":0},0,0,0,0,null,null,0,0,0,0,null,null,"",null,null,"",null,null,""]
["Mi",{"$f":"IF(E13=0,\"frei\",\"\")","v":""},{"$f":"SUM(Einstellungen!C21)","v":7},{"$f":"SUM(Einstellungen!D21)","v":54},{"$f":"C13*60+D13","v":474},{"$f":"E13/$F$10","v":1},{"$f":"IF(AND(E13>0,I13<>\"\",U13<>\"f\"),F13,0)","v":1},{"$f":"IF(AND(I13<>\"\",U13<>\"f\"),1,0)","v":1},{"$f":"IF(I12<>\"\",I12+1,IF(CHOOSE(WEEKDAY(Einstellungen!$A$4,2),\"Mo\",\"Di\",\"Mi\",\"Do\",\"Fr\",\"Sa\",\"So\")=J13,Einstellungen!$A$4,\"\"))","v":"2026-02-04"},"Mi",null,null,null,null,0,0,null,null,null,null,null,{"$f":"IF(OR(U13=\"U\",U13=\"k\",U13=\"B\"),$C$13,IF(S13>P13,O13-1-R13,O13-R13))","v":0},{"$f":"IF(OR(U13=\"U\",U13=\"k\",U13=\"B\"),$D$13,IF(S13>P13,P13+60-S13,P13-S13))","v":0},0,0,0,0,null,null,0,0,0,0,null,null,"",null,null,"",null,null,""]
["Do",{"$f":"IF(E14=0,\"frei\",\"\")","v":""},{"$f":"SUM(Einstellungen!C22)","v":7},{"$f":"SUM(Einstellungen!D22)","v":54},{"$f":"C14*60+D14","v":474},{"$f":"E14/$F$10","v":1},{"$f":"IF(AND(E14>0,I14<>\"\",U14<>\"f\"),F14,0)","v":1},{"$f":"IF(AND(I14<>\"\",U14<>\"f\"),1,0)","v":1},{"$f":"IF(I13<>\"\",I13+1,IF(CHOOSE(WEEKDAY(Einstellungen!$A$4,2),\"Mo\",\"Di\",\"Mi\",\"Do\",\"Fr\",\"Sa\",\"So\")=J14,Einstellungen!$A$4,\"\"))","v":"2026-02-05"},"Do",null,null,null,null,0,0,null,null,null,null,null,{"$f":"IF(OR(U14=\"U\",U14=\"k\",U14=\"B\"),$C$14,IF(S14>P14,O14-1-R14,O14-R14))","v":0},{"$f":"IF(OR(U14=\"U\",U14=\"k\",U14=\"B\"),$D$14,IF(S14>P14,P14+60-S14,P14-S14))","v":0},0,0,0,0,null,null,0,0,0,0,null,null,"",null,null,"",null,null,""]
["Fr",{"$f":"IF(E15=0,\"frei\",\"\")","v":""},{"$f":"SUM(Einstellungen!C23)","v":7},{"$f":"SUM(Einstellungen!D23)","v":54},{"$f":"C15*60+D15","v":474},{"$f":"E15/$F$10","v":1},{"$f":"IF(AND(E15>0,I15<>\"\",U15<>\"f\"),F15,0)","v":1},{"$f":"IF(AND(I15<>\"\",U15<>\"f\"),1,0)","v":1},{"$f":"I14+1","v":"2026-02-06"},"Fr",null,null,null,null,0,0,null,null,null,null,null,{"$f":"IF(OR(U15=\"U\",U15=\"k\",U15=\"B\"),$C$15,IF(S15>P15,O15-1-R15,O15-R15))","v":0},{"$f":"IF(OR(U15=\"U\",U15=\"k\",U15=\"B\"),$D$15,IF(S15>P15,P15+60-S15,P15-S15))","v":0},0,0,0,0,null,null,0,0,0,0,null,null,"",null,null,"",null,null,""]
[{"$f":"Einstellungen!$L$1","v":"Hinweise:"},null,null,null,null,null,null,null,{"$f":"I15+1","v":"2026-02-07"},"Sa",null,null,null,null,0,0,null,null,null,"nur dienstl. Sonderfälle!*",null,{"$f":"IF(S16>P16,O16-1-R16,O16-R16)","v":0},{"$f":"IF(S16>P16,P16+60-S16,P16-S16)","v":0},0,0,0,0,null,null,0,0,0,0,null,null,"",null,null,"",null,null,""]
[{"$f":"Einstellungen!$L$2","v":"I Beschäftigte mit 39,5 Std-Woche"},null,null,null,null,null,null,null,{"$f":"I16+1","v":"2026-02-08"},"So",null,null,null,null,0,0,null,null,null,"nur dienstl. Sonderfälle!*",null,{"$f":"IF(S17>P17,O17-1-R17,O17-R17)","v":0},{"$f":"IF(S17>P17,P17+60-S17,P17-S17)","v":0},0,0,0,0,null,null,0,0,0,0,null,null,"",null,null,"",null,null,""]
[{"$f":"Einstellungen!$L$3","v":""},null,{"$f":"Einstellungen!$N$3","v":"Beschäftigungsumfang"},null,null,null,null,null,null,null,null,null,null,null,null,null,null,null,null,null,null,{"$f":"INT((60*SUM(V11:V17)+SUM(W11:W17)-W18)/60)","v":0},{"$f":"INT(60*SUM(V11:V17)+SUM(W11:W17)-60*INT((60*SUM(V11:V17)+SUM(W11:W17))/60))","v":0},{"$f":"INT((60*SUM(X11:X17)+SUM(Y11:Y17)-Y18)/60)","v":0},{"$f":"INT(60*SUM(X11:X17)+SUM(Y11:Y17)-60*INT((60*SUM(X11:X17)+SUM(Y11:Y17))/60))","v":0},{"$f":"INT((60*SUM(Z11:Z17)+SUM(AA11:AA17)-AA18)/60)","v":0},{"$f":"INT(60*SUM(Z11:Z17)+SUM(AA11:AA17)-60*INT((60*SUM(Z11:Z17)+SUM(AA11:AA17))/60))","v":0},{"$f":"INT((60*SUM(AB11:AB17)+SUM(AC11:AC17)-AC18)/60)","v":0},{"$f":"INT(60*SUM(AB11:AB17)+SUM(AC11:AC17)-60*INT((60*SUM(AB11:AB17)+SUM(AC11:AC17))/60))","v":0},{"$f":"INT((60*SUM(AD11:AD17)+SUM(AE11:AE17)-AE18)/60)","v":0},{"$f":"INT(60*SUM(AD11:AD17)+SUM(AE11:AE17)-60*INT((60*SUM(AD11:AD17)+SUM(AE11:AE17))/60))","v":0},{"$f":"INT((60*SUM(AF11:AF17)+SUM(AG11:AG17)-AG18)/60)","v":0},{"$f":"INT(60*SUM(AF11:AF17)+SUM(AG11:AG17)-60*INT((60*SUM(AF11:AF17)+SUM(AG11:AG17))/60))","v":0},{"$f":"INT((60*SUM(AH11:AH17)+SUM(AI11:AI17)-AI18)/60)","v":0},{"$f":"INT(60*SUM(AH11:AH17)+SUM(AI11:AI17)-60*INT((60*SUM(AH11:AH17)+SUM(AI11:AI17))/60))","v":0},null,{"$f":"INT((60*SUM(AK11:AK17)+SUM(AL11:AL17)-AL18)/60)","v":0},{"$f":"INT(60*SUM(AK11:AK17)+SUM(AL11:AL17)-60*INT((60*SUM(AK11:AK17)+SUM(AL11:AL17))/60))","v":0},null,{"$f":"INT((60*SUM(AN11:AN17)+SUM(AO11:AO17)-AO18)/60)","v":0},{"$f":"INT(60*SUM(AN11:AN17)+SUM(AO11:AO17)-60*INT((60*SUM(AN11:AN17)+SUM(AO11:AO17))/60))","v":0},null,{"$f":"INT((60*SUM(AQ11:AQ17)+SUM(AR11:AR17)-AR18)/60)","v":0},{"$f":"INT(60*SUM(AQ11:AQ17)+SUM(AR11:AR17)-60*INT((60*SUM(AQ11:AQ17)+SUM(AR11:AR17))/60))","v":0},{"$f":"INT((60*SUM(AS11:AS17)+SUM(AT11:AT17)-AT18)/60)","v":0},{"$f":"INT(60*SUM(AS11:AS17)+SUM(AT11:AT17)-60*INT((60*SUM(AS11:AS17)+SUM(AT11:AT17))/60))","v":0},{"$f":"INT((60*SUM(AU11:AU17)+SUM(AV11:AV17)-AV18)/60)","v":0},{"$f":"INT(60*SUM(AU11:AU17)+SUM(AV11:AV17)-60*INT((60*SUM(AU11:AU17)+SUM(AV11:AV17))/60))","v":0},{"$f":"INT((60*SUM(AW11:AW17)+SUM(AX11:AX17)-AX18)/60)","v":0},{"$f":"INT(60*SUM(AW11:AW17)+SUM(AX11:AX17)-60*INT((60*SUM(AW11:AW17)+SUM(AX11:AX17))/60))","v":0},{"$f":"INT((60*SUM(AY11:AY17)+SUM(AZ11:AZ17)-AZ18)/60)","v":0},{"$f":"INT(60*SUM(AY11:AY17)+SUM(AZ11:AZ17)-60*INT((60*SUM(AY11:AY17)+SUM(AZ11:AZ17))/60))","v":0},{"$f":"INT((60*SUM(BA11:BA17)+SUM(BB11:BB17)-BB18)/60)","v":0},{"$f":"INT(60*SUM(BA11:BA17)+SUM(BB11:BB17)-60*INT((60*SUM(BA11:BA17)+SUM(BB11:BB17))/60))","v":0},{"$f":"INT((60*SUM(BC11:BC17)+SUM(BD11:BD17)-BD18)/60)","v":0},{"$f":"INT(60*SUM(BC11:BC17)+SUM(BD11:BD17)-60*INT((60*SUM(BC11:BC17)+SUM(BD11:BD17))/60))","v":0},{"$f":"INT((60*SUM(BE11:BE17)+SUM(BF11:BF17)-BF18)/60)","v":0},{"$f":"INT(60*SUM(BE11:BE17)+SUM(BF11:BF17)-60*INT((60*SUM(BE11:BE17)+SUM(BF11:BF17))/60))","v":0},{"$f":"INT((60*SUM(BG11:BG17)+SUM(BH11:BH17)-BH18)/60)","v":0},{"$f":"INT(60*SUM(BG11:BG17)+SUM(BH11:BH17)-60*INT((60*SUM(BG11:BG17)+SUM(BH11:BH17))/60))","v":0}]
[]
[{"$f":"Einstellungen!$L$4","v":"5 Tage-Woche"},null,{"$f":"Einstellungen!$N$4","v":1},{"$f":"Einstellungen!$O$4","v":0.75},null,{"$f":"Einstellungen!$Q$4","v":0.5},{"$f":"IF(AND(E11>0,I20<>\"\",U20<>\"f\"),F11,0)","v":1},{"$f":"IF(AND(I20<>\"\",U20<>\"f\"),1,0)","v":1},{"$f":"I17+1","v":"2026-02-09"},"Mo",null,null,null,null,{"$f":"HOUR(N20-K20-(M20-L20))","v":0},{"$f":"MINUTE(N20-K20-(M20-L20))","v":0},null,null,null,null,null,{"$f":"IF(OR(U20=\"U\",U20=\"k\",U20=\"B\"),$C$11,IF(S20>P20,O20-1-R20,O20-R20))","v":0},{"$f":"IF(OR(U20=\"U\",U20=\"k\",U20=\"B\"),$D$11,IF(S20>P20,P20+60-S20,P20-S20))","v":0},{"$f":"IF(OR(U20=\"U\",U20=\"K\",U20=\"B\"),0,V20)","v":0},{"$f":"IF(OR(U20=\"U\",U20=\"K\",U20=\"B\"),0,W20)","v":0},{"$f":"INT(((SUM(AB20,AH20,AK20,AN20,AQ20,AS20,AU20,AW20,AY20,BA20,BC20,BE20,BG20)*100)+(SUM(AC20,AI20,AL20,AO20,AR20,AT20,AV20,AX20,AZ20,BB20,BD20,BF20,BH20)/60*100))/100)","v":0},{"$f":"MOD(((SUM(AC20,AI20,AL20,AO20,AR20,AT20,AV20,AX20,AZ20,BB20,BD20,BF20,BH20)*100)+(SUM(AC20,AI20,AL20,AO20,AR20,AT20,AV20,AX20,AZ20,BB20,BD20,BF20,BH20)/60*100))/100,1)*60","v":0},null,null,{"$f":"INT(((SUM(AH20,AK20,AN20)*100)+SUM(AI20,AL20,AO20)/60*100)/100)","v":0},{"$f":"MOD(((SUM(AI20,AL20,AO20)*100)+(SUM(AI20,AL20,AO20)/60*100))/100,1)*60","v":0},{"$f":"INT(((SUM(AQ20+AS20+AU20+AW20+AY20+BA20+BC20+BE20+BG20)*100)+SUM(AR20+AT20+AV20+AX20+AZ20+BB20+BD20+BF20+BH20)/60*100)/100)","v":0},{"$f":"MOD(((SUM(AR20+AT20+AV20+AX20+AZ20+BB20+BD20+BF20+BH20)*100)+(SUM(AR20+AT20+AV20+AX20+AZ20+BB20+BD20+BF20+BH20)/60*100))/100,1)*60","v":0},null,null,"",null,null,"",null,null,""]
[{"$f":"Einstellungen!$L$5","v":""},null," "," ",null," ",{"$f":"IF(AND(E12>0,I21<>\"\",U21<>\"f\"),F12,0)","v":1},{"$f":"IF(AND(I21<>\"\",U21<>\"f\"),1,0)","v":1},{"$f":"I20+1","v":"2026-02-10"},"Di",null,null,null,null,0,0,null,null,null,null,null,{"$f":"IF(OR(U21=\"U\",U21=\"k\",U21=\"B\"),$C$12,IF(S21>P21,O21-1-R21,O21-R21))","v":0},{"$f":"IF(OR(U21=\"U\",U21=\"k\",U21=\"B\"),$D$12,IF(S21>P21,P21+60-S21,P21-S21))","v":0},0,0,0,0,null,null,0,0,0,0,null,null,"",null,null,"",null,null,""]
[{"$f":"Einstellungen!$L$6","v":"tägliche Regel-"},null," "," ",null," ",{"$f":"IF(AND(E13>0,I22<>\"\",U22<>\"f\"),F13,0)","v":1},{"$f":"IF(AND(I22<>\"\",U22<>\"f\"),1,0)","v":1},{"$f":"I21+1","v":"2026-02-11"},"Mi",null,null,null,null,0,0,null,null,null,null,null,{"$f":"IF(OR(U22=\"U\",U22=\"k\",U22=\"B\"),$C$13,IF(S22>P22,O22-1-R22,O22-R22))","v":0},{"$f":"IF(OR(U22=\"U\",U22=\"k\",U22=\"B\"),$D$13,IF(S22>P22,P22+60-S22,P22-S22))","v":0},0,0,0,0,null,null,0,0,0,0,null,null,"",null,null,"",null,null,""]
[{"$f":"Einstellungen!$L$7","v":"arbeitszeit für"},null,null,null,null,null,{"$f":"IF(AND(E14>0,I23<>\"\",U23<>\"f\"),F14,0)","v":1},{"$f":"IF(AND(I23<>\"\",U23<>\"f\"),1,0)","v":1},"2026-02-12","Do",null,null,null,null,0,0,null,null,null,null,null,{"$f":"IF(OR(U23=\"U\",U23=\"k\",U23=\"B\"),$C$14,IF(S23>P23,O23-1-R23,O23-R23))","v":0},{"$f":"IF(OR(U23=\"U\",U23=\"k\",U23=\"B\"),$D$14,IF(S23>P23,P23+60-S23,P23-S23))","v":0},0,0,0,0,null,null,0,0,0,0,null,null,"",null,null,"",null,null,""]
[{"$f":"Einstellungen!$L$8","v":"Wochenfeier-"},null,null,null,null,null,{"$f":"IF(AND(E15>0,I24<>\"\",U24<>\"f\"),F15,0)","v":1},{"$f":"IF(AND(I24<>\"\",U24<>\"f\"),1,0)","v":1},"2026-02-13","Fr",null,null,null,null,0,0,null,null,null,null,null,{"$f":"IF(OR(U24=\"U\",U24=\"k\",U24=\"B\"),$C$15,IF(S24>P24,O24-1-R24,O24-R24))","v":0},{"$f":"IF(OR(U24=\"U\",U24=\"k\",U24=\"B\"),$D$15,IF(S24>P24,P24+60-S24,P24-S24))","v":0},0,0,0,0,null,null,0,0,0,0,null,null,"",null,null,"",null,null,""]
[{"$f":"Einstellungen!$L$9","v":"tage, bei Urlaub"},null,null,null,null,null,null,null,"2026-02-14","Sa",null,null,null,null,0,0,null,null,null,"nur dienstl. Sonderfälle!*",null,{"$f":"IF(S25>P25,O25-1-R25,O25-R25)","v":0},{"$f":"IF(S25>P25,P25+60-S25,P25-S25)","v":0},0,0,0,0,null,null,0,0,0,0,null,null,"",null,null,"",null,null,""]
[{"$f":"Einstellungen!$L$10","v":"oder Krankheit"},null,null,null,null,null,null,null,"2026-02-15","So",null,null,null,null,0,0,null,null,null,"nur dienstl. Sonderfälle!*",null,{"$f":"IF(S26>P26,O26-1-R26,O26-R26)","v":0},{"$f":"IF(S26>P26,P26+60-S26,P26-S26)","v":0},0,0,0,0,null,null,0,0,0,0,null,null,"",null,null,"",null,null,""]
[{"$f":"Einstellungen!$L$11","v":"Mo-Fr  "},{"$f":"Einstellungen!$M$11","v":"Std.Min"},{"$f":"Einstellungen!$N$11","v":" 7.54"},{"$f":"Einstellungen!$O$11","v":" 5.56"},null,{"$f":"Einstellungen!$Q$11","v":" 3.57"},null,null,null,null,null,null,null,null,null,null,null,null,null,null,null,{"$f":"INT((60*SUM(V20:V26)+SUM(W20:W26)-W27)/60)","v":0},{"$f":"INT(60*SUM(V20:V26)+SUM(W20:W26)-60*INT((60*SUM(V20:V26)+SUM(W20:W26))/60))","v":0},{"$f":"INT((60*SUM(X20:X26)+SUM(Y20:Y26)-Y27)/60)","v":0},{"$f":"INT(60*SUM(X20:X26)+SUM(Y20:Y26)-60*INT((60*SUM(X20:X26)+SUM(Y20:Y26))/60))","v":0},{"$f":"INT((60*SUM(Z20:Z26)+SUM(AA20:AA26)-AA27)/60)","v":0},{"$f":"INT(60*SUM(Z20:Z26)+SUM(AA20:AA26)-60*INT((60*SUM(Z20:Z26)+SUM(AA20:AA26))/60))","v":0},{"$f":"INT((60*SUM(AB20:AB26)+SUM(AC20:AC26)-AC27)/60)","v":0},{"$f":"INT(60*SUM(AB20:AB26)+SUM(AC20:AC26)-60*INT((60*SUM(AB20:AB26)+SUM(AC20:AC26))/60))","v":0},{"$f":"INT((60*SUM(AD20:AD26)+SUM(AE20:AE26)-AE27)/60)","v":0},{"$f":"INT(60*SUM(AD20:AD26)+SUM(AE20:AE26)-60*INT((60*SUM(AD20:AD26)+SUM(AE20:AE26))/60))","v":0},{"$f":"INT((60*SUM(AF20:AF26)+SUM(AG20:AG26)-AG27)/60)","v":0},{"$f":"INT(60*SUM(AF20:AF26)+SUM(AG20:AG26)-60*INT((60*SUM(AF20:AF26)+SUM(AG20:AG26))/60))","v":0},{"$f":"INT((60*SUM(AH20:AH26)+SUM(AI20:AI26)-AI27)/60)","v":0},{"$f":"INT(60*SUM(AH20:AH26)+SUM(AI20:AI26)-60*INT((60*SUM(AH20:AH26)+SUM(AI20:AI26))/60))","v":0},null,{"$f":"INT((60*SUM(AK20:AK26)+SUM(AL20:AL26)-AL27)/60)","v":0},{"$f":"INT(60*SUM(AK20:AK26)+SUM(AL20:AL26)-60*INT((60*SUM(AK20:AK26)+SUM(AL20:AL26))/60))","v":0},null,{"$f":"INT((60*SUM(AN20:AN26)+SUM(AO20:AO26)-AO27)/60)","v":0},{"$f":"INT(60*SUM(AN20:AN26)+SUM(AO20:AO26)-60*INT((60*SUM(AN20:AN26)+SUM(AO20:AO26))/60))","v":0},null,{"$f":"INT((60*SUM(AQ20:AQ26)+SUM(AR20:AR26)-AR27)/60)","v":0},{"$f":"INT(60*SUM(AQ20:AQ26)+SUM(AR20:AR26)-60*INT((60*SUM(AQ20:AQ26)+SUM(AR20:AR26))/60))","v":0},{"$f":"INT((60*SUM(AS20:AS26)+SUM(AT20:AT26)-AT27)/60)","v":0},{"$f":"INT(60*SUM(AS20:AS26)+SUM(AT20:AT26)-60*INT((60*SUM(AS20:AS26)+SUM(AT20:AT26))/60))","v":0},{"$f":"INT((60*SUM(AU20:AU26)+SUM(AV20:AV26)-AV27)/60)","v":0},{"$f":"INT(60*SUM(AU20:AU26)+SUM(AV20:AV26)-60*INT((60*SUM(AU20:AU26)+SUM(AV20:AV26))/60))","v":0},{"$f":"INT((60*SUM(AW20:AW26)+SUM(AX20:AX26)-AX27)/60)","v":0},{"$f":"INT(60*SUM(AW20:AW26)+SUM(AX20:AX26)-60*INT((60*SUM(AW20:AW26)+SUM(AX20:AX26))/60))","v":0},{"$f":"INT((60*SUM(AY20:AY26)+SUM(AZ20:AZ26)-AZ27)/60)","v":0},{"$f":"INT(60*SUM(AY20:AY26)+SUM(AZ20:AZ26)-60*INT((60*SUM(AY20:AY26)+SUM(AZ20:AZ26))/60))","v":0},{"$f":"INT((60*SUM(BA20:BA26)+SUM(BB20:BB26)-BB27)/60)","v":0},{"$f":"INT(60*SUM(BA20:BA26)+SUM(BB20:BB26)-60*INT((60*SUM(BA20:BA26)+SUM(BB20:BB26))/60))","v":0},{"$f":"INT((60*SUM(BC20:BC26)+SUM(BD20:BD26)-BD27)/60)","v":0},{"$f":"INT(60*SUM(BC20:BC26)+SUM(BD20:BD26)-60*INT((60*SUM(BC20:BC26)+SUM(BD20:BD26))/60))","v":0},{"$f":"INT((60*SUM(BE20:BE26)+SUM(BF20:BF26)-BF27)/60)","v":0},{"$f":"INT(60*SUM(BE20:BE26)+SUM(BF20:BF26)-60*INT((60*SUM(BE20:BE26)+SUM(BF20:BF26))/60))","v":0},{"$f":"INT((60*SUM(BG20:BG26)+SUM(BH20:BH26)-BH27)/60)","v":0},{"$f":"INT(60*SUM(BG20:BG26)+SUM(BH20:BH26)-60*INT((60*SUM(BG20:BG26)+SUM(BH20:BH26))/60))","v":0}]
[" "," "," "," ",null," "]
[{"$f":"Einstellungen!$L$13","v":"Wochen"},null," "," ",null," ",{"$f":"IF(AND(E11>0,I29<>\"\",U29<>\"f\"),F11,0)","v":1},{"$f":"IF(AND(I29<>\"\",U29<>\"f\"),1,0)","v":1},{"$f":"I26+1","v":"2026-02-16"},"Mo",null,null,null,null,{"$f":"HOUR(N29-K29-(M29-L29))","v":0},{"$f":"MINUTE(N29-K29-(M29-L29))","v":0},null,null,null,null,null,{"$f":"IF(OR(U29=\"U\",U29=\"k\",U29=\"B\"),$C$11,IF(S29>P29,O29-1-R29,O29-R29))","v":0},{"$f":"IF(OR(U29=\"U\",U29=\"k\",U29=\"B\"),$D$11,IF(S29>P29,P29+60-S29,P29-S29))","v":0},{"$f":"IF(OR(U29=\"U\",U29=\"K\",U29=\"B\"),0,V29)","v":0},{"$f":"IF(OR(U29=\"U\",U29=\"K\",U29=\"B\"),0,W29)","v":0},{"$f":"INT(((SUM(AB29,AH29,AK29,AN29,AQ29,AS29,AU29,AW29,AY29,BA29,BC29,BE29,BG29)*100)+(SUM(AC29,AI29,AL29,AO29,AR29,AT29,AV29,AX29,AZ29,BB29,BD29,BF29,BH29)/60*100))/100)","v":0},{"$f":"MOD(((SUM(AC29,AI29,AL29,AO29,AR29,AT29,AV29,AX29,AZ29,BB29,BD29,BF29,BH29)*100)+(SUM(AC29,AI29,AL29,AO29,AR29,AT29,AV29,AX29,AZ29,BB29,BD29,BF29,BH29)/60*100))/100,1)*60","v":0},null,null,{"$f":"INT(((SUM(AH29,AK29,AN29)*100)+SUM(AI29,AL29,AO29)/60*100)/100)","v":0},{"$f":"MOD(((SUM(AI29,AL29,AO29)*100)+(SUM(AI29,AL29,AO29)/60*100))/100,1)*60","v":0},{"$f":"INT(((SUM(AQ29+AS29+AU29+AW29+AY29+BA29+BC29+BE29+BG29)*100)+SUM(AR29+AT29+AV29+AX29+AZ29+BB29+BD29+BF29+BH29)/60*100)/100)","v":0},{"$f":"MOD(((SUM(AR29+AT29+AV29+AX29+AZ29+BB29+BD29+BF29+BH29)*100)+(SUM(AR29+AT29+AV29+AX29+AZ29+BB29+BD29+BF29+BH29)/60*100))/100,1)*60","v":0},null,null,"",null,null,"",null,null,""]
[{"$f":"CONCATENATE(Einstellungen!$L$14,\" \",Einstellungen!$M$14)","v":"Arbeitzeit Std.Min"},null,{"$f":"Einstellungen!$N$14","v":"39.30"},{"$f":"Einstellungen!$O$14","v":"29.38"},null,{"$f":"Einstellungen!$Q$14","v":"19.45"},{"$f":"IF(AND(E12>0,I30<>\"\",U30<>\"f\"),F12,0)","v":1},{"$f":"IF(AND(I30<>\"\",U30<>\"f\"),1,0)","v":1},{"$f":"I29+1","v":"2026-02-17"},"Di",null,null,null,null,0,0,null,null,null,null,null,{"$f":"IF(OR(U30=\"U\",U30=\"k\",U30=\"B\"),$C$12,IF(S30>P30,O30-1-R30,O30-R30))","v":0},{"$f":"IF(OR(U30=\"U\",U30=\"k\",U30=\"B\"),$D$12,IF(S30>P30,P30+60-S30,P30-S30))","v":0},0,0,0,0,null,null,0,0,0,0,null,null,"",null,null,"",null,null,""]
[{"$f":"Einstellungen!$L$15","v":"max.Übertrag auf das"},null,null," ",null," ",{"$f":"IF(AND(E13>0,I31<>\"\",U31<>\"f\"),F13,0)","v":1},{"$f":"IF(AND(I31<>\"\",U31<>\"f\"),1,0)","v":1},{"$f":"I30+1","v":"2026-02-18"},"Mi",null,null,null,null,0,0,null,null,null,null,null,{"$f":"IF(OR(U31=\"U\",U31=\"k\",U31=\"B\"),$C$13,IF(S31>P31,O31-1-R31,O31-R31))","v":0},{"$f":"IF(OR(U31=\"U\",U31=\"k\",U31=\"B\"),$D$13,IF(S31>P31,P31+60-S31,P31-S31))","v":0},0,0,0,0,null,null,0,0,0,0,null,null,"",null,null,"",null,null,""]
[{"$f":"Einstellungen!$L$16","v":"Folgejahr Std.Min"},null,{"$f":"Einstellungen!$N$16","v":"39.30"},{"$f":"Einstellungen!$O$16","v":"39.30"},null,{"$f":"Einstellungen!$Q$16","v":"39.30"},{"$f":"IF(AND(E14>0,I32<>\"\",U32<>\"f\"),F14,0)","v":1},{"$f":"IF(AND(I32<>\"\",U32<>\"f\"),1,0)","v":1},"2026-02-19","Do",null,null,null,null,0,0,null,null,null,null,null,{"$f":"IF(OR(U32=\"U\",U32=\"k\",U32=\"B\"),$C$14,IF(S32>P32,O32-1-R32,O32-R32))","v":0},{"$f":"IF(OR(U32=\"U\",U32=\"k\",U32=\"B\"),$D$14,IF(S32>P32,P32+60-S32,P32-S32))","v":0},0,0,0,0,null,null,0,0,0,0,null,null,"",null,null,"",null,null,""]
[{"$f":"Einstellungen!$L$17","v":"II Beschäftigte mit 41 Std-Woche"},null,null,null,null,null,{"$f":"IF(AND(E15>0,I33<>\"\",U33<>\"f\"),F15,0)","v":1},{"$f":"IF(AND(I33<>\"\",U33<>\"f\"),1,0)","v":1},"2026-02-20","Fr",null,null,null,null,0,0,null,null,null,null,null,{"$f":"IF(OR(U33=\"U\",U33=\"k\",U33=\"B\"),$C$15,IF(S33>P33,O33-1-R33,O33-R33))","v":0},{"$f":"IF(OR(U33=\"U\",U33=\"k\",U33=\"B\"),$D$15,IF(S33>P33,P33+60-S33,P33-S33))","v":0},0,0,0,0,null,null,0,0,0,0,null,null,"",null,null,"",null,null,""]
[{"$f":"Einstellungen!$L$18","v":"tägliche Arbeitszeit"},null,null,null,null,null,null,null,"2026-02-21","Sa",null,null,null,null,0,0,null,null,null,"nur dienstl. Sonderfälle!*",null,{"$f":"IF(S34>P34,O34-1-R34,O34-R34)","v":0},{"$f":"IF(S34>P34,P34+60-S34,P34-S34)","v":0},0,0,0,0,null,null,0,0,0,0,null,null,"",null,null,"",null,null,""]
[{"$f":"Einstellungen!$L$19","v":"Mo-Fr  "},{"$f":"Einstellungen!$M$19","v":"Std.Min"},{"$f":"Einstellungen!$N$19","v":"8.12"},{"$f":"Einstellungen!$O$19","v":"6.09"},null,{"$f":"Einstellungen!$Q$19","v":"4.06"},null,null,"2026-02-22","So",null,null,null,null,0,0,null,null,null,"nur dienstl. Sonderfälle!*",null,{"$f":"IF(S35>P35,O35-1-R35,O35-R35)","v":0},{"$f":"IF(S35>P35,P35+60-S35,P35-S35)","v":0},0,0,0,0,null,null,0,0,0,0,null,null,"",null,null,"",null,null,""]
[{"$f":"Einstellungen!$L$20","v":"Wochen"},null," "," ",null," ",null,null,null,null,null,null,null,null,null,null,null,null,null,null,null,{"$f":"INT((60*SUM(V29:V35)+SUM(W29:W35)-W36)/60)","v":0},{"$f":"INT(60*SUM(V29:V35)+SUM(W29:W35)-60*INT((60*SUM(V29:V35)+SUM(W29:W35))/60))","v":0},{"$f":"INT((60*SUM(X29:X35)+SUM(Y29:Y35)-Y36)/60)","v":0},{"$f":"INT(60*SUM(X29:X35)+SUM(Y29:Y35)-60*INT((60*SUM(X29:X35)+SUM(Y29:Y35))/60))","v":0},{"$f":"INT((60*SUM(Z29:Z35)+SUM(AA29:AA35)-AA36)/60)","v":0},{"$f":"INT(60*SUM(Z29:Z35)+SUM(AA29:AA35)-60*INT((60*SUM(Z29:Z35)+SUM(AA29:AA35))/60))","v":0},{"$f":"INT((60*SUM(AB29:AB35)+SUM(AC29:AC35)-AC36)/60)","v":0},{"$f":"INT(60*SUM(AB29:AB35)+SUM(AC29:AC35)-60*INT((60*SUM(AB29:AB35)+SUM(AC29:AC35))/60))","v":0},{"$f":"INT((60*SUM(AD29:AD35)+SUM(AE29:AE35)-AE36)/60)","v":0},{"$f":"INT(60*SUM(AD29:AD35)+SUM(AE29:AE35)-60*INT((60*SUM(AD29:AD35)+SUM(AE29:AE35))/60))","v":0},{"$f":"INT((60*SUM(AF29:AF35)+SUM(AG29:AG35)-AG36)/60)","v":0},{"$f":"INT(60*SUM(AF29:AF35)+SUM(AG29:AG35)-60*INT((60*SUM(AF29:AF35)+SUM(AG29:AG35))/60))","v":0},{"$f":"INT((60*SUM(AH29:AH35)+SUM(AI29:AI35)-AI36)/60)","v":0},{"$f":"INT(60*SUM(AH29:AH35)+SUM(AI29:AI35)-60*INT((60*SUM(AH29:AH35)+SUM(AI29:AI35))/60))","v":0},null,{"$f":"INT((60*SUM(AK29:AK35)+SUM(AL29:AL35)-AL36)/60)","v":0},{"$f":"INT(60*SUM(AK29:AK35)+SUM(AL29:AL35)-60*INT((60*SUM(AK29:AK35)+SUM(AL29:AL35))/60))","v":0},null,{"$f":"INT((60*SUM(AN29:AN35)+SUM(AO29:AO35)-AO36)/60)","v":0},{"$f":"INT(60*SUM(AN29:AN35)+SUM(AO29:AO35)-60*INT((60*SUM(AN29:AN35)+SUM(AO29:AO35))/60))","v":0},null,{"$f":"INT((60*SUM(AQ29:AQ35)+SUM(AR29:AR35)-AR36)/60)","v":0},{"$f":"INT(60*SUM(AQ29:AQ35)+SUM(AR29:AR35)-60*INT((60*SUM(AQ29:AQ35)+SUM(AR29:AR35))/60))","v":0},{"$f":"INT((60*SUM(AS29:AS35)+SUM(AT29:AT35)-AT36)/60)","v":0},{"$f":"INT(60*SUM(AS29:AS35)+SUM(AT29:AT35)-60*INT((60*SUM(AS29:AS35)+SUM(AT29:AT35))/60))","v":0},{"$f":"INT((60*SUM(AU29:AU35)+SUM(AV29:AV35)-AV36)/60)","v":0},{"$f":"INT(60*SUM(AU29:AU35)+SUM(AV29:AV35)-60*INT((60*SUM(AU29:AU35)+SUM(AV29:AV35))/60))","v":0},{"$f":"INT((60*SUM(AW29:AW35)+SUM(AX29:AX35)-AX36)/60)","v":0},{"$f":"INT(60*SUM(AW29:AW35)+SUM(AX29:AX35)-60*INT((60*SUM(AW29:AW35)+SUM(AX29:AX35))/60))","v":0},{"$f":"INT((60*SUM(AY29:AY35)+SUM(AZ29:AZ35)-AZ36)/60)","v":0},{"$f":"INT(60*SUM(AY29:AY35)+SUM(AZ29:AZ35)-60*INT((60*SUM(AY29:AY35)+SUM(AZ29:AZ35))/60))","v":0},{"$f":"INT((60*SUM(BA29:BA35)+SUM(BB29:BB35)-BB36)/60)","v":0},{"$f":"INT(60*SUM(BA29:BA35)+SUM(BB29:BB35)-60*INT((60*SUM(BA29:BA35)+SUM(BB29:BB35))/60))","v":0},{"$f":"INT((60*SUM(BC29:BC35)+SUM(BD29:BD35)-BD36)/60)","v":0},{"$f":"INT(60*SUM(BC29:BC35)+SUM(BD29:BD35)-60*INT((60*SUM(BC29:BC35)+SUM(BD29:BD35))/60))","v":0},{"$f":"INT((60*SUM(BE29:BE35)+SUM(BF29:BF35)-BF36)/60)","v":0},{"$f":"INT(60*SUM(BE29:BE35)+SUM(BF29:BF35)-60*INT((60*SUM(BE29:BE35)+SUM(BF29:BF35))/60))","v":0},{"$f":"INT((60*SUM(BG29:BG35)+SUM(BH29:BH35)-BH36)/60)","v":0},{"$f":"INT(60*SUM(BG29:BG35)+SUM(BH29:BH35)-60*INT((60*SUM(BG29:BG35)+SUM(BH29:BH35))/60))","v":0}]
[]
[{"$f":"CONCATENATE(Einstellungen!$L$21,\" \",Einstellungen!$M$21)","v":"Arbeitzeit Std.Min"},null,{"$f":"Einstellungen!$N$21","v":"41.00"},{"$f":"Einstellungen!$O$21","v":"30.45"},null,{"$f":"Einstellungen!$Q$21","v":"20.30"},{"$f":"IF(AND(E11>0,I38<>\"\",U38<>\"f\"),F11,0)","v":1},{"$f":"IF(AND(I38<>\"\",U38<>\"f\"),1,0)","v":1},{"$f":"IF(I35<>\"\",IF(MONTH(I35)=MONTH(I35+1),I35+1,\"\"),\"\")","v":"2026-02-23"},"Mo",null,null,null,null,{"$f":"HOUR(N38-K38-(M38-L38))","v":0},{"$f":"MINUTE(N38-K38-(M38-L38))","v":0},null,null,null,null,null,{"$f":"IF(OR(U38=\"U\",U38=\"k\",U38=\"B\"),$C$11,IF(S38>P38,O38-1-R38,O38-R38))","v":0},{"$f":"IF(OR(U38=\"U\",U38=\"k\",U38=\"B\"),$D$11,IF(S38>P38,P38+60-S38,P38-S38))","v":0},{"$f":"IF(OR(U38=\"U\",U38=\"K\",U38=\"B\"),0,V38)","v":0},{"$f":"IF(OR(U38=\"U\",U38=\"K\",U38=\"B\"),0,W38)","v":0},{"$f":"INT(((SUM(AB38,AH38,AK38,AN38,AQ38,AS38,AU38,AW38,AY38,BA38,BC38,BE38,BG38)*100)+(SUM(AC38,AI38,AL38,AO38,AR38,AT38,AV38,AX38,AZ38,BB38,BD38,BF38,BH38)/60*100))/100)","v":0},{"$f":"MOD(((SUM(AC38,AI38,AL38,AO38,AR38,AT38,AV38,AX38,AZ38,BB38,BD38,BF38,BH38)*100)+(SUM(AC38,AI38,AL38,AO38,AR38,AT38,AV38,AX38,AZ38,BB38,BD38,BF38,BH38)/60*100))/100,1)*60","v":0},null,null,{"$f":"INT(((SUM(AH38,AK38,AN38)*100)+SUM(AI38,AL38,AO38)/60*100)/100)","v":0},{"$f":"MOD(((SUM(AI38,AL38,AO38)*100)+(SUM(AI38,AL38,AO38)/60*100))/100,1)*60","v":0},{"$f":"INT(((SUM(AQ38+AS38+AU38+AW38+AY38+BA38+BC38+BE38+BG38)*100)+SUM(AR38+AT38+AV38+AX38+AZ38+BB38+BD38+BF38+BH38)/60*100)/100)","v":0},{"$f":"MOD(((SUM(AR38+AT38+AV38+AX38+AZ38+BB38+BD38+BF38+BH38)*100)+(SUM(AR38+AT38+AV38+AX38+AZ38+BB38+BD38+BF38+BH38)/60*100))/100,1)*60","v":0},null,null,"",null,null,"",null,null,""]
[{"$f":"Einstellungen!$L$22","v":"max.Übertrag auf das"},null,null," "," "," ",{"$f":"IF(AND(E12>0,I39<>\"\",U39<>\"f\"),F12,0)","v":1},{"$f":"IF(AND(I39<>\"\",U39<>\"f\"),1,0)","v":1},{"$f":"IF(I38<>\"\",IF(MONTH(I38)=MONTH(I38+1),I38+1,\"\"),\"\")","v":"2026-02-24"},"Di",null,null,null,null,0,0,null,null,null,null,null,{"$f":"IF(OR(U39=\"U\",U39=\"k\",U39=\"B\"),$C$12,IF(S39>P39,O39-1-R39,O39-R39))","v":0},{"$f":"IF(OR(U39=\"U\",U39=\"k\",U39=\"B\"),$D$12,IF(S39>P39,P39+60-S39,P39-S39))","v":0},0,0,0,0,null,null,0,0,0,0,null,null,"",null,null,"",null,null,""]
[{"$f":"Einstellungen!$L$23","v":"Folgejahr Std.Min"},null,{"$f":"Einstellungen!$N$23","v":"41.00"},{"$f":"Einstellungen!$O$23","v":"41.00"}," ",{"$f":"Einstellungen!$Q$23","v":"41.00"},{"$f":"IF(AND(E13>0,I40<>\"\",U40<>\"f\"),F13,0)","v":1},{"$f":"IF(AND(I40<>\"\",U40<>\"f\"),1,0)","v":1},{"$f":"IF(I39<>\"\",IF(MONTH(I39)=MONTH(I39+1),I39+1,\"\"),\"\")","v":"2026-02-25"},"Mi",null,null,null,null,0,0,null,null,null,null,null,{"$f":"IF(OR(U40=\"U\",U40=\"k\",U40=\"B\"),$C$13,IF(S40>P40,O40-1-R40,O40-R40))","v":0},{"$f":"IF(OR(U40=\"U\",U40=\"k\",U40=\"B\"),$D$13,IF(S40>P40,P40+60-S40,P40-S40))","v":0},0,0,0,0,null,null,0,0,0,0,null,null,"",null,null,"",null,null,""]
[{"$f":"Einstellungen!$L$24","v":"Kernarbeitszeit:"},null,{"$f":"Einstellungen!$N$24","v":"Mo-Do"},{"$f":"Einstellungen!$O$24","v":"9:00 - 14:30 Uhr"},null,null,{"$f":"IF(AND(E14>0,I41<>\"\",U41<>\"f\"),F14,0)","v":1},{"$f":"IF(AND(I41<>\"\",U41<>\"f\"),1,0)","v":1},"2026-02-26","Do",null,null,null,null,0,0,null,null,null,null,null,{"$f":"IF(OR(U41=\"U\",U41=\"k\",U41=\"B\"),$C$14,IF(S41>P41,O41-1-R41,O41-R41))","v":0},{"$f":"IF(OR(U41=\"U\",U41=\"k\",U41=\"B\"),$D$14,IF(S41>P41,P41+60-S41,P41-S41))","v":0},0,0,0,0,null,null,0,0,0,0,null,null,"",null,null,"",null,null,""]
[{"$f":"Einstellungen!$L$25","v":""},{"$f":"Einstellungen!$M$25","v":""},{"$f":"Einstellungen!$N$25","v":"Fr"},{"$f":"Einstellungen!$O$25","v":"9:00 - 12:00 Uhr"},null,null,{"$f":"IF(AND(E15>0,I42<>\"\",U42<>\"f\"),F15,0)","v":1},{"$f":"IF(AND(I42<>\"\",U42<>\"f\"),1,0)","v":1},"2026-02-27","Fr",null,null,null,null,0,0,null,null,null,null,null,{"$f":"IF(OR(U42=\"U\",U42=\"k\",U42=\"B\"),$C$15,IF(S42>P42,O42-1-R42,O42-R42))","v":0},{"$f":"IF(OR(U42=\"U\",U42=\"k\",U42=\"B\"),$D$15,IF(S42>P42,P42+60-S42,P42-S42))","v":0},0,0,0,0,null,null,0,0,0,0,null,null,"",null,null,"",null,null,""]
[{"$f":"Einstellungen!$L$26","v":"Gleitzeit:"},{"$f":"Einstellungen!$M$26","v":"frühester Beginn"},null,null,null,{"$f":"Einstellungen!$P$26","v":"6:00 Uhr"},null,null,"2026-02-28","Sa",null,null,null,null,0,0,null,null,null,"nur dienstl. Sonderfälle!*",null,{"$f":"IF(S43>P43,O43-1-R43,O43-R43)","v":0},{"$f":"IF(S43>P43,P43+60-S43,P43-S43)","v":0},0,0,0,0,null,null,0,0,0,0,null,null,"",null,null,"",null,null,""]
[{"$f":"Einstellungen!$L$27","v":""},{"$f":"Einstellungen!$M$27","v":"spätestes Ende"},null,null,null,{"$f":"Einstellungen!$P$27","v":"21:00 Uhr"},null,null,"","So",null,null,null,null,0,0,null,null,null,"nur dienstl. Sonderfälle!*",null,{"$f":"IF(S44>P44,O44-1-R44,O44-R44)","v":0},{"$f":"IF(S44>P44,P44+60-S44,P44-S44)","v":0},0,0,0,0,null,null,0,0,0,0,null,null,"",null,null,"",null,null,""]
[{"$f":"Einstellungen!$L$29","v":"Mittagspause zw."},null,null,{"$f":"Einstellungen!$O$29","v":"11:15 - 14:00 Uhr"},null,null,null,null,null,null,null,null,null,null,null,null,null,null,null,null,null,{"$f":"INT((60*SUM(V38:V44)+SUM(W38:W44)-W45)/60)","v":0},{"$f":"INT(60*SUM(V38:V44)+SUM(W38:W44)-60*INT((60*SUM(V38:V44)+SUM(W38:W44))/60))","v":0},{"$f":"INT((60*SUM(X38:X44)+SUM(Y38:Y44)-Y45)/60)","v":0},{"$f":"INT(60*SUM(X38:X44)+SUM(Y38:Y44)-60*INT((60*SUM(X38:X44)+SUM(Y38:Y44))/60))","v":0},{"$f":"INT((60*SUM(Z38:Z44)+SUM(AA38:AA44)-AA45)/60)","v":0},{"$f":"INT(60*SUM(Z38:Z44)+SUM(AA38:AA44)-60*INT((60*SUM(Z38:Z44)+SUM(AA38:AA44))/60))","v":0},{"$f":"INT((60*SUM(AB38:AB44)+SUM(AC38:AC44)-AC45)/60)","v":0},{"$f":"INT(60*SUM(AB38:AB44)+SUM(AC38:AC44)-60*INT((60*SUM(AB38:AB44)+SUM(AC38:AC44))/60))","v":0},{"$f":"INT((60*SUM(AD38:AD44)+SUM(AE38:AE44)-AE45)/60)","v":0},{"$f":"INT(60*SUM(AD38:AD44)+SUM(AE38:AE44)-60*INT((60*SUM(AD38:AD44)+SUM(AE38:AE44))/60))","v":0},{"$f":"INT((60*SUM(AF38:AF44)+SUM(AG38:AG44)-AG45)/60)","v":0},{"$f":"INT(60*SUM(AF38:AF44)+SUM(AG38:AG44)-60*INT((60*SUM(AF38:AF44)+SUM(AG38:AG44))/60))","v":0},{"$f":"INT((60*SUM(AH38:AH44)+SUM(AI38:AI44)-AI45)/60)","v":0},{"$f":"INT(60*SUM(AH38:AH44)+SUM(AI38:AI44)-60*INT((60*SUM(AH38:AH44)+SUM(AI38:AI44))/60))","v":0},null,{"$f":"INT((60*SUM(AK38:AK44)+SUM(AL38:AL44)-AL45)/60)","v":0},{"$f":"INT(60*SUM(AK38:AK44)+SUM(AL38:AL44)-60*INT((60*SUM(AK38:AK44)+SUM(AL38:AL44))/60))","v":0},null,{"$f":"INT((60*SUM(AN38:AN44)+SUM(AO38:AO44)-AO45)/60)","v":0},{"$f":"INT(60*SUM(AN38:AN44)+SUM(AO38:AO44)-60*INT((60*SUM(AN38:AN44)+SUM(AO38:AO44))/60))","v":0},null,{"$f":"INT((60*SUM(AQ38:AQ44)+SUM(AR38:AR44)-AR45)/60)","v":0},{"$f":"INT(60*SUM(AQ38:AQ44)+SUM(AR38:AR44)-60*INT((60*SUM(AQ38:AQ44)+SUM(AR38:AR44))/60))","v":0},{"$f":"INT((60*SUM(AS38:AS44)+SUM(AT38:AT44)-AT45)/60)","v":0},{"$f":"INT(60*SUM(AS38:AS44)+SUM(AT38:AT44)-60*INT((60*SUM(AS38:AS44)+SUM(AT38:AT44))/60))","v":0},{"$f":"INT((60*SUM(AU38:AU44)+SUM(AV38:AV44)-AV45)/60)","v":0},{"$f":"INT(60*SUM(AU38:AU44)+SUM(AV38:AV44)-60*INT((60*SUM(AU38:AU44)+SUM(AV38:AV44))/60))","v":0},{"$f":"INT((60*SUM(AW38:AW44)+SUM(AX38:AX44)-AX45)/60)","v":0},{"$f":"INT(60*SUM(AW38:AW44)+SUM(AX38:AX44)-60*INT((60*SUM(AW38:AW44)+SUM(AX38:AX44))/60))","v":0},{"$f":"INT((60*SUM(AY38:AY44)+SUM(AZ38:AZ44)-AZ45)/60)","v":0},{"$f":"INT(60*SUM(AY38:AY44)+SUM(AZ38:AZ44)-60*INT((60*SUM(AY38:AY44)+SUM(AZ38:AZ44))/60))","v":0},{"$f":"INT((60*SUM(BA38:BA44)+SUM(BB38:BB44)-BB45)/60)","v":0},{"$f":"INT(60*SUM(BA38:BA44)+SUM(BB38:BB44)-60*INT((60*SUM(BA38:BA44)+SUM(BB38:BB44))/60))","v":0},{"$f":"INT((60*SUM(BC38:BC44)+SUM(BD38:BD44)-BD45)/60)","v":0},{"$f":"INT(60*SUM(BC38:BC44)+SUM(BD38:BD44)-60*INT((60*SUM(BC38:BC44)+SUM(BD38:BD44))/60))","v":0},{"$f":"INT((60*SUM(BE38:BE44)+SUM(BF38:BF44)-BF45)/60)","v":0},{"$f":"INT(60*SUM(BE38:BE44)+SUM(BF38:BF44)-60*INT((60*SUM(BE38:BE44)+SUM(BF38:BF44))/60))","v":0},{"$f":"INT((60*SUM(BG38:BG44)+SUM(BH38:BH44)-BH45)/60)","v":0},{"$f":"INT(60*SUM(BG38:BG44)+SUM(BH38:BH44)-60*INT((60*SUM(BG38:BG44)+SUM(BH38:BH44))/60))","v":0}]
[]
[{"$f":"Einstellungen!$L$30","v":"ab 6 Std. Arbeitszeit: Dauer min."},null,null,null,null,{"$f":"Einstellungen!$Q$30","v":"30 Min"},{"$f":"IF(AND(E11>0,I47<>\"\",U47<>\"f\"),F11,0)","v":0},{"$f":"IF(AND(I47<>\"\",U47<>\"f\"),1,0)","v":0},{"$f":"IF(I44<>\"\",IF(MONTH(I44)=MONTH(I44+1),I44+1,\"\"),\"\")","v":""},"Mo",null,null,null,null,{"$f":"HOUR(N47-K47-(M47-L47))","v":0},{"$f":"MINUTE(N47-K47-(M47-L47))","v":0},null,null,null,null,null,{"$f":"IF(OR(U47=\"U\",U47=\"k\",U47=\"B\"),$C$11,IF(S47>P47,O47-1-R47,O47-R47))","v":0},{"$f":"IF(OR(U47=\"U\",U47=\"k\",U47=\"B\"),$D$11,IF(S47>P47,P47+60-S47,P47-S47))","v":0},{"$f":"IF(OR(U47=\"U\",U47=\"K\",U47=\"B\"),0,V47)","v":0},{"$f":"IF(OR(U47=\"U\",U47=\"K\",U47=\"B\"),0,W47)","v":0},{"$f":"INT(((SUM(AB47,AH47,AK47,AN47,AQ47,AS47,AU47,AW47,AY47,BA47,BC47,BE47,BG47)*100)+(SUM(AC47,AI47,AL47,AO47,AR47,AT47,AV47,AX47,AZ47,BB47,BD47,BF47,BH47)/60*100))/100)","v":0},{"$f":"MOD(((SUM(AC47,AI47,AL47,AO47,AR47,AT47,AV47,AX47,AZ47,BB47,BD47,BF47,BH47)*100)+(SUM(AC47,AI47,AL47,AO47,AR47,AT47,AV47,AX47,AZ47,BB47,BD47,BF47,BH47)/60*100))/100,1)*60","v":0},null,null,{"$f":"INT(((SUM(AH47,AK47,AN47)*100)+SUM(AI47,AL47,AO47)/60*100)/100)","v":0},{"$f":"MOD(((SUM(AI47,AL47,AO47)*100)+(SUM(AI47,AL47,AO47)/60*100))/100,1)*60","v":0},{"$f":"INT(((SUM(AQ47+AS47+AU47+AW47+AY47+BA47+BC47+BE47+BG47)*100)+SUM(AR47+AT47+AV47+AX47+AZ47+BB47+BD47+BF47+BH47)/60*100)/100)","v":0},{"$f":"MOD(((SUM(AR47+AT47+AV47+AX47+AZ47+BB47+BD47+BF47+BH47)*100)+(SUM(AR47+AT47+AV47+AX47+AZ47+BB47+BD47+BF47+BH47)/60*100))/100,1)*60","v":0},null,null,"",null,null,"",null,null,""]
[{"$f":"Einstellungen!$L$31","v":"ab 9 Std. (exklusiv Beamte) min."},null,null,null,null,{"$f":"Einstellungen!$Q$31","v":"45 Min"},{"$f":"IF(AND(E12>0,I48<>\"\",U48<>\"f\"),F12,0)","v":0},{"$f":"IF(AND(I48<>\"\",U48<>\"f\"),1,0)","v":0},{"$f":"IF(I47<>\"\",IF(MONTH(I47)=MONTH(I47+1),I47+1,\"\"),\"\")","v":""},"Di",null,null,null,null,0,0,null,null,null,null,null,{"$f":"IF(OR(U48=\"U\",U48=\"k\",U48=\"B\"),$C$12,IF(S48>P48,O48-1-R48,O48-R48))","v":0},{"$f":"IF(OR(U48=\"U\",U48=\"k\",U48=\"B\"),$D$12,IF(S48>P48,P48+60-S48,P48-S48))","v":0},0,0,0,0,null,null,0,0,0,0,null,null,"",null,null,"",null,null,""]
[{"$f":"Einstellungen!$L$32","v":""},null," ",{"$f":"Einstellungen!$O$32","v":"max."},null,{"$f":"Einstellungen!$Q$32","v":"120 Min"},{"$f":"IF(AND(E13>0,I49<>\"\",U49<>\"f\"),F13,0)","v":0},{"$f":"IF(AND(I49<>\"\",U49<>\"f\"),1,0)","v":0},{"$f":"IF(I48<>\"\",IF(MONTH(I48)=MONTH(I48+1),I48+1,\"\"),\"\")","v":""},"Mi",null,null,null,null,0,0,null,null,null,null,null,{"$f":"IF(OR(U49=\"U\",U49=\"k\",U49=\"B\"),$C$13,IF(S49>P49,O49-1-R49,O49-R49))","v":0},{"$f":"IF(OR(U49=\"U\",U49=\"k\",U49=\"B\"),$D$13,IF(S49>P49,P49+60-S49,P49-S49))","v":0},0,0,0,0,null,null,0,0,0,0,null,null,"",null,null,"",null,null,""]
[{"$f":"Einstellungen!$L$33","v":"tägliche Arbeitszeit  "},null,null,null,null,{"$f":"Einstellungen!$Q$33","v":" 10 Std"},{"$f":"IF(AND(E14>0,I50<>\"\",U50<>\"f\"),F14,0)","v":0},{"$f":"IF(AND(I50<>\"\",U50<>\"f\"),1,0)","v":0},"","Do",null,null,null,null,0,0,null,null,null,null,null,{"$f":"IF(OR(U50=\"U\",U50=\"k\",U50=\"B\"),$C$14,IF(S50>P50,O50-1-R50,O50-R50))","v":0},{"$f":"IF(OR(U50=\"U\",U50=\"k\",U50=\"B\"),$D$14,IF(S50>P50,P50+60-S50,P50-S50))","v":0},0,0,0,0,null,null,0,0,0,0,null,null,"",null,null,"",null,null,""]
[{"$f":"Einstellungen!$L$34","v":"*) beachte § 5 der Dienstvereinbarung vom 17.04.2024 über die Arbeitszeit der Beschäftigten der Universität Hohenheim"},null,null,null,null,null,{"$f":"IF(AND(E15>0,I51<>\"\",U51<>\"f\"),F15,0)","v":0},{"$f":"IF(AND(I51<>\"\",U51<>\"f\"),1,0)","v":0},"","Fr",null,null,null,null,0,0,null,null,null,null,null,{"$f":"IF(OR(U51=\"U\",U51=\"k\",U51=\"B\"),$C$15,IF(S51>P51,O51-1-R51,O51-R51))","v":0},{"$f":"IF(OR(U51=\"U\",U51=\"k\",U51=\"B\"),$D$15,IF(S51>P51,P51+60-S51,P51-S51))","v":0},0,0,0,0,null,null,0,0,0,0,null,null,"",null,null,"",null,null,""]
[null,null,null,null,null,null,null,null,"","Sa",null,null,null,null,0,0,null,null,null,"nur dienstl. Sonderfälle!*",null,{"$f":"IF(S52>P52,O52-1-R52,O52-R52)","v":0},{"$f":"IF(S52>P52,P52+60-S52,P52-S52)","v":0},0,0,0,0,null,null,0,0,0,0,null,null,"",null,null,"",null,null,""]
[null,null,null,null,null,null,null,null,"","So",null,null,null,null,0,0,null,null,null,"nur dienstl. Sonderfälle!*",null,{"$f":"IF(S53>P53,O53-1-R53,O53-R53)","v":0},{"$f":"IF(S53>P53,P53+60-S53,P53-S53)","v":0},0,0,0,0,null,null,0,0,0,0,null,null,"",null,null,"",null,null,""]
[null,null,null,null,null,null,null,null,null,null,null,null,null,null,null,null,null,null,null,null,null,{"$f":"INT((60*SUM(V47:V53)+SUM(W47:W53)-W54)/60)","v":0},{"$f":"INT(60*SUM(V47:V53)+SUM(W47:W53)-60*INT((60*SUM(V47:V53)+SUM(W47:W53))/60))","v":0},{"$f":"INT((60*SUM(X47:X53)+SUM(Y47:Y53)-Y54)/60)","v":0},{"$f":"INT(60*SUM(X47:X53)+SUM(Y47:Y53)-60*INT((60*SUM(X47:X53)+SUM(Y47:Y53))/60))","v":0},{"$f":"INT((60*SUM(Z47:Z53)+SUM(AA47:AA53)-AA54)/60)","v":0},{"$f":"INT(60*SUM(Z47:Z53)+SUM(AA47:AA53)-60*INT((60*SUM(Z47:Z53)+SUM(AA47:AA53))/60))","v":0},{"$f":"INT((60*SUM(AB47:AB53)+SUM(AC47:AC53)-AC54)/60)","v":0},{"$f":"INT(60*SUM(AB47:AB53)+SUM(AC47:AC53)-60*INT((60*SUM(AB47:AB53)+SUM(AC47:AC53))/60))","v":0},{"$f":"INT((60*SUM(AD47:AD53)+SUM(AE47:AE53)-AE54)/60)","v":0},{"$f":"INT(60*SUM(AD47:AD53)+SUM(AE47:AE53)-60*INT((60*SUM(AD47:AD53)+SUM(AE47:AE53))/60))","v":0},{"$f":"INT((60*SUM(AF47:AF53)+SUM(AG47:AG53)-AG54)/60)","v":0},{"$f":"INT(60*SUM(AF47:AF53)+SUM(AG47:AG53)-60*INT((60*SUM(AF47:AF53)+SUM(AG47:AG53))/60))","v":0},{"$f":"INT((60*SUM(AH47:AH53)+SUM(AI47:AI53)-AI54)/60)","v":0},{"$f":"INT(60*SUM(AH47:AH53)+SUM(AI47:AI53)-60*INT((60*SUM(AH47:AH53)+SUM(AI47:AI53))/60))","v":0},null,{"$f":"INT((60*SUM(AK47:AK53)+SUM(AL47:AL53)-AL54)/60)","v":0},{"$f":"INT(60*SUM(AK47:AK53)+SUM(AL47:AL53)-60*INT((60*SUM(AK47:AK53)+SUM(AL47:AL53))/60))","v":0},null,{"$f":"INT((60*SUM(AN47:AN53)+SUM(AO47:AO53)-AO54)/60)","v":0},{"$f":"INT(60*SUM(AN47:AN53)+SUM(AO47:AO53)-60*INT((60*SUM(AN47:AN53)+SUM(AO47:AO53))/60))","v":0},null,{"$f":"INT((60*SUM(AQ47:AQ53)+SUM(AR47:AR53)-AR54)/60)","v":0},{"$f":"INT(60*SUM(AQ47:AQ53)+SUM(AR47:AR53)-60*INT((60*SUM(AQ47:AQ53)+SUM(AR47:AR53))/60))","v":0},{"$f":"INT((60*SUM(AS47:AS53)+SUM(AT47:AT53)-AT54)/60)","v":0},{"$f":"INT(60*SUM(AS47:AS53)+SUM(AT47:AT53)-60*INT((60*SUM(AS47:AS53)+SUM(AT47:AT53))/60))","v":0},{"$f":"INT((60*SUM(AU47:AU53)+SUM(AV47:AV53)-AV54)/60)","v":0},{"$f":"INT(60*SUM(AU47:AU53)+SUM(AV47:AV53)-60*INT((60*SUM(AU47:AU53)+SUM(AV47:AV53))/60))","v":0},{"$f":"INT((60*SUM(AW47:AW53)+SUM(AX47:AX53)-AX54)/60)","v":0},{"$f":"INT(60*SUM(AW47:AW53)+SUM(AX47:AX53)-60*INT((60*SUM(AW47:AW53)+SUM(AX47:AX53))/60))","v":0},{"$f":"INT((60*SUM(AY47:AY53)+SUM(AZ47:AZ53)-AZ54)/60)","v":0},{"$f":"INT(60*SUM(AY47:AY53)+SUM(AZ47:AZ53)-60*INT((60*SUM(AY47:AY53)+SUM(AZ47:AZ53))/60))","v":0},{"$f":"INT((60*SUM(BA47:BA53)+SUM(BB47:BB53)-BB54)/60)","v":0},{"$f":"INT(60*SUM(BA47:BA53)+SUM(BB47:BB53)-60*INT((60*SUM(BA47:BA53)+SUM(BB47:BB53))/60))","v":0},{"$f":"INT((60*SUM(BC47:BC53)+SUM(BD47:BD53)-BD54)/60)","v":0},{"$f":"INT(60*SUM(BC47:BC53)+SUM(BD47:BD53)-60*INT((60*SUM(BC47:BC53)+SUM(BD47:BD53))/60))","v":0},{"$f":"INT((60*SUM(BE47:BE53)+SUM(BF47:BF53)-BF54)/60)","v":0},{"$f":"INT(60*SUM(BE47:BE53)+SUM(BF47:BF53)-60*INT((60*SUM(BE47:BE53)+SUM(BF47:BF53))/60))","v":0},{"$f":"INT((60*SUM(BG47:BG53)+SUM(BH47:BH53)-BH54)/60)","v":0},{"$f":"INT(60*SUM(BG47:BG53)+SUM(BH47:BH53)-60*INT((60*SUM(BG47:BG53)+SUM(BH47:BH53))/60))","v":0}]
[null,null,null,null,null,null,{"$f":"SUM(G5:G53)","v":20},{"$f":"SUM(H5:H53)","v":20},"Februar",null,null,null,null,null,null,{"$f":"Einstellungen!A1","v":2026},null,null,null,null,null,null,null,"Summe:",null,"Summe:",null,"Summe:",null,"Summe:",null,"Summe:",null,{"$f":"INT(((SUM(AH9,AH18,AH27,AH36,AH45,AH54)*100)+(SUM(AI9,AI18,AI27,AI36,AI45,AI54)/60*100))/100)","v":0},{"$f":"MOD(((SUM(AH9,AH18,AH27,AH36,AH45,AH54)*100)+(SUM(AI9,AI18,AI27,AI36,AI45,AI54)/60*100))/100,1)*60","v":0},null,{"$f":"INT(((SUM(AK9,AK18,AK27,AK36,AK45,AK54)*100)+(SUM(AL9,AL18,AL27,AL36,AL45,AL54)/60*100))/100)","v":0},{"$f":"MOD(((SUM(AK9,AK18,AK27,AK36,AK45,AK54)*100)+(SUM(AL9,AL18,AL27,AL36,AL45,AL54)/60*100))/100,1)*60","v":0},null,{"$f":"INT(((SUM(AN9,AN18,AN27,AN36,AN45,AN54)*100)+(SUM(AO9,AO18,AO27,AO36,AO45,AO54)/60*100))/100)","v":0},{"$f":"MOD(((SUM(AN9,AN18,AN27,AN36,AN45,AN54)*100)+(SUM(AO9,AO18,AO27,AO36,AO45,AO54)/60*100))/100,1)*60","v":0},null,{"$f":"INT(((SUM(AQ9,AQ18,AQ27,AQ36,AQ45,AQ54)*100)+(SUM(AR9,AR18,AR27,AR36,AR45,AR54)/60*100))/100)","v":0},{"$f":"MOD(((SUM(AQ9,AQ18,AQ27,AQ36,AQ45,AQ54)*100)+(SUM(AR9,AR18,AR27,AR36,AR45,AR54)/60*100))/100,1)*60","v":0},{"$f":"INT(((SUM(AS9,AS18,AS27,AS36,AS45,AS54)*100)+(SUM(AT9,AT18,AT27,AT36,AT45,AT54)/60*100))/100)","v":0},{"$f":"MOD(((SUM(AS9,AS18,AS27,AS36,AS45,AS54)*100)+(SUM(AT9,AT18,AT27,AT36,AT45,AT54)/60*100))/100,1)*60","v":0},{"$f":"INT(((SUM(AU9,AU18,AU27,AU36,AU45,AU54)*100)+(SUM(AV9,AV18,AV27,AV36,AV45,AV54)/60*100))/100)","v":0},{"$f":"MOD(((SUM(AU9,AU18,AU27,AU36,AU45,AU54)*100)+(SUM(AV9,AV18,AV27,AV36,AV45,AV54)/60*100))/100,1)*60","v":0},{"$f":"INT(((SUM(AW9,AW18,AW27,AW36,AW45,AW54)*100)+(SUM(AX9,AX18,AX27,AX36,AX45,AX54)/60*100))/100)","v":0},{"$f":"MOD(((SUM(AW9,AW18,AW27,AW36,AW45,AW54)*100)+(SUM(AX9,AX18,AX27,AX36,AX45,AX54)/60*100))/100,1)*60","v":0},{"$f":"INT(((SUM(AY9,AY18,AY27,AY36,AY45,AY54)*100)+(SUM(AZ9,AZ18,AZ27,AZ36,AZ45,AZ54)/60*100))/100)","v":0},{"$f":"MOD(((SUM(AY9,AY18,AY27,AY36,AY45,AY54)*100)+(SUM(AZ9,AZ18,AZ27,AZ36,AZ45,AZ54)/60*100))/100,1)*60","v":0},{"$f":"INT(((SUM(BA9,BA18,BA27,BA36,BA45,BA54)*100)+(SUM(BB9,BB18,BB27,BB36,BB45,BB54)/60*100))/100)","v":0},{"$f":"MOD(((SUM(BA9,BA18,BA27,BA36,BA45,BA54)*100)+(SUM(BB9,BB18,BB27,BB36,BB45,BB54)/60*100))/100,1)*60","v":0},{"$f":"INT(((SUM(BC9,BC18,BC27,BC36,BC45,BC54)*100)+(SUM(BD9,BD18,BD27,BD36,BD45,BD54)/60*100))/100)","v":0},{"$f":"MOD(((SUM(BC9,BC18,BC27,BC36,BC45,BC54)*100)+(SUM(BD9,BD18,BD27,BD36,BD45,BD54)/60*100))/100,1)*60","v":0},{"$f":"INT(((SUM(BE9,BE18,BE27,BE36,BE45,BE54)*100)+(SUM(BF9,BF18,BF27,BF36,BF45,BF54)/60*100))/100)","v":0},{"$f":"MOD(((SUM(BE9,BE18,BE27,BE36,BE45,BE54)*100)+(SUM(BF9,BF18,BF27,BF36,BF45,BF54)/60*100))/100,1)*60","v":0},{"$f":"INT(((SUM(BG9,BG18,BG27,BG36,BG45,BG54)*100)+(SUM(BH9,BH18,BH27,BH36,BH45,BH54)/60*100))/100)","v":0},{"$f":"MOD(((SUM(BG9,BG18,BG27,BG36,BG45,BG54)*100)+(SUM(BH9,BH18,BH27,BH36,BH45,BH54)/60*100))/100,1)*60","v":0}]
[null,null,null,null,null,null,null,null,"Abrechnungsmonat",null,null,null,null,null,null,"Jahr",null,null,null,"Monatsarbeitszeit IST",null,{"$f":"INT((60*SUM(V54,V45,V36,V27,V18,V9)+SUM(W54,W45,W36,W27,W18,W9)-W56)/60)","v":0},{"$f":"INT(60*SUM(V54,V45,V36,V27,V18,V9)+SUM(W54,W45,W36,W27,W18,W9)-60*INT((60*SUM(V54,V45,V36,V27,V18,V9)+SUM(W54,W45,W36,W27,W18,W9))/60))","v":0},{"$f":"INT((60*SUM(X54,X45,X36,X27,X18,X9)+SUM(Y54,Y45,Y36,Y27,Y18,Y9)-Y56)/60)","v":0},{"$f":"INT(60*SUM(X54,X45,X36,X27,X18,X9)+SUM(Y54,Y45,Y36,Y27,Y18,Y9)-60*INT((60*SUM(X54,X45,X36,X27,X18,X9)+SUM(Y54,Y45,Y36,Y27,Y18,Y9))/60))","v":0},{"$f":"INT((60*SUM(Z54,Z45,Z36,Z27,Z18,Z9)+SUM(AA54,AA45,AA36,AA27,AA18,AA9)-AA56)/60)","v":0},{"$f":"INT(60*SUM(Z54,Z45,Z36,Z27,Z18,Z9)+SUM(AA54,AA45,AA36,AA27,AA18,AA9)-60*INT((60*SUM(Z54,Z45,Z36,Z27,Z18,Z9)+SUM(AA54,AA45,AA36,AA27,AA18,AA9))/60))","v":0},{"$f":"INT((60*SUM(AB54,AB45,AB36,AB27,AB18,AB9)+SUM(AC54,AC45,AC36,AC27,AC18,AC9)-AC56)/60)","v":0},{"$f":"INT(60*SUM(AB54,AB45,AB36,AB27,AB18,AB9)+SUM(AC54,AC45,AC36,AC27,AC18,AC9)-60*INT((60*SUM(AB54,AB45,AB36,AB27,AB18,AB9)+SUM(AC54,AC45,AC36,AC27,AC18,AC9))/60))","v":0},{"$f":"INT((60*SUM(AD54,AD45,AD36,AD27,AD18,AD9)+SUM(AE54,AE45,AE36,AE27,AE18,AE9)-AE56)/60)","v":0},{"$f":"INT(60*SUM(AD54,AD45,AD36,AD27,AD18,AD9)+SUM(AE54,AE45,AE36,AE27,AE18,AE9)-60*INT((60*SUM(AD54,AD45,AD36,AD27,AD18,AD9)+SUM(AE54,AE45,AE36,AE27,AE18,AE9))/60))","v":0},{"$f":"INT((60*SUM(AF54,AF45,AF36,AF27,AF18,AF9)+SUM(AG54,AG45,AG36,AG27,AG18,AG9)-AG56)/60)","v":0},{"$f":"INT(60*SUM(AF54,AF45,AF36,AF27,AF18,AF9)+SUM(AG54,AG45,AG36,AG27,AG18,AG9)-60*INT((60*SUM(AF54,AF45,AF36,AF27,AF18,AF9)+SUM(AG54,AG45,AG36,AG27,AG18,AG9))/60))","v":0}]
[null,null,null,null,null,null,null,null,{"$f":"Einstellungen!K23","v":"Franziska von Hohenheim"},null,null,null,null,null,null,null,null,null,null,"Übertrag aus Vormonat (+/-)",{"$f":"IF(V57*W57<0,\"!\",\"\")","v":""},{"$f":"ROUND(Jan!V60,0)","v":-158},{"$f":"ROUND(Jan!W60,0)","v":0}]
[null,null,null,null,null,null,null,null,"Name, Vorname",null,null,null,null,null,null,null,"Datum",null,null,"Summe",null,{"$f":"ROUND(SIGN(V56+V57+(W56+W57)/60)*ROUNDDOWN(ABS(V56+V57+(W56+W57)/60),0),0)","v":-158},{"$f":"ROUND(SIGN(V56+V57+(W56+W57)/60)*(ABS(V56+V57+(W56+W57)/60)-ABS(V58))*60,0)","v":0}]
[null,null,null,null,null,null,null,null,{"$f":"Einstellungen!$K$25","v":"630"},null,{"$f":"Einstellungen!K24","v":"KIM"},null,null,null,null,null,null,null,null,"Monatsarbeitszeit SOLL",null,{"$f":"SUM(Einstellungen!B4)","v":158},{"$f":"SUM(Einstellungen!C4)","v":0}]
[null,null,null,null,null,null,null,null,"Einr.-Nr.",null,"Abt. / FG",null,null,null,null,null,"Name Leiter/in",null,null,"Zeitübertrag auf Folgemonat",{"$f":"IF(V60*W60<0,\"!\",\"\")","v":""},{"$f":"ROUND(SIGN(V58-V59+(W58-W59)/60)*ROUNDDOWN(ABS(V58-V59+(W58-W59)/60),0),0)","v":-316},{"$f":"ROUND(SIGN(V58-V59+(W58-W59)/60)*(ABS(V58-V59+(W58-W59)/60)-ABS(V60))*60,0)","v":0}]
[]
[null,null,null,null,null,null,null,null,null,null,null,null,null,null,null,null,null,null,null,"Summe Urlaubstage",null,{"$f":"SUMPRODUCT((U5:U6=\"U\")*(E14:E15>0))+SUMPRODUCT((U11:U15=\"U\")*(E11:E15>0))+SUMPRODUCT((U20:U24=\"U\")*(E11:E15>0))+SUMPRODUCT((U29:U33=\"U\")*(E11:E15>0))+SUMPRODUCT((U38:U42=\"U\")*(E11:E15>0))+SUMPRODUCT((U47:U51=\"U\")*(E11:E15>0))","v":0}]
[null,null,null,null,null,null,null,null,"Datum",null,"Unterschrift Mitarbeiter/in",null,null,null,null,null,"Unterschrift Leiter/in",null,null,"alter / neuer Übertrag",null,{"$f":"IF(SUM(Einstellungen!K27:K30)>0,Jan!W63,\"--- \")","v":30},{"$f":"IF(SUM(Einstellungen!K27:K30)>0,V63-V62,\"--- \")","v":30}]

{"sheet":"März","index":2,"n_rows":63,"n_cols":60,"rows_kept":63,"cut":false,"hidden":true,"merged":[[0,31,0,32],[0,23,0,24],[0,25,0,26],[0,27,0,28],[0,29,0,30],[1,23,1,24],[1,25,1,26],[37,0,37,1],[38,0,38,2],[2,23,2,24],[2,25,2,26],[28,0,28,1],[29,0,29,1],[30,0,30,2],[35,0,35,1],[7,0,7,3],[39,0,39,1],[46,0,46,3],[47,0,47,3],[49,0,49,3],[54,23,54,24],[50,0,52,5],[40,3,40,5],[41,3,41,5],[44,3,44,5],[61,21,61,22],[63,25,63,26],[54,27,54,28],[54,29,54,30],[54,31,54,32],[54,25,54,26],[0,42,2,43],[0,44,2,45],[0,46,2,47],[0,33,2,35],[0,36,2,38],[0,39,2,41],[0,58,2,59],[0,48,2,49],[0,50,2,51],[0,52,2,53],[0,54,2,55],[0,56,2,57]]}
[{"$f":"Einstellungen!A27","v":"Universität Hohenheim KIM © 2026"},null,null,null,null,null,null,null,"Datum",null,"Arbeits-",null,null,"Arbeits-","Arb.Zeit ohne",null,"Sonstige Unterbrechungen",null,null,"Erläuterungen, Hinweise,","U,K","Reine Arb.-",null,"Productive",null,"Productive",null,"Sonstiges",null,"Summe ",null,"Summe",null,{"$f":"Projektdaten!D4","v":"EU Projekt 1"},null,null,{"$f":"Projektdaten!D6","v":"EU Projekt 2"},null,null,{"$f":"Projektdaten!D8","v":"EU Projekt 3"},null,null,{"$f":"Projektdaten!D13","v":"Projekt 1"},null,{"$f":"Projektdaten!D15","v":"Projekt 2"},null,{"$f":"Projektdaten!D17","v":"Projekt 3"},null,{"$f":"Projektdaten!D19","v":"Projekt 4"},null,{"$f":"Projektdaten!D21","v":"Projekt 5"},null,{"$f":"Projektdaten!D23","v":"Projekt 6"},null,{"$f":"Projektdaten!D25","v":"Projekt 7"},null,{"$f":"Projektdaten!D27","v":"Projekt 8"},null,{"$f":"Projektdaten!D29","v":"Projekt 9"}]
["Arbeitszeitblatt",null,null,{"$f":"Einstellungen!A28","v":"Version 5.12"},null,null,null,null,"Tag","Wo-","beginn","Mittagspause",null,"ende","Mittagspause",null,"von - bis","Gesamtdauer",null,"Vermerke, z.B. Dienstreise","F,X","Zeit","IST","Hours",null,"Hours",null,null,null,"EU-",null,"andere"]
[null,null,null,null,null,null,null,null,null,"tag",null,"von","bis",null,"Std.","Min.",null,"Std.","Min.","  - non eligible -","A,B","Std.","Min.","i.S.d. EU",null,"verteilt",null,null," ","Projekte",null,"Projekte"]
[null,null,null,null,null,null,null,null,null,null,null,null,null,null,null,null,null,null,null,null,null,null,null,"Std.","Min.","Std.","Min.","Std.","Min.","Std.","Min.","Std.","Min.","Std.","Min.","Geleistete Arbeitspakete nach Annex 1","Std.","Min.","Geleistete Arbeitspakete nach Annex 1","Std.","Min.","Geleistete Arbeitspakete nach Annex 1","Std.","Min.","Std.","Min.","Std.","Min.","Std.","Min.","Std.","Min.","Std.","Min.","Std.","Min.","Std.","Min.","Std.","Min."]
[null,null,null,null,null,"U",{"$f":"IF(AND(E14>0,I5<>\"\",U5<>\"f\"),1,0)","v":0},{"$f":"IF(AND(I5<>\"\",U5<>\"f\"),1,0)","v":0},{"$f":"IF(CHOOSE(WEEKDAY(Einstellungen!$A$5,2),\"Mo\",\"Di\",\"Mi\",\"Do\",\"Fr\",\"Sa\",\"So\")=J5,Einstellungen!$A$5,\"\")","v":""},"Do",null,null,null,null,{"$f":"HOUR(N5-K5-(M5-L5))","v":0},{"$f":"MINUTE(N5-K5-(M5-L5))","v":0},null,null,null,null,null,{"$f":"IF(OR(U5=\"U\",U5=\"k\",U5=\"B\"),$C$14,IF(S5>P5,O5-1-R5,O5-R5))","v":0},{"$f":"IF(OR(U5=\"U\",U5=\"k\",U5=\"B\"),$D$14,IF(S5>P5,P5+60-S5,P5-S5))","v":0},{"$f":"IF(OR(U5=\"U\",U5=\"K\",U5=\"B\"),0,V5)","v":0},{"$f":"IF(OR(U5=\"U\",U5=\"K\",U5=\"B\"),0,W5)","v":0},{"$f":"INT(((SUM(AB5,AH5,AK5,AN5,AQ5,AS5,AU5,AW5,AY5,BA5,BC5,BE5,BG5)*100)+(SUM(AC5,AI5,AL5,AO5,AR5,AT5,AV5,AX5,AZ5,BB5,BD5,BF5,BH5)/60*100))/100)","v":0},{"$f":"MOD(((SUM(AC5,AI5,AL5,AO5,AR5,AT5,AV5,AX5,AZ5,BB5,BD5,BF5,BH5)*100)+(SUM(AC5,AI5,AL5,AO5,AR5,AT5,AV5,AX5,AZ5,BB5,BD5,BF5,BH5)/60*100))/100,1)*60","v":0},null,null,{"$f":"INT(((SUM(AH5,AK5,AN5)*100)+SUM(AI5,AL5,AO5)/60*100)/100)","v":0},{"$f":"MOD(((SUM(AI5,AL5,AO5)*100)+(SUM(AI5,AL5,AO5)/60*100))/100,1)*60","v":0},{"$f":"INT(((SUM(AQ5+AS5+AU5+AW5+AY5+BA5+BC5+BE5+BG5)*100)+SUM(AR5+AT5+AV5+AX5+AZ5+BB5+BD5+BF5+BH5)/60*100)/100)","v":0},{"$f":"MOD(((SUM(AR5+AT5+AV5+AX5+AZ5+BB5+BD5+BF5+BH5)*100)+(SUM(AR5+AT5+AV5+AX5+AZ5+BB5+BD5+BF5+BH5)/60*100))/100,1)*60","v":0},null,null,"",null,null,"",null,null,""]
[null,null,null,null,null,"K",{"$f":"IF(AND(E15>0,I6<>\"\",U6<>\"f\"),F14,0)","v":0},{"$f":"IF(AND(I6<>\"\",U6<>\"f\"),1,0)","v":0},{"$f":"IF(I5<>\"\",I5+1,IF(CHOOSE(WEEKDAY(Einstellungen!$A$5,2),\"Mo\",\"Di\",\"Mi\",\"Do\",\"Fr\",\"Sa\",\"So\")=J6,Einstellungen!$A$5,\"\"))","v":""},"Fr",null,null,null,null,{"$f":"HOUR(N6-K6-(M6-L6))","v":0},{"$f":"MINUTE(N6-K6-(M6-L6))","v":0},null,null,null,null,null,{"$f":"IF(OR(U6=\"U\",U6=\"k\",U6=\"B\"),$C$15,IF(S6>P6,O6-1-R6,O6-R6))","v":0},{"$f":"IF(OR(U6=\"U\",U6=\"k\",U6=\"B\"),$D$15,IF(S6>P6,P6+60-S6,P6-S6))","v":0},{"$f":"IF(OR(U6=\"U\",U6=\"K\",U6=\"B\"),0,V6)","v":0},{"$f":"IF(OR(U6=\"U\",U6=\"K\",U6=\"B\"),0,W6)","v":0},{"$f":"INT(((SUM(AB6,AH6,AK6,AN6,AQ6,AS6,AU6,AW6,AY6,BA6,BC6,BE6,BG6)*100)+(SUM(AC6,AI6,AL6,AO6,AR6,AT6,AV6,AX6,AZ6,BB6,BD6,BF6,BH6)/60*100))/100)","v":0},{"$f":"MOD(((SUM(AC6,AI6,AL6,AO6,AR6,AT6,AV6,AX6,AZ6,BB6,BD6,BF6,BH6)*100)+(SUM(AC6,AI6,AL6,AO6,AR6,AT6,AV6,AX6,AZ6,BB6,BD6,BF6,BH6)/60*100))/100,1)*60","v":0},null,null,{"$f":"INT(((SUM(AH6,AK6,AN6)*100)+SUM(AI6,AL6,AO6)/60*100)/100)","v":0},{"$f":"MOD(((SUM(AI6,AL6,AO6)*100)+(SUM(AI6,AL6,AO6)/60*100))/100,1)*60","v":0},{"$f":"INT(((SUM(AQ6+AS6+AU6+AW6+AY6+BA6+BC6+BE6+BG6)*100)+SUM(AR6+AT6+AV6+AX6+AZ6+BB6+BD6+BF6+BH6)/60*100)/100)","v":0},{"$f":"MOD(((SUM(AR6+AT6+AV6+AX6+AZ6+BB6+BD6+BF6+BH6)*100)+(SUM(AR6+AT6+AV6+AX6+AZ6+BB6+BD6+BF6+BH6)/60*100))/100,1)*60","v":0},null,null,"",null,null,"",null,null,""]
[null,null,null,null,null,"A",{"$f":"IF(AND(E16>0,I7<>\"\",U7<>\"f\"),F15,0)","v":0},null,{"$f":"IF(I6<>\"\",I6+1,IF(CHOOSE(WEEKDAY(Einstellungen!$A$5,2),\"Mo\",\"Di\",\"Mi\",\"Do\",\"Fr\",\"Sa\",\"So\")=J7,Einstellungen!$A$5,\"\"))","v":""},"Sa",null,null,null,null,{"$f":"HOUR(N7-K7-(M7-L7))","v":0},{"$f":"MINUTE(N7-K7-(M7-L7))","v":0},null,null,null,"nur dienstl. Sonderfälle!*",null,{"$f":"IF(S7>P7,O7-1-R7,O7-R7)","v":0},{"$f":"IF(S7>P7,P7+60-S7,P7-S7)","v":0},0,0,{"$f":"INT(((SUM(AB7,AH7,AK7,AN7,AQ7,AS7,AU7,AW7,AY7,BA7,BC7,BE7,BG7)*100)+(SUM(AC7,AI7,AL7,AO7,AR7,AT7,AV7,AX7,AZ7,BB7,BD7,BF7,BH7)/60*100))/100)","v":0},{"$f":"MOD(((SUM(AC7,AI7,AL7,AO7,AR7,AT7,AV7,AX7,AZ7,BB7,BD7,BF7,BH7)*100)+(SUM(AC7,AI7,AL7,AO7,AR7,AT7,AV7,AX7,AZ7,BB7,BD7,BF7,BH7)/60*100))/100,1)*60","v":0},null,null,{"$f":"INT(((SUM(AH7,AK7,AN7)*100)+SUM(AI7,AL7,AO7)/60*100)/100)","v":0},{"$f":"MOD(((SUM(AI7,AL7,AO7)*100)+(SUM(AI7,AL7,AO7)/60*100))/100,1)*60","v":0},{"$f":"INT(((SUM(AQ7+AS7+AU7+AW7+AY7+BA7+BC7+BE7+BG7)*100)+SUM(AR7+AT7+AV7+AX7+AZ7+BB7+BD7+BF7+BH7)/60*100)/100)","v":0},{"$f":"MOD(((SUM(AR7+AT7+AV7+AX7+AZ7+BB7+BD7+BF7+BH7)*100)+(SUM(AR7+AT7+AV7+AX7+AZ7+BB7+BD7+BF7+BH7)/60*100))/100,1)*60","v":0},null,null,"",null,null,"",null,null,""]
[{"$f":"IF(Einstellungen!D25>0.0005,\"Bitte Werte prüfen\",\"\")","v":""},null,null,null,null,"B",null,null,{"$f":"IF(I7<>\"\",I7+1,IF(CHOOSE(WEEKDAY(Einstellungen!$A$5,2),\"Mo\",\"Di\",\"Mi\",\"Do\",\"Fr\",\"Sa\",\"So\")=J8,Einstellungen!$A$5,\"\"))","v":"2026-03-01"},"So",null,null,null,null,{"$f":"HOUR(N8-K8-(M8-L8))","v":0},{"$f":"MINUTE(N8-K8-(M8-L8))","v":0},null,null,null,"nur dienstl. Sonderfälle!*",null,{"$f":"IF(S8>P8,O8-1-R8,O8-R8)","v":0},{"$f":"IF(S8>P8,P8+60-S8,P8-S8)","v":0},0,0,{"$f":"INT(((SUM(AB8,AH8,AK8,AN8,AQ8,AS8,AU8,AW8,AY8,BA8,BC8,BE8,BG8)*100)+(SUM(AC8,AI8,AL8,AO8,AR8,AT8,AV8,AX8,AZ8,BB8,BD8,BF8,BH8)/60*100))/100)","v":0},{"$f":"MOD(((SUM(AC8,AI8,AL8,AO8,AR8,AT8,AV8,AX8,AZ8,BB8,BD8,BF8,BH8)*100)+(SUM(AC8,AI8,AL8,AO8,AR8,AT8,AV8,AX8,AZ8,BB8,BD8,BF8,BH8)/60*100))/100,1)*60","v":0},null,null,{"$f":"INT(((SUM(AH8,AK8,AN8)*100)+SUM(AI8,AL8,AO8)/60*100)/100)","v":0},{"$f":"MOD(((SUM(AI8,AL8,AO8)*100)+(SUM(AI8,AL8,AO8)/60*100))/100,1)*60","v":0},{"$f":"INT(((SUM(AQ8+AS8+AU8+AW8+AY8+BA8+BC8+BE8+BG8)*100)+SUM(AR8+AT8+AV8+AX8+AZ8+BB8+BD8+BF8+BH8)/60*100)/100)","v":0},{"$f":"MOD(((SUM(AR8+AT8+AV8+AX8+AZ8+BB8+BD8+BF8+BH8)*100)+(SUM(AR8+AT8+AV8+AX8+AZ8+BB8+BD8+BF8+BH8)/60*100))/100,1)*60","v":0},null,null,"",null,null,"",null,null,""]
["Meine tägl. Regelarbeitszeit:",null,null,null,null,"X",null,null,null,null,null,null,null,null,null,null,null,null,null,null,null,{"$f":"INT((60*SUM(V5:V8)+SUM(W5:W8)-W9)/60)","v":0},{"$f":"INT(60*SUM(V5:V8)+SUM(W5:W8)-60*INT((60*SUM(V5:V8)+SUM(W5:W8))/60))","v":0},{"$f":"INT((60*SUM(X5:X8)+SUM(Y5:Y8)-Y9)/60)","v":0},{"$f":"INT(60*SUM(X5:X8)+SUM(Y5:Y8)-60*INT((60*SUM(X5:X8)+SUM(Y5:Y8))/60))","v":0},{"$f":"INT((60*SUM(Z5:Z8)+SUM(AA5:AA8)-AA9)/60)","v":0},{"$f":"INT(60*SUM(Z5:Z8)+SUM(AA5:AA8)-60*INT((60*SUM(Z5:Z8)+SUM(AA5:AA8))/60))","v":0},{"$f":"INT((60*SUM(AB5:AB8)+SUM(AC5:AC8)-AC9)/60)","v":0},{"$f":"INT(60*SUM(AB5:AB8)+SUM(AC5:AC8)-60*INT((60*SUM(AB5:AB8)+SUM(AC5:AC8))/60))","v":0},{"$f":"INT((60*SUM(AD5:AD8)+SUM(AE5:AE8)-AE9)/60)","v":0},{"$f":"INT(60*SUM(AD5:AD8)+SUM(AE5:AE8)-60*INT((60*SUM(AD5:AD8)+SUM(AE5:AE8))/60))","v":0},{"$f":"INT((60*SUM(AF5:AF8)+SUM(AG5:AG8)-AG9)/60)","v":0},{"$f":"INT(60*SUM(AF5:AF8)+SUM(AG5:AG8)-60*INT((60*SUM(AF5:AF8)+SUM(AG5:AG8))/60))","v":0},{"$f":"INT((60*SUM(AH5:AH8)+SUM(AI5:AI8)-AI9)/60)","v":0},{"$f":"INT(60*SUM(AH5:AH8)+SUM(AI5:AI8)-60*INT((60*SUM(AH5:AH8)+SUM(AI5:AI8))/60))","v":0},null,{"$f":"INT((60*SUM(AK5:AK8)+SUM(AL5:AL8)-AL9)/60)","v":0},{"$f":"INT(60*SUM(AK5:AK8)+SUM(AL5:AL8)-60*INT((60*SUM(AK5:AK8)+SUM(AL5:AL8))/60))","v":0},null,{"$f":"INT((60*SUM(AN5:AN8)+SUM(AO5:AO8)-AO9)/60)","v":0},{"$f":"INT(60*SUM(AN5:AN8)+SUM(AO5:AO8)-60*INT((60*SUM(AN5:AN8)+SUM(AO5:AO8))/60))","v":0},null,{"$f":"INT((60*SUM(AQ5:AQ8)+SUM(AR5:AR8)-AR9)/60)","v":0},{"$f":"INT(60*SUM(AQ5:AQ8)+SUM(AR5:AR8)-60*INT((60*SUM(AQ5:AQ8)+SUM(AR5:AR8))/60))","v":0},{"$f":"INT((60*SUM(AS5:AS8)+SUM(AT5:AT8)-AT9)/60)","v":0},{"$f":"INT(60*SUM(AS5:AS8)+SUM(AT5:AT8)-60*INT((60*SUM(AS5:AS8)+SUM(AT5:AT8))/60))","v":0},{"$f":"INT((60*SUM(AU5:AU8)+SUM(AV5:AV8)-AV9)/60)","v":0},{"$f":"INT(60*SUM(AU5:AU8)+SUM(AV5:AV8)-60*INT((60*SUM(AU5:AU8)+SUM(AV5:AV8))/60))","v":0},{"$f":"INT((60*SUM(AW5:AW8)+SUM(AX5:AX8)-AX9)/60)","v":0},{"$f":"INT(60*SUM(AW5:AW8)+SUM(AX5:AX8)-60*INT((60*SUM(AW5:AW8)+SUM(AX5:AX8))/60))","v":0},{"$f":"INT((60*SUM(AY5:AY8)+SUM(AZ5:AZ8)-AZ9)/60)","v":0},{"$f":"INT(60*SUM(AY5:AY8)+SUM(AZ5:AZ8)-60*INT((60*SUM(AY5:AY8)+SUM(AZ5:AZ8))/60))","v":0},{"$f":"INT((60*SUM(BA5:BA8)+SUM(BB5:BB8)-BB9)/60)","v":0},{"$f":"INT(60*SUM(BA5:BA8)+SUM(BB5:BB8)-60*INT((60*SUM(BA5:BA8)+SUM(BB5:BB8))/60))","v":0},{"$f":"INT((60*SUM(BC5:BC8)+SUM(BD5:BD8)-BD9)/60)","v":0},{"$f":"INT(60*SUM(BC5:BC8)+SUM(BD5:BD8)-60*INT((60*SUM(BC5:BC8)+SUM(BD5:BD8))/60))","v":0},{"$f":"INT((60*SUM(BE5:BE8)+SUM(BF5:BF8)-BF9)/60)","v":0},{"$f":"INT(60*SUM(BE5:BE8)+SUM(BF5:BF8)-60*INT((60*SUM(BE5:BE8)+SUM(BF5:BF8))/60))","v":0},{"$f":"INT((60*SUM(BG5:BG8)+SUM(BH5:BH8)-BH9)/60)","v":0},{"$f":"INT(60*SUM(BG5:BG8)+SUM(BH5:BH8)-60*INT((60*SUM(BG5:BG8)+SUM(BH5:BH8))/60))","v":0}]
[null,null,null,null,{"$f":"5-COUNTIF(E11:E15,0)","v":5},{"$f":"(SUM(C11:C15)*60+SUM(D11:D15))/E10","v":474}]
["Mo",{"$f":"IF(E11=0,\"frei\",\"\")","v":""},{"$f":"SUM(Einstellungen!C19)","v":7},{"$f":"SUM(Einstellungen!D19)","v":54},{"$f":"C11*60+D11","v":474},{"$f":"E11/$F$10","v":1},{"$f":"IF(AND(E11>0,I11<>\"\",U11<>\"f\"),F11,0)","v":1},{"$f":"IF(AND(I11<>\"\",U11<>\"f\"),1,0)","v":1},{"$f":"IF(I8<>\"\",I8+1,IF(CHOOSE(WEEKDAY(Einstellungen!$A$5,2),\"Mo\",\"Di\",\"Mi\",\"Do\",\"Fr\",\"Sa\",\"So\")=J11,Einstellungen!$A$5,\"\"))","v":"2026-03-02"},"Mo",null,null,null,null,{"$f":"HOUR(N11-K11-(M11-L11))","v":0},{"$f":"MINUTE(N11-K11-(M11-L11))","v":0},null,null,null,null,null,{"$f":"IF(OR(U11=\"U\",U11=\"k\",U11=\"B\"),$C$11,IF(S11>P11,O11-1-R11,O11-R11))","v":0},{"$f":"IF(OR(U11=\"U\",U11=\"k\",U11=\"B\"),$D$11,IF(S11>P11,P11+60-S11,P11-S11))","v":0},{"$f":"IF(OR(U11=\"U\",U11=\"K\",U11=\"B\"),0,V11)","v":0},{"$f":"IF(OR(U11=\"U\",U11=\"K\",U11=\"B\"),0,W11)","v":0},{"$f":"INT(((SUM(AB11,AH11,AK11,AN11,AQ11,AS11,AU11,AW11,AY11,BA11,BC11,BE11,BG11)*100)+(SUM(AC11,AI11,AL11,AO11,AR11,AT11,AV11,AX11,AZ11,BB11,BD11,BF11,BH11)/60*100))/100)","v":0},{"$f":"MOD(((SUM(AC11,AI11,AL11,AO11,AR11,AT11,AV11,AX11,AZ11,BB11,BD11,BF11,BH11)*100)+(SUM(AC11,AI11,AL11,AO11,AR11,AT11,AV11,AX11,AZ11,BB11,BD11,BF11,BH11)/60*100))/100,1)*60","v":0},null,null,{"$f":"INT(((SUM(AH11,AK11,AN11)*100)+SUM(AI11,AL11,AO11)/60*100)/100)","v":0},{"$f":"MOD(((SUM(AI11,AL11,AO11)*100)+(SUM(AI11,AL11,AO11)/60*100))/100,1)*60","v":0},{"$f":"INT(((SUM(AQ11+AS11+AU11+AW11+AY11+BA11+BC11+BE11+BG11)*100)+SUM(AR11+AT11+AV11+AX11+AZ11+BB11+BD11+BF11+BH11)/60*100)/100)","v":0},{"$f":"MOD(((SUM(AR11+AT11+AV11+AX11+AZ11+BB11+BD11+BF11+BH11)*100)+(SUM(AR11+AT11+AV11+AX11+AZ11+BB11+BD11+BF11+BH11)/60*100))/100,1)*60","v":0},null,null,"",null,null,"",null,null,""]
["Di",{"$f":"IF(E12=0,\"frei\",\"\")","v":""},{"$f":"SUM(Einstellungen!C20)","v":7},{"$f":"SUM(Einstellungen!D20)","v":54},{"$f":"C12*60+D12","v":474},{"$f":"E12/$F$10","v":1},{"$f":"IF(AND(E12>0,I12<>\"\",U12<>\"f\"),F12,0)","v":1},{"$f":"IF(AND(I12<>\"\",U12<>\"f\"),1,0)","v":1},{"$f":"IF(I11<>\"\",I11+1,IF(CHOOSE(WEEKDAY(Einstellungen!$A$5,2),\"Mo\",\"Di\",\"Mi\",\"Do\",\"Fr\",\"Sa\",\"So\")=J12,Einstellungen!$A$5,\"\"))","v":"2026-03-03"},"Di",null,null,null,null,0,0,null,null,null,null,null,{"$f":"IF(OR(U12=\"U\",U12=\"k\",U12=\"B\"),$C$12,IF(S12>P12,O12-1-R12,O12-R12))","v":0},{"$f":"IF(OR(U12=\"U\",U12=\"k\",U12=\"B\"),$D$12,IF(S12>P12,P12+60-S12,P12-S12))","v":0},0,0,0,0,null,null,0,0,0,0,null,null,"",null,null,"",null,null,""]
["Mi",{"$f":"IF(E13=0,\"frei\",\"\")","v":""},{"$f":"SUM(Einstellungen!C21)","v":7},{"$f":"SUM(Einstellungen!D21)","v":54},{"$f":"C13*60+D13","v":474},{"$f":"E13/$F$10","v":1},{"$f":"IF(AND(E13>0,I13<>\"\",U13<>\"f\"),F13,0)","v":1},{"$f":"IF(AND(I13<>\"\",U13<>\"f\"),1,0)","v":1},{"$f":"IF(I12<>\"\",I12+1,IF(CHOOSE(WEEKDAY(Einstellungen!$A$5,2),\"Mo\",\"Di\",\"Mi\",\"Do\",\"Fr\",\"Sa\",\"So\")=J13,Einstellungen!$A$5,\"\"))","v":"2026-03-04"},"Mi",null,null,null,null,0,0,null,null,null,null,null,{"$f":"IF(OR(U13=\"U\",U13=\"k\",U13=\"B\"),$C$13,IF(S13>P13,O13-1-R13,O13-R13))","v":0},{"$f":"IF(OR(U13=\"U\",U13=\"k\",U13=\"B\"),$D$13,IF(S13>P13,P13+60-S13,P13-S13))","v":0},0,0,0,0,null,null,0,0,0,0,null,null,"",null,null,"",null,null,""]
["Do",{"$f":"IF(E14=0,\"frei\",\"\")","v":""},{"$f":"SUM(Einstellungen!C22)","v":7},{"$f":"SUM(Einstellungen!D22)","v":54},{"$f":"C14*60+D14","v":474},{"$f":"E14/$F$10","v":1},{"$f":"IF(AND(E14>0,I14<>\"\",U14<>\"f\"),F14,0)","v":1},{"$f":"IF(AND(I14<>\"\",U14<>\"f\"),1,0)","v":1},{"$f":"IF(I13<>\"\",I13+1,IF(CHOOSE(WEEKDAY(Einstellungen!$A$5,2),\"Mo\",\"Di\",\"Mi\",\"Do\",\"Fr\",\"Sa\",\"So\")=J14,Einstellungen!$A$5,\"\"))","v":"2026-03-05"},"Do",null,null,null,null,0,0,null,null,null,null,null,{"$f":"IF(OR(U14=\"U\",U14=\"k\",U14=\"B\"),$C$14,IF(S14>P14,O14-1-R14,O14-R14))","v":0},{"$f":"IF(OR(U14=\"U\",U14=\"k\",U14=\"B\"),$D$14,IF(S14>P14,P14+60-S14,P14-S14))","v":0},0,0,0,0,null,null,0,0,0,0,null,null,"",null,null,"",null,null,""]
["Fr",{"$f":"IF(E15=0,\"frei\",\"\")","v":""},{"$f":"SUM(Einstellungen!C23)","v":7},{"$f":"SUM(Einstellungen!D23)","v":54},{"$f":"C15*60+D15","v":474},{"$f":"E15/$F$10","v":1},{"$f":"IF(AND(E15>0,I15<>\"\",U15<>\"f\"),F15,0)","v":1},{"$f":"IF(AND(I15<>\"\",U15<>\"f\"),1,0)","v":1},{"$f":"I14+1","v":"2026-03-06"},"Fr",null,null,null,null,0,0,null,null,null,null,null,{"$f":"IF(OR(U15=\"U\",U15=\"k\",U15=\"B\"),$C$15,IF(S15>P15,O15-1-R15,O15-R15))","v":0},{"$f":"IF(OR(U15=\"U\",U15=\"k\",U15=\"B\"),$D$15,IF(S15>P15,P15+60-S15,P15-S15))","v":0},0,0,0,0,null,null,0,0,0,0,null,null,"",null,null,"",null,null,""]
[{"$f":"Einstellungen!$L$1","v":"Hinweise:"},null,null,null,null,null,null,null,{"$f":"I15+1","v":"2026-03-07"},"Sa",null,null,null,null,0,0,null,null,null,"nur dienstl. Sonderfälle!*",null,{"$f":"IF(S16>P16,O16-1-R16,O16-R16)","v":0},{"$f":"IF(S16>P16,P16+60-S16,P16-S16)","v":0},0,0,0,0,null,null,0,0,0,0,null,null,"",null,null,"",null,null,""]
[{"$f":"Einstellungen!$L$2","v":"I Beschäftigte mit 39,5 Std-Woche"},null,null,null,null,null,null,null,{"$f":"I16+1","v":"2026-03-08"},"So",null,null,null,null,0,0,null,null,null,"nur dienstl. Sonderfälle!*",null,{"$f":"IF(S17>P17,O17-1-R17,O17-R17)","v":0},{"$f":"IF(S17>P17,P17+60-S17,P17-S17)","v":0},0,0,0,0,null,null,0,0,0,0,null,null,"",null,null,"",null,null,""]
[{"$f":"Einstellungen!$L$3","v":""},null,{"$f":"Einstellungen!$N$3","v":"Beschäftigungsumfang"},null,null,null,null,null,null,null,null,null,null,null,null,null,null,null,null,null,null,{"$f":"INT((60*SUM(V11:V17)+SUM(W11:W17)-W18)/60)","v":0},{"$f":"INT(60*SUM(V11:V17)+SUM(W11:W17)-60*INT((60*SUM(V11:V17)+SUM(W11:W17))/60))","v":0},{"$f":"INT((60*SUM(X11:X17)+SUM(Y11:Y17)-Y18)/60)","v":0},{"$f":"INT(60*SUM(X11:X17)+SUM(Y11:Y17)-60*INT((60*SUM(X11:X17)+SUM(Y11:Y17))/60))","v":0},{"$f":"INT((60*SUM(Z11:Z17)+SUM(AA11:AA17)-AA18)/60)","v":0},{"$f":"INT(60*SUM(Z11:Z17)+SUM(AA11:AA17)-60*INT((60*SUM(Z11:Z17)+SUM(AA11:AA17))/60))","v":0},{"$f":"INT((60*SUM(AB11:AB17)+SUM(AC11:AC17)-AC18)/60)","v":0},{"$f":"INT(60*SUM(AB11:AB17)+SUM(AC11:AC17)-60*INT((60*SUM(AB11:AB17)+SUM(AC11:AC17))/60))","v":0},{"$f":"INT((60*SUM(AD11:AD17)+SUM(AE11:AE17)-AE18)/60)","v":0},{"$f":"INT(60*SUM(AD11:AD17)+SUM(AE11:AE17)-60*INT((60*SUM(AD11:AD17)+SUM(AE11:AE17))/60))","v":0},{"$f":"INT((60*SUM(AF11:AF17)+SUM(AG11:AG17)-AG18)/60)","v":0},{"$f":"INT(60*SUM(AF11:AF17)+SUM(AG11:AG17)-60*INT((60*SUM(AF11:AF17)+SUM(AG11:AG17))/60))","v":0},{"$f":"INT((60*SUM(AH11:AH17)+SUM(AI11:AI17)-AI18)/60)","v":0},{"$f":"INT(60*SUM(AH11:AH17)+SUM(AI11:AI17)-60*INT((60*SUM(AH11:AH17)+SUM(AI11:AI17))/60))","v":0},null,{"$f":"INT((60*SUM(AK11:AK17)+SUM(AL11:AL17)-AL18)/60)","v":0},{"$f":"INT(60*SUM(AK11:AK17)+SUM(AL11:AL17)-60*INT((60*SUM(AK11:AK17)+SUM(AL11:AL17))/60))","v":0},null,{"$f":"INT((60*SUM(AN11:AN17)+SUM(AO11:AO17)-AO18)/60)","v":0},{"$f":"INT(60*SUM(AN11:AN17)+SUM(AO11:AO17)-60*INT((60*SUM(AN11:AN17)+SUM(AO11:AO17))/60))","v":0},null,{"$f":"INT((60*SUM(AQ11:AQ17)+SUM(AR11:AR17)-AR18)/60)","v":0},{"$f":"INT(60*SUM(AQ11:AQ17)+SUM(AR11:AR17)-60*INT((60*SUM(AQ11:AQ17)+SUM(AR11:AR17))/60))","v":0},{"$f":"INT((60*SUM(AS11:AS17)+SUM(AT11:AT17)-AT18)/60)","v":0},{"$f":"INT(60*SUM(AS11:AS17)+SUM(AT11:AT17)-60*INT((60*SUM(AS11:AS17)+SUM(AT11:AT17))/60))","v":0},{"$f":"INT((60*SUM(AU11:AU17)+SUM(AV11:AV17)-AV18)/60)","v":0},{"$f":"INT(60*SUM(AU11:AU17)+SUM(AV11:AV17)-60*INT((60*SUM(AU11:AU17)+SUM(AV11:AV17))/60))","v":0},{"$f":"INT((60*SUM(AW11:AW17)+SUM(AX11:AX17)-AX18)/60)","v":0},{"$f":"INT(60*SUM(AW11:AW17)+SUM(AX11:AX17)-60*INT((60*SUM(AW11:AW17)+SUM(AX11:AX17))/60))","v":0},{"$f":"INT((60*SUM(AY11:AY17)+SUM(AZ11:AZ17)-AZ18)/60)","v":0},{"$f":"INT(60*SUM(AY11:AY17)+SUM(AZ11:AZ17)-60*INT((60*SUM(AY11:AY17)+SUM(AZ11:AZ17))/60))","v":0},{"$f":"INT((60*SUM(BA11:BA17)+SUM(BB11:BB17)-BB18)/60)","v":0},{"$f":"INT(60*SUM(BA11:BA17)+SUM(BB11:BB17)-60*INT((60*SUM(BA11:BA17)+SUM(BB11:BB17))/60))","v":0},{"$f":"INT((60*SUM(BC11:BC17)+SUM(BD11:BD17)-BD18)/60)","v":0},{"$f":"INT(60*SUM(BC11:BC17)+SUM(BD11:BD17)-60*INT((60*SUM(BC11:BC17)+SUM(BD11:BD17))/60))","v":0},{"$f":"INT((60*SUM(BE11:BE17)+SUM(BF11:BF17)-BF18)/60)","v":0},{"$f":"INT(60*SUM(BE11:BE17)+SUM(BF11:BF17)-60*INT((60*SUM(BE11:BE17)+SUM(BF11:BF17))/60))","v":0},{"$f":"INT((60*SUM(BG11:BG17)+SUM(BH11:BH17)-BH18)/60)","v":0},{"$f":"INT(60*SUM(BG11:BG17)+SUM(BH11:BH17)-60*INT((60*SUM(BG11:BG17)+SUM(BH11:BH17))/60))","v":0}]
[]
[{"$f":"Einstellungen!$L$4","v":"5 Tage-Woche"},null,{"$f":"Einstellungen!$N$4","v":1},{"$f":"Einstellungen!$O$4","v":0.75},null,{"$f":"Einstellungen!$Q$4","v":0.5},{"$f":"IF(AND(E11>0,I20<>\"\",U20<>\"f\"),F11,0)","v":1},{"$f":"IF(AND(I20<>\"\",U20<>\"f\"),1,0)","v":1},{"$f":"I17+1","v":"2026-03-09"},"Mo",null,null,null,null,{"$f":"HOUR(N20-K20-(M20-L20))","v":0},{"$f":"MINUTE(N20-K20-(M20-L20))","v":0},null,null,null,null,null,{"$f":"IF(OR(U20=\"U\",U20=\"k\",U20=\"B\"),$C$11,IF(S20>P20,O20-1-R20,O20-R20))","v":0},{"$f":"IF(OR(U20=\"U\",U20=\"k\",U20=\"B\"),$D$11,IF(S20>P20,P20+60-S20,P20-S20))","v":0},{"$f":"IF(OR(U20=\"U\",U20=\"K\",U20=\"B\"),0,V20)","v":0},{"$f":"IF(OR(U20=\"U\",U20=\"K\",U20=\"B\"),0,W20)","v":0},{"$f":"INT(((SUM(AB20,AH20,AK20,AN20,AQ20,AS20,AU20,AW20,AY20,BA20,BC20,BE20,BG20)*100)+(SUM(AC20,AI20,AL20,AO20,AR20,AT20,AV20,AX20,AZ20,BB20,BD20,BF20,BH20)/60*100))/100)","v":0},{"$f":"MOD(((SUM(AC20,AI20,AL20,AO20,AR20,AT20,AV20,AX20,AZ20,BB20,BD20,BF20,BH20)*100)+(SUM(AC20,AI20,AL20,AO20,AR20,AT20,AV20,AX20,AZ20,BB20,BD20,BF20,BH20)/60*100))/100,1)*60","v":0},null,null,{"$f":"INT(((SUM(AH20,AK20,AN20)*100)+SUM(AI20,AL20,AO20)/60*100)/100)","v":0},{"$f":"MOD(((SUM(AI20,AL20,AO20)*100)+(SUM(AI20,AL20,AO20)/60*100))/100,1)*60","v":0},{"$f":"INT(((SUM(AQ20+AS20+AU20+AW20+AY20+BA20+BC20+BE20+BG20)*100)+SUM(AR20+AT20+AV20+AX20+AZ20+BB20+BD20+BF20+BH20)/60*100)/100)","v":0},{"$f":"MOD(((SUM(AR20+AT20+AV20+AX20+AZ20+BB20+BD20+BF20+BH20)*100)+(SUM(AR20+AT20+AV20+AX20+AZ20+BB20+BD20+BF20+BH20)/60*100))/100,1)*60","v":0},null,null,"",null,null,"",null,null,""]
[{"$f":"Einstellungen!$L$5","v":""},null," "," ",null," ",{"$f":"IF(AND(E12>0,I21<>\"\",U21<>\"f\"),F12,0)","v":1},{"$f":"IF(AND(I21<>\"\",U21<>\"f\"),1,0)","v":1},{"$f":"I20+1","v":"2026-03-10"},"Di",null,null,null,null,0,0,null,null,null,null,null,{"$f":"IF(OR(U21=\"U\",U21=\"k\",U21=\"B\"),$C$12,IF(S21>P21,O21-1-R21,O21-R21))","v":0},{"$f":"IF(OR(U21=\"U\",U21=\"k\",U21=\"B\"),$D$12,IF(S21>P21,P21+60-S21,P21-S21))","v":0},0,0,0,0,null,null,0,0,0,0,null,null,"",null,null,"",null,null,""]
[{"$f":"Einstellungen!$L$6","v":"tägliche Regel-"},null," "," ",null," ",{"$f":"IF(AND(E13>0,I22<>\"\",U22<>\"f\"),F13,0)","v":1},{"$f":"IF(AND(I22<>\"\",U22<>\"f\"),1,0)","v":1},{"$f":"I21+1","v":"2026-03-11"},"Mi",null,null,null,null,0,0,null,null,null,null,null,{"$f":"IF(OR(U22=\"U\",U22=\"k\",U22=\"B\"),$C$13,IF(S22>P22,O22-1-R22,O22-R22))","v":0},{"$f":"IF(OR(U22=\"U\",U22=\"k\",U22=\"B\"),$D$13,IF(S22>P22,P22+60-S22,P22-S22))","v":0},0,0,0,0,null,null,0,0,0,0,null,null,"",null,null,"",null,null,""]
[{"$f":"Einstellungen!$L$7","v":"arbeitszeit für"},null,null,null,null,null,{"$f":"IF(AND(E14>0,I23<>\"\",U23<>\"f\"),F14,0)","v":1},{"$f":"IF(AND(I23<>\"\",U23<>\"f\"),1,0)","v":1},"2026-03-12","Do",null,null,null,null,0,0,null,null,null,null,null,{"$f":"IF(OR(U23=\"U\",U23=\"k\",U23=\"B\"),$C$14,IF(S23>P23,O23-1-R23,O23-R23))","v":0},{"$f":"IF(OR(U23=\"U\",U23=\"k\",U23=\"B\"),$D$14,IF(S23>P23,P23+60-S23,P23-S23))","v":0},0,0,0,0,null,null,0,0,0,0,null,null,"",null,null,"",null,null,""]
[{"$f":"Einstellungen!$L$8","v":"Wochenfeier-"},null,null,null,null,null,{"$f":"IF(AND(E15>0,I24<>\"\",U24<>\"f\"),F15,0)","v":1},{"$f":"IF(AND(I24<>\"\",U24<>\"f\"),1,0)","v":1},"2026-03-13","Fr",null,null,null,null,0,0,null,null,null,null,null,{"$f":"IF(OR(U24=\"U\",U24=\"k\",U24=\"B\"),$C$15,IF(S24>P24,O24-1-R24,O24-R24))","v":0},{"$f":"IF(OR(U24=\"U\",U24=\"k\",U24=\"B\"),$D$15,IF(S24>P24,P24+60-S24,P24-S24))","v":0},0,0,0,0,null,null,0,0,0,0,null,null,"",null,null,"",null,null,""]
[{"$f":"Einstellungen!$L$9","v":"tage, bei Urlaub"},null,null,null,null,null,null,null,"2026-03-14","Sa",null,null,null,null,0,0,null,null,null,"nur dienstl. Sonderfälle!*",null,{"$f":"IF(S25>P25,O25-1-R25,O25-R25)","v":0},{"$f":"IF(S25>P25,P25+60-S25,P25-S25)","v":0},0,0,0,0,null,null,0,0,0,0,null,null,"",null,null,"",null,null,""]
[{"$f":"Einstellungen!$L$10","v":"oder Krankheit"},null,null,null,null,null,null,null,"2026-03-15","So",null,null,null,null,0,0,null,null,null,"nur dienstl. Sonderfälle!*",null,{"$f":"IF(S26>P26,O26-1-R26,O26-R26)","v":0},{"$f":"IF(S26>P26,P26+60-S26,P26-S26)","v":0},0,0,0,0,null,null,0,0,0,0,null,null,"",null,null,"",null,null,""]
[{"$f":"Einstellungen!$L$11","v":"Mo-Fr  "},{"$f":"Einstellungen!$M$11","v":"Std.Min"},{"$f":"Einstellungen!$N$11","v":" 7.54"},{"$f":"Einstellungen!$O$11","v":" 5.56"},null,{"$f":"Einstellungen!$Q$11","v":" 3.57"},null,null,null,null,null,null,null,null,null,null,null,null,null,null,null,{"$f":"INT((60*SUM(V20:V26)+SUM(W20:W26)-W27)/60)","v":0},{"$f":"INT(60*SUM(V20:V26)+SUM(W20:W26)-60*INT((60*SUM(V20:V26)+SUM(W20:W26))/60))","v":0},{"$f":"INT((60*SUM(X20:X26)+SUM(Y20:Y26)-Y27)/60)","v":0},{"$f":"INT(60*SUM(X20:X26)+SUM(Y20:Y26)-60*INT((60*SUM(X20:X26)+SUM(Y20:Y26))/60))","v":0},{"$f":"INT((60*SUM(Z20:Z26)+SUM(AA20:AA26)-AA27)/60)","v":0},{"$f":"INT(60*SUM(Z20:Z26)+SUM(AA20:AA26)-60*INT((60*SUM(Z20:Z26)+SUM(AA20:AA26))/60))","v":0},{"$f":"INT((60*SUM(AB20:AB26)+SUM(AC20:AC26)-AC27)/60)","v":0},{"$f":"INT(60*SUM(AB20:AB26)+SUM(AC20:AC26)-60*INT((60*SUM(AB20:AB26)+SUM(AC20:AC26))/60))","v":0},{"$f":"INT((60*SUM(AD20:AD26)+SUM(AE20:AE26)-AE27)/60)","v":0},{"$f":"INT(60*SUM(AD20:AD26)+SUM(AE20:AE26)-60*INT((60*SUM(AD20:AD26)+SUM(AE20:AE26))/60))","v":0},{"$f":"INT((60*SUM(AF20:AF26)+SUM(AG20:AG26)-AG27)/60)","v":0},{"$f":"INT(60*SUM(AF20:AF26)+SUM(AG20:AG26)-60*INT((60*SUM(AF20:AF26)+SUM(AG20:AG26))/60))","v":0},{"$f":"INT((60*SUM(AH20:AH26)+SUM(AI20:AI26)-AI27)/60)","v":0},{"$f":"INT(60*SUM(AH20:AH26)+SUM(AI20:AI26)-60*INT((60*SUM(AH20:AH26)+SUM(AI20:AI26))/60))","v":0},null,{"$f":"INT((60*SUM(AK20:AK26)+SUM(AL20:AL26)-AL27)/60)","v":0},{"$f":"INT(60*SUM(AK20:AK26)+SUM(AL20:AL26)-60*INT((60*SUM(AK20:AK26)+SUM(AL20:AL26))/60))","v":0},null,{"$f":"INT((60*SUM(AN20:AN26)+SUM(AO20:AO26)-AO27)/60)","v":0},{"$f":"INT(60*SUM(AN20:AN26)+SUM(AO20:AO26)-60*INT((60*SUM(AN20:AN26)+SUM(AO20:AO26))/60))","v":0},null,{"$f":"INT((60*SUM(AQ20:AQ26)+SUM(AR20:AR26)-AR27)/60)","v":0},{"$f":"INT(60*SUM(AQ20:AQ26)+SUM(AR20:AR26)-60*INT((60*SUM(AQ20:AQ26)+SUM(AR20:AR26))/60))","v":0},{"$f":"INT((60*SUM(AS20:AS26)+SUM(AT20:AT26)-AT27)/60)","v":0},{"$f":"INT(60*SUM(AS20:AS26)+SUM(AT20:AT26)-60*INT((60*SUM(AS20:AS26)+SUM(AT20:AT26))/60))","v":0},{"$f":"INT((60*SUM(AU20:AU26)+SUM(AV20:AV26)-AV27)/60)","v":0},{"$f":"INT(60*SUM(AU20:AU26)+SUM(AV20:AV26)-60*INT((60*SUM(AU20:AU26)+SUM(AV20:AV26))/60))","v":0},{"$f":"INT((60*SUM(AW20:AW26)+SUM(AX20:AX26)-AX27)/60)","v":0},{"$f":"INT(60*SUM(AW20:AW26)+SUM(AX20:AX26)-60*INT((60*SUM(AW20:AW26)+SUM(AX20:AX26))/60))","v":0},{"$f":"INT((60*SUM(AY20:AY26)+SUM(AZ20:AZ26)-AZ27)/60)","v":0},{"$f":"INT(60*SUM(AY20:AY26)+SUM(AZ20:AZ26)-60*INT((60*SUM(AY20:AY26)+SUM(AZ20:AZ26))/60))","v":0},{"$f":"INT((60*SUM(BA20:BA26)+SUM(BB20:BB26)-BB27)/60)","v":0},{"$f":"INT(60*SUM(BA20:BA26)+SUM(BB20:BB26)-60*INT((60*SUM(BA20:BA26)+SUM(BB20:BB26))/60))","v":0},{"$f":"INT((60*SUM(BC20:BC26)+SUM(BD20:BD26)-BD27)/60)","v":0},{"$f":"INT(60*SUM(BC20:BC26)+SUM(BD20:BD26)-60*INT((60*SUM(BC20:BC26)+SUM(BD20:BD26))/60))","v":0},{"$f":"INT((60*SUM(BE20:BE26)+SUM(BF20:BF26)-BF27)/60)","v":0},{"$f":"INT(60*SUM(BE20:BE26)+SUM(BF20:BF26)-60*INT((60*SUM(BE20:BE26)+SUM(BF20:BF26))/60))","v":0},{"$f":"INT((60*SUM(BG20:BG26)+SUM(BH20:BH26)-BH27)/60)","v":0},{"$f":"INT(60*SUM(BG20:BG26)+SUM(BH20:BH26)-60*INT((60*SUM(BG20:BG26)+SUM(BH20:BH26))/60))","v":0}]
[" "," "," "," ",null," "]
[{"$f":"Einstellungen!$L$13","v":"Wochen"},null," "," ",null," ",{"$f":"IF(AND(E11>0,I29<>\"\",U29<>\"f\"),F11,0)","v":1},{"$f":"IF(AND(I29<>\"\",U29<>\"f\"),1,0)","v":1},{"$f":"I26+1","v":"2026-03-16"},"Mo",null,null,null,null,{"$f":"HOUR(N29-K29-(M29-L29))","v":0},{"$f":"MINUTE(N29-K29-(M29-L29))","v":0},null,null,null,null,null,{"$f":"IF(OR(U29=\"U\",U29=\"k\",U29=\"B\"),$C$11,IF(S29>P29,O29-1-R29,O29-R29))","v":0},{"$f":"IF(OR(U29=\"U\",U29=\"k\",U29=\"B\"),$D$11,IF(S29>P29,P29+60-S29,P29-S29))","v":0},{"$f":"IF(OR(U29=\"U\",U29=\"K\",U29=\"B\"),0,V29)","v":0},{"$f":"IF(OR(U29=\"U\",U29=\"K\",U29=\"B\"),0,W29)","v":0},{"$f":"INT(((SUM(AB29,AH29,AK29,AN29,AQ29,AS29,AU29,AW29,AY29,BA29,BC29,BE29,BG29)*100)+(SUM(AC29,AI29,AL29,AO29,AR29,AT29,AV29,AX29,AZ29,BB29,BD29,BF29,BH29)/60*100))/100)","v":0},{"$f":"MOD(((SUM(AC29,AI29,AL29,AO29,AR29,AT29,AV29,AX29,AZ29,BB29,BD29,BF29,BH29)*100)+(SUM(AC29,AI29,AL29,AO29,AR29,AT29,AV29,AX29,AZ29,BB29,BD29,BF29,BH29)/60*100))/100,1)*60","v":0},null,null,{"$f":"INT(((SUM(AH29,AK29,AN29)*100)+SUM(AI29,AL29,AO29)/60*100)/100)","v":0},{"$f":"MOD(((SUM(AI29,AL29,AO29)*100)+(SUM(AI29,AL29,AO29)/60*100))/100,1)*60","v":0},{"$f":"INT(((SUM(AQ29+AS29+AU29+AW29+AY29+BA29+BC29+BE29+BG29)*100)+SUM(AR29+AT29+AV29+AX29+AZ29+BB29+BD29+BF29+BH29)/60*100)/100)","v":0},{"$f":"MOD(((SUM(AR29+AT29+AV29+AX29+AZ29+BB29+BD29+BF29+BH29)*100)+(SUM(AR29+AT29+AV29+AX29+AZ29+BB29+BD29+BF29+BH29)/60*100))/100,1)*60","v":0},null,null,"",null,null,"",null,null,""]
[{"$f":"CONCATENATE(Einstellungen!$L$14,\" \",Einstellungen!$M$14)","v":"Arbeitzeit Std.Min"},null,{"$f":"Einstellungen!$N$14","v":"39.30"},{"$f":"Einstellungen!$O$14","v":"29.38"},null,{"$f":"Einstellungen!$Q$14","v":"19.45"},{"$f":"IF(AND(E12>0,I30<>\"\",U30<>\"f\"),F12,0)","v":1},{"$f":"IF(AND(I30<>\"\",U30<>\"f\"),1,0)","v":1},{"$f":"I29+1","v":"2026-03-17"},"Di",null,null,null,null,0,0,null,null,null,null,null,{"$f":"IF(OR(U30=\"U\",U30=\"k\",U30=\"B\"),$C$12,IF(S30>P30,O30-1-R30,O30-R30))","v":0},{"$f":"IF(OR(U30=\"U\",U30=\"k\",U30=\"B\"),$D$12,IF(S30>P30,P30+60-S30,P30-S30))","v":0},0,0,0,0,null,null,0,0,0,0,null,null,"",null,null,"",null,null,""]
[{"$f":"Einstellungen!$L$15","v":"max.Übertrag auf das"},null,null," ",null," ",{"$f":"IF(AND(E13>0,I31<>\"\",U31<>\"f\"),F13,0)","v":1},{"$f":"IF(AND(I31<>\"\",U31<>\"f\"),1,0)","v":1},{"$f":"I30+1","v":"2026-03-18"},"Mi",null,null,null,null,0,0,null,null,null,null,null,{"$f":"IF(OR(U31=\"U\",U31=\"k\",U31=\"B\"),$C$13,IF(S31>P31,O31-1-R31,O31-R31))","v":0},{"$f":"IF(OR(U31=\"U\",U31=\"k\",U31=\"B\"),$D$13,IF(S31>P31,P31+60-S31,P31-S31))","v":0},0,0,0,0,null,null,0,0,0,0,null,null,"",null,null,"",null,null,""]
[{"$f":"Einstellungen!$L$16","v":"Folgejahr Std.Min"},null,{"$f":"Einstellungen!$N$16","v":"39.30"},{"$f":"Einstellungen!$O$16","v":"39.30"},null,{"$f":"Einstellungen!$Q$16","v":"39.30"},{"$f":"IF(AND(E14>0,I32<>\"\",U32<>\"f\"),F14,0)","v":1},{"$f":"IF(AND(I32<>\"\",U32<>\"f\"),1,0)","v":1},"2026-03-19","Do",null,null,null,null,0,0,null,null,null,null,null,{"$f":"IF(OR(U32=\"U\",U32=\"k\",U32=\"B\"),$C$14,IF(S32>P32,O32-1-R32,O32-R32))","v":0},{"$f":"IF(OR(U32=\"U\",U32=\"k\",U32=\"B\"),$D$14,IF(S32>P32,P32+60-S32,P32-S32))","v":0},0,0,0,0,null,null,0,0,0,0,null,null,"",null,null,"",null,null,""]
[{"$f":"Einstellungen!$L$17","v":"II Beschäftigte mit 41 Std-Woche"},null,null,null,null,null,{"$f":"IF(AND(E15>0,I33<>\"\",U33<>\"f\"),F15,0)","v":1},{"$f":"IF(AND(I33<>\"\",U33<>\"f\"),1,0)","v":1},"2026-03-20","Fr",null,null,null,null,0,0,null,null,null,null,null,{"$f":"IF(OR(U33=\"U\",U33=\"k\",U33=\"B\"),$C$15,IF(S33>P33,O33-1-R33,O33-R33))","v":0},{"$f":"IF(OR(U33=\"U\",U33=\"k\",U33=\"B\"),$D$15,IF(S33>P33,P33+60-S33,P33-S33))","v":0},0,0,0,0,null,null,0,0,0,0,null,null,"",null,null,"",null,null,""]
[{"$f":"Einstellungen!$L$18","v":"tägliche Arbeitszeit"},null,null,null,null,null,null,null,"2026-03-21","Sa",null,null,null,null,0,0,null,null,null,"nur dienstl. Sonderfälle!*",null,{"$f":"IF(S34>P34,O34-1-R34,O34-R34)","v":0},{"$f":"IF(S34>P34,P34+60-S34,P34-S34)","v":0},0,0,0,0,null,null,0,0,0,0,null,null,"",null,null,"",null,null,""]
[{"$f":"Einstellungen!$L$19","v":"Mo-Fr  "},{"$f":"Einstellungen!$M$19","v":"Std.Min"},{"$f":"Einstellungen!$N$19","v":"8.12"},{"$f":"Einstellungen!$O$19","v":"6.09"},null,{"$f":"Einstellungen!$Q$19","v":"4.06"},null,null,"2026-03-22","So",null,null,null,null,0,0,null,null,null,"nur dienstl. Sonderfälle!*",null,{"$f":"IF(S35>P35,O35-1-R35,O35-R35)","v":0},{"$f":"IF(S35>P35,P35+60-S35,P35-S35)","v":0},0,0,0,0,null,null,0,0,0,0,null,null,"",null,null,"",null,null,""]
[{"$f":"Einstellungen!$L$20","v":"Wochen"},null," "," ",null," ",null,null,null,null,null,null,null,null,null,null,null,null,null,null,null,{"$f":"INT((60*SUM(V29:V35)+SUM(W29:W35)-W36)/60)","v":0},{"$f":"INT(60*SUM(V29:V35)+SUM(W29:W35)-60*INT((60*SUM(V29:V35)+SUM(W29:W35))/60))","v":0},{"$f":"INT((60*SUM(X29:X35)+SUM(Y29:Y35)-Y36)/60)","v":0},{"$f":"INT(60*SUM(X29:X35)+SUM(Y29:Y35)-60*INT((60*SUM(X29:X35)+SUM(Y29:Y35))/60))","v":0},{"$f":"INT((60*SUM(Z29:Z35)+SUM(AA29:AA35)-AA36)/60)","v":0},{"$f":"INT(60*SUM(Z29:Z35)+SUM(AA29:AA35)-60*INT((60*SUM(Z29:Z35)+SUM(AA29:AA35))/60))","v":0},{"$f":"INT((60*SUM(AB29:AB35)+SUM(AC29:AC35)-AC36)/60)","v":0},{"$f":"INT(60*SUM(AB29:AB35)+SUM(AC29:AC35)-60*INT((60*SUM(AB29:AB35)+SUM(AC29:AC35))/60))","v":0},{"$f":"INT((60*SUM(AD29:AD35)+SUM(AE29:AE35)-AE36)/60)","v":0},{"$f":"INT(60*SUM(AD29:AD35)+SUM(AE29:AE35)-60*INT((60*SUM(AD29:AD35)+SUM(AE29:AE35))/60))","v":0},{"$f":"INT((60*SUM(AF29:AF35)+SUM(AG29:AG35)-AG36)/60)","v":0},{"$f":"INT(60*SUM(AF29:AF35)+SUM(AG29:AG35)-60*INT((60*SUM(AF29:AF35)+SUM(AG29:AG35))/60))","v":0},{"$f":"INT((60*SUM(AH29:AH35)+SUM(AI29:AI35)-AI36)/60)","v":0},{"$f":"INT(60*SUM(AH29:AH35)+SUM(AI29:AI35)-60*INT((60*SUM(AH29:AH35)+SUM(AI29:AI35))/60))","v":0},null,{"$f":"INT((60*SUM(AK29:AK35)+SUM(AL29:AL35)-AL36)/60)","v":0},{"$f":"INT(60*SUM(AK29:AK35)+SUM(AL29:AL35)-60*INT((60*SUM(AK29:AK35)+SUM(AL29:AL35))/60))","v":0},null,{"$f":"INT((60*SUM(AN29:AN35)+SUM(AO29:AO35)-AO36)/60)","v":0},{"$f":"INT(60*SUM(AN29:AN35)+SUM(AO29:AO35)-60*INT((60*SUM(AN29:AN35)+SUM(AO29:AO35))/60))","v":0},null,{"$f":"INT((60*SUM(AQ29:AQ35)+SUM(AR29:AR35)-AR36)/60)","v":0},{"$f":"INT(60*SUM(AQ29:AQ35)+SUM(AR29:AR35)-60*INT((60*SUM(AQ29:AQ35)+SUM(AR29:AR35))/60))","v":0},{"$f":"INT((60*SUM(AS29:AS35)+SUM(AT29:AT35)-AT36)/60)","v":0},{"$f":"INT(60*SUM(AS29:AS35)+SUM(AT29:AT35)-60*INT((60*SUM(AS29:AS35)+SUM(AT29:AT35))/60))","v":0},{"$f":"INT((60*SUM(AU29:AU35)+SUM(AV29:AV35)-AV36)/60)","v":0},{"$f":"INT(60*SUM(AU29:AU35)+SUM(AV29:AV35)-60*INT((60*SUM(AU29:AU35)+SUM(AV29:AV35))/60))","v":0},{"$f":"INT((60*SUM(AW29:AW35)+SUM(AX29:AX35)-AX36)/60)","v":0},{"$f":"INT(60*SUM(AW29:AW35)+SUM(AX29:AX35)-60*INT((60*SUM(AW29:AW35)+SUM(AX29:AX35))/60))","v":0},{"$f":"INT((60*SUM(AY29:AY35)+SUM(AZ29:AZ35)-AZ36)/60)","v":0},{"$f":"INT(60*SUM(AY29:AY35)+SUM(AZ29:AZ35)-60*INT((60*SUM(AY29:AY35)+SUM(AZ29:AZ35))/60))","v":0},{"$f":"INT((60*SUM(BA29:BA35)+SUM(BB29:BB35)-BB36)/60)","v":0},{"$f":"INT(60*SUM(BA29:BA35)+SUM(BB29:BB35)-60*INT((60*SUM(BA29:BA35)+SUM(BB29:BB35))/60))","v":0},{"$f":"INT((60*SUM(BC29:BC35)+SUM(BD29:BD35)-BD36)/60)","v":0},{"$f":"INT(60*SUM(BC29:BC35)+SUM(BD29:BD35)-60*INT((60*SUM(BC29:BC35)+SUM(BD29:BD35))/60))","v":0},{"$f":"INT((60*SUM(BE29:BE35)+SUM(BF29:BF35)-BF36)/60)","v":0},{"$f":"INT(60*SUM(BE29:BE35)+SUM(BF29:BF35)-60*INT((60*SUM(BE29:BE35)+SUM(BF29:BF35))/60))","v":0},{"$f":"INT((60*SUM(BG29:BG35)+SUM(BH29:BH35)-BH36)/60)","v":0},{"$f":"INT(60*SUM(BG29:BG35)+SUM(BH29:BH35)-60*INT((60*SUM(BG29:BG35)+SUM(BH29:BH35))/60))","v":0}]
[]
[{"$f":"CONCATENATE(Einstellungen!$L$21,\" \",Einstellungen!$M$21)","v":"Arbeitzeit Std.Min"},null,{"$f":"Einstellungen!$N$21","v":"41.00"},{"$f":"Einstellungen!$O$21","v":"30.45"},null,{"$f":"Einstellungen!$Q$21","v":"20.30"},{"$f":"IF(AND(E11>0,I38<>\"\",U38<>\"f\"),F11,0)","v":1},{"$f":"IF(AND(I38<>\"\",U38<>\"f\"),1,0)","v":1},{"$f":"IF(I35<>\"\",IF(MONTH(I35)=MONTH(I35+1),I35+1,\"\"),\"\")","v":"2026-03-23"},"Mo",null,null,null,null,{"$f":"HOUR(N38-K38-(M38-L38))","v":0},{"$f":"MINUTE(N38-K38-(M38-L38))","v":0},null,null,null,null,null,{"$f":"IF(OR(U38=\"U\",U38=\"k\",U38=\"B\"),$C$11,IF(S38>P38,O38-1-R38,O38-R38))","v":0},{"$f":"IF(OR(U38=\"U\",U38=\"k\",U38=\"B\"),$D$11,IF(S38>P38,P38+60-S38,P38-S38))","v":0},{"$f":"IF(OR(U38=\"U\",U38=\"K\",U38=\"B\"),0,V38)","v":0},{"$f":"IF(OR(U38=\"U\",U38=\"K\",U38=\"B\"),0,W38)","v":0},{"$f":"INT(((SUM(AB38,AH38,AK38,AN38,AQ38,AS38,AU38,AW38,AY38,BA38,BC38,BE38,BG38)*100)+(SUM(AC38,AI38,AL38,AO38,AR38,AT38,AV38,AX38,AZ38,BB38,BD38,BF38,BH38)/60*100))/100)","v":0},{"$f":"MOD(((SUM(AC38,AI38,AL38,AO38,AR38,AT38,AV38,AX38,AZ38,BB38,BD38,BF38,BH38)*100)+(SUM(AC38,AI38,AL38,AO38,AR38,AT38,AV38,AX38,AZ38,BB38,BD38,BF38,BH38)/60*100))/100,1)*60","v":0},null,null,{"$f":"INT(((SUM(AH38,AK38,AN38)*100)+SUM(AI38,AL38,AO38)/60*100)/100)","v":0},{"$f":"MOD(((SUM(AI38,AL38,AO38)*100)+(SUM(AI38,AL38,AO38)/60*100))/100,1)*60","v":0},{"$f":"INT(((SUM(AQ38+AS38+AU38+AW38+AY38+BA38+BC38+BE38+BG38)*100)+SUM(AR38+AT38+AV38+AX38+AZ38+BB38+BD38+BF38+BH38)/60*100)/100)","v":0},{"$f":"MOD(((SUM(AR38+AT38+AV38+AX38+AZ38+BB38+BD38+BF38+BH38)*100)+(SUM(AR38+AT38+AV38+AX38+AZ38+BB38+BD38+BF38+BH38)/60*100))/100,1)*60","v":0},null,null,"",null,null,"",null,null,""]
[{"$f":"Einstellungen!$L$22","v":"max.Übertrag auf das"},null,null," "," "," ",{"$f":"IF(AND(E12>0,I39<>\"\",U39<>\"f\"),F12,0)","v":1},{"$f":"IF(AND(I39<>\"\",U39<>\"f\"),1,0)","v":1},{"$f":"IF(I38<>\"\",IF(MONTH(I38)=MONTH(I38+1),I38+1,\"\"),\"\")","v":"2026-03-24"},"Di",null,null,null,null,0,0,null,null,null,null,null,{"$f":"IF(OR(U39=\"U\",U39=\"k\",U39=\"B\"),$C$12,IF(S39>P39,O39-1-R39,O39-R39))","v":0},{"$f":"IF(OR(U39=\"U\",U39=\"k\",U39=\"B\"),$D$12,IF(S39>P39,P39+60-S39,P39-S39))","v":0},0,0,0,0,null,null,0,0,0,0,null,null,"",null,null,"",null,null,""]
[{"$f":"Einstellungen!$L$23","v":"Folgejahr Std.Min"},null,{"$f":"Einstellungen!$N$23","v":"41.00"},{"$f":"Einstellungen!$O$23","v":"41.00"}," ",{"$f":"Einstellungen!$Q$23","v":"41.00"},{"$f":"IF(AND(E13>0,I40<>\"\",U40<>\"f\"),F13,0)","v":1},{"$f":"IF(AND(I40<>\"\",U40<>\"f\"),1,0)","v":1},{"$f":"IF(I39<>\"\",IF(MONTH(I39)=MONTH(I39+1),I39+1,\"\"),\"\")","v":"2026-03-25"},"Mi",null,null,null,null,0,0,null,null,null,null,null,{"$f":"IF(OR(U40=\"U\",U40=\"k\",U40=\"B\"),$C$13,IF(S40>P40,O40-1-R40,O40-R40))","v":0},{"$f":"IF(OR(U40=\"U\",U40=\"k\",U40=\"B\"),$D$13,IF(S40>P40,P40+60-S40,P40-S40))","v":0},0,0,0,0,null,null,0,0,0,0,null,null,"",null,null,"",null,null,""]
[{"$f":"Einstellungen!$L$24","v":"Kernarbeitszeit:"},null,{"$f":"Einstellungen!$N$24","v":"Mo-Do"},{"$f":"Einstellungen!$O$24","v":"9:00 - 14:30 Uhr"},null,null,{"$f":"IF(AND(E14>0,I41<>\"\",U41<>\"f\"),F14,0)","v":1},{"$f":"IF(AND(I41<>\"\",U41<>\"f\"),1,0)","v":1},"2026-03-26","Do",null,null,null,null,0,0,null,null,null,null,null,{"$f":"IF(OR(U41=\"U\",U41=\"k\",U41=\"B\"),$C$14,IF(S41>P41,O41-1-R41,O41-R41))","v":0},{"$f":"IF(OR(U41=\"U\",U41=\"k\",U41=\"B\"),$D$14,IF(S41>P41,P41+60-S41,P41-S41))","v":0},0,0,0,0,null,null,0,0,0,0,null,null,"",null,null,"",null,null,""]
[{"$f":"Einstellungen!$L$25","v":""},{"$f":"Einstellungen!$M$25","v":""},{"$f":"Einstellungen!$N$25","v":"Fr"},{"$f":"Einstellungen!$O$25","v":"9:00 - 12:00 Uhr"},null,null,{"$f":"IF(AND(E15>0,I42<>\"\",U42<>\"f\"),F15,0)","v":1},{"$f":"IF(AND(I42<>\"\",U42<>\"f\"),1,0)","v":1},"2026-03-27","Fr",null,null,null,null,0,0,null,null,null,null,null,{"$f":"IF(OR(U42=\"U\",U42=\"k\",U42=\"B\"),$C$15,IF(S42>P42,O42-1-R42,O42-R42))","v":0},{"$f":"IF(OR(U42=\"U\",U42=\"k\",U42=\"B\"),$D$15,IF(S42>P42,P42+60-S42,P42-S42))","v":0},0,0,0,0,null,null,0,0,0,0,null,null,"",null,null,"",null,null,""]
[{"$f":"Einstellungen!$L$26","v":"Gleitzeit:"},{"$f":"Einstellungen!$M$26","v":"frühester Beginn"},null,null,null,{"$f":"Einstellungen!$P$26","v":"6:00 Uhr"},null,null,"2026-03-28","Sa",null,null,null,null,0,0,null,null,null,"nur dienstl. Sonderfälle!*",null,{"$f":"IF(S43>P43,O43-1-R43,O43-R43)","v":0},{"$f":"IF(S43>P43,P43+60-S43,P43-S43)","v":0},0,0,0,0,null,null,0,0,0,0,null,null,"",null,null,"",null,null,""]
[{"$f":"Einstellungen!$L$27","v":""},{"$f":"Einstellungen!$M$27","v":"spätestes Ende"},null,null,null,{"$f":"Einstellungen!$P$27","v":"21:00 Uhr"},null,null,"2026-03-29","So",null,null,null,null,0,0,null,null,null,"nur dienstl. Sonderfälle!*",null,{"$f":"IF(S44>P44,O44-1-R44,O44-R44)","v":0},{"$f":"IF(S44>P44,P44+60-S44,P44-S44)","v":0},0,0,0,0,null,null,0,0,0,0,null,null,"",null,null,"",null,null,""]
[{"$f":"Einstellungen!$L$29","v":"Mittagspause zw."},null,null,{"$f":"Einstellungen!$O$29","v":"11:15 - 14:00 Uhr"},null,null,null,null,null,null,null,null,null,null,null,null,null,null,null,null,null,{"$f":"INT((60*SUM(V38:V44)+SUM(W38:W44)-W45)/60)","v":0},{"$f":"INT(60*SUM(V38:V44)+SUM(W38:W44)-60*INT((60*SUM(V38:V44)+SUM(W38:W44))/60))","v":0},{"$f":"INT((60*SUM(X38:X44)+SUM(Y38:Y44)-Y45)/60)","v":0},{"$f":"INT(60*SUM(X38:X44)+SUM(Y38:Y44)-60*INT((60*SUM(X38:X44)+SUM(Y38:Y44))/60))","v":0},{"$f":"INT((60*SUM(Z38:Z44)+SUM(AA38:AA44)-AA45)/60)","v":0},{"$f":"INT(60*SUM(Z38:Z44)+SUM(AA38:AA44)-60*INT((60*SUM(Z38:Z44)+SUM(AA38:AA44))/60))","v":0},{"$f":"INT((60*SUM(AB38:AB44)+SUM(AC38:AC44)-AC45)/60)","v":0},{"$f":"INT(60*SUM(AB38:AB44)+SUM(AC38:AC44)-60*INT((60*SUM(AB38:AB44)+SUM(AC38:AC44))/60))","v":0},{"$f":"INT((60*SUM(AD38:AD44)+SUM(AE38:AE44)-AE45)/60)","v":0},{"$f":"INT(60*SUM(AD38:AD44)+SUM(AE38:AE44)-60*INT((60*SUM(AD38:AD44)+SUM(AE38:AE44))/60))","v":0},{"$f":"INT((60*SUM(AF38:AF44)+SUM(AG38:AG44)-AG45)/60)","v":0},{"$f":"INT(60*SUM(AF38:AF44)+SUM(AG38:AG44)-60*INT((60*SUM(AF38:AF44)+SUM(AG38:AG44))/60))","v":0},{"$f":"INT((60*SUM(AH38:AH44)+SUM(AI38:AI44)-AI45)/60)","v":0},{"$f":"INT(60*SUM(AH38:AH44)+SUM(AI38:AI44)-60*INT((60*SUM(AH38:AH44)+SUM(AI38:AI44))/60))","v":0},null,{"$f":"INT((60*SUM(AK38:AK44)+SUM(AL38:AL44)-AL45)/60)","v":0},{"$f":"INT(60*SUM(AK38:AK44)+SUM(AL38:AL44)-60*INT((60*SUM(AK38:AK44)+SUM(AL38:AL44))/60))","v":0},null,{"$f":"INT((60*SUM(AN38:AN44)+SUM(AO38:AO44)-AO45)/60)","v":0},{"$f":"INT(60*SUM(AN38:AN44)+SUM(AO38:AO44)-60*INT((60*SUM(AN38:AN44)+SUM(AO38:AO44))/60))","v":0},null,{"$f":"INT((60*SUM(AQ38:AQ44)+SUM(AR38:AR44)-AR45)/60)","v":0},{"$f":"INT(60*SUM(AQ38:AQ44)+SUM(AR38:AR44)-60*INT((60*SUM(AQ38:AQ44)+SUM(AR38:AR44))/60))","v":0},{"$f":"INT((60*SUM(AS38:AS44)+SUM(AT38:AT44)-AT45)/60)","v":0},{"$f":"INT(60*SUM(AS38:AS44)+SUM(AT38:AT44)-60*INT((60*SUM(AS38:AS44)+SUM(AT38:AT44))/60))","v":0},{"$f":"INT((60*SUM(AU38:AU44)+SUM(AV38:AV44)-AV45)/60)","v":0},{"$f":"INT(60*SUM(AU38:AU44)+SUM(AV38:AV44)-60*INT((60*SUM(AU38:AU44)+SUM(AV38:AV44))/60))","v":0},{"$f":"INT((60*SUM(AW38:AW44)+SUM(AX38:AX44)-AX45)/60)","v":0},{"$f":"INT(60*SUM(AW38:AW44)+SUM(AX38:AX44)-60*INT((60*SUM(AW38:AW44)+SUM(AX38:AX44))/60))","v":0},{"$f":"INT((60*SUM(AY38:AY44)+SUM(AZ38:AZ44)-AZ45)/60)","v":0},{"$f":"INT(60*SUM(AY38:AY44)+SUM(AZ38:AZ44)-60*INT((60*SUM(AY38:AY44)+SUM(AZ38:AZ44))/60))","v":0},{"$f":"INT((60*SUM(BA38:BA44)+SUM(BB38:BB44)-BB45)/60)","v":0},{"$f":"INT(60*SUM(BA38:BA44)+SUM(BB38:BB44)-60*INT((60*SUM(BA38:BA44)+SUM(BB38:BB44))/60))","v":0},{"$f":"INT((60*SUM(BC38:BC44)+SUM(BD38:BD44)-BD45)/60)","v":0},{"$f":"INT(60*SUM(BC38:BC44)+SUM(BD38:BD44)-60*INT((60*SUM(BC38:BC44)+SUM(BD38:BD44))/60))","v":0},{"$f":"INT((60*SUM(BE38:BE44)+SUM(BF38:BF44)-BF45)/60)","v":0},{"$f":"INT(60*SUM(BE38:BE44)+SUM(BF38:BF44)-60*INT((60*SUM(BE38:BE44)+SUM(BF38:BF44))/60))","v":0},{"$f":"INT((60*SUM(BG38:BG44)+SUM(BH38:BH44)-BH45)/60)","v":0},{"$f":"INT(60*SUM(BG38:BG44)+SUM(BH38:BH44)-60*INT((60*SUM(BG38:BG44)+SUM(BH38:BH44))/60))","v":0}]
[]
[{"$f":"Einstellungen!$L$30","v":"ab 6 Std. Arbeitszeit: Dauer min."},null,null,null,null,{"$f":"Einstellungen!$Q$30","v":"30 Min"},{"$f":"IF(AND(E11>0,I47<>\"\",U47<>\"f\"),F11,0)","v":1},{"$f":"IF(AND(I47<>\"\",U47<>\"f\"),1,0)","v":1},{"$f":"IF(I44<>\"\",IF(MONTH(I44)=MONTH(I44+1),I44+1,\"\"),\"\")","v":"2026-03-30"},"Mo",null,null,null,null,{"$f":"HOUR(N47-K47-(M47-L47))","v":0},{"$f":"MINUTE(N47-K47-(M47-L47))","v":0},null,null,null,null,null,{"$f":"IF(OR(U47=\"U\",U47=\"k\",U47=\"B\"),$C$11,IF(S47>P47,O47-1-R47,O47-R47))","v":0},{"$f":"IF(OR(U47=\"U\",U47=\"k\",U47=\"B\"),$D$11,IF(S47>P47,P47+60-S47,P47-S47))","v":0},{"$f":"IF(OR(U47=\"U\",U47=\"K\",U47=\"B\"),0,V47)","v":0},{"$f":"IF(OR(U47=\"U\",U47=\"K\",U47=\"B\"),0,W47)","v":0},{"$f":"INT(((SUM(AB47,AH47,AK47,AN47,AQ47,AS47,AU47,AW47,AY47,BA47,BC47,BE47,BG47)*100)+(SUM(AC47,AI47,AL47,AO47,AR47,AT47,AV47,AX47,AZ47,BB47,BD47,BF47,BH47)/60*100))/100)","v":0},{"$f":"MOD(((SUM(AC47,AI47,AL47,AO47,AR47,AT47,AV47,AX47,AZ47,BB47,BD47,BF47,BH47)*100)+(SUM(AC47,AI47,AL47,AO47,AR47,AT47,AV47,AX47,AZ47,BB47,BD47,BF47,BH47)/60*100))/100,1)*60","v":0},null,null,{"$f":"INT(((SUM(AH47,AK47,AN47)*100)+SUM(AI47,AL47,AO47)/60*100)/100)","v":0},{"$f":"MOD(((SUM(AI47,AL47,AO47)*100)+(SUM(AI47,AL47,AO47)/60*100))/100,1)*60","v":0},{"$f":"INT(((SUM(AQ47+AS47+AU47+AW47+AY47+BA47+BC47+BE47+BG47)*100)+SUM(AR47+AT47+AV47+AX47+AZ47+BB47+BD47+BF47+BH47)/60*100)/100)","v":0},{"$f":"MOD(((SUM(AR47+AT47+AV47+AX47+AZ47+BB47+BD47+BF47+BH47)*100)+(SUM(AR47+AT47+AV47+AX47+AZ47+BB47+BD47+BF47+BH47)/60*100))/100,1)*60","v":0},null,null,"",null,null,"",null,null,""]
[{"$f":"Einstellungen!$L$31","v":"ab 9 Std. (exklusiv Beamte) min."},null,null,null,null,{"$f":"Einstellungen!$Q$31","v":"45 Min"},{"$f":"IF(AND(E12>0,I48<>\"\",U48<>\"f\"),F12,0)","v":1},{"$f":"IF(AND(I48<>\"\",U48<>\"f\"),1,0)","v":1},{"$f":"IF(I47<>\"\",IF(MONTH(I47)=MONTH(I47+1),I47+1,\"\"),\"\")","v":"2026-03-31"},"Di",null,null,null,null,0,0,null,null,null,null,null,{"$f":"IF(OR(U48=\"U\",U48=\"k\",U48=\"B\"),$C$12,IF(S48>P48,O48-1-R48,O48-R48))","v":0},{"$f":"IF(OR(U48=\"U\",U48=\"k\",U48=\"B\"),$D$12,IF(S48>P48,P48+60-S48,P48-S48))","v":0},0,0,0,0,null,null,0,0,0,0,null,null,"",null,null,"",null,null,""]
[{"$f":"Einstellungen!$L$32","v":""},null," ",{"$f":"Einstellungen!$O$32","v":"max."},null,{"$f":"Einstellungen!$Q$32","v":"120 Min"},{"$f":"IF(AND(E13>0,I49<>\"\",U49<>\"f\"),F13,0)","v":0},{"$f":"IF(AND(I49<>\"\",U49<>\"f\"),1,0)","v":0},{"$f":"IF(I48<>\"\",IF(MONTH(I48)=MONTH(I48+1),I48+1,\"\"),\"\")","v":""},"Mi",null,null,null,null,0,0,null,null,null,null,null,{"$f":"IF(OR(U49=\"U\",U49=\"k\",U49=\"B\"),$C$13,IF(S49>P49,O49-1-R49,O49-R49))","v":0},{"$f":"IF(OR(U49=\"U\",U49=\"k\",U49=\"B\"),$D$13,IF(S49>P49,P49+60-S49,P49-S49))","v":0},0,0,0,0,null,null,0,0,0,0,null,null,"",null,null,"",null,null,""]
[{"$f":"Einstellungen!$L$33","v":"tägliche Arbeitszeit  "},null,null,null,null,{"$f":"Einstellungen!$Q$33","v":" 10 Std"},{"$f":"IF(AND(E14>0,I50<>\"\",U50<>\"f\"),F14,0)","v":0},{"$f":"IF(AND(I50<>\"\",U50<>\"f\"),1,0)","v":0},"","Do",null,null,null,null,0,0,null,null,null,null,null,{"$f":"IF(OR(U50=\"U\",U50=\"k\",U50=\"B\"),$C$14,IF(S50>P50,O50-1-R50,O50-R50))","v":0},{"$f":"IF(OR(U50=\"U\",U50=\"k\",U50=\"B\"),$D$14,IF(S50>P50,P50+60-S50,P50-S50))","v":0},0,0,0,0,null,null,0,0,0,0,null,null,"",null,null,"",null,null,""]
[{"$f":"Einstellungen!$L$34","v":"*) beachte § 5 der Dienstvereinbarung vom 17.04.2024 über die Arbeitszeit der Beschäftigten der Universität Hohenheim"},null,null,null,null,null,{"$f":"IF(AND(E15>0,I51<>\"\",U51<>\"f\"),F15,0)","v":0},{"$f":"IF(AND(I51<>\"\",U51<>\"f\"),1,0)","v":0},"","Fr",null,null,null,null,0,0,null,null,null,null,null,{"$f":"IF(OR(U51=\"U\",U51=\"k\",U51=\"B\"),$C$15,IF(S51>P51,O51-1-R51,O51-R51))","v":0},{"$f":"IF(OR(U51=\"U\",U51=\"k\",U51=\"B\"),$D$15,IF(S51>P51,P51+60-S51,P51-S51))","v":0},0,0,0,0,null,null,0,0,0,0,null,null,"",null,null,"",null,null,""]
[null,null,null,null,null,null,null,null,"","Sa",null,null,null,null,0,0,null,null,null,"nur dienstl. Sonderfälle!*",null,{"$f":"IF(S52>P52,O52-1-R52,O52-R52)","v":0},{"$f":"IF(S52>P52,P52+60-S52,P52-S52)","v":0},0,0,0,0,null,null,0,0,0,0,null,null,"",null,null,"",null,null,""]
[null,null,null,null,null,null,null,null,"","So",null,null,null,null,0,0,null,null,null,"nur dienstl. Sonderfälle!*",null,{"$f":"IF(S53>P53,O53-1-R53,O53-R53)","v":0},{"$f":"IF(S53>P53,P53+60-S53,P53-S53)","v":0},0,0,0,0,null,null,0,0,0,0,null,null,"",null,null,"",null,null,""]
[null,null,null,null,null,null,null,null,null,null,null,null,null,null,null,null,null,null,null,null,null,{"$f":"INT((60*SUM(V47:V53)+SUM(W47:W53)-W54)/60)","v":0},{"$f":"INT(60*SUM(V47:V53)+SUM(W47:W53)-60*INT((60*SUM(V47:V53)+SUM(W47:W53))/60))","v":0},{"$f":"INT((60*SUM(X47:X53)+SUM(Y47:Y53)-Y54)/60)","v":0},{"$f":"INT(60*SUM(X47:X53)+SUM(Y47:Y53)-60*INT((60*SUM(X47:X53)+SUM(Y47:Y53))/60))","v":0},{"$f":"INT((60*SUM(Z47:Z53)+SUM(AA47:AA53)-AA54)/60)","v":0},{"$f":"INT(60*SUM(Z47:Z53)+SUM(AA47:AA53)-60*INT((60*SUM(Z47:Z53)+SUM(AA47:AA53))/60))","v":0},{"$f":"INT((60*SUM(AB47:AB53)+SUM(AC47:AC53)-AC54)/60)","v":0},{"$f":"INT(60*SUM(AB47:AB53)+SUM(AC47:AC53)-60*INT((60*SUM(AB47:AB53)+SUM(AC47:AC53))/60))","v":0},{"$f":"INT((60*SUM(AD47:AD53)+SUM(AE47:AE53)-AE54)/60)","v":0},{"$f":"INT(60*SUM(AD47:AD53)+SUM(AE47:AE53)-60*INT((60*SUM(AD47:AD53)+SUM(AE47:AE53))/60))","v":0},{"$f":"INT((60*SUM(AF47:AF53)+SUM(AG47:AG53)-AG54)/60)","v":0},{"$f":"INT(60*SUM(AF47:AF53)+SUM(AG47:AG53)-60*INT((60*SUM(AF47:AF53)+SUM(AG47:AG53))/60))","v":0},{"$f":"INT((60*SUM(AH47:AH53)+SUM(AI47:AI53)-AI54)/60)","v":0},{"$f":"INT(60*SUM(AH47:AH53)+SUM(AI47:AI53)-60*INT((60*SUM(AH47:AH53)+SUM(AI47:AI53))/60))","v":0},null,{"$f":"INT((60*SUM(AK47:AK53)+SUM(AL47:AL53)-AL54)/60)","v":0},{"$f":"INT(60*SUM(AK47:AK53)+SUM(AL47:AL53)-60*INT((60*SUM(AK47:AK53)+SUM(AL47:AL53))/60))","v":0},null,{"$f":"INT((60*SUM(AN47:AN53)+SUM(AO47:AO53)-AO54)/60)","v":0},{"$f":"INT(60*SUM(AN47:AN53)+SUM(AO47:AO53)-60*INT((60*SUM(AN47:AN53)+SUM(AO47:AO53))/60))","v":0},null,{"$f":"INT((60*SUM(AQ47:AQ53)+SUM(AR47:AR53)-AR54)/60)","v":0},{"$f":"INT(60*SUM(AQ47:AQ53)+SUM(AR47:AR53)-60*INT((60*SUM(AQ47:AQ53)+SUM(AR47:AR53))/60))","v":0},{"$f":"INT((60*SUM(AS47:AS53)+SUM(AT47:AT53)-AT54)/60)","v":0},{"$f":"INT(60*SUM(AS47:AS53)+SUM(AT47:AT53)-60*INT((60*SUM(AS47:AS53)+SUM(AT47:AT53))/60))","v":0},{"$f":"INT((60*SUM(AU47:AU53)+SUM(AV47:AV53)-AV54)/60)","v":0},{"$f":"INT(60*SUM(AU47:AU53)+SUM(AV47:AV53)-60*INT((60*SUM(AU47:AU53)+SUM(AV47:AV53))/60))","v":0},{"$f":"INT((60*SUM(AW47:AW53)+SUM(AX47:AX53)-AX54)/60)","v":0},{"$f":"INT(60*SUM(AW47:AW53)+SUM(AX47:AX53)-60*INT((60*SUM(AW47:AW53)+SUM(AX47:AX53))/60))","v":0},{"$f":"INT((60*SUM(AY47:AY53)+SUM(AZ47:AZ53)-AZ54)/60)","v":0},{"$f":"INT(60*SUM(AY47:AY53)+SUM(AZ47:AZ53)-60*INT((60*SUM(AY47:AY53)+SUM(AZ47:AZ53))/60))","v":0},{"$f":"INT((60*SUM(BA47:BA53)+SUM(BB47:BB53)-BB54)/60)","v":0},{"$f":"INT(60*SUM(BA47:BA53)+SUM(BB47:BB53)-60*INT((60*SUM(BA47:BA53)+SUM(BB47:BB53))/60))","v":0},{"$f":"INT((60*SUM(BC47:BC53)+SUM(BD47:BD53)-BD54)/60)","v":0},{"$f":"INT(60*SUM(BC47:BC53)+SUM(BD47:BD53)-60*INT((60*SUM(BC47:BC53)+SUM(BD47:BD53))/60))","v":0},{"$f":"INT((60*SUM(BE47:BE53)+SUM(BF47:BF53)-BF54)/60)","v":0},{"$f":"INT(60*SUM(BE47:BE53)+SUM(BF47:BF53)-60*INT((60*SUM(BE47:BE53)+SUM(BF47:BF53))/60))","v":0},{"$f":"INT((60*SUM(BG47:BG53)+SUM(BH47:BH53)-BH54)/60)","v":0},{"$f":"INT(60*SUM(BG47:BG53)+SUM(BH47:BH53)-60*INT((60*SUM(BG47:BG53)+SUM(BH47:BH53))/60))","v":0}]
[null,null,null,null,null,null,{"$f":"SUM(G5:G53)","v":22},{"$f":"SUM(H5:H53)","v":22},"März",null,null,null,null,null,null,{"$f":"Einstellungen!A1","v":2026},null,null,null,null,null,null,null,"Summe:",null,"Summe:",null,"Summe:",null,"Summe:",null,"Summe:",null,{"$f":"INT(((SUM(AH9,AH18,AH27,AH36,AH45,AH54)*100)+(SUM(AI9,AI18,AI27,AI36,AI45,AI54)/60*100))/100)","v":0},{"$f":"MOD(((SUM(AH9,AH18,AH27,AH36,AH45,AH54)*100)+(SUM(AI9,AI18,AI27,AI36,AI45,AI54)/60*100))/100,1)*60","v":0},null,{"$f":"INT(((SUM(AK9,AK18,AK27,AK36,AK45,AK54)*100)+(SUM(AL9,AL18,AL27,AL36,AL45,AL54)/60*100))/100)","v":0},{"$f":"MOD(((SUM(AK9,AK18,AK27,AK36,AK45,AK54)*100)+(SUM(AL9,AL18,AL27,AL36,AL45,AL54)/60*100))/100,1)*60","v":0},null,{"$f":"INT(((SUM(AN9,AN18,AN27,AN36,AN45,AN54)*100)+(SUM(AO9,AO18,AO27,AO36,AO45,AO54)/60*100))/100)","v":0},{"$f":"MOD(((SUM(AN9,AN18,AN27,AN36,AN45,AN54)*100)+(SUM(AO9,AO18,AO27,AO36,AO45,AO54)/60*100))/100,1)*60","v":0},null,{"$f":"INT(((SUM(AQ9,AQ18,AQ27,AQ36,AQ45,AQ54)*100)+(SUM(AR9,AR18,AR27,AR36,AR45,AR54)/60*100))/100)","v":0},{"$f":"MOD(((SUM(AQ9,AQ18,AQ27,AQ36,AQ45,AQ54)*100)+(SUM(AR9,AR18,AR27,AR36,AR45,AR54)/60*100))/100,1)*60","v":0},{"$f":"INT(((SUM(AS9,AS18,AS27,AS36,AS45,AS54)*100)+(SUM(AT9,AT18,AT27,AT36,AT45,AT54)/60*100))/100)","v":0},{"$f":"MOD(((SUM(AS9,AS18,AS27,AS36,AS45,AS54)*100)+(SUM(AT9,AT18,AT27,AT36,AT45,AT54)/60*100))/100,1)*60","v":0},{"$f":"INT(((SUM(AU9,AU18,AU27,AU36,AU45,AU54)*100)+(SUM(AV9,AV18,AV27,AV36,AV45,AV54)/60*100))/100)","v":0},{"$f":"MOD(((SUM(AU9,AU18,AU27,AU36,AU45,AU54)*100)+(SUM(AV9,AV18,AV27,AV36,AV45,AV54)/60*100))/100,1)*60","v":0},{"$f":"INT(((SUM(AW9,AW18,AW27,AW36,AW45,AW54)*100)+(SUM(AX9,AX18,AX27,AX36,AX45,AX54)/60*100))/100)","v":0},{"$f":"MOD(((SUM(AW9,AW18,AW27,AW36,AW45,AW54)*100)+(SUM(AX9,AX18,AX27,AX36,AX45,AX54)/60*100))/100,1)*60","v":0},{"$f":"INT(((SUM(AY9,AY18,AY27,AY36,AY45,AY54)*100)+(SUM(AZ9,AZ18,AZ27,AZ36,AZ45,AZ54)/60*100))/100)","v":0},{"$f":"MOD(((SUM(AY9,AY18,AY27,AY36,AY45,AY54)*100)+(SUM(AZ9,AZ18,AZ27,AZ36,AZ45,AZ54)/60*100))/100,1)*60","v":0},{"$f":"INT(((SUM(BA9,BA18,BA27,BA36,BA45,BA54)*100)+(SUM(BB9,BB18,BB27,BB36,BB45,BB54)/60*100))/100)","v":0},{"$f":"MOD(((SUM(BA9,BA18,BA27,BA36,BA45,BA54)*100)+(SUM(BB9,BB18,BB27,BB36,BB45,BB54)/60*100))/100,1)*60","v":0},{"$f":"INT(((SUM(BC9,BC18,BC27,BC36,BC45,BC54)*100)+(SUM(BD9,BD18,BD27,BD36,BD45,BD54)/60*100))/100)","v":0},{"$f":"MOD(((SUM(BC9,BC18,BC27,BC36,BC45,BC54)*100)+(SUM(BD9,BD18,BD27,BD36,BD45,BD54)/60*100))/100,1)*60","v":0},{"$f":"INT(((SUM(BE9,BE18,BE27,BE36,BE45,BE54)*100)+(SUM(BF9,BF18,BF27,BF36,BF45,BF54)/60*100))/100)","v":0},{"$f":"MOD(((SUM(BE9,BE18,BE27,BE36,BE45,BE54)*100)+(SUM(BF9,BF18,BF27,BF36,BF45,BF54)/60*100))/100,1)*60","v":0},{"$f":"INT(((SUM(BG9,BG18,BG27,BG36,BG45,BG54)*100)+(SUM(BH9,BH18,BH27,BH36,BH45,BH54)/60*100))/100)","v":0},{"$f":"MOD(((SUM(BG9,BG18,BG27,BG36,BG45,BG54)*100)+(SUM(BH9,BH18,BH27,BH36,BH45,BH54)/60*100))/100,1)*60","v":0}]
[null,null,null,null,null,null,null,null,"Abrechnungsmonat",null,null,null,null,null,null,"Jahr",null,null,null,"Monatsarbeitszeit IST",null,{"$f":"INT((60*SUM(V54,V45,V36,V27,V18,V9)+SUM(W54,W45,W36,W27,W18,W9)-W56)/60)","v":0},{"$f":"INT(60*SUM(V54,V45,V36,V27,V18,V9)+SUM(W54,W45,W36,W27,W18,W9)-60*INT((60*SUM(V54,V45,V36,V27,V18,V9)+SUM(W54,W45,W36,W27,W18,W9))/60))","v":0},{"$f":"INT((60*SUM(X54,X45,X36,X27,X18,X9)+SUM(Y54,Y45,Y36,Y27,Y18,Y9)-Y56)/60)","v":0},{"$f":"INT(60*SUM(X54,X45,X36,X27,X18,X9)+SUM(Y54,Y45,Y36,Y27,Y18,Y9)-60*INT((60*SUM(X54,X45,X36,X27,X18,X9)+SUM(Y54,Y45,Y36,Y27,Y18,Y9))/60))","v":0},{"$f":"INT((60*SUM(Z54,Z45,Z36,Z27,Z18,Z9)+SUM(AA54,AA45,AA36,AA27,AA18,AA9)-AA56)/60)","v":0},{"$f":"INT(60*SUM(Z54,Z45,Z36,Z27,Z18,Z9)+SUM(AA54,AA45,AA36,AA27,AA18,AA9)-60*INT((60*SUM(Z54,Z45,Z36,Z27,Z18,Z9)+SUM(AA54,AA45,AA36,AA27,AA18,AA9))/60))","v":0},{"$f":"INT((60*SUM(AB54,AB45,AB36,AB27,AB18,AB9)+SUM(AC54,AC45,AC36,AC27,AC18,AC9)-AC56)/60)","v":0},{"$f":"INT(60*SUM(AB54,AB45,AB36,AB27,AB18,AB9)+SUM(AC54,AC45,AC36,AC27,AC18,AC9)-60*INT((60*SUM(AB54,AB45,AB36,AB27,AB18,AB9)+SUM(AC54,AC45,AC36,AC27,AC18,AC9))/60))","v":0},{"$f":"INT((60*SUM(AD54,AD45,AD36,AD27,AD18,AD9)+SUM(AE54,AE45,AE36,AE27,AE18,AE9)-AE56)/60)","v":0},{"$f":"INT(60*SUM(AD54,AD45,AD36,AD27,AD18,AD9)+SUM(AE54,AE45,AE36,AE27,AE18,AE9)-60*INT((60*SUM(AD54,AD45,AD36,AD27,AD18,AD9)+SUM(AE54,AE45,AE36,AE27,AE18,AE9))/60))","v":0},{"$f":"INT((60*SUM(AF54,AF45,AF36,AF27,AF18,AF9)+SUM(AG54,AG45,AG36,AG27,AG18,AG9)-AG56)/60)","v":0},{"$f":"INT(60*SUM(AF54,AF45,AF36,AF27,AF18,AF9)+SUM(AG54,AG45,AG36,AG27,AG18,AG9)-60*INT((60*SUM(AF54,AF45,AF36,AF27,AF18,AF9)+SUM(AG54,AG45,AG36,AG27,AG18,AG9))/60))","v":0}]
[null,null,null,null,null,null,null,null,{"$f":"Einstellungen!K23","v":"Franziska von Hohenheim"},null,null,null,null,null,null,null,null,null,null,"Übertrag aus Vormonat (+/-)",{"$f":"IF(V57*W57<0,\"!\",\"\")","v":""},{"$f":"ROUND(Febr!V60,0)","v":-316},{"$f":"ROUND(Febr!W60,0)","v":0}]
[null,null,null,null,null,null,null,null,"Name, Vorname",null,null,null,null,null,null,null,"Datum",null,null,"Summe",null,{"$f":"ROUND(SIGN(V56+V57+(W56+W57)/60)*ROUNDDOWN(ABS(V56+V57+(W56+W57)/60),0),0)","v":-316},{"$f":"ROUND(SIGN(V56+V57+(W56+W57)/60)*(ABS(V56+V57+(W56+W57)/60)-ABS(V58))*60,0)","v":0}]
[null,null,null,null,null,null,null,null,{"$f":"Einstellungen!$K$25","v":"630"},null,{"$f":"Einstellungen!K24","v":"KIM"},null,null,null,null,null,null,null,null,"Monatsarbeitszeit SOLL",null,{"$f":"SUM(Einstellungen!B5)","v":173},{"$f":"SUM(Einstellungen!C5)","v":48}]
[null,null,null,null,null,null,null,null,"Einr.-Nr.",null,"Abt. / FG",null,null,null,null,null,"Name Leiter/in",null,null,"Zeitübertrag auf Folgemonat",{"$f":"IF(V60*W60<0,\"!\",\"\")","v":""},{"$f":"ROUND(SIGN(V58-V59+(W58-W59)/60)*ROUNDDOWN(ABS(V58-V59+(W58-W59)/60),0),0)","v":-489},{"$f":"ROUND(SIGN(V58-V59+(W58-W59)/60)*(ABS(V58-V59+(W58-W59)/60)-ABS(V60))*60,0)","v":-48}]
[]
[null,null,null,null,null,null,null,null,null,null,null,null,null,null,null,null,null,null,null,"Summe Urlaubstage",null,{"$f":"SUMPRODUCT((U5:U6=\"U\")*(E14:E15>0))+SUMPRODUCT((U11:U15=\"U\")*(E11:E15>0))+SUMPRODUCT((U20:U24=\"U\")*(E11:E15>0))+SUMPRODUCT((U29:U33=\"U\")*(E11:E15>0))+SUMPRODUCT((U38:U42=\"U\")*(E11:E15>0))+SUMPRODUCT((U47:U51=\"U\")*(E11:E15>0))","v":0}]
[null,null,null,null,null,null,null,null,"Datum",null,"Unterschrift Mitarbeiter/in",null,null,null,null,null,"Unterschrift Leiter/in",null,null,"alter / neuer Übertrag",null,{"$f":"IF(SUM(Einstellungen!K27:K30)>0,Febr!W63,\"--- \")","v":30},{"$f":"IF(SUM(Einstellungen!K27:K30)>0,V63-V62,\"--- \")","v":30}]

{"sheet":"Apr","index":3,"n_rows":63,"n_cols":60,"rows_kept":63,"cut":false,"hidden":true,"merged":[[0,31,0,32],[0,23,0,24],[0,25,0,26],[0,27,0,28],[0,29,0,30],[1,23,1,24],[1,25,1,26],[37,0,37,1],[38,0,38,2],[2,23,2,24],[2,25,2,26],[28,0,28,1],[29,0,29,1],[30,0,30,2],[35,0,35,1],[7,0,7,3],[39,0,39,1],[46,0,46,3],[47,0,47,3],[49,0,49,3],[54,23,54,24],[50,0,52,5],[40,3,40,5],[41,3,41,5],[44,3,44,5],[61,21,61,22],[63,25,63,26],[54,27,54,28],[54,29,54,30],[54,31,54,32],[54,25,54,26],[0,42,2,43],[0,44,2,45],[0,46,2,47],[0,33,2,35],[0,36,2,38],[0,39,2,41],[0,58,2,59],[0,48,2,49],[0,50,2,51],[0,52,2,53],[0,54,2,55],[0,56,2,57]]}
[{"$f":"Einstellungen!A27","v":"Universität Hohenheim KIM © 2026"},null,null,null,null,null,null,null,"Datum",null,"Arbeits-",null,null,"Arbeits-","Arb.Zeit ohne",null,"Sonstige Unterbrechungen",null,null,"Erläuterungen, Hinweise,","U,K","Reine Arb.-",null,"Productive",null,"Productive",null,"Sonstiges",null,"Summe ",null,"Summe",null,{"$f":"Projektdaten!D4","v":"EU Projekt 1"},null,null,{"$f":"Projektdaten!D6","v":"EU Projekt 2"},null,null,{"$f":"Projektdaten!D8","v":"EU Projekt 3"},null,null,{"$f":"Projektdaten!D13","v":"Projekt 1"},null,{"$f":"Projektdaten!D15","v":"Projekt 2"},null,{"$f":"Projektdaten!D17","v":"Projekt 3"},null,{"$f":"Projektdaten!D19","v":"Projekt 4"},null,{"$f":"Projektdaten!D21","v":"Projekt 5"},null,{"$f":"Projektdaten!D23","v":"Projekt 6"},null,{"$f":"Projektdaten!D25","v":"Projekt 7"},null,{"$f":"Projektdaten!D27","v":"Projekt 8"},null,{"$f":"Projektdaten!D29","v":"Projekt 9"}]
["Arbeitszeitblatt",null,null,{"$f":"Einstellungen!A28","v":"Version 5.12"},null,null,null,null,"Tag","Wo-","beginn","Mittagspause",null,"ende","Mittagspause",null,"von - bis","Gesamtdauer",null,"Vermerke, z.B. Dienstreise","F,X","Zeit","IST","Hours",null,"Hours",null,null,null,"EU-",null,"andere"]
[null,null,null,null,null,null,null,null,null,"tag",null,"von","bis",null,"Std.","Min.",null,"Std.","Min.","  - non eligible -","A,B","Std.","Min.","i.S.d. EU",null,"verteilt",null,null," ","Projekte",null,"Projekte"]
[null,null,null,null,null,null,null,null,null,null,null,null,null,null,null,null,null,null,null,null,null,null,null,"Std.","Min.","Std.","Min.","Std.","Min.","Std.","Min.","Std.","Min.","Std.","Min.","Geleistete Arbeitspakete nach Annex 1","Std.","Min.","Geleistete Arbeitspakete nach Annex 1","Std.","Min.","Geleistete Arbeitspakete nach Annex 1","Std.","Min.","Std.","Min.","Std.","Min.","Std.","Min.","Std.","Min.","Std.","Min.","Std.","Min.","Std.","Min.","Std.","Min."]
[null,null,null,null,null,"U",{"$f":"IF(AND(E14>0,I5<>\"\",U5<>\"f\"),1,0)","v":0},{"$f":"IF(AND(I5<>\"\",U5<>\"f\"),1,0)","v":0},{"$f":"IF(CHOOSE(WEEKDAY(Einstellungen!$A$6,2),\"Mo\",\"Di\",\"Mi\",\"Do\",\"Fr\",\"Sa\",\"So\")=J5,Einstellungen!$A$6,\"\")","v":""},"Do",null,null,null,null,{"$f":"HOUR(N5-K5-(M5-L5))","v":0},{"$f":"MINUTE(N5-K5-(M5-L5))","v":0},null,null,null,null,null,{"$f":"IF(OR(U5=\"U\",U5=\"k\",U5=\"B\"),$C$14,IF(S5>P5,O5-1-R5,O5-R5))","v":0},{"$f":"IF(OR(U5=\"U\",U5=\"k\",U5=\"B\"),$D$14,IF(S5>P5,P5+60-S5,P5-S5))","v":0},{"$f":"IF(OR(U5=\"U\",U5=\"K\",U5=\"B\"),0,V5)","v":0},{"$f":"IF(OR(U5=\"U\",U5=\"K\",U5=\"B\"),0,W5)","v":0},{"$f":"INT(((SUM(AB5,AH5,AK5,AN5,AQ5,AS5,AU5,AW5,AY5,BA5,BC5,BE5,BG5)*100)+(SUM(AC5,AI5,AL5,AO5,AR5,AT5,AV5,AX5,AZ5,BB5,BD5,BF5,BH5)/60*100))/100)","v":0},{"$f":"MOD(((SUM(AC5,AI5,AL5,AO5,AR5,AT5,AV5,AX5,AZ5,BB5,BD5,BF5,BH5)*100)+(SUM(AC5,AI5,AL5,AO5,AR5,AT5,AV5,AX5,AZ5,BB5,BD5,BF5,BH5)/60*100))/100,1)*60","v":0},null,null,{"$f":"INT(((SUM(AH5,AK5,AN5)*100)+SUM(AI5,AL5,AO5)/60*100)/100)","v":0},{"$f":"MOD(((SUM(AI5,AL5,AO5)*100)+(SUM(AI5,AL5,AO5)/60*100))/100,1)*60","v":0},{"$f":"INT(((SUM(AQ5+AS5+AU5+AW5+AY5+BA5+BC5+BE5+BG5)*100)+SUM(AR5+AT5+AV5+AX5+AZ5+BB5+BD5+BF5+BH5)/60*100)/100)","v":0},{"$f":"MOD(((SUM(AR5+AT5+AV5+AX5+AZ5+BB5+BD5+BF5+BH5)*100)+(SUM(AR5+AT5+AV5+AX5+AZ5+BB5+BD5+BF5+BH5)/60*100))/100,1)*60","v":0},null,null,"",null,null,"",null,null,""]
[null,null,null,null,null,"K",{"$f":"IF(AND(E15>0,I6<>\"\",U6<>\"f\"),F14,0)","v":0},{"$f":"IF(AND(I6<>\"\",U6<>\"f\"),1,0)","v":0},{"$f":"IF(I5<>\"\",I5+1,IF(CHOOSE(WEEKDAY(Einstellungen!$A$6,2),\"Mo\",\"Di\",\"Mi\",\"Do\",\"Fr\",\"Sa\",\"So\")=J6,Einstellungen!$A$6,\"\"))","v":""},"Fr",null,null,null,null,{"$f":"HOUR(N6-K6-(M6-L6))","v":0},{"$f":"MINUTE(N6-K6-(M6-L6))","v":0},null,null,null,null,null,{"$f":"IF(OR(U6=\"U\",U6=\"k\",U6=\"B\"),$C$15,IF(S6>P6,O6-1-R6,O6-R6))","v":0},{"$f":"IF(OR(U6=\"U\",U6=\"k\",U6=\"B\"),$D$15,IF(S6>P6,P6+60-S6,P6-S6))","v":0},{"$f":"IF(OR(U6=\"U\",U6=\"K\",U6=\"B\"),0,V6)","v":0},{"$f":"IF(OR(U6=\"U\",U6=\"K\",U6=\"B\"),0,W6)","v":0},{"$f":"INT(((SUM(AB6,AH6,AK6,AN6,AQ6,AS6,AU6,AW6,AY6,BA6,BC6,BE6,BG6)*100)+(SUM(AC6,AI6,AL6,AO6,AR6,AT6,AV6,AX6,AZ6,BB6,BD6,BF6,BH6)/60*100))/100)","v":0},{"$f":"MOD(((SUM(AC6,AI6,AL6,AO6,AR6,AT6,AV6,AX6,AZ6,BB6,BD6,BF6,BH6)*100)+(SUM(AC6,AI6,AL6,AO6,AR6,AT6,AV6,AX6,AZ6,BB6,BD6,BF6,BH6)/60*100))/100,1)*60","v":0},null,null,{"$f":"INT(((SUM(AH6,AK6,AN6)*100)+SUM(AI6,AL6,AO6)/60*100)/100)","v":0},{"$f":"MOD(((SUM(AI6,AL6,AO6)*100)+(SUM(AI6,AL6,AO6)/60*100))/100,1)*60","v":0},{"$f":"INT(((SUM(AQ6+AS6+AU6+AW6+AY6+BA6+BC6+BE6+BG6)*100)+SUM(AR6+AT6+AV6+AX6+AZ6+BB6+BD6+BF6+BH6)/60*100)/100)","v":0},{"$f":"MOD(((SUM(AR6+AT6+AV6+AX6+AZ6+BB6+BD6+BF6+BH6)*100)+(SUM(AR6+AT6+AV6+AX6+AZ6+BB6+BD6+BF6+BH6)/60*100))/100,1)*60","v":0},null,null,"",null,null,"",null,null,""]
[null,null,null,null,null,"A",{"$f":"IF(AND(E16>0,I7<>\"\",U7<>\"f\"),F15,0)","v":0},null,{"$f":"IF(I6<>\"\",I6+1,IF(CHOOSE(WEEKDAY(Einstellungen!$A$6,2),\"Mo\",\"Di\",\"Mi\",\"Do\",\"Fr\",\"Sa\",\"So\")=J7,Einstellungen!$A$6,\"\"))","v":""},"Sa",null,null,null,null,{"$f":"HOUR(N7-K7-(M7-L7))","v":0},{"$f":"MINUTE(N7-K7-(M7-L7))","v":0},null,null,null,"nur dienstl. Sonderfälle!*",null,{"$f":"IF(S7>P7,O7-1-R7,O7-R7)","v":0},{"$f":"IF(S7>P7,P7+60-S7,P7-S7)","v":0},0,0,{"$f":"INT(((SUM(AB7,AH7,AK7,AN7,AQ7,AS7,AU7,AW7,AY7,BA7,BC7,BE7,BG7)*100)+(SUM(AC7,AI7,AL7,AO7,AR7,AT7,AV7,AX7,AZ7,BB7,BD7,BF7,BH7)/60*100))/100)","v":0},{"$f":"MOD(((SUM(AC7,AI7,AL7,AO7,AR7,AT7,AV7,AX7,AZ7,BB7,BD7,BF7,BH7)*100)+(SUM(AC7,AI7,AL7,AO7,AR7,AT7,AV7,AX7,AZ7,BB7,BD7,BF7,BH7)/60*100))/100,1)*60","v":0},null,null,{"$f":"INT(((SUM(AH7,AK7,AN7)*100)+SUM(AI7,AL7,AO7)/60*100)/100)","v":0},{"$f":"MOD(((SUM(AI7,AL7,AO7)*100)+(SUM(AI7,AL7,AO7)/60*100))/100,1)*60","v":0},{"$f":"INT(((SUM(AQ7+AS7+AU7+AW7+AY7+BA7+BC7+BE7+BG7)*100)+SUM(AR7+AT7+AV7+AX7+AZ7+BB7+BD7+BF7+BH7)/60*100)/100)","v":0},{"$f":"MOD(((SUM(AR7+AT7+AV7+AX7+AZ7+BB7+BD7+BF7+BH7)*100)+(SUM(AR7+AT7+AV7+AX7+AZ7+BB7+BD7+BF7+BH7)/60*100))/100,1)*60","v":0},null,null,"",null,null,"",null,null,""]
[{"$f":"IF(Einstellungen!D25>0.0005,\"Bitte Werte prüfen\",\"\")","v":""},null,null,null,null,"B",null,null,{"$f":"IF(I7<>\"\",I7+1,IF(CHOOSE(WEEKDAY(Einstellungen!$A$6,2),\"Mo\",\"Di\",\"Mi\",\"Do\",\"Fr\",\"Sa\",\"So\")=J8,Einstellungen!$A$6,\"\"))","v":""},"So",null,null,null,null,{"$f":"HOUR(N8-K8-(M8-L8))","v":0},{"$f":"MINUTE(N8-K8-(M8-L8))","v":0},null,null,null,"nur dienstl. Sonderfälle!*",null,{"$f":"IF(S8>P8,O8-1-R8,O8-R8)","v":0},{"$f":"IF(S8>P8,P8+60-S8,P8-S8)","v":0},0,0,{"$f":"INT(((SUM(AB8,AH8,AK8,AN8,AQ8,AS8,AU8,AW8,AY8,BA8,BC8,BE8,BG8)*100)+(SUM(AC8,AI8,AL8,AO8,AR8,AT8,AV8,AX8,AZ8,BB8,BD8,BF8,BH8)/60*100))/100)","v":0},{"$f":"MOD(((SUM(AC8,AI8,AL8,AO8,AR8,AT8,AV8,AX8,AZ8,BB8,BD8,BF8,BH8)*100)+(SUM(AC8,AI8,AL8,AO8,AR8,AT8,AV8,AX8,AZ8,BB8,BD8,BF8,BH8)/60*100))/100,1)*60","v":0},null,null,{"$f":"INT(((SUM(AH8,AK8,AN8)*100)+SUM(AI8,AL8,AO8)/60*100)/100)","v":0},{"$f":"MOD(((SUM(AI8,AL8,AO8)*100)+(SUM(AI8,AL8,AO8)/60*100))/100,1)*60","v":0},{"$f":"INT(((SUM(AQ8+AS8+AU8+AW8+AY8+BA8+BC8+BE8+BG8)*100)+SUM(AR8+AT8+AV8+AX8+AZ8+BB8+BD8+BF8+BH8)/60*100)/100)","v":0},{"$f":"MOD(((SUM(AR8+AT8+AV8+AX8+AZ8+BB8+BD8+BF8+BH8)*100)+(SUM(AR8+AT8+AV8+AX8+AZ8+BB8+BD8+BF8+BH8)/60*100))/100,1)*60","v":0},null,null,"",null,null,"",null,null,""]
["Meine tägl. Regelarbeitszeit:",null,null,null,null,"X",null,null,null,null,null,null,null,null,null,null,null,null,null,null,null,{"$f":"INT((60*SUM(V5:V8)+SUM(W5:W8)-W9)/60)","v":0},{"$f":"INT(60*SUM(V5:V8)+SUM(W5:W8)-60*INT((60*SUM(V5:V8)+SUM(W5:W8))/60))","v":0},{"$f":"INT((60*SUM(X5:X8)+SUM(Y5:Y8)-Y9)/60)","v":0},{"$f":"INT(60*SUM(X5:X8)+SUM(Y5:Y8)-60*INT((60*SUM(X5:X8)+SUM(Y5:Y8))/60))","v":0},{"$f":"INT((60*SUM(Z5:Z8)+SUM(AA5:AA8)-AA9)/60)","v":0},{"$f":"INT(60*SUM(Z5:Z8)+SUM(AA5:AA8)-60*INT((60*SUM(Z5:Z8)+SUM(AA5:AA8))/60))","v":0},{"$f":"INT((60*SUM(AB5:AB8)+SUM(AC5:AC8)-AC9)/60)","v":0},{"$f":"INT(60*SUM(AB5:AB8)+SUM(AC5:AC8)-60*INT((60*SUM(AB5:AB8)+SUM(AC5:AC8))/60))","v":0},{"$f":"INT((60*SUM(AD5:AD8)+SUM(AE5:AE8)-AE9)/60)","v":0},{"$f":"INT(60*SUM(AD5:AD8)+SUM(AE5:AE8)-60*INT((60*SUM(AD5:AD8)+SUM(AE5:AE8))/60))","v":0},{"$f":"INT((60*SUM(AF5:AF8)+SUM(AG5:AG8)-AG9)/60)","v":0},{"$f":"INT(60*SUM(AF5:AF8)+SUM(AG5:AG8)-60*INT((60*SUM(AF5:AF8)+SUM(AG5:AG8))/60))","v":0},{"$f":"INT((60*SUM(AH5:AH8)+SUM(AI5:AI8)-AI9)/60)","v":0},{"$f":"INT(60*SUM(AH5:AH8)+SUM(AI5:AI8)-60*INT((60*SUM(AH5:AH8)+SUM(AI5:AI8))/60))","v":0},null,{"$f":"INT((60*SUM(AK5:AK8)+SUM(AL5:AL8)-AL9)/60)","v":0},{"$f":"INT(60*SUM(AK5:AK8)+SUM(AL5:AL8)-60*INT((60*SUM(AK5:AK8)+SUM(AL5:AL8))/60))","v":0},null,{"$f":"INT((60*SUM(AN5:AN8)+SUM(AO5:AO8)-AO9)/60)","v":0},{"$f":"INT(60*SUM(AN5:AN8)+SUM(AO5:AO8)-60*INT((60*SUM(AN5:AN8)+SUM(AO5:AO8))/60))","v":0},null,{"$f":"INT((60*SUM(AQ5:AQ8)+SUM(AR5:AR8)-AR9)/60)","v":0},{"$f":"INT(60*SUM(AQ5:AQ8)+SUM(AR5:AR8)-60*INT((60*SUM(AQ5:AQ8)+SUM(AR5:AR8))/60))","v":0},{"$f":"INT((60*SUM(AS5:AS8)+SUM(AT5:AT8)-AT9)/60)","v":0},{"$f":"INT(60*SUM(AS5:AS8)+SUM(AT5:AT8)-60*INT((60*SUM(AS5:AS8)+SUM(AT5:AT8))/60))","v":0},{"$f":"INT((60*SUM(AU5:AU8)+SUM(AV5:AV8)-AV9)/60)","v":0},{"$f":"INT(60*SUM(AU5:AU8)+SUM(AV5:AV8)-60*INT((60*SUM(AU5:AU8)+SUM(AV5:AV8))/60))","v":0},{"$f":"INT((60*SUM(AW5:AW8)+SUM(AX5:AX8)-AX9)/60)","v":0},{"$f":"INT(60*SUM(AW5:AW8)+SUM(AX5:AX8)-60*INT((60*SUM(AW5:AW8)+SUM(AX5:AX8))/60))","v":0},{"$f":"INT((60*SUM(AY5:AY8)+SUM(AZ5:AZ8)-AZ9)/60)","v":0},{"$f":"INT(60*SUM(AY5:AY8)+SUM(AZ5:AZ8)-60*INT((60*SUM(AY5:AY8)+SUM(AZ5:AZ8))/60))","v":0},{"$f":"INT((60*SUM(BA5:BA8)+SUM(BB5:BB8)-BB9)/60)","v":0},{"$f":"INT(60*SUM(BA5:BA8)+SUM(BB5:BB8)-60*INT((60*SUM(BA5:BA8)+SUM(BB5:BB8))/60))","v":0},{"$f":"INT((60*SUM(BC5:BC8)+SUM(BD5:BD8)-BD9)/60)","v":0},{"$f":"INT(60*SUM(BC5:BC8)+SUM(BD5:BD8)-60*INT((60*SUM(BC5:BC8)+SUM(BD5:BD8))/60))","v":0},{"$f":"INT((60*SUM(BE5:BE8)+SUM(BF5:BF8)-BF9)/60)","v":0},{"$f":"INT(60*SUM(BE5:BE8)+SUM(BF5:BF8)-60*INT((60*SUM(BE5:BE8)+SUM(BF5:BF8))/60))","v":0},{"$f":"INT((60*SUM(BG5:BG8)+SUM(BH5:BH8)-BH9)/60)","v":0},{"$f":"INT(60*SUM(BG5:BG8)+SUM(BH5:BH8)-60*INT((60*SUM(BG5:BG8)+SUM(BH5:BH8))/60))","v":0}]
[null,null,null,null,{"$f":"5-COUNTIF(E11:E15,0)","v":5},{"$f":"(SUM(C11:C15)*60+SUM(D11:D15))/E10","v":474}]
["Mo",{"$f":"IF(E11=0,\"frei\",\"\")","v":""},{"$f":"SUM(Einstellungen!C19)","v":7},{"$f":"SUM(Einstellungen!D19)","v":54},{"$f":"C11*60+D11","v":474},{"$f":"E11/$F$10","v":1},{"$f":"IF(AND(E11>0,I11<>\"\",U11<>\"f\"),F11,0)","v":0},{"$f":"IF(AND(I11<>\"\",U11<>\"f\"),1,0)","v":0},{"$f":"IF(I8<>\"\",I8+1,IF(CHOOSE(WEEKDAY(Einstellungen!$A$6,2),\"Mo\",\"Di\",\"Mi\",\"Do\",\"Fr\",\"Sa\",\"So\")=J11,Einstellungen!$A$6,\"\"))","v":""},"Mo",null,null,null,null,{"$f":"HOUR(N11-K11-(M11-L11))","v":0},{"$f":"MINUTE(N11-K11-(M11-L11))","v":0},null,null,null,null,null,{"$f":"IF(OR(U11=\"U\",U11=\"k\",U11=\"B\"),$C$11,IF(S11>P11,O11-1-R11,O11-R11))","v":0},{"$f":"IF(OR(U11=\"U\",U11=\"k\",U11=\"B\"),$D$11,IF(S11>P11,P11+60-S11,P11-S11))","v":0},{"$f":"IF(OR(U11=\"U\",U11=\"K\",U11=\"B\"),0,V11)","v":0},{"$f":"IF(OR(U11=\"U\",U11=\"K\",U11=\"B\"),0,W11)","v":0},{"$f":"INT(((SUM(AB11,AH11,AK11,AN11,AQ11,AS11,AU11,AW11,AY11,BA11,BC11,BE11,BG11)*100)+(SUM(AC11,AI11,AL11,AO11,AR11,AT11,AV11,AX11,AZ11,BB11,BD11,BF11,BH11)/60*100))/100)","v":0},{"$f":"MOD(((SUM(AC11,AI11,AL11,AO11,AR11,AT11,AV11,AX11,AZ11,BB11,BD11,BF11,BH11)*100)+(SUM(AC11,AI11,AL11,AO11,AR11,AT11,AV11,AX11,AZ11,BB11,BD11,BF11,BH11)/60*100))/100,1)*60","v":0},null,null,{"$f":"INT(((SUM(AH11,AK11,AN11)*100)+SUM(AI11,AL11,AO11)/60*100)/100)","v":0},{"$f":"MOD(((SUM(AI11,AL11,AO11)*100)+(SUM(AI11,AL11,AO11)/60*100))/100,1)*60","v":0},{"$f":"INT(((SUM(AQ11+AS11+AU11+AW11+AY11+BA11+BC11+BE11+BG11)*100)+SUM(AR11+AT11+AV11+AX11+AZ11+BB11+BD11+BF11+BH11)/60*100)/100)","v":0},{"$f":"MOD(((SUM(AR11+AT11+AV11+AX11+AZ11+BB11+BD11+BF11+BH11)*100)+(SUM(AR11+AT11+AV11+AX11+AZ11+BB11+BD11+BF11+BH11)/60*100))/100,1)*60","v":0},null,null,"",null,null,"",null,null,""]
["Di",{"$f":"IF(E12=0,\"frei\",\"\")","v":""},{"$f":"SUM(Einstellungen!C20)","v":7},{"$f":"SUM(Einstellungen!D20)","v":54},{"$f":"C12*60+D12","v":474},{"$f":"E12/$F$10","v":1},{"$f":"IF(AND(E12>0,I12<>\"\",U12<>\"f\"),F12,0)","v":0},{"$f":"IF(AND(I12<>\"\",U12<>\"f\"),1,0)","v":0},{"$f":"IF(I11<>\"\",I11+1,IF(CHOOSE(WEEKDAY(Einstellungen!$A$6,2),\"Mo\",\"Di\",\"Mi\",\"Do\",\"Fr\",\"Sa\",\"So\")=J12,Einstellungen!$A$6,\"\"))","v":""},"Di",null,null,null,null,0,0,null,null,null,null,null,{"$f":"IF(OR(U12=\"U\",U12=\"k\",U12=\"B\"),$C$12,IF(S12>P12,O12-1-R12,O12-R12))","v":0},{"$f":"IF(OR(U12=\"U\",U12=\"k\",U12=\"B\"),$D$12,IF(S12>P12,P12+60-S12,P12-S12))","v":0},0,0,0,0,null,null,0,0,0,0,null,null,"",null,null,"",null,null,""]
["Mi",{"$f":"IF(E13=0,\"frei\",\"\")","v":""},{"$f":"SUM(Einstellungen!C21)","v":7},{"$f":"SUM(Einstellungen!D21)","v":54},{"$f":"C13*60+D13","v":474},{"$f":"E13/$F$10","v":1},{"$f":"IF(AND(E13>0,I13<>\"\",U13<>\"f\"),F13,0)","v":1},{"$f":"IF(AND(I13<>\"\",U13<>\"f\"),1,0)","v":1},{"$f":"IF(I12<>\"\",I12+1,IF(CHOOSE(WEEKDAY(Einstellungen!$A$6,2),\"Mo\",\"Di\",\"Mi\",\"Do\",\"Fr\",\"Sa\",\"So\")=J13,Einstellungen!$A$6,\"\"))","v":"2026-04-01"},"Mi",null,null,null,null,0,0,null,null,null,null,null,{"$f":"IF(OR(U13=\"U\",U13=\"k\",U13=\"B\"),$C$13,IF(S13>P13,O13-1-R13,O13-R13))","v":0},{"$f":"IF(OR(U13=\"U\",U13=\"k\",U13=\"B\"),$D$13,IF(S13>P13,P13+60-S13,P13-S13))","v":0},0,0,0,0,null,null,0,0,0,0,null,null,"",null,null,"",null,null,""]
["Do",{"$f":"IF(E14=0,\"frei\",\"\")","v":""},{"$f":"SUM(Einstellungen!C22)","v":7},{"$f":"SUM(Einstellungen!D22)","v":54},{"$f":"C14*60+D14","v":474},{"$f":"E14/$F$10","v":1},{"$f":"IF(AND(E14>0,I14<>\"\",U14<>\"f\"),F14,0)","v":1},{"$f":"IF(AND(I14<>\"\",U14<>\"f\"),1,0)","v":1},{"$f":"IF(I13<>\"\",I13+1,IF(CHOOSE(WEEKDAY(Einstellungen!$A$6,2),\"Mo\",\"Di\",\"Mi\",\"Do\",\"Fr\",\"Sa\",\"So\")=J14,Einstellungen!$A$6,\"\"))","v":"2026-04-02"},"Do",null,null,null,null,0,0,null,null,null,null,null,{"$f":"IF(OR(U14=\"U\",U14=\"k\",U14=\"B\"),$C$14,IF(S14>P14,O14-1-R14,O14-R14))","v":0},{"$f":"IF(OR(U14=\"U\",U14=\"k\",U14=\"B\"),$D$14,IF(S14>P14,P14+60-S14,P14-S14))","v":0},0,0,0,0,null,null,0,0,0,0,null,null,"",null,null,"",null,null,""]
["Fr",{"$f":"IF(E15=0,\"frei\",\"\")","v":""},{"$f":"SUM(Einstellungen!C23)","v":7},{"$f":"SUM(Einstellungen!D23)","v":54},{"$f":"C15*60+D15","v":474},{"$f":"E15/$F$10","v":1},{"$f":"IF(AND(E15>0,I15<>\"\",U15<>\"f\"),F15,0)","v":0},{"$f":"IF(AND(I15<>\"\",U15<>\"f\"),1,0)","v":0},{"$f":"I14+1","v":"2026-04-03"},"Fr",null,null,null,null,0,0,null,null,null,"nur dienstl. Sonderfälle!*","F",{"$f":"IF(OR(U15=\"U\",U15=\"k\",U15=\"B\"),$C$15,IF(S15>P15,O15-1-R15,O15-R15))","v":0},{"$f":"IF(OR(U15=\"U\",U15=\"k\",U15=\"B\"),$D$15,IF(S15>P15,P15+60-S15,P15-S15))","v":0},0,0,0,0,null,null,0,0,0,0,null,null,"",null,null,"",null,null,""]
[{"$f":"Einstellungen!$L$1","v":"Hinweise:"},null,null,null,null,null,null,null,{"$f":"I15+1","v":"2026-04-04"},"Sa",null,null,null,null,0,0,null,null,null,"nur dienstl. Sonderfälle!*",null,{"$f":"IF(S16>P16,O16-1-R16,O16-R16)","v":0},{"$f":"IF(S16>P16,P16+60-S16,P16-S16)","v":0},0,0,0,0,null,null,0,0,0,0,null,null,"",null,null,"",null,null,""]
[{"$f":"Einstellungen!$L$2","v":"I Beschäftigte mit 39,5 Std-Woche"},null,null,null,null,null,null,null,{"$f":"I16+1","v":"2026-04-05"},"So",null,null,null,null,0,0,null,null,null,"nur dienstl. Sonderfälle!*",null,{"$f":"IF(S17>P17,O17-1-R17,O17-R17)","v":0},{"$f":"IF(S17>P17,P17+60-S17,P17-S17)","v":0},0,0,0,0,null,null,0,0,0,0,null,null,"",null,null,"",null,null,""]
[{"$f":"Einstellungen!$L$3","v":""},null,{"$f":"Einstellungen!$N$3","v":"Beschäftigungsumfang"},null,null,null,null,null,null,null,null,null,null,null,null,null,null,null,null,null,null,{"$f":"INT((60*SUM(V11:V17)+SUM(W11:W17)-W18)/60)","v":0},{"$f":"INT(60*SUM(V11:V17)+SUM(W11:W17)-60*INT((60*SUM(V11:V17)+SUM(W11:W17))/60))","v":0},{"$f":"INT((60*SUM(X11:X17)+SUM(Y11:Y17)-Y18)/60)","v":0},{"$f":"INT(60*SUM(X11:X17)+SUM(Y11:Y17)-60*INT((60*SUM(X11:X17)+SUM(Y11:Y17))/60))","v":0},{"$f":"INT((60*SUM(Z11:Z17)+SUM(AA11:AA17)-AA18)/60)","v":0},{"$f":"INT(60*SUM(Z11:Z17)+SUM(AA11:AA17)-60*INT((60*SUM(Z11:Z17)+SUM(AA11:AA17))/60))","v":0},{"$f":"INT((60*SUM(AB11:AB17)+SUM(AC11:AC17)-AC18)/60)","v":0},{"$f":"INT(60*SUM(AB11:AB17)+SUM(AC11:AC17)-60*INT((60*SUM(AB11:AB17)+SUM(AC11:AC17))/60))","v":0},{"$f":"INT((60*SUM(AD11:AD17)+SUM(AE11:AE17)-AE18)/60)","v":0},{"$f":"INT(60*SUM(AD11:AD17)+SUM(AE11:AE17)-60*INT((60*SUM(AD11:AD17)+SUM(AE11:AE17))/60))","v":0},{"$f":"INT((60*SUM(AF11:AF17)+SUM(AG11:AG17)-AG18)/60)","v":0},{"$f":"INT(60*SUM(AF11:AF17)+SUM(AG11:AG17)-60*INT((60*SUM(AF11:AF17)+SUM(AG11:AG17))/60))","v":0},{"$f":"INT((60*SUM(AH11:AH17)+SUM(AI11:AI17)-AI18)/60)","v":0},{"$f":"INT(60*SUM(AH11:AH17)+SUM(AI11:AI17)-60*INT((60*SUM(AH11:AH17)+SUM(AI11:AI17))/60))","v":0},null,{"$f":"INT((60*SUM(AK11:AK17)+SUM(AL11:AL17)-AL18)/60)","v":0},{"$f":"INT(60*SUM(AK11:AK17)+SUM(AL11:AL17)-60*INT((60*SUM(AK11:AK17)+SUM(AL11:AL17))/60))","v":0},null,{"$f":"INT((60*SUM(AN11:AN17)+SUM(AO11:AO17)-AO18)/60)","v":0},{"$f":"INT(60*SUM(AN11:AN17)+SUM(AO11:AO17)-60*INT((60*SUM(AN11:AN17)+SUM(AO11:AO17))/60))","v":0},null,{"$f":"INT((60*SUM(AQ11:AQ17)+SUM(AR11:AR17)-AR18)/60)","v":0},{"$f":"INT(60*SUM(AQ11:AQ17)+SUM(AR11:AR17)-60*INT((60*SUM(AQ11:AQ17)+SUM(AR11:AR17))/60))","v":0},{"$f":"INT((60*SUM(AS11:AS17)+SUM(AT11:AT17)-AT18)/60)","v":0},{"$f":"INT(60*SUM(AS11:AS17)+SUM(AT11:AT17)-60*INT((60*SUM(AS11:AS17)+SUM(AT11:AT17))/60))","v":0},{"$f":"INT((60*SUM(AU11:AU17)+SUM(AV11:AV17)-AV18)/60)","v":0},{"$f":"INT(60*SUM(AU11:AU17)+SUM(AV11:AV17)-60*INT((60*SUM(AU11:AU17)+SUM(AV11:AV17))/60))","v":0},{"$f":"INT((60*SUM(AW11:AW17)+SUM(AX11:AX17)-AX18)/60)","v":0},{"$f":"INT(60*SUM(AW11:AW17)+SUM(AX11:AX17)-60*INT((60*SUM(AW11:AW17)+SUM(AX11:AX17))/60))","v":0},{"$f":"INT((60*SUM(AY11:AY17)+SUM(AZ11:AZ17)-AZ18)/60)","v":0},{"$f":"INT(60*SUM(AY11:AY17)+SUM(AZ11:AZ17)-60*INT((60*SUM(AY11:AY17)+SUM(AZ11:AZ17))/60))","v":0},{"$f":"INT((60*SUM(BA11:BA17)+SUM(BB11:BB17)-BB18)/60)","v":0},{"$f":"INT(60*SUM(BA11:BA17)+SUM(BB11:BB17)-60*INT((60*SUM(BA11:BA17)+SUM(BB11:BB17))/60))","v":0},{"$f":"INT((60*SUM(BC11:BC17)+SUM(BD11:BD17)-BD18)/60)","v":0},{"$f":"INT(60*SUM(BC11:BC17)+SUM(BD11:BD17)-60*INT((60*SUM(BC11:BC17)+SUM(BD11:BD17))/60))","v":0},{"$f":"INT((60*SUM(BE11:BE17)+SUM(BF11:BF17)-BF18)/60)","v":0},{"$f":"INT(60*SUM(BE11:BE17)+SUM(BF11:BF17)-60*INT((60*SUM(BE11:BE17)+SUM(BF11:BF17))/60))","v":0},{"$f":"INT((60*SUM(BG11:BG17)+SUM(BH11:BH17)-BH18)/60)","v":0},{"$f":"INT(60*SUM(BG11:BG17)+SUM(BH11:BH17)-60*INT((60*SUM(BG11:BG17)+SUM(BH11:BH17))/60))","v":0}]
[]
[{"$f":"Einstellungen!$L$4","v":"5 Tage-Woche"},null,{"$f":"Einstellungen!$N$4","v":1},{"$f":"Einstellungen!$O$4","v":0.75},null,{"$f":"Einstellungen!$Q$4","v":0.5},{"$f":"IF(AND(E11>0,I20<>\"\",U20<>\"f\"),F11,0)","v":0},{"$f":"IF(AND(I20<>\"\",U20<>\"f\"),1,0)","v":0},{"$f":"I17+1","v":"2026-04-06"},"Mo",null,null,null,null,{"$f":"HOUR(N20-K20-(M20-L20))","v":0},{"$f":"MINUTE(N20-K20-(M20-L20))","v":0},null,null,null,"nur dienstl. Sonderfälle!*","F",{"$f":"IF(OR(U20=\"U\",U20=\"k\",U20=\"B\"),$C$11,IF(S20>P20,O20-1-R20,O20-R20))","v":0},{"$f":"IF(OR(U20=\"U\",U20=\"k\",U20=\"B\"),$D$11,IF(S20>P20,P20+60-S20,P20-S20))","v":0},{"$f":"IF(OR(U20=\"U\",U20=\"K\",U20=\"B\"),0,V20)","v":0},{"$f":"IF(OR(U20=\"U\",U20=\"K\",U20=\"B\"),0,W20)","v":0},{"$f":"INT(((SUM(AB20,AH20,AK20,AN20,AQ20,AS20,AU20,AW20,AY20,BA20,BC20,BE20,BG20)*100)+(SUM(AC20,AI20,AL20,AO20,AR20,AT20,AV20,AX20,AZ20,BB20,BD20,BF20,BH20)/60*100))/100)","v":0},{"$f":"MOD(((SUM(AC20,AI20,AL20,AO20,AR20,AT20,AV20,AX20,AZ20,BB20,BD20,BF20,BH20)*100)+(SUM(AC20,AI20,AL20,AO20,AR20,AT20,AV20,AX20,AZ20,BB20,BD20,BF20,BH20)/60*100))/100,1)*60","v":0},null,null,{"$f":"INT(((SUM(AH20,AK20,AN20)*100)+SUM(AI20,AL20,AO20)/60*100)/100)","v":0},{"$f":"MOD(((SUM(AI20,AL20,AO20)*100)+(SUM(AI20,AL20,AO20)/60*100))/100,1)*60","v":0},{"$f":"INT(((SUM(AQ20+AS20+AU20+AW20+AY20+BA20+BC20+BE20+BG20)*100)+SUM(AR20+AT20+AV20+AX20+AZ20+BB20+BD20+BF20+BH20)/60*100)/100)","v":0},{"$f":"MOD(((SUM(AR20+AT20+AV20+AX20+AZ20+BB20+BD20+BF20+BH20)*100)+(SUM(AR20+AT20+AV20+AX20+AZ20+BB20+BD20+BF20+BH20)/60*100))/100,1)*60","v":0},null,null,"",null,null,"",null,null,""]
[{"$f":"Einstellungen!$L$5","v":""},null," "," ",null," ",{"$f":"IF(AND(E12>0,I21<>\"\",U21<>\"f\"),F12,0)","v":1},{"$f":"IF(AND(I21<>\"\",U21<>\"f\"),1,0)","v":1},{"$f":"I20+1","v":"2026-04-07"},"Di",null,null,null,null,0,0,null,null,null,null,null,{"$f":"IF(OR(U21=\"U\",U21=\"k\",U21=\"B\"),$C$12,IF(S21>P21,O21-1-R21,O21-R21))","v":0},{"$f":"IF(OR(U21=\"U\",U21=\"k\",U21=\"B\"),$D$12,IF(S21>P21,P21+60-S21,P21-S21))","v":0},0,0,0,0,null,null,0,0,0,0,null,null,"",null,null,"",null,null,""]
[{"$f":"Einstellungen!$L$6","v":"tägliche Regel-"},null," "," ",null," ",{"$f":"IF(AND(E13>0,I22<>\"\",U22<>\"f\"),F13,0)","v":1},{"$f":"IF(AND(I22<>\"\",U22<>\"f\"),1,0)","v":1},{"$f":"I21+1","v":"2026-04-08"},"Mi",null,null,null,null,0,0,null,null,null,null,null,{"$f":"IF(OR(U22=\"U\",U22=\"k\",U22=\"B\"),$C$13,IF(S22>P22,O22-1-R22,O22-R22))","v":0},{"$f":"IF(OR(U22=\"U\",U22=\"k\",U22=\"B\"),$D$13,IF(S22>P22,P22+60-S22,P22-S22))","v":0},0,0,0,0,null,null,0,0,0,0,null,null,"",null,null,"",null,null,""]
[{"$f":"Einstellungen!$L$7","v":"arbeitszeit für"},null,null,null,null,null,{"$f":"IF(AND(E14>0,I23<>\"\",U23<>\"f\"),F14,0)","v":1},{"$f":"IF(AND(I23<>\"\",U23<>\"f\"),1,0)","v":1},"2026-04-09","Do",null,null,null,null,0,0,null,null,null,null,null,{"$f":"IF(OR(U23=\"U\",U23=\"k\",U23=\"B\"),$C$14,IF(S23>P23,O23-1-R23,O23-R23))","v":0},{"$f":"IF(OR(U23=\"U\",U23=\"k\",U23=\"B\"),$D$14,IF(S23>P23,P23+60-S23,P23-S23))","v":0},0,0,0,0,null,null,0,0,0,0,null,null,"",null,null,"",null,null,""]
[{"$f":"Einstellungen!$L$8","v":"Wochenfeier-"},null,null,null,null,null,{"$f":"IF(AND(E15>0,I24<>\"\",U24<>\"f\"),F15,0)","v":1},{"$f":"IF(AND(I24<>\"\",U24<>\"f\"),1,0)","v":1},"2026-04-10","Fr",null,null,null,null,0,0,null,null,null,null,null,{"$f":"IF(OR(U24=\"U\",U24=\"k\",U24=\"B\"),$C$15,IF(S24>P24,O24-1-R24,O24-R24))","v":0},{"$f":"IF(OR(U24=\"U\",U24=\"k\",U24=\"B\"),$D$15,IF(S24>P24,P24+60-S24,P24-S24))","v":0},0,0,0,0,null,null,0,0,0,0,null,null,"",null,null,"",null,null,""]
[{"$f":"Einstellungen!$L$9","v":"tage, bei Urlaub"},null,null,null,null,null,null,null,"2026-04-11","Sa",null,null,null,null,0,0,null,null,null,"nur dienstl. Sonderfälle!*",null,{"$f":"IF(S25>P25,O25-1-R25,O25-R25)","v":0},{"$f":"IF(S25>P25,P25+60-S25,P25-S25)","v":0},0,0,0,0,null,null,0,0,0,0,null,null,"",null,null,"",null,null,""]
[{"$f":"Einstellungen!$L$10","v":"oder Krankheit"},null,null,null,null,null,null,null,"2026-04-12","So",null,null,null,null,0,0,null,null,null,"nur dienstl. Sonderfälle!*",null,{"$f":"IF(S26>P26,O26-1-R26,O26-R26)","v":0},{"$f":"IF(S26>P26,P26+60-S26,P26-S26)","v":0},0,0,0,0,null,null,0,0,0,0,null,null,"",null,null,"",null,null,""]
[{"$f":"Einstellungen!$L$11","v":"Mo-Fr  "},{"$f":"Einstellungen!$M$11","v":"Std.Min"},{"$f":"Einstellungen!$N$11","v":" 7.54"},{"$f":"Einstellungen!$O$11","v":" 5.56"},null,{"$f":"Einstellungen!$Q$11","v":" 3.57"},null,null,null,null,null,null,null,null,null,null,null,null,null,null,null,{"$f":"INT((60*SUM(V20:V26)+SUM(W20:W26)-W27)/60)","v":0},{"$f":"INT(60*SUM(V20:V26)+SUM(W20:W26)-60*INT((60*SUM(V20:V26)+SUM(W20:W26))/60))","v":0},{"$f":"INT((60*SUM(X20:X26)+SUM(Y20:Y26)-Y27)/60)","v":0},{"$f":"INT(60*SUM(X20:X26)+SUM(Y20:Y26)-60*INT((60*SUM(X20:X26)+SUM(Y20:Y26))/60))","v":0},{"$f":"INT((60*SUM(Z20:Z26)+SUM(AA20:AA26)-AA27)/60)","v":0},{"$f":"INT(60*SUM(Z20:Z26)+SUM(AA20:AA26)-60*INT((60*SUM(Z20:Z26)+SUM(AA20:AA26))/60))","v":0},{"$f":"INT((60*SUM(AB20:AB26)+SUM(AC20:AC26)-AC27)/60)","v":0},{"$f":"INT(60*SUM(AB20:AB26)+SUM(AC20:AC26)-60*INT((60*SUM(AB20:AB26)+SUM(AC20:AC26))/60))","v":0},{"$f":"INT((60*SUM(AD20:AD26)+SUM(AE20:AE26)-AE27)/60)","v":0},{"$f":"INT(60*SUM(AD20:AD26)+SUM(AE20:AE26)-60*INT((60*SUM(AD20:AD26)+SUM(AE20:AE26))/60))","v":0},{"$f":"INT((60*SUM(AF20:AF26)+SUM(AG20:AG26)-AG27)/60)","v":0},{"$f":"INT(60*SUM(AF20:AF26)+SUM(AG20:AG26)-60*INT((60*SUM(AF20:AF26)+SUM(AG20:AG26))/60))","v":0},{"$f":"INT((60*SUM(AH20:AH26)+SUM(AI20:AI26)-AI27)/60)","v":0},{"$f":"INT(60*SUM(AH20:AH26)+SUM(AI20:AI26)-60*INT((60*SUM(AH20:AH26)+SUM(AI20:AI26))/60))","v":0},null,{"$f":"INT((60*SUM(AK20:AK26)+SUM(AL20:AL26)-AL27)/60)","v":0},{"$f":"INT(60*SUM(AK20:AK26)+SUM(AL20:AL26)-60*INT((60*SUM(AK20:AK26)+SUM(AL20:AL26))/60))","v":0},null,{"$f":"INT((60*SUM(AN20:AN26)+SUM(AO20:AO26)-AO27)/60)","v":0},{"$f":"INT(60*SUM(AN20:AN26)+SUM(AO20:AO26)-60*INT((60*SUM(AN20:AN26)+SUM(AO20:AO26))/60))","v":0},null,{"$f":"INT((60*SUM(AQ20:AQ26)+SUM(AR20:AR26)-AR27)/60)","v":0},{"$f":"INT(60*SUM(AQ20:AQ26)+SUM(AR20:AR26)-60*INT((60*SUM(AQ20:AQ26)+SUM(AR20:AR26))/60))","v":0},{"$f":"INT((60*SUM(AS20:AS26)+SUM(AT20:AT26)-AT27)/60)","v":0},{"$f":"INT(60*SUM(AS20:AS26)+SUM(AT20:AT26)-60*INT((60*SUM(AS20:AS26)+SUM(AT20:AT26))/60))","v":0},{"$f":"INT((60*SUM(AU20:AU26)+SUM(AV20:AV26)-AV27)/60)","v":0},{"$f":"INT(60*SUM(AU20:AU26)+SUM(AV20:AV26)-60*INT((60*SUM(AU20:AU26)+SUM(AV20:AV26))/60))","v":0},{"$f":"INT((60*SUM(AW20:AW26)+SUM(AX20:AX26)-AX27)/60)","v":0},{"$f":"INT(60*SUM(AW20:AW26)+SUM(AX20:AX26)-60*INT((60*SUM(AW20:AW26)+SUM(AX20:AX26))/60))","v":0},{"$f":"INT((60*SUM(AY20:AY26)+SUM(AZ20:AZ26)-AZ27)/60)","v":0},{"$f":"INT(60*SUM(AY20:AY26)+SUM(AZ20:AZ26)-60*INT((60*SUM(AY20:AY26)+SUM(AZ20:AZ26))/60))","v":0},{"$f":"INT((60*SUM(BA20:BA26)+SUM(BB20:BB26)-BB27)/60)","v":0},{"$f":"INT(60*SUM(BA20:BA26)+SUM(BB20:BB26)-60*INT((60*SUM(BA20:BA26)+SUM(BB20:BB26))/60))","v":0},{"$f":"INT((60*SUM(BC20:BC26)+SUM(BD20:BD26)-BD27)/60)","v":0},{"$f":"INT(60*SUM(BC20:BC26)+SUM(BD20:BD26)-60*INT((60*SUM(BC20:BC26)+SUM(BD20:BD26))/60))","v":0},{"$f":"INT((60*SUM(BE20:BE26)+SUM(BF20:BF26)-BF27)/60)","v":0},{"$f":"INT(60*SUM(BE20:BE26)+SUM(BF20:BF26)-60*INT((60*SUM(BE20:BE26)+SUM(BF20:BF26))/60))","v":0},{"$f":"INT((60*SUM(BG20:BG26)+SUM(BH20:BH26)-BH27)/60)","v":0},{"$f":"INT(60*SUM(BG20:BG26)+SUM(BH20:BH26)-60*INT((60*SUM(BG20:BG26)+SUM(BH20:BH26))/60))","v":0}]
[" "," "," "," ",null," "]
[{"$f":"Einstellungen!$L$13","v":"Wochen"},null," "," ",null," ",{"$f":"IF(AND(E11>0,I29<>\"\",U29<>\"f\"),F11,0)","v":1},{"$f":"IF(AND(I29<>\"\",U29<>\"f\"),1,0)","v":1},{"$f":"I26+1","v":"2026-04-13"},"Mo",null,null,null,null,{"$f":"HOUR(N29-K29-(M29-L29))","v":0},{"$f":"MINUTE(N29-K29-(M29-L29))","v":0},null,null,null,null,null,{"$f":"IF(OR(U29=\"U\",U29=\"k\",U29=\"B\"),$C$11,IF(S29>P29,O29-1-R29,O29-R29))","v":0},{"$f":"IF(OR(U29=\"U\",U29=\"k\",U29=\"B\"),$D$11,IF(S29>P29,P29+60-S29,P29-S29))","v":0},{"$f":"IF(OR(U29=\"U\",U29=\"K\",U29=\"B\"),0,V29)","v":0},{"$f":"IF(OR(U29=\"U\",U29=\"K\",U29=\"B\"),0,W29)","v":0},{"$f":"INT(((SUM(AB29,AH29,AK29,AN29,AQ29,AS29,AU29,AW29,AY29,BA29,BC29,BE29,BG29)*100)+(SUM(AC29,AI29,AL29,AO29,AR29,AT29,AV29,AX29,AZ29,BB29,BD29,BF29,BH29)/60*100))/100)","v":0},{"$f":"MOD(((SUM(AC29,AI29,AL29,AO29,AR29,AT29,AV29,AX29,AZ29,BB29,BD29,BF29,BH29)*100)+(SUM(AC29,AI29,AL29,AO29,AR29,AT29,AV29,AX29,AZ29,BB29,BD29,BF29,BH29)/60*100))/100,1)*60","v":0},null,null,{"$f":"INT(((SUM(AH29,AK29,AN29)*100)+SUM(AI29,AL29,AO29)/60*100)/100)","v":0},{"$f":"MOD(((SUM(AI29,AL29,AO29)*100)+(SUM(AI29,AL29,AO29)/60*100))/100,1)*60","v":0},{"$f":"INT(((SUM(AQ29+AS29+AU29+AW29+AY29+BA29+BC29+BE29+BG29)*100)+SUM(AR29+AT29+AV29+AX29+AZ29+BB29+BD29+BF29+BH29)/60*100)/100)","v":0},{"$f":"MOD(((SUM(AR29+AT29+AV29+AX29+AZ29+BB29+BD29+BF29+BH29)*100)+(SUM(AR29+AT29+AV29+AX29+AZ29+BB29+BD29+BF29+BH29)/60*100))/100,1)*60","v":0},null,null,"",null,null,"",null,null,""]
[{"$f":"CONCATENATE(Einstellungen!$L$14,\" \",Einstellungen!$M$14)","v":"Arbeitzeit Std.Min"},null,{"$f":"Einstellungen!$N$14","v":"39.30"},{"$f":"Einstellungen!$O$14","v":"29.38"},null,{"$f":"Einstellungen!$Q$14","v":"19.45"},{"$f":"IF(AND(E12>0,I30<>\"\",U30<>\"f\"),F12,0)","v":1},{"$f":"IF(AND(I30<>\"\",U30<>\"f\"),1,0)","v":1},{"$f":"I29+1","v":"2026-04-14"},"Di",null,null,null,null,0,0,null,null,null,null,null,{"$f":"IF(OR(U30=\"U\",U30=\"k\",U30=\"B\"),$C$12,IF(S30>P30,O30-1-R30,O30-R30))","v":0},{"$f":"IF(OR(U30=\"U\",U30=\"k\",U30=\"B\"),$D$12,IF(S30>P30,P30+60-S30,P30-S30))","v":0},0,0,0,0,null,null,0,0,0,0,null,null,"",null,null,"",null,null,""]
[{"$f":"Einstellungen!$L$15","v":"max.Übertrag auf das"},null,null," ",null," ",{"$f":"IF(AND(E13>0,I31<>\"\",U31<>\"f\"),F13,0)","v":1},{"$f":"IF(AND(I31<>\"\",U31<>\"f\"),1,0)","v":1},{"$f":"I30+1","v":"2026-04-15"},"Mi",null,null,null,null,0,0,null,null,null,null,null,{"$f":"IF(OR(U31=\"U\",U31=\"k\",U31=\"B\"),$C$13,IF(S31>P31,O31-1-R31,O31-R31))","v":0},{"$f":"IF(OR(U31=\"U\",U31=\"k\",U31=\"B\"),$D$13,IF(S31>P31,P31+60-S31,P31-S31))","v":0},0,0,0,0,null,null,0,0,0,0,null,null,"",null,null,"",null,null,""]
[{"$f":"Einstellungen!$L$16","v":"Folgejahr Std.Min"},null,{"$f":"Einstellungen!$N$16","v":"39.30"},{"$f":"Einstellungen!$O$16","v":"39.30"},null,{"$f":"Einstellungen!$Q$16","v":"39.30"},{"$f":"IF(AND(E14>0,I32<>\"\",U32<>\"f\"),F14,0)","v":1},{"$f":"IF(AND(I32<>\"\",U32<>\"f\"),1,0)","v":1},"2026-04-16","Do",null,null,null,null,0,0,null,null,null,null,null,{"$f":"IF(OR(U32=\"U\",U32=\"k\",U32=\"B\"),$C$14,IF(S32>P32,O32-1-R32,O32-R32))","v":0},{"$f":"IF(OR(U32=\"U\",U32=\"k\",U32=\"B\"),$D$14,IF(S32>P32,P32+60-S32,P32-S32))","v":0},0,0,0,0,null,null,0,0,0,0,null,null,"",null,null,"",null,null,""]
[{"$f":"Einstellungen!$L$17","v":"II Beschäftigte mit 41 Std-Woche"},null,null,null,null,null,{"$f":"IF(AND(E15>0,I33<>\"\",U33<>\"f\"),F15,0)","v":1},{"$f":"IF(AND(I33<>\"\",U33<>\"f\"),1,0)","v":1},"2026-04-17","Fr",null,null,null,null,0,0,null,null,null,null,null,{"$f":"IF(OR(U33=\"U\",U33=\"k\",U33=\"B\"),$C$15,IF(S33>P33,O33-1-R33,O33-R33))","v":0},{"$f":"IF(OR(U33=\"U\",U33=\"k\",U33=\"B\"),$D$15,IF(S33>P33,P33+60-S33,P33-S33))","v":0},0,0,0,0,null,null,0,0,0,0,null,null,"",null,null,"",null,null,""]
[{"$f":"Einstellungen!$L$18","v":"tägliche Arbeitszeit"},null,null,null,null,null,null,null,"2026-04-18","Sa",null,null,null,null,0,0,null,null,null,"nur dienstl. Sonderfälle!*",null,{"$f":"IF(S34>P34,O34-1-R34,O34-R34)","v":0},{"$f":"IF(S34>P34,P34+60-S34,P34-S34)","v":0},0,0,0,0,null,null,0,0,0,0,null,null,"",null,null,"",null,null,""]
[{"$f":"Einstellungen!$L$19","v":"Mo-Fr  "},{"$f":"Einstellungen!$M$19","v":"Std.Min"},{"$f":"Einstellungen!$N$19","v":"8.12"},{"$f":"Einstellungen!$O$19","v":"6.09"},null,{"$f":"Einstellungen!$Q$19","v":"4.06"},null,null,"2026-04-19","So",null,null,null,null,0,0,null,null,null,"nur dienstl. Sonderfälle!*",null,{"$f":"IF(S35>P35,O35-1-R35,O35-R35)","v":0},{"$f":"IF(S35>P35,P35+60-S35,P35-S35)","v":0},0,0,0,0,null,null,0,0,0,0,null,null,"",null,null,"",null,null,""]
[{"$f":"Einstellungen!$L$20","v":"Wochen"},null," "," ",null," ",null,null,null,null,null,null,null,null,null,null,null,null,null,null,null,{"$f":"INT((60*SUM(V29:V35)+SUM(W29:W35)-W36)/60)","v":0},{"$f":"INT(60*SUM(V29:V35)+SUM(W29:W35)-60*INT((60*SUM(V29:V35)+SUM(W29:W35))/60))","v":0},{"$f":"INT((60*SUM(X29:X35)+SUM(Y29:Y35)-Y36)/60)","v":0},{"$f":"INT(60*SUM(X29:X35)+SUM(Y29:Y35)-60*INT((60*SUM(X29:X35)+SUM(Y29:Y35))/60))","v":0},{"$f":"INT((60*SUM(Z29:Z35)+SUM(AA29:AA35)-AA36)/60)","v":0},{"$f":"INT(60*SUM(Z29:Z35)+SUM(AA29:AA35)-60*INT((60*SUM(Z29:Z35)+SUM(AA29:AA35))/60))","v":0},{"$f":"INT((60*SUM(AB29:AB35)+SUM(AC29:AC35)-AC36)/60)","v":0},{"$f":"INT(60*SUM(AB29:AB35)+SUM(AC29:AC35)-60*INT((60*SUM(AB29:AB35)+SUM(AC29:AC35))/60))","v":0},{"$f":"INT((60*SUM(AD29:AD35)+SUM(AE29:AE35)-AE36)/60)","v":0},{"$f":"INT(60*SUM(AD29:AD35)+SUM(AE29:AE35)-60*INT((60*SUM(AD29:AD35)+SUM(AE29:AE35))/60))","v":0},{"$f":"INT((60*SUM(AF29:AF35)+SUM(AG29:AG35)-AG36)/60)","v":0},{"$f":"INT(60*SUM(AF29:AF35)+SUM(AG29:AG35)-60*INT((60*SUM(AF29:AF35)+SUM(AG29:AG35))/60))","v":0},{"$f":"INT((60*SUM(AH29:AH35)+SUM(AI29:AI35)-AI36)/60)","v":0},{"$f":"INT(60*SUM(AH29:AH35)+SUM(AI29:AI35)-60*INT((60*SUM(AH29:AH35)+SUM(AI29:AI35))/60))","v":0},null,{"$f":"INT((60*SUM(AK29:AK35)+SUM(AL29:AL35)-AL36)/60)","v":0},{"$f":"INT(60*SUM(AK29:AK35)+SUM(AL29:AL35)-60*INT((60*SUM(AK29:AK35)+SUM(AL29:AL35))/60))","v":0},null,{"$f":"INT((60*SUM(AN29:AN35)+SUM(AO29:AO35)-AO36)/60)","v":0},{"$f":"INT(60*SUM(AN29:AN35)+SUM(AO29:AO35)-60*INT((60*SUM(AN29:AN35)+SUM(AO29:AO35))/60))","v":0},null,{"$f":"INT((60*SUM(AQ29:AQ35)+SUM(AR29:AR35)-AR36)/60)","v":0},{"$f":"INT(60*SUM(AQ29:AQ35)+SUM(AR29:AR35)-60*INT((60*SUM(AQ29:AQ35)+SUM(AR29:AR35))/60))","v":0},{"$f":"INT((60*SUM(AS29:AS35)+SUM(AT29:AT35)-AT36)/60)","v":0},{"$f":"INT(60*SUM(AS29:AS35)+SUM(AT29:AT35)-60*INT((60*SUM(AS29:AS35)+SUM(AT29:AT35))/60))","v":0},{"$f":"INT((60*SUM(AU29:AU35)+SUM(AV29:AV35)-AV36)/60)","v":0},{"$f":"INT(60*SUM(AU29:AU35)+SUM(AV29:AV35)-60*INT((60*SUM(AU29:AU35)+SUM(AV29:AV35))/60))","v":0},{"$f":"INT((60*SUM(AW29:AW35)+SUM(AX29:AX35)-AX36)/60)","v":0},{"$f":"INT(60*SUM(AW29:AW35)+SUM(AX29:AX35)-60*INT((60*SUM(AW29:AW35)+SUM(AX29:AX35))/60))","v":0},{"$f":"INT((60*SUM(AY29:AY35)+SUM(AZ29:AZ35)-AZ36)/60)","v":0},{"$f":"INT(60*SUM(AY29:AY35)+SUM(AZ29:AZ35)-60*INT((60*SUM(AY29:AY35)+SUM(AZ29:AZ35))/60))","v":0},{"$f":"INT((60*SUM(BA29:BA35)+SUM(BB29:BB35)-BB36)/60)","v":0},{"$f":"INT(60*SUM(BA29:BA35)+SUM(BB29:BB35)-60*INT((60*SUM(BA29:BA35)+SUM(BB29:BB35))/60))","v":0},{"$f":"INT((60*SUM(BC29:BC35)+SUM(BD29:BD35)-BD36)/60)","v":0},{"$f":"INT(60*SUM(BC29:BC35)+SUM(BD29:BD35)-60*INT((60*SUM(BC29:BC35)+SUM(BD29:BD35))/60))","v":0},{"$f":"INT((60*SUM(BE29:BE35)+SUM(BF29:BF35)-BF36)/60)","v":0},{"$f":"INT(60*SUM(BE29:BE35)+SUM(BF29:BF35)-60*INT((60*SUM(BE29:BE35)+SUM(BF29:BF35))/60))","v":0},{"$f":"INT((60*SUM(BG29:BG35)+SUM(BH29:BH35)-BH36)/60)","v":0},{"$f":"INT(60*SUM(BG29:BG35)+SUM(BH29:BH35)-60*INT((60*SUM(BG29:BG35)+SUM(BH29:BH35))/60))","v":0}]
[]
[{"$f":"CONCATENATE(Einstellungen!$L$21,\" \",Einstellungen!$M$21)","v":"Arbeitzeit Std.Min"},null,{"$f":"Einstellungen!$N$21","v":"41.00"},{"$f":"Einstellungen!$O$21","v":"30.45"},null,{"$f":"Einstellungen!$Q$21","v":"20.30"},{"$f":"IF(AND(E11>0,I38<>\"\",U38<>\"f\"),F11,0)","v":1},{"$f":"IF(AND(I38<>\"\",U38<>\"f\"),1,0)","v":1},{"$f":"IF(I35<>\"\",IF(MONTH(I35)=MONTH(I35+1),I35+1,\"\"),\"\")","v":"2026-04-20"},"Mo",null,null,null,null,{"$f":"HOUR(N38-K38-(M38-L38))","v":0},{"$f":"MINUTE(N38-K38-(M38-L38))","v":0},null,null,null,null,null,{"$f":"IF(OR(U38=\"U\",U38=\"k\",U38=\"B\"),$C$11,IF(S38>P38,O38-1-R38,O38-R38))","v":0},{"$f":"IF(OR(U38=\"U\",U38=\"k\",U38=\"B\"),$D$11,IF(S38>P38,P38+60-S38,P38-S38))","v":0},{"$f":"IF(OR(U38=\"U\",U38=\"K\",U38=\"B\"),0,V38)","v":0},{"$f":"IF(OR(U38=\"U\",U38=\"K\",U38=\"B\"),0,W38)","v":0},{"$f":"INT(((SUM(AB38,AH38,AK38,AN38,AQ38,AS38,AU38,AW38,AY38,BA38,BC38,BE38,BG38)*100)+(SUM(AC38,AI38,AL38,AO38,AR38,AT38,AV38,AX38,AZ38,BB38,BD38,BF38,BH38)/60*100))/100)","v":0},{"$f":"MOD(((SUM(AC38,AI38,AL38,AO38,AR38,AT38,AV38,AX38,AZ38,BB38,BD38,BF38,BH38)*100)+(SUM(AC38,AI38,AL38,AO38,AR38,AT38,AV38,AX38,AZ38,BB38,BD38,BF38,BH38)/60*100))/100,1)*60","v":0},null,null,{"$f":"INT(((SUM(AH38,AK38,AN38)*100)+SUM(AI38,AL38,AO38)/60*100)/100)","v":0},{"$f":"MOD(((SUM(AI38,AL38,AO38)*100)+(SUM(AI38,AL38,AO38)/60*100))/100,1)*60","v":0},{"$f":"INT(((SUM(AQ38+AS38+AU38+AW38+AY38+BA38+BC38+BE38+BG38)*100)+SUM(AR38+AT38+AV38+AX38+AZ38+BB38+BD38+BF38+BH38)/60*100)/100)","v":0},{"$f":"MOD(((SUM(AR38+AT38+AV38+AX38+AZ38+BB38+BD38+BF38+BH38)*100)+(SUM(AR38+AT38+AV38+AX38+AZ38+BB38+BD38+BF38+BH38)/60*100))/100,1)*60","v":0},null,null,"",null,null,"",null,null,""]
[{"$f":"Einstellungen!$L$22","v":"max.Übertrag auf das"},null,null," "," "," ",{"$f":"IF(AND(E12>0,I39<>\"\",U39<>\"f\"),F12,0)","v":1},{"$f":"IF(AND(I39<>\"\",U39<>\"f\"),1,0)","v":1},{"$f":"IF(I38<>\"\",IF(MONTH(I38)=MONTH(I38+1),I38+1,\"\"),\"\")","v":"2026-04-21"},"Di",null,null,null,null,0,0,null,null,null,null,null,{"$f":"IF(OR(U39=\"U\",U39=\"k\",U39=\"B\"),$C$12,IF(S39>P39,O39-1-R39,O39-R39))","v":0},{"$f":"IF(OR(U39=\"U\",U39=\"k\",U39=\"B\"),$D$12,IF(S39>P39,P39+60-S39,P39-S39))","v":0},0,0,0,0,null,null,0,0,0,0,null,null,"",null,null,"",null,null,""]
[{"$f":"Einstellungen!$L$23","v":"Folgejahr Std.Min"},null,{"$f":"Einstellungen!$N$23","v":"41.00"},{"$f":"Einstellungen!$O$23","v":"41.00"}," ",{"$f":"Einstellungen!$Q$23","v":"41.00"},{"$f":"IF(AND(E13>0,I40<>\"\",U40<>\"f\"),F13,0)","v":1},{"$f":"IF(AND(I40<>\"\",U40<>\"f\"),1,0)","v":1},{"$f":"IF(I39<>\"\",IF(MONTH(I39)=MONTH(I39+1),I39+1,\"\"),\"\")","v":"2026-04-22"},"Mi",null,null,null,null,0,0,null,null,null,null,null,{"$f":"IF(OR(U40=\"U\",U40=\"k\",U40=\"B\"),$C$13,IF(S40>P40,O40-1-R40,O40-R40))","v":0},{"$f":"IF(OR(U40=\"U\",U40=\"k\",U40=\"B\"),$D$13,IF(S40>P40,P40+60-S40,P40-S40))","v":0},0,0,0,0,null,null,0,0,0,0,null,null,"",null,null,"",null,null,""]
[{"$f":"Einstellungen!$L$24","v":"Kernarbeitszeit:"},null,{"$f":"Einstellungen!$N$24","v":"Mo-Do"},{"$f":"Einstellungen!$O$24","v":"9:00 - 14:30 Uhr"},null,null,{"$f":"IF(AND(E14>0,I41<>\"\",U41<>\"f\"),F14,0)","v":1},{"$f":"IF(AND(I41<>\"\",U41<>\"f\"),1,0)","v":1},"2026-04-23","Do",null,null,null,null,0,0,null,null,null,null,null,{"$f":"IF(OR(U41=\"U\",U41=\"k\",U41=\"B\"),$C$14,IF(S41>P41,O41-1-R41,O41-R41))","v":0},{"$f":"IF(OR(U41=\"U\",U41=\"k\",U41=\"B\"),$D$14,IF(S41>P41,P41+60-S41,P41-S41))","v":0},0,0,0,0,null,null,0,0,0,0,null,null,"",null,null,"",null,null,""]
[{"$f":"Einstellungen!$L$25","v":""},{"$f":"Einstellungen!$M$25","v":""},{"$f":"Einstellungen!$N$25","v":"Fr"},{"$f":"Einstellungen!$O$25","v":"9:00 - 12:00 Uhr"},null,null,{"$f":"IF(AND(E15>0,I42<>\"\",U42<>\"f\"),F15,0)","v":1},{"$f":"IF(AND(I42<>\"\",U42<>\"f\"),1,0)","v":1},"2026-04-24","Fr",null,null,null,null,0,0,null,null,null,null,null,{"$f":"IF(OR(U42=\"U\",U42=\"k\",U42=\"B\"),$C$15,IF(S42>P42,O42-1-R42,O42-R42))","v":0},{"$f":"IF(OR(U42=\"U\",U42=\"k\",U42=\"B\"),$D$15,IF(S42>P42,P42+60-S42,P42-S42))","v":0},0,0,0,0,null,null,0,0,0,0,null,null,"",null,null,"",null,null,""]
[{"$f":"Einstellungen!$L$26","v":"Gleitzeit:"},{"$f":"Einstellungen!$M$26","v":"frühester Beginn"},null,null,null,{"$f":"Einstellungen!$P$26","v":"6:00 Uhr"},null,null,"2026-04-25","Sa",null,null,null,null,0,0,null,null,null,"nur dienstl. Sonderfälle!*",null,{"$f":"IF(S43>P43,O43-1-R43,O43-R43)","v":0},{"$f":"IF(S43>P43,P43+60-S43,P43-S43)","v":0},0,0,0,0,null,null,0,0,0,0,null,null,"",null,null,"",null,null,""]
[{"$f":"Einstellungen!$L$27","v":""},{"$f":"Einstellungen!$M$27","v":"spätestes Ende"},null,null,null,{"$f":"Einstellungen!$P$27","v":"21:00 Uhr"},null,null,"2026-04-26","So",null,null,null,null,0,0,null,null,null,"nur dienstl. Sonderfälle!*",null,{"$f":"IF(S44>P44,O44-1-R44,O44-R44)","v":0},{"$f":"IF(S44>P44,P44+60-S44,P44-S44)","v":0},0,0,0,0,null,null,0,0,0,0,null,null,"",null,null,"",null,null,""]
[{"$f":"Einstellungen!$L$29","v":"Mittagspause zw."},null,null,{"$f":"Einstellungen!$O$29","v":"11:15 - 14:00 Uhr"},null,null,null,null,null,null,null,null,null,null,null,null,null,null,null,null,null,{"$f":"INT((60*SUM(V38:V44)+SUM(W38:W44)-W45)/60)","v":0},{"$f":"INT(60*SUM(V38:V44)+SUM(W38:W44)-60*INT((60*SUM(V38:V44)+SUM(W38:W44))/60))","v":0},{"$f":"INT((60*SUM(X38:X44)+SUM(Y38:Y44)-Y45)/60)","v":0},{"$f":"INT(60*SUM(X38:X44)+SUM(Y38:Y44)-60*INT((60*SUM(X38:X44)+SUM(Y38:Y44))/60))","v":0},{"$f":"INT((60*SUM(Z38:Z44)+SUM(AA38:AA44)-AA45)/60)","v":0},{"$f":"INT(60*SUM(Z38:Z44)+SUM(AA38:AA44)-60*INT((60*SUM(Z38:Z44)+SUM(AA38:AA44))/60))","v":0},{"$f":"INT((60*SUM(AB38:AB44)+SUM(AC38:AC44)-AC45)/60)","v":0},{"$f":"INT(60*SUM(AB38:AB44)+SUM(AC38:AC44)-60*INT((60*SUM(AB38:AB44)+SUM(AC38:AC44))/60))","v":0},{"$f":"INT((60*SUM(AD38:AD44)+SUM(AE38:AE44)-AE45)/60)","v":0},{"$f":"INT(60*SUM(AD38:AD44)+SUM(AE38:AE44)-60*INT((60*SUM(AD38:AD44)+SUM(AE38:AE44))/60))","v":0},{"$f":"INT((60*SUM(AF38:AF44)+SUM(AG38:AG44)-AG45)/60)","v":0},{"$f":"INT(60*SUM(AF38:AF44)+SUM(AG38:AG44)-60*INT((60*SUM(AF38:AF44)+SUM(AG38:AG44))/60))","v":0},{"$f":"INT((60*SUM(AH38:AH44)+SUM(AI38:AI44)-AI45)/60)","v":0},{"$f":"INT(60*SUM(AH38:AH44)+SUM(AI38:AI44)-60*INT((60*SUM(AH38:AH44)+SUM(AI38:AI44))/60))","v":0},null,{"$f":"INT((60*SUM(AK38:AK44)+SUM(AL38:AL44)-AL45)/60)","v":0},{"$f":"INT(60*SUM(AK38:AK44)+SUM(AL38:AL44)-60*INT((60*SUM(AK38:AK44)+SUM(AL38:AL44))/60))","v":0},null,{"$f":"INT((60*SUM(AN38:AN44)+SUM(AO38:AO44)-AO45)/60)","v":0},{"$f":"INT(60*SUM(AN38:AN44)+SUM(AO38:AO44)-60*INT((60*SUM(AN38:AN44)+SUM(AO38:AO44))/60))","v":0},null,{"$f":"INT((60*SUM(AQ38:AQ44)+SUM(AR38:AR44)-AR45)/60)","v":0},{"$f":"INT(60*SUM(AQ38:AQ44)+SUM(AR38:AR44)-60*INT((60*SUM(AQ38:AQ44)+SUM(AR38:AR44))/60))","v":0},{"$f":"INT((60*SUM(AS38:AS44)+SUM(AT38:AT44)-AT45)/60)","v":0},{"$f":"INT(60*SUM(AS38:AS44)+SUM(AT38:AT44)-60*INT((60*SUM(AS38:AS44)+SUM(AT38:AT44))/60))","v":0},{"$f":"INT((60*SUM(AU38:AU44)+SUM(AV38:AV44)-AV45)/60)","v":0},{"$f":"INT(60*SUM(AU38:AU44)+SUM(AV38:AV44)-60*INT((60*SUM(AU38:AU44)+SUM(AV38:AV44))/60))","v":0},{"$f":"INT((60*SUM(AW38:AW44)+SUM(AX38:AX44)-AX45)/60)","v":0},{"$f":"INT(60*SUM(AW38:AW44)+SUM(AX38:AX44)-60*INT((60*SUM(AW38:AW44)+SUM(AX38:AX44))/60))","v":0},{"$f":"INT((60*SUM(AY38:AY44)+SUM(AZ38:AZ44)-AZ45)/60)","v":0},{"$f":"INT(60*SUM(AY38:AY44)+SUM(AZ38:AZ44)-60*INT((60*SUM(AY38:AY44)+SUM(AZ38:AZ44))/60))","v":0},{"$f":"INT((60*SUM(BA38:BA44)+SUM(BB38:BB44)-BB45)/60)","v":0},{"$f":"INT(60*SUM(BA38:BA44)+SUM(BB38:BB44)-60*INT((60*SUM(BA38:BA44)+SUM(BB38:BB44))/60))","v":0},{"$f":"INT((60*SUM(BC38:BC44)+SUM(BD38:BD44)-BD45)/60)","v":0},{"$f":"INT(60*SUM(BC38:BC44)+SUM(BD38:BD44)-60*INT((60*SUM(BC38:BC44)+SUM(BD38:BD44))/60))","v":0},{"$f":"INT((60*SUM(BE38:BE44)+SUM(BF38:BF44)-BF45)/60)","v":0},{"$f":"INT(60*SUM(BE38:BE44)+SUM(BF38:BF44)-60*INT((60*SUM(BE38:BE44)+SUM(BF38:BF44))/60))","v":0},{"$f":"INT((60*SUM(BG38:BG44)+SUM(BH38:BH44)-BH45)/60)","v":0},{"$f":"INT(60*SUM(BG38:BG44)+SUM(BH38:BH44)-60*INT((60*SUM(BG38:BG44)+SUM(BH38:BH44))/60))","v":0}]
[]
[{"$f":"Einstellungen!$L$30","v":"ab 6 Std. Arbeitszeit: Dauer min."},null,null,null,null,{"$f":"Einstellungen!$Q$30","v":"30 Min"},{"$f":"IF(AND(E11>0,I47<>\"\",U47<>\"f\"),F11,0)","v":1},{"$f":"IF(AND(I47<>\"\",U47<>\"f\"),1,0)","v":1},{"$f":"IF(I44<>\"\",IF(MONTH(I44)=MONTH(I44+1),I44+1,\"\"),\"\")","v":"2026-04-27"},"Mo",null,null,null,null,{"$f":"HOUR(N47-K47-(M47-L47))","v":0},{"$f":"MINUTE(N47-K47-(M47-L47))","v":0},null,null,null,null,null,{"$f":"IF(OR(U47=\"U\",U47=\"k\",U47=\"B\"),$C$11,IF(S47>P47,O47-1-R47,O47-R47))","v":0},{"$f":"IF(OR(U47=\"U\",U47=\"k\",U47=\"B\"),$D$11,IF(S47>P47,P47+60-S47,P47-S47))","v":0},{"$f":"IF(OR(U47=\"U\",U47=\"K\",U47=\"B\"),0,V47)","v":0},{"$f":"IF(OR(U47=\"U\",U47=\"K\",U47=\"B\"),0,W47)","v":0},{"$f":"INT(((SUM(AB47,AH47,AK47,AN47,AQ47,AS47,AU47,AW47,AY47,BA47,BC47,BE47,BG47)*100)+(SUM(AC47,AI47,AL47,AO47,AR47,AT47,AV47,AX47,AZ47,BB47,BD47,BF47,BH47)/60*100))/100)","v":0},{"$f":"MOD(((SUM(AC47,AI47,AL47,AO47,AR47,AT47,AV47,AX47,AZ47,BB47,BD47,BF47,BH47)*100)+(SUM(AC47,AI47,AL47,AO47,AR47,AT47,AV47,AX47,AZ47,BB47,BD47,BF47,BH47)/60*100))/100,1)*60","v":0},null,null,{"$f":"INT(((SUM(AH47,AK47,AN47)*100)+SUM(AI47,AL47,AO47)/60*100)/100)","v":0},{"$f":"MOD(((SUM(AI47,AL47,AO47)*100)+(SUM(AI47,AL47,AO47)/60*100))/100,1)*60","v":0},{"$f":"INT(((SUM(AQ47+AS47+AU47+AW47+AY47+BA47+BC47+BE47+BG47)*100)+SUM(AR47+AT47+AV47+AX47+AZ47+BB47+BD47+BF47+BH47)/60*100)/100)","v":0},{"$f":"MOD(((SUM(AR47+AT47+AV47+AX47+AZ47+BB47+BD47+BF47+BH47)*100)+(SUM(AR47+AT47+AV47+AX47+AZ47+BB47+BD47+BF47+BH47)/60*100))/100,1)*60","v":0},null,null,"",null,null,"",null,null,""]
[{"$f":"Einstellungen!$L$31","v":"ab 9 Std. (exklusiv Beamte) min."},null,null,null,null,{"$f":"Einstellungen!$Q$31","v":"45 Min"},{"$f":"IF(AND(E12>0,I48<>\"\",U48<>\"f\"),F12,0)","v":1},{"$f":"IF(AND(I48<>\"\",U48<>\"f\"),1,0)","v":1},{"$f":"IF(I47<>\"\",IF(MONTH(I47)=MONTH(I47+1),I47+1,\"\"),\"\")","v":"2026-04-28"},"Di",null,null,null,null,0,0,null,null,null,null,null,{"$f":"IF(OR(U48=\"U\",U48=\"k\",U48=\"B\"),$C$12,IF(S48>P48,O48-1-R48,O48-R48))","v":0},{"$f":"IF(OR(U48=\"U\",U48=\"k\",U48=\"B\"),$D$12,IF(S48>P48,P48+60-S48,P48-S48))","v":0},0,0,0,0,null,null,0,0,0,0,null,null,"",null,null,"",null,null,""]
[{"$f":"Einstellungen!$L$32","v":""},null," ",{"$f":"Einstellungen!$O$32","v":"max."},null,{"$f":"Einstellungen!$Q$32","v":"120 Min"},{"$f":"IF(AND(E13>0,I49<>\"\",U49<>\"f\"),F13,0)","v":1},{"$f":"IF(AND(I49<>\"\",U49<>\"f\"),1,0)","v":1},{"$f":"IF(I48<>\"\",IF(MONTH(I48)=MONTH(I48+1),I48+1,\"\"),\"\")","v":"2026-04-29"},"Mi",null,null,null,null,0,0,null,null,null,null,null,{"$f":"IF(OR(U49=\"U\",U49=\"k\",U49=\"B\"),$C$13,IF(S49>P49,O49-1-R49,O49-R49))","v":0},{"$f":"IF(OR(U49=\"U\",U49=\"k\",U49=\"B\"),$D$13,IF(S49>P49,P49+60-S49,P49-S49))","v":0},0,0,0,0,null,null,0,0,0,0,null,null,"",null,null,"",null,null,""]
[{"$f":"Einstellungen!$L$33","v":"tägliche Arbeitszeit  "},null,null,null,null,{"$f":"Einstellungen!$Q$33","v":" 10 Std"},{"$f":"IF(AND(E14>0,I50<>\"\",U50<>\"f\"),F14,0)","v":1},{"$f":"IF(AND(I50<>\"\",U50<>\"f\"),1,0)","v":1},"2026-04-30","Do",null,null,null,null,0,0,null,null,null,null,null,{"$f":"IF(OR(U50=\"U\",U50=\"k\",U50=\"B\"),$C$14,IF(S50>P50,O50-1-R50,O50-R50))","v":0},{"$f":"IF(OR(U50=\"U\",U50=\"k\",U50=\"B\"),$D$14,IF(S50>P50,P50+60-S50,P50-S50))","v":0},0,0,0,0,null,null,0,0,0,0,null,null,"",null,null,"",null,null,""]
[{"$f":"Einstellungen!$L$34","v":"*) beachte § 5 der Dienstvereinbarung vom 17.04.2024 über die Arbeitszeit der Beschäftigten der Universität Hohenheim"},null,null,null,null,null,{"$f":"IF(AND(E15>0,I51<>\"\",U51<>\"f\"),F15,0)","v":0},{"$f":"IF(AND(I51<>\"\",U51<>\"f\"),1,0)","v":0},"","Fr",null,null,null,null,0,0,null,null,null,null,null,{"$f":"IF(OR(U51=\"U\",U51=\"k\",U51=\"B\"),$C$15,IF(S51>P51,O51-1-R51,O51-R51))","v":0},{"$f":"IF(OR(U51=\"U\",U51=\"k\",U51=\"B\"),$D$15,IF(S51>P51,P51+60-S51,P51-S51))","v":0},0,0,0,0,null,null,0,0,0,0,null,null,"",null,null,"",null,null,""]
[null,null,null,null,null,null,null,null,"","Sa",null,null,null,null,0,0,null,null,null,"nur dienstl. Sonderfälle!*",null,{"$f":"IF(S52>P52,O52-1-R52,O52-R52)","v":0},{"$f":"IF(S52>P52,P52+60-S52,P52-S52)","v":0},0,0,0,0,null,null,0,0,0,0,null,null,"",null,null,"",null,null,""]
[null,null,null,null,null,null,null,null,"","So",null,null,null,null,0,0,null,null,null,"nur dienstl. Sonderfälle!*",null,{"$f":"IF(S53>P53,O53-1-R53,O53-R53)","v":0},{"$f":"IF(S53>P53,P53+60-S53,P53-S53)","v":0},0,0,0,0,null,null,0,0,0,0,null,null,"",null,null,"",null,null,""]
[null,null,null,null,null,null,null,null,null,null,null,null,null,null,null,null,null,null,null,null,null,{"$f":"INT((60*SUM(V47:V53)+SUM(W47:W53)-W54)/60)","v":0},{"$f":"INT(60*SUM(V47:V53)+SUM(W47:W53)-60*INT((60*SUM(V47:V53)+SUM(W47:W53))/60))","v":0},{"$f":"INT((60*SUM(X47:X53)+SUM(Y47:Y53)-Y54)/60)","v":0},{"$f":"INT(60*SUM(X47:X53)+SUM(Y47:Y53)-60*INT((60*SUM(X47:X53)+SUM(Y47:Y53))/60))","v":0},{"$f":"INT((60*SUM(Z47:Z53)+SUM(AA47:AA53)-AA54)/60)","v":0},{"$f":"INT(60*SUM(Z47:Z53)+SUM(AA47:AA53)-60*INT((60*SUM(Z47:Z53)+SUM(AA47:AA53))/60))","v":0},{"$f":"INT((60*SUM(AB47:AB53)+SUM(AC47:AC53)-AC54)/60)","v":0},{"$f":"INT(60*SUM(AB47:AB53)+SUM(AC47:AC53)-60*INT((60*SUM(AB47:AB53)+SUM(AC47:AC53))/60))","v":0},{"$f":"INT((60*SUM(AD47:AD53)+SUM(AE47:AE53)-AE54)/60)","v":0},{"$f":"INT(60*SUM(AD47:AD53)+SUM(AE47:AE53)-60*INT((60*SUM(AD47:AD53)+SUM(AE47:AE53))/60))","v":0},{"$f":"INT((60*SUM(AF47:AF53)+SUM(AG47:AG53)-AG54)/60)","v":0},{"$f":"INT(60*SUM(AF47:AF53)+SUM(AG47:AG53)-60*INT((60*SUM(AF47:AF53)+SUM(AG47:AG53))/60))","v":0},{"$f":"INT((60*SUM(AH47:AH53)+SUM(AI47:AI53)-AI54)/60)","v":0},{"$f":"INT(60*SUM(AH47:AH53)+SUM(AI47:AI53)-60*INT((60*SUM(AH47:AH53)+SUM(AI47:AI53))/60))","v":0},null,{"$f":"INT((60*SUM(AK47:AK53)+SUM(AL47:AL53)-AL54)/60)","v":0},{"$f":"INT(60*SUM(AK47:AK53)+SUM(AL47:AL53)-60*INT((60*SUM(AK47:AK53)+SUM(AL47:AL53))/60))","v":0},null,{"$f":"INT((60*SUM(AN47:AN53)+SUM(AO47:AO53)-AO54)/60)","v":0},{"$f":"INT(60*SUM(AN47:AN53)+SUM(AO47:AO53)-60*INT((60*SUM(AN47:AN53)+SUM(AO47:AO53))/60))","v":0},null,{"$f":"INT((60*SUM(AQ47:AQ53)+SUM(AR47:AR53)-AR54)/60)","v":0},{"$f":"INT(60*SUM(AQ47:AQ53)+SUM(AR47:AR53)-60*INT((60*SUM(AQ47:AQ53)+SUM(AR47:AR53))/60))","v":0},{"$f":"INT((60*SUM(AS47:AS53)+SUM(AT47:AT53)-AT54)/60)","v":0},{"$f":"INT(60*SUM(AS47:AS53)+SUM(AT47:AT53)-60*INT((60*SUM(AS47:AS53)+SUM(AT47:AT53))/60))","v":0},{"$f":"INT((60*SUM(AU47:AU53)+SUM(AV47:AV53)-AV54)/60)","v":0},{"$f":"INT(60*SUM(AU47:AU53)+SUM(AV47:AV53)-60*INT((60*SUM(AU47:AU53)+SUM(AV47:AV53))/60))","v":0},{"$f":"INT((60*SUM(AW47:AW53)+SUM(AX47:AX53)-AX54)/60)","v":0},{"$f":"INT(60*SUM(AW47:AW53)+SUM(AX47:AX53)-60*INT((60*SUM(AW47:AW53)+SUM(AX47:AX53))/60))","v":0},{"$f":"INT((60*SUM(AY47:AY53)+SUM(AZ47:AZ53)-AZ54)/60)","v":0},{"$f":"INT(60*SUM(AY47:AY53)+SUM(AZ47:AZ53)-60*INT((60*SUM(AY47:AY53)+SUM(AZ47:AZ53))/60))","v":0},{"$f":"INT((60*SUM(BA47:BA53)+SUM(BB47:BB53)-BB54)/60)","v":0},{"$f":"INT(60*SUM(BA47:BA53)+SUM(BB47:BB53)-60*INT((60*SUM(BA47:BA53)+SUM(BB47:BB53))/60))","v":0},{"$f":"INT((60*SUM(BC47:BC53)+SUM(BD47:BD53)-BD54)/60)","v":0},{"$f":"INT(60*SUM(BC47:BC53)+SUM(BD47:BD53)-60*INT((60*SUM(BC47:BC53)+SUM(BD47:BD53))/60))","v":0},{"$f":"INT((60*SUM(BE47:BE53)+SUM(BF47:BF53)-BF54)/60)","v":0},{"$f":"INT(60*SUM(BE47:BE53)+SUM(BF47:BF53)-60*INT((60*SUM(BE47:BE53)+SUM(BF47:BF53))/60))","v":0},{"$f":"INT((60*SUM(BG47:BG53)+SUM(BH47:BH53)-BH54)/60)","v":0},{"$f":"INT(60*SUM(BG47:BG53)+SUM(BH47:BH53)-60*INT((60*SUM(BG47:BG53)+SUM(BH47:BH53))/60))","v":0}]
[null,null,null,null,null,null,{"$f":"SUM(G5:G53)","v":20},{"$f":"SUM(H5:H53)","v":20},"April",null,null,null,null,null,null,{"$f":"Einstellungen!A1","v":2026},null,null,null,null,null,null,null,"Summe:",null,"Summe:",null,"Summe:",null,"Summe:",null,"Summe:",null,{"$f":"INT(((SUM(AH9,AH18,AH27,AH36,AH45,AH54)*100)+(SUM(AI9,AI18,AI27,AI36,AI45,AI54)/60*100))/100)","v":0},{"$f":"MOD(((SUM(AH9,AH18,AH27,AH36,AH45,AH54)*100)+(SUM(AI9,AI18,AI27,AI36,AI45,AI54)/60*100))/100,1)*60","v":0},null,{"$f":"INT(((SUM(AK9,AK18,AK27,AK36,AK45,AK54)*100)+(SUM(AL9,AL18,AL27,AL36,AL45,AL54)/60*100))/100)","v":0},{"$f":"MOD(((SUM(AK9,AK18,AK27,AK36,AK45,AK54)*100)+(SUM(AL9,AL18,AL27,AL36,AL45,AL54)/60*100))/100,1)*60","v":0},null,{"$f":"INT(((SUM(AN9,AN18,AN27,AN36,AN45,AN54)*100)+(SUM(AO9,AO18,AO27,AO36,AO45,AO54)/60*100))/100)","v":0},{"$f":"MOD(((SUM(AN9,AN18,AN27,AN36,AN45,AN54)*100)+(SUM(AO9,AO18,AO27,AO36,AO45,AO54)/60*100))/100,1)*60","v":0},null,{"$f":"INT(((SUM(AQ9,AQ18,AQ27,AQ36,AQ45,AQ54)*100)+(SUM(AR9,AR18,AR27,AR36,AR45,AR54)/60*100))/100)","v":0},{"$f":"MOD(((SUM(AQ9,AQ18,AQ27,AQ36,AQ45,AQ54)*100)+(SUM(AR9,AR18,AR27,AR36,AR45,AR54)/60*100))/100,1)*60","v":0},{"$f":"INT(((SUM(AS9,AS18,AS27,AS36,AS45,AS54)*100)+(SUM(AT9,AT18,AT27,AT36,AT45,AT54)/60*100))/100)","v":0},{"$f":"MOD(((SUM(AS9,AS18,AS27,AS36,AS45,AS54)*100)+(SUM(AT9,AT18,AT27,AT36,AT45,AT54)/60*100))/100,1)*60","v":0},{"$f":"INT(((SUM(AU9,AU18,AU27,AU36,AU45,AU54)*100)+(SUM(AV9,AV18,AV27,AV36,AV45,AV54)/60*100))/100)","v":0},{"$f":"MOD(((SUM(AU9,AU18,AU27,AU36,AU45,AU54)*100)+(SUM(AV9,AV18,AV27,AV36,AV45,AV54)/60*100))/100,1)*60","v":0},{"$f":"INT(((SUM(AW9,AW18,AW27,AW36,AW45,AW54)*100)+(SUM(AX9,AX18,AX27,AX36,AX45,AX54)/60*100))/100)","v":0},{"$f":"MOD(((SUM(AW9,AW18,AW27,AW36,AW45,AW54)*100)+(SUM(AX9,AX18,AX27,AX36,AX45,AX54)/60*100))/100,1)*60","v":0},{"$f":"INT(((SUM(AY9,AY18,AY27,AY36,AY45,AY54)*100)+(SUM(AZ9,AZ18,AZ27,AZ36,AZ45,AZ54)/60*100))/100)","v":0},{"$f":"MOD(((SUM(AY9,AY18,AY27,AY36,AY45,AY54)*100)+(SUM(AZ9,AZ18,AZ27,AZ36,AZ45,AZ54)/60*100))/100,1)*60","v":0},{"$f":"INT(((SUM(BA9,BA18,BA27,BA36,BA45,BA54)*100)+(SUM(BB9,BB18,BB27,BB36,BB45,BB54)/60*100))/100)","v":0},{"$f":"MOD(((SUM(BA9,BA18,BA27,BA36,BA45,BA54)*100)+(SUM(BB9,BB18,BB27,BB36,BB45,BB54)/60*100))/100,1)*60","v":0},{"$f":"INT(((SUM(BC9,BC18,BC27,BC36,BC45,BC54)*100)+(SUM(BD9,BD18,BD27,BD36,BD45,BD54)/60*100))/100)","v":0},{"$f":"MOD(((SUM(BC9,BC18,BC27,BC36,BC45,BC54)*100)+(SUM(BD9,BD18,BD27,BD36,BD45,BD54)/60*100))/100,1)*60","v":0},{"$f":"INT(((SUM(BE9,BE18,BE27,BE36,BE45,BE54)*100)+(SUM(BF9,BF18,BF27,BF36,BF45,BF54)/60*100))/100)","v":0},{"$f":"MOD(((SUM(BE9,BE18,BE27,BE36,BE45,BE54)*100)+(SUM(BF9,BF18,BF27,BF36,BF45,BF54)/60*100))/100,1)*60","v":0},{"$f":"INT(((SUM(BG9,BG18,BG27,BG36,BG45,BG54)*100)+(SUM(BH9,BH18,BH27,BH36,BH45,BH54)/60*100))/100)","v":0},{"$f":"MOD(((SUM(BG9,BG18,BG27,BG36,BG45,BG54)*100)+(SUM(BH9,BH18,BH27,BH36,BH45,BH54)/60*100))/100,1)*60","v":0}]
[null,null,null,null,null,null,null,null,"Abrechnungsmonat",null,null,null,null,null,null,"Jahr",null,null,null,"Monatsarbeitszeit IST",null,{"$f":"INT((60*SUM(V54,V45,V36,V27,V18,V9)+SUM(W54,W45,W36,W27,W18,W9)-W56)/60)","v":0},{"$f":"INT(60*SUM(V54,V45,V36,V27,V18,V9)+SUM(W54,W45,W36,W27,W18,W9)-60*INT((60*SUM(V54,V45,V36,V27,V18,V9)+SUM(W54,W45,W36,W27,W18,W9))/60))","v":0},{"$f":"INT((60*SUM(X54,X45,X36,X27,X18,X9)+SUM(Y54,Y45,Y36,Y27,Y18,Y9)-Y56)/60)","v":0},{"$f":"INT(60*SUM(X54,X45,X36,X27,X18,X9)+SUM(Y54,Y45,Y36,Y27,Y18,Y9)-60*INT((60*SUM(X54,X45,X36,X27,X18,X9)+SUM(Y54,Y45,Y36,Y27,Y18,Y9))/60))","v":0},{"$f":"INT((60*SUM(Z54,Z45,Z36,Z27,Z18,Z9)+SUM(AA54,AA45,AA36,AA27,AA18,AA9)-AA56)/60)","v":0},{"$f":"INT(60*SUM(Z54,Z45,Z36,Z27,Z18,Z9)+SUM(AA54,AA45,AA36,AA27,AA18,AA9)-60*INT((60*SUM(Z54,Z45,Z36,Z27,Z18,Z9)+SUM(AA54,AA45,AA36,AA27,AA18,AA9))/60))","v":0},{"$f":"INT((60*SUM(AB54,AB45,AB36,AB27,AB18,AB9)+SUM(AC54,AC45,AC36,AC27,AC18,AC9)-AC56)/60)","v":0},{"$f":"INT(60*SUM(AB54,AB45,AB36,AB27,AB18,AB9)+SUM(AC54,AC45,AC36,AC27,AC18,AC9)-60*INT((60*SUM(AB54,AB45,AB36,AB27,AB18,AB9)+SUM(AC54,AC45,AC36,AC27,AC18,AC9))/60))","v":0},{"$f":"INT((60*SUM(AD54,AD45,AD36,AD27,AD18,AD9)+SUM(AE54,AE45,AE36,AE27,AE18,AE9)-AE56)/60)","v":0},{"$f":"INT(60*SUM(AD54,AD45,AD36,AD27,AD18,AD9)+SUM(AE54,AE45,AE36,AE27,AE18,AE9)-60*INT((60*SUM(AD54,AD45,AD36,AD27,AD18,AD9)+SUM(AE54,AE45,AE36,AE27,AE18,AE9))/60))","v":0},{"$f":"INT((60*SUM(AF54,AF45,AF36,AF27,AF18,AF9)+SUM(AG54,AG45,AG36,AG27,AG18,AG9)-AG56)/60)","v":0},{"$f":"INT(60*SUM(AF54,AF45,AF36,AF27,AF18,AF9)+SUM(AG54,AG45,AG36,AG27,AG18,AG9)-60*INT((60*SUM(AF54,AF45,AF36,AF27,AF18,AF9)+SUM(AG54,AG45,AG36,AG27,AG18,AG9))/60))","v":0}]
[null,null,null,null,null,null,null,null,{"$f":"Einstellungen!K23","v":"Franziska von Hohenheim"},null,null,null,null,null,null,null,null,null,null,"Übertrag aus Vormonat (+/-)",{"$f":"IF(V57*W57<0,\"!\",\"\")","v":""},{"$f":"ROUND(März!V60,0)","v":-489},{"$f":"ROUND(März!W60,0)","v":-48}]
[null,null,null,null,null,null,null,null,"Name, Vorname",null,null,null,null,null,null,null,"Datum",null,null,"Summe",null,{"$f":"ROUND(SIGN(V56+V57+(W56+W57)/60)*ROUNDDOWN(ABS(V56+V57+(W56+W57)/60),0),0)","v":-489},{"$f":"ROUND(SIGN(V56+V57+(W56+W57)/60)*(ABS(V56+V57+(W56+W57)/60)-ABS(V58))*60,0)","v":-48}]
[null,null,null,null,null,null,null,null,{"$f":"Einstellungen!$K$25","v":"630"},null,{"$f":"Einstellungen!K24","v":"KIM"},null,null,null,null,null,null,null,null,"Monatsarbeitszeit SOLL",null,{"$f":"SUM(Einstellungen!B6)","v":158},{"$f":"SUM(Einstellungen!C6)","v":0}]
[null,null,null,null,null,null,null,null,"Einr.-Nr.",null,"Abt. / FG",null,null,null,null,null,"Name Leiter/in",null,null,"Zeitübertrag auf Folgemonat",{"$f":"IF(V60*W60<0,\"!\",\"\")","v":""},{"$f":"ROUND(SIGN(V58-V59+(W58-W59)/60)*ROUNDDOWN(ABS(V58-V59+(W58-W59)/60),0),0)","v":-647},{"$f":"ROUND(SIGN(V58-V59+(W58-W59)/60)*(ABS(V58-V59+(W58-W59)/60)-ABS(V60))*60,0)","v":-48}]
[]
[null,null,null,null,null,null,null,null,null,null,null,null,null,null,null,null,null,null,null,"Summe Urlaubstage",null,{"$f":"SUMPRODUCT((U5:U6=\"U\")*(E14:E15>0))+SUMPRODUCT((U11:U15=\"U\")*(E11:E15>0))+SUMPRODUCT((U20:U24=\"U\")*(E11:E15>0))+SUMPRODUCT((U29:U33=\"U\")*(E11:E15>0))+SUMPRODUCT((U38:U42=\"U\")*(E11:E15>0))+SUMPRODUCT((U47:U51=\"U\")*(E11:E15>0))","v":0}]
[null,null,null,null,null,null,null,null,"Datum",null,"Unterschrift Mitarbeiter/in",null,null,null,null,null,"Unterschrift Leiter/in",null,null,"alter / neuer Übertrag",null,{"$f":"IF(SUM(Einstellungen!K27:K30)>0,März!W63,\"--- \")","v":30},{"$f":"IF(SUM(Einstellungen!K27:K30)>0,V63-V62,\"--- \")","v":30}]

{"sheet":"Mai","index":4,"n_rows":63,"n_cols":60,"rows_kept":63,"cut":false,"hidden":true,"merged":[[0,31,0,32],[0,23,0,24],[0,25,0,26],[0,27,0,28],[0,29,0,30],[1,23,1,24],[1,25,1,26],[37,0,37,1],[38,0,38,2],[2,23,2,24],[2,25,2,26],[28,0,28,1],[29,0,29,1],[30,0,30,2],[35,0,35,1],[7,0,7,3],[39,0,39,1],[46,0,46,3],[47,0,47,3],[49,0,49,3],[54,23,54,24],[50,0,52,5],[40,3,40,5],[41,3,41,5],[44,3,44,5],[61,21,61,22],[63,25,63,26],[54,27,54,28],[54,29,54,30],[54,31,54,32],[54,25,54,26],[0,42,2,43],[0,44,2,45],[0,46,2,47],[0,33,2,35],[0,36,2,38],[0,39,2,41],[0,58,2,59],[0,48,2,49],[0,50,2,51],[0,52,2,53],[0,54,2,55],[0,56,2,57]]}
[{"$f":"Einstellungen!A27","v":"Universität Hohenheim KIM © 2026"},null,null,null,null,null,null,null,"Datum",null,"Arbeits-",null,null,"Arbeits-","Arb.Zeit ohne",null,"Sonstige Unterbrechungen",null,null,"Erläuterungen, Hinweise,","U,K","Reine Arb.-",null,"Productive",null,"Productive",null,"Sonstiges",null,"Summe ",null,"Summe",null,{"$f":"Projektdaten!D4","v":"EU Projekt 1"},null,null,{"$f":"Projektdaten!D6","v":"EU Projekt 2"},null,null,{"$f":"Projektdaten!D8","v":"EU Projekt 3"},null,null,{"$f":"Projektdaten!D13","v":"Projekt 1"},null,{"$f":"Projektdaten!D15","v":"Projekt 2"},null,{"$f":"Projektdaten!D17","v":"Projekt 3"},null,{"$f":"Projektdaten!D19","v":"Projekt 4"},null,{"$f":"Projektdaten!D21","v":"Projekt 5"},null,{"$f":"Projektdaten!D23","v":"Projekt 6"},null,{"$f":"Projektdaten!D25","v":"Projekt 7"},null,{"$f":"Projektdaten!D27","v":"Projekt 8"},null,{"$f":"Projektdaten!D29","v":"Projekt 9"}]
["Arbeitszeitblatt",null,null,{"$f":"Einstellungen!A28","v":"Version 5.12"},null,null,null,null,"Tag","Wo-","beginn","Mittagspause",null,"ende","Mittagspause",null,"von - bis","Gesamtdauer",null,"Vermerke, z.B. Dienstreise","F,X","Zeit","IST","Hours",null,"Hours",null,null,null,"EU-",null,"andere"]
[null,null,null,null,null,null,null,null,null,"tag",null,"von","bis",null,"Std.","Min.",null,"Std.","Min.","  - non eligible -","A,B","Std.","Min.","i.S.d. EU",null,"verteilt",null,null," ","Projekte",null,"Projekte"]
[null,null,null,null,null,null,null,null,null,null,null,null,null,null,null,null,null,null,null,null,null,null,null,"Std.","Min.","Std.","Min.","Std.","Min.","Std.","Min.","Std.","Min.","Std.","Min.","Geleistete Arbeitspakete nach Annex 1","Std.","Min.","Geleistete Arbeitspakete nach Annex 1","Std.","Min.","Geleistete Arbeitspakete nach Annex 1","Std.","Min.","Std.","Min.","Std.","Min.","Std.","Min.","Std.","Min.","Std.","Min.","Std.","Min.","Std.","Min.","Std.","Min."]
[null,null,null,null,null,"U",{"$f":"IF(AND(E14>0,I5<>\"\",U5<>\"f\"),1,0)","v":0},{"$f":"IF(AND(I5<>\"\",U5<>\"f\"),1,0)","v":0},{"$f":"IF(CHOOSE(WEEKDAY(Einstellungen!$A$7,2),\"Mo\",\"Di\",\"Mi\",\"Do\",\"Fr\",\"Sa\",\"So\")=J5,Einstellungen!$A$7,\"\")","v":""},"Do",null,null,null,null,{"$f":"HOUR(N5-K5-(M5-L5))","v":0},{"$f":"MINUTE(N5-K5-(M5-L5))","v":0},null,null,null,null,null,{"$f":"IF(OR(U5=\"U\",U5=\"k\",U5=\"B\"),$C$14,IF(S5>P5,O5-1-R5,O5-R5))","v":0},{"$f":"IF(OR(U5=\"U\",U5=\"k\",U5=\"B\"),$D$14,IF(S5>P5,P5+60-S5,P5-S5))","v":0},{"$f":"IF(OR(U5=\"U\",U5=\"K\",U5=\"B\"),0,V5)","v":0},{"$f":"IF(OR(U5=\"U\",U5=\"K\",U5=\"B\"),0,W5)","v":0},{"$f":"INT(((SUM(AB5,AH5,AK5,AN5,AQ5,AS5,AU5,AW5,AY5,BA5,BC5,BE5,BG5)*100)+(SUM(AC5,AI5,AL5,AO5,AR5,AT5,AV5,AX5,AZ5,BB5,BD5,BF5,BH5)/60*100))/100)","v":0},{"$f":"MOD(((SUM(AC5,AI5,AL5,AO5,AR5,AT5,AV5,AX5,AZ5,BB5,BD5,BF5,BH5)*100)+(SUM(AC5,AI5,AL5,AO5,AR5,AT5,AV5,AX5,AZ5,BB5,BD5,BF5,BH5)/60*100))/100,1)*60","v":0},null,null,{"$f":"INT(((SUM(AH5,AK5,AN5)*100)+SUM(AI5,AL5,AO5)/60*100)/100)","v":0},{"$f":"MOD(((SUM(AI5,AL5,AO5)*100)+(SUM(AI5,AL5,AO5)/60*100))/100,1)*60","v":0},{"$f":"INT(((SUM(AQ5+AS5+AU5+AW5+AY5+BA5+BC5+BE5+BG5)*100)+SUM(AR5+AT5+AV5+AX5+AZ5+BB5+BD5+BF5+BH5)/60*100)/100)","v":0},{"$f":"MOD(((SUM(AR5+AT5+AV5+AX5+AZ5+BB5+BD5+BF5+BH5)*100)+(SUM(AR5+AT5+AV5+AX5+AZ5+BB5+BD5+BF5+BH5)/60*100))/100,1)*60","v":0},null,null,"",null,null,"",null,null,""]
[null,null,null,null,null,"K",{"$f":"IF(AND(E15>0,I6<>\"\",U6<>\"f\"),F14,0)","v":0},{"$f":"IF(AND(I6<>\"\",U6<>\"f\"),1,0)","v":0},{"$f":"IF(I5<>\"\",I5+1,IF(CHOOSE(WEEKDAY(Einstellungen!$A$7,2),\"Mo\",\"Di\",\"Mi\",\"Do\",\"Fr\",\"Sa\",\"So\")=J6,Einstellungen!$A$7,\"\"))","v":"2026-05-01"},"Fr",null,null,null,null,{"$f":"HOUR(N6-K6-(M6-L6))","v":0},{"$f":"MINUTE(N6-K6-(M6-L6))","v":0},null,null,null,"nur dienstl. Sonderfälle!*","F",{"$f":"IF(OR(U6=\"U\",U6=\"k\",U6=\"B\"),$C$15,IF(S6>P6,O6-1-R6,O6-R6))","v":0},{"$f":"IF(OR(U6=\"U\",U6=\"k\",U6=\"B\"),$D$15,IF(S6>P6,P6+60-S6,P6-S6))","v":0},{"$f":"IF(OR(U6=\"U\",U6=\"K\",U6=\"B\"),0,V6)","v":0},{"$f":"IF(OR(U6=\"U\",U6=\"K\",U6=\"B\"),0,W6)","v":0},{"$f":"INT(((SUM(AB6,AH6,AK6,AN6,AQ6,AS6,AU6,AW6,AY6,BA6,BC6,BE6,BG6)*100)+(SUM(AC6,AI6,AL6,AO6,AR6,AT6,AV6,AX6,AZ6,BB6,BD6,BF6,BH6)/60*100))/100)","v":0},{"$f":"MOD(((SUM(AC6,AI6,AL6,AO6,AR6,AT6,AV6,AX6,AZ6,BB6,BD6,BF6,BH6)*100)+(SUM(AC6,AI6,AL6,AO6,AR6,AT6,AV6,AX6,AZ6,BB6,BD6,BF6,BH6)/60*100))/100,1)*60","v":0},null,null,{"$f":"INT(((SUM(AH6,AK6,AN6)*100)+SUM(AI6,AL6,AO6)/60*100)/100)","v":0},{"$f":"MOD(((SUM(AI6,AL6,AO6)*100)+(SUM(AI6,AL6,AO6)/60*100))/100,1)*60","v":0},{"$f":"INT(((SUM(AQ6+AS6+AU6+AW6+AY6+BA6+BC6+BE6+BG6)*100)+SUM(AR6+AT6+AV6+AX6+AZ6+BB6+BD6+BF6+BH6)/60*100)/100)","v":0},{"$f":"MOD(((SUM(AR6+AT6+AV6+AX6+AZ6+BB6+BD6+BF6+BH6)*100)+(SUM(AR6+AT6+AV6+AX6+AZ6+BB6+BD6+BF6+BH6)/60*100))/100,1)*60","v":0},null,null,"",null,null,"",null,null,""]
[null,null,null,null,null,"A",{"$f":"IF(AND(E16>0,I7<>\"\",U7<>\"f\"),F15,0)","v":0},null,{"$f":"IF(I6<>\"\",I6+1,IF(CHOOSE(WEEKDAY(Einstellungen!$A$7,2),\"Mo\",\"Di\",\"Mi\",\"Do\",\"Fr\",\"Sa\",\"So\")=J7,Einstellungen!$A$7,\"\"))","v":"2026-05-02"},"Sa",null,null,null,null,{"$f":"HOUR(N7-K7-(M7-L7))","v":0},{"$f":"MINUTE(N7-K7-(M7-L7))","v":0},null,null,null,"nur dienstl. Sonderfälle!*",null,{"$f":"IF(S7>P7,O7-1-R7,O7-R7)","v":0},{"$f":"IF(S7>P7,P7+60-S7,P7-S7)","v":0},0,0,{"$f":"INT(((SUM(AB7,AH7,AK7,AN7,AQ7,AS7,AU7,AW7,AY7,BA7,BC7,BE7,BG7)*100)+(SUM(AC7,AI7,AL7,AO7,AR7,AT7,AV7,AX7,AZ7,BB7,BD7,BF7,BH7)/60*100))/100)","v":0},{"$f":"MOD(((SUM(AC7,AI7,AL7,AO7,AR7,AT7,AV7,AX7,AZ7,BB7,BD7,BF7,BH7)*100)+(SUM(AC7,AI7,AL7,AO7,AR7,AT7,AV7,AX7,AZ7,BB7,BD7,BF7,BH7)/60*100))/100,1)*60","v":0},null,null,{"$f":"INT(((SUM(AH7,AK7,AN7)*100)+SUM(AI7,AL7,AO7)/60*100)/100)","v":0},{"$f":"MOD(((SUM(AI7,AL7,AO7)*100)+(SUM(AI7,AL7,AO7)/60*100))/100,1)*60","v":0},{"$f":"INT(((SUM(AQ7+AS7+AU7+AW7+AY7+BA7+BC7+BE7+BG7)*100)+SUM(AR7+AT7+AV7+AX7+AZ7+BB7+BD7+BF7+BH7)/60*100)/100)","v":0},{"$f":"MOD(((SUM(AR7+AT7+AV7+AX7+AZ7+BB7+BD7+BF7+BH7)*100)+(SUM(AR7+AT7+AV7+AX7+AZ7+BB7+BD7+BF7+BH7)/60*100))/100,1)*60","v":0},null,null,"",null,null,"",null,null,""]
[{"$f":"IF(Einstellungen!D25>0.0005,\"Bitte Werte prüfen\",\"\")","v":""},null,null,null,null,"B",null,null,{"$f":"IF(I7<>\"\",I7+1,IF(CHOOSE(WEEKDAY(Einstellungen!$A$7,2),\"Mo\",\"Di\",\"Mi\",\"Do\",\"Fr\",\"Sa\",\"So\")=J8,Einstellungen!$A$7,\"\"))","v":"2026-05-03"},"So",null,null,null,null,{"$f":"HOUR(N8-K8-(M8-L8))","v":0},{"$f":"MINUTE(N8-K8-(M8-L8))","v":0},null,null,null,"nur dienstl. Sonderfälle!*",null,{"$f":"IF(S8>P8,O8-1-R8,O8-R8)","v":0},{"$f":"IF(S8>P8,P8+60-S8,P8-S8)","v":0},0,0,{"$f":"INT(((SUM(AB8,AH8,AK8,AN8,AQ8,AS8,AU8,AW8,AY8,BA8,BC8,BE8,BG8)*100)+(SUM(AC8,AI8,AL8,AO8,AR8,AT8,AV8,AX8,AZ8,BB8,BD8,BF8,BH8)/60*100))/100)","v":0},{"$f":"MOD(((SUM(AC8,AI8,AL8,AO8,AR8,AT8,AV8,AX8,AZ8,BB8,BD8,BF8,BH8)*100)+(SUM(AC8,AI8,AL8,AO8,AR8,AT8,AV8,AX8,AZ8,BB8,BD8,BF8,BH8)/60*100))/100,1)*60","v":0},null,null,{"$f":"INT(((SUM(AH8,AK8,AN8)*100)+SUM(AI8,AL8,AO8)/60*100)/100)","v":0},{"$f":"MOD(((SUM(AI8,AL8,AO8)*100)+(SUM(AI8,AL8,AO8)/60*100))/100,1)*60","v":0},{"$f":"INT(((SUM(AQ8+AS8+AU8+AW8+AY8+BA8+BC8+BE8+BG8)*100)+SUM(AR8+AT8+AV8+AX8+AZ8+BB8+BD8+BF8+BH8)/60*100)/100)","v":0},{"$f":"MOD(((SUM(AR8+AT8+AV8+AX8+AZ8+BB8+BD8+BF8+BH8)*100)+(SUM(AR8+AT8+AV8+AX8+AZ8+BB8+BD8+BF8+BH8)/60*100))/100,1)*60","v":0},null,null,"",null,null,"",null,null,""]
["Meine tägl. Regelarbeitszeit:",null,null,null,null,"X",null,null,null,null,null,null,null,null,null,null,null,null,null,null,null,{"$f":"INT((60*SUM(V5:V8)+SUM(W5:W8)-W9)/60)","v":0},{"$f":"INT(60*SUM(V5:V8)+SUM(W5:W8)-60*INT((60*SUM(V5:V8)+SUM(W5:W8))/60))","v":0},{"$f":"INT((60*SUM(X5:X8)+SUM(Y5:Y8)-Y9)/60)","v":0},{"$f":"INT(60*SUM(X5:X8)+SUM(Y5:Y8)-60*INT((60*SUM(X5:X8)+SUM(Y5:Y8))/60))","v":0},{"$f":"INT((60*SUM(Z5:Z8)+SUM(AA5:AA8)-AA9)/60)","v":0},{"$f":"INT(60*SUM(Z5:Z8)+SUM(AA5:AA8)-60*INT((60*SUM(Z5:Z8)+SUM(AA5:AA8))/60))","v":0},{"$f":"INT((60*SUM(AB5:AB8)+SUM(AC5:AC8)-AC9)/60)","v":0},{"$f":"INT(60*SUM(AB5:AB8)+SUM(AC5:AC8)-60*INT((60*SUM(AB5:AB8)+SUM(AC5:AC8))/60))","v":0},{"$f":"INT((60*SUM(AD5:AD8)+SUM(AE5:AE8)-AE9)/60)","v":0},{"$f":"INT(60*SUM(AD5:AD8)+SUM(AE5:AE8)-60*INT((60*SUM(AD5:AD8)+SUM(AE5:AE8))/60))","v":0},{"$f":"INT((60*SUM(AF5:AF8)+SUM(AG5:AG8)-AG9)/60)","v":0},{"$f":"INT(60*SUM(AF5:AF8)+SUM(AG5:AG8)-60*INT((60*SUM(AF5:AF8)+SUM(AG5:AG8))/60))","v":0},{"$f":"INT((60*SUM(AH5:AH8)+SUM(AI5:AI8)-AI9)/60)","v":0},{"$f":"INT(60*SUM(AH5:AH8)+SUM(AI5:AI8)-60*INT((60*SUM(AH5:AH8)+SUM(AI5:AI8))/60))","v":0},null,{"$f":"INT((60*SUM(AK5:AK8)+SUM(AL5:AL8)-AL9)/60)","v":0},{"$f":"INT(60*SUM(AK5:AK8)+SUM(AL5:AL8)-60*INT((60*SUM(AK5:AK8)+SUM(AL5:AL8))/60))","v":0},null,{"$f":"INT((60*SUM(AN5:AN8)+SUM(AO5:AO8)-AO9)/60)","v":0},{"$f":"INT(60*SUM(AN5:AN8)+SUM(AO5:AO8)-60*INT((60*SUM(AN5:AN8)+SUM(AO5:AO8))/60))","v":0},null,{"$f":"INT((60*SUM(AQ5:AQ8)+SUM(AR5:AR8)-AR9)/60)","v":0},{"$f":"INT(60*SUM(AQ5:AQ8)+SUM(AR5:AR8)-60*INT((60*SUM(AQ5:AQ8)+SUM(AR5:AR8))/60))","v":0},{"$f":"INT((60*SUM(AS5:AS8)+SUM(AT5:AT8)-AT9)/60)","v":0},{"$f":"INT(60*SUM(AS5:AS8)+SUM(AT5:AT8)-60*INT((60*SUM(AS5:AS8)+SUM(AT5:AT8))/60))","v":0},{"$f":"INT((60*SUM(AU5:AU8)+SUM(AV5:AV8)-AV9)/60)","v":0},{"$f":"INT(60*SUM(AU5:AU8)+SUM(AV5:AV8)-60*INT((60*SUM(AU5:AU8)+SUM(AV5:AV8))/60))","v":0},{"$f":"INT((60*SUM(AW5:AW8)+SUM(AX5:AX8)-AX9)/60)","v":0},{"$f":"INT(60*SUM(AW5:AW8)+SUM(AX5:AX8)-60*INT((60*SUM(AW5:AW8)+SUM(AX5:AX8))/60))","v":0},{"$f":"INT((60*SUM(AY5:AY8)+SUM(AZ5:AZ8)-AZ9)/60)","v":0},{"$f":"INT(60*SUM(AY5:AY8)+SUM(AZ5:AZ8)-60*INT((60*SUM(AY5:AY8)+SUM(AZ5:AZ8))/60))","v":0},{"$f":"INT((60*SUM(BA5:BA8)+SUM(BB5:BB8)-BB9)/60)","v":0},{"$f":"INT(60*SUM(BA5:BA8)+SUM(BB5:BB8)-60*INT((60*SUM(BA5:BA8)+SUM(BB5:BB8))/60))","v":0},{"$f":"INT((60*SUM(BC5:BC8)+SUM(BD5:BD8)-BD9)/60)","v":0},{"$f":"INT(60*SUM(BC5:BC8)+SUM(BD5:BD8)-60*INT((60*SUM(BC5:BC8)+SUM(BD5:BD8))/60))","v":0},{"$f":"INT((60*SUM(BE5:BE8)+SUM(BF5:BF8)-BF9)/60)","v":0},{"$f":"INT(60*SUM(BE5:BE8)+SUM(BF5:BF8)-60*INT((60*SUM(BE5:BE8)+SUM(BF5:BF8))/60))","v":0},{"$f":"INT((60*SUM(BG5:BG8)+SUM(BH5:BH8)-BH9)/60)","v":0},{"$f":"INT(60*SUM(BG5:BG8)+SUM(BH5:BH8)-60*INT((60*SUM(BG5:BG8)+SUM(BH5:BH8))/60))","v":0}]
[null,null,null,null,{"$f":"5-COUNTIF(E11:E15,0)","v":5},{"$f":"(SUM(C11:C15)*60+SUM(D11:D15))/E10","v":474}]
["Mo",{"$f":"IF(E11=0,\"frei\",\"\")","v":""},{"$f":"SUM(Einstellungen!C19)","v":7},{"$f":"SUM(Einstellungen!D19)","v":54},{"$f":"C11*60+D11","v":474},{"$f":"E11/$F$10","v":1},{"$f":"IF(AND(E11>0,I11<>\"\",U11<>\"f\"),F11,0)","v":1},{"$f":"IF(AND(I11<>\"\",U11<>\"f\"),1,0)","v":1},{"$f":"IF(I8<>\"\",I8+1,IF(CHOOSE(WEEKDAY(Einstellungen!$A$7,2),\"Mo\",\"Di\",\"Mi\",\"Do\",\"Fr\",\"Sa\",\"So\")=J11,Einstellungen!$A$7,\"\"))","v":"2026-05-04"},"Mo",null,null,null,null,{"$f":"HOUR(N11-K11-(M11-L11))","v":0},{"$f":"MINUTE(N11-K11-(M11-L11))","v":0},null,null,null,null,null,{"$f":"IF(OR(U11=\"U\",U11=\"k\",U11=\"B\"),$C$11,IF(S11>P11,O11-1-R11,O11-R11))","v":0},{"$f":"IF(OR(U11=\"U\",U11=\"k\",U11=\"B\"),$D$11,IF(S11>P11,P11+60-S11,P11-S11))","v":0},{"$f":"IF(OR(U11=\"U\",U11=\"K\",U11=\"B\"),0,V11)","v":0},{"$f":"IF(OR(U11=\"U\",U11=\"K\",U11=\"B\"),0,W11)","v":0},{"$f":"INT(((SUM(AB11,AH11,AK11,AN11,AQ11,AS11,AU11,AW11,AY11,BA11,BC11,BE11,BG11)*100)+(SUM(AC11,AI11,AL11,AO11,AR11,AT11,AV11,AX11,AZ11,BB11,BD11,BF11,BH11)/60*100))/100)","v":0},{"$f":"MOD(((SUM(AC11,AI11,AL11,AO11,AR11,AT11,AV11,AX11,AZ11,BB11,BD11,BF11,BH11)*100)+(SUM(AC11,AI11,AL11,AO11,AR11,AT11,AV11,AX11,AZ11,BB11,BD11,BF11,BH11)/60*100))/100,1)*60","v":0},null,null,{"$f":"INT(((SUM(AH11,AK11,AN11)*100)+SUM(AI11,AL11,AO11)/60*100)/100)","v":0},{"$f":"MOD(((SUM(AI11,AL11,AO11)*100)+(SUM(AI11,AL11,AO11)/60*100))/100,1)*60","v":0},{"$f":"INT(((SUM(AQ11+AS11+AU11+AW11+AY11+BA11+BC11+BE11+BG11)*100)+SUM(AR11+AT11+AV11+AX11+AZ11+BB11+BD11+BF11+BH11)/60*100)/100)","v":0},{"$f":"MOD(((SUM(AR11+AT11+AV11+AX11+AZ11+BB11+BD11+BF11+BH11)*100)+(SUM(AR11+AT11+AV11+AX11+AZ11+BB11+BD11+BF11+BH11)/60*100))/100,1)*60","v":0},null,null,"",null,null,"",null,null,""]
["Di",{"$f":"IF(E12=0,\"frei\",\"\")","v":""},{"$f":"SUM(Einstellungen!C20)","v":7},{"$f":"SUM(Einstellungen!D20)","v":54},{"$f":"C12*60+D12","v":474},{"$f":"E12/$F$10","v":1},{"$f":"IF(AND(E12>0,I12<>\"\",U12<>\"f\"),F12,0)","v":1},{"$f":"IF(AND(I12<>\"\",U12<>\"f\"),1,0)","v":1},{"$f":"IF(I11<>\"\",I11+1,IF(CHOOSE(WEEKDAY(Einstellungen!$A$7,2),\"Mo\",\"Di\",\"Mi\",\"Do\",\"Fr\",\"Sa\",\"So\")=J12,Einstellungen!$A$7,\"\"))","v":"2026-05-05"},"Di",null,null,null,null,0,0,null,null,null,null,null,{"$f":"IF(OR(U12=\"U\",U12=\"k\",U12=\"B\"),$C$12,IF(S12>P12,O12-1-R12,O12-R12))","v":0},{"$f":"IF(OR(U12=\"U\",U12=\"k\",U12=\"B\"),$D$12,IF(S12>P12,P12+60-S12,P12-S12))","v":0},0,0,0,0,null,null,0,0,0,0,null,null,"",null,null,"",null,null,""]
["Mi",{"$f":"IF(E13=0,\"frei\",\"\")","v":""},{"$f":"SUM(Einstellungen!C21)","v":7},{"$f":"SUM(Einstellungen!D21)","v":54},{"$f":"C13*60+D13","v":474},{"$f":"E13/$F$10","v":1},{"$f":"IF(AND(E13>0,I13<>\"\",U13<>\"f\"),F13,0)","v":1},{"$f":"IF(AND(I13<>\"\",U13<>\"f\"),1,0)","v":1},{"$f":"IF(I12<>\"\",I12+1,IF(CHOOSE(WEEKDAY(Einstellungen!$A$7,2),\"Mo\",\"Di\",\"Mi\",\"Do\",\"Fr\",\"Sa\",\"So\")=J13,Einstellungen!$A$7,\"\"))","v":"2026-05-06"},"Mi",null,null,null,null,0,0,null,null,null,null,null,{"$f":"IF(OR(U13=\"U\",U13=\"k\",U13=\"B\"),$C$13,IF(S13>P13,O13-1-R13,O13-R13))","v":0},{"$f":"IF(OR(U13=\"U\",U13=\"k\",U13=\"B\"),$D$13,IF(S13>P13,P13+60-S13,P13-S13))","v":0},0,0,0,0,null,null,0,0,0,0,null,null,"",null,null,"",null,null,""]
["Do",{"$f":"IF(E14=0,\"frei\",\"\")","v":""},{"$f":"SUM(Einstellungen!C22)","v":7},{"$f":"SUM(Einstellungen!D22)","v":54},{"$f":"C14*60+D14","v":474},{"$f":"E14/$F$10","v":1},{"$f":"IF(AND(E14>0,I14<>\"\",U14<>\"f\"),F14,0)","v":1},{"$f":"IF(AND(I14<>\"\",U14<>\"f\"),1,0)","v":1},{"$f":"IF(I13<>\"\",I13+1,IF(CHOOSE(WEEKDAY(Einstellungen!$A$7,2),\"Mo\",\"Di\",\"Mi\",\"Do\",\"Fr\",\"Sa\",\"So\")=J14,Einstellungen!$A$7,\"\"))","v":"2026-05-07"},"Do",null,null,null,null,0,0,null,null,null,null,null,{"$f":"IF(OR(U14=\"U\",U14=\"k\",U14=\"B\"),$C$14,IF(S14>P14,O14-1-R14,O14-R14))","v":0},{"$f":"IF(OR(U14=\"U\",U14=\"k\",U14=\"B\"),$D$14,IF(S14>P14,P14+60-S14,P14-S14))","v":0},0,0,0,0,null,null,0,0,0,0,null,null,"",null,null,"",null,null,""]
["Fr",{"$f":"IF(E15=0,\"frei\",\"\")","v":""},{"$f":"SUM(Einstellungen!C23)","v":7},{"$f":"SUM(Einstellungen!D23)","v":54},{"$f":"C15*60+D15","v":474},{"$f":"E15/$F$10","v":1},{"$f":"IF(AND(E15>0,I15<>\"\",U15<>\"f\"),F15,0)","v":1},{"$f":"IF(AND(I15<>\"\",U15<>\"f\"),1,0)","v":1},{"$f":"I14+1","v":"2026-05-08"},"Fr",null,null,null,null,0,0,null,null,null,null,null,{"$f":"IF(OR(U15=\"U\",U15=\"k\",U15=\"B\"),$C$15,IF(S15>P15,O15-1-R15,O15-R15))","v":0},{"$f":"IF(OR(U15=\"U\",U15=\"k\",U15=\"B\"),$D$15,IF(S15>P15,P15+60-S15,P15-S15))","v":0},0,0,0,0,null,null,0,0,0,0,null,null,"",null,null,"",null,null,""]
[{"$f":"Einstellungen!$L$1","v":"Hinweise:"},null,null,null,null,null,null,null,{"$f":"I15+1","v":"2026-05-09"},"Sa",null,null,null,null,0,0,null,null,null,"nur dienstl. Sonderfälle!*",null,{"$f":"IF(S16>P16,O16-1-R16,O16-R16)","v":0},{"$f":"IF(S16>P16,P16+60-S16,P16-S16)","v":0},0,0,0,0,null,null,0,0,0,0,null,null,"",null,null,"",null,null,""]
[{"$f":"Einstellungen!$L$2","v":"I Beschäftigte mit 39,5 Std-Woche"},null,null,null,null,null,null,null,{"$f":"I16+1","v":"2026-05-10"},"So",null,null,null,null,0,0,null,null,null,"nur dienstl. Sonderfälle!*",null,{"$f":"IF(S17>P17,O17-1-R17,O17-R17)","v":0},{"$f":"IF(S17>P17,P17+60-S17,P17-S17)","v":0},0,0,0,0,null,null,0,0,0,0,null,null,"",null,null,"",null,null,""]
[{"$f":"Einstellungen!$L$3","v":""},null,{"$f":"Einstellungen!$N$3","v":"Beschäftigungsumfang"},null,null,null,null,null,null,null,null,null,null,null,null,null,null,null,null,null,null,{"$f":"INT((60*SUM(V11:V17)+SUM(W11:W17)-W18)/60)","v":0},{"$f":"INT(60*SUM(V11:V17)+SUM(W11:W17)-60*INT((60*SUM(V11:V17)+SUM(W11:W17))/60))","v":0},{"$f":"INT((60*SUM(X11:X17)+SUM(Y11:Y17)-Y18)/60)","v":0},{"$f":"INT(60*SUM(X11:X17)+SUM(Y11:Y17)-60*INT((60*SUM(X11:X17)+SUM(Y11:Y17))/60))","v":0},{"$f":"INT((60*SUM(Z11:Z17)+SUM(AA11:AA17)-AA18)/60)","v":0},{"$f":"INT(60*SUM(Z11:Z17)+SUM(AA11:AA17)-60*INT((60*SUM(Z11:Z17)+SUM(AA11:AA17))/60))","v":0},{"$f":"INT((60*SUM(AB11:AB17)+SUM(AC11:AC17)-AC18)/60)","v":0},{"$f":"INT(60*SUM(AB11:AB17)+SUM(AC11:AC17)-60*INT((60*SUM(AB11:AB17)+SUM(AC11:AC17))/60))","v":0},{"$f":"INT((60*SUM(AD11:AD17)+SUM(AE11:AE17)-AE18)/60)","v":0},{"$f":"INT(60*SUM(AD11:AD17)+SUM(AE11:AE17)-60*INT((60*SUM(AD11:AD17)+SUM(AE11:AE17))/60))","v":0},{"$f":"INT((60*SUM(AF11:AF17)+SUM(AG11:AG17)-AG18)/60)","v":0},{"$f":"INT(60*SUM(AF11:AF17)+SUM(AG11:AG17)-60*INT((60*SUM(AF11:AF17)+SUM(AG11:AG17))/60))","v":0},{"$f":"INT((60*SUM(AH11:AH17)+SUM(AI11:AI17)-AI18)/60)","v":0},{"$f":"INT(60*SUM(AH11:AH17)+SUM(AI11:AI17)-60*INT((60*SUM(AH11:AH17)+SUM(AI11:AI17))/60))","v":0},null,{"$f":"INT((60*SUM(AK11:AK17)+SUM(AL11:AL17)-AL18)/60)","v":0},{"$f":"INT(60*SUM(AK11:AK17)+SUM(AL11:AL17)-60*INT((60*SUM(AK11:AK17)+SUM(AL11:AL17))/60))","v":0},null,{"$f":"INT((60*SUM(AN11:AN17)+SUM(AO11:AO17)-AO18)/60)","v":0},{"$f":"INT(60*SUM(AN11:AN17)+SUM(AO11:AO17)-60*INT((60*SUM(AN11:AN17)+SUM(AO11:AO17))/60))","v":0},null,{"$f":"INT((60*SUM(AQ11:AQ17)+SUM(AR11:AR17)-AR18)/60)","v":0},{"$f":"INT(60*SUM(AQ11:AQ17)+SUM(AR11:AR17)-60*INT((60*SUM(AQ11:AQ17)+SUM(AR11:AR17))/60))","v":0},{"$f":"INT((60*SUM(AS11:AS17)+SUM(AT11:AT17)-AT18)/60)","v":0},{"$f":"INT(60*SUM(AS11:AS17)+SUM(AT11:AT17)-60*INT((60*SUM(AS11:AS17)+SUM(AT11:AT17))/60))","v":0},{"$f":"INT((60*SUM(AU11:AU17)+SUM(AV11:AV17)-AV18)/60)","v":0},{"$f":"INT(60*SUM(AU11:AU17)+SUM(AV11:AV17)-60*INT((60*SUM(AU11:AU17)+SUM(AV11:AV17))/60))","v":0},{"$f":"INT((60*SUM(AW11:AW17)+SUM(AX11:AX17)-AX18)/60)","v":0},{"$f":"INT(60*SUM(AW11:AW17)+SUM(AX11:AX17)-60*INT((60*SUM(AW11:AW17)+SUM(AX11:AX17))/60))","v":0},{"$f":"INT((60*SUM(AY11:AY17)+SUM(AZ11:AZ17)-AZ18)/60)","v":0},{"$f":"INT(60*SUM(AY11:AY17)+SUM(AZ11:AZ17)-60*INT((60*SUM(AY11:AY17)+SUM(AZ11:AZ17))/60))","v":0},{"$f":"INT((60*SUM(BA11:BA17)+SUM(BB11:BB17)-BB18)/60)","v":0},{"$f":"INT(60*SUM(BA11:BA17)+SUM(BB11:BB17)-60*INT((60*SUM(BA11:BA17)+SUM(BB11:BB17))/60))","v":0},{"$f":"INT((60*SUM(BC11:BC17)+SUM(BD11:BD17)-BD18)/60)","v":0},{"$f":"INT(60*SUM(BC11:BC17)+SUM(BD11:BD17)-60*INT((60*SUM(BC11:BC17)+SUM(BD11:BD17))/60))","v":0},{"$f":"INT((60*SUM(BE11:BE17)+SUM(BF11:BF17)-BF18)/60)","v":0},{"$f":"INT(60*SUM(BE11:BE17)+SUM(BF11:BF17)-60*INT((60*SUM(BE11:BE17)+SUM(BF11:BF17))/60))","v":0},{"$f":"INT((60*SUM(BG11:BG17)+SUM(BH11:BH17)-BH18)/60)","v":0},{"$f":"INT(60*SUM(BG11:BG17)+SUM(BH11:BH17)-60*INT((60*SUM(BG11:BG17)+SUM(BH11:BH17))/60))","v":0}]
[]
[{"$f":"Einstellungen!$L$4","v":"5 Tage-Woche"},null,{"$f":"Einstellungen!$N$4","v":1},{"$f":"Einstellungen!$O$4","v":0.75},null,{"$f":"Einstellungen!$Q$4","v":0.5},{"$f":"IF(AND(E11>0,I20<>\"\",U20<>\"f\"),F11,0)","v":1},{"$f":"IF(AND(I20<>\"\",U20<>\"f\"),1,0)","v":1},{"$f":"I17+1","v":"2026-05-11"},"Mo",null,null,null,null,{"$f":"HOUR(N20-K20-(M20-L20))","v":0},{"$f":"MINUTE(N20-K20-(M20-L20))","v":0},null,null,null,null,null,{"$f":"IF(OR(U20=\"U\",U20=\"k\",U20=\"B\"),$C$11,IF(S20>P20,O20-1-R20,O20-R20))","v":0},{"$f":"IF(OR(U20=\"U\",U20=\"k\",U20=\"B\"),$D$11,IF(S20>P20,P20+60-S20,P20-S20))","v":0},{"$f":"IF(OR(U20=\"U\",U20=\"K\",U20=\"B\"),0,V20)","v":0},{"$f":"IF(OR(U20=\"U\",U20=\"K\",U20=\"B\"),0,W20)","v":0},{"$f":"INT(((SUM(AB20,AH20,AK20,AN20,AQ20,AS20,AU20,AW20,AY20,BA20,BC20,BE20,BG20)*100)+(SUM(AC20,AI20,AL20,AO20,AR20,AT20,AV20,AX20,AZ20,BB20,BD20,BF20,BH20)/60*100))/100)","v":0},{"$f":"MOD(((SUM(AC20,AI20,AL20,AO20,AR20,AT20,AV20,AX20,AZ20,BB20,BD20,BF20,BH20)*100)+(SUM(AC20,AI20,AL20,AO20,AR20,AT20,AV20,AX20,AZ20,BB20,BD20,BF20,BH20)/60*100))/100,1)*60","v":0},null,null,{"$f":"INT(((SUM(AH20,AK20,AN20)*100)+SUM(AI20,AL20,AO20)/60*100)/100)","v":0},{"$f":"MOD(((SUM(AI20,AL20,AO20)*100)+(SUM(AI20,AL20,AO20)/60*100))/100,1)*60","v":0},{"$f":"INT(((SUM(AQ20+AS20+AU20+AW20+AY20+BA20+BC20+BE20+BG20)*100)+SUM(AR20+AT20+AV20+AX20+AZ20+BB20+BD20+BF20+BH20)/60*100)/100)","v":0},{"$f":"MOD(((SUM(AR20+AT20+AV20+AX20+AZ20+BB20+BD20+BF20+BH20)*100)+(SUM(AR20+AT20+AV20+AX20+AZ20+BB20+BD20+BF20+BH20)/60*100))/100,1)*60","v":0},null,null,"",null,null,"",null,null,""]
[{"$f":"Einstellungen!$L$5","v":""},null," "," ",null," ",{"$f":"IF(AND(E12>0,I21<>\"\",U21<>\"f\"),F12,0)","v":1},{"$f":"IF(AND(I21<>\"\",U21<>\"f\"),1,0)","v":1},{"$f":"I20+1","v":"2026-05-12"},"Di",null,null,null,null,0,0,null,null,null,null,null,{"$f":"IF(OR(U21=\"U\",U21=\"k\",U21=\"B\"),$C$12,IF(S21>P21,O21-1-R21,O21-R21))","v":0},{"$f":"IF(OR(U21=\"U\",U21=\"k\",U21=\"B\"),$D$12,IF(S21>P21,P21+60-S21,P21-S21))","v":0},0,0,0,0,null,null,0,0,0,0,null,null,"",null,null,"",null,null,""]
[{"$f":"Einstellungen!$L$6","v":"tägliche Regel-"},null," "," ",null," ",{"$f":"IF(AND(E13>0,I22<>\"\",U22<>\"f\"),F13,0)","v":1},{"$f":"IF(AND(I22<>\"\",U22<>\"f\"),1,0)","v":1},{"$f":"I21+1","v":"2026-05-13"},"Mi",null,null,null,null,0,0,null,null,null,null,null,{"$f":"IF(OR(U22=\"U\",U22=\"k\",U22=\"B\"),$C$13,IF(S22>P22,O22-1-R22,O22-R22))","v":0},{"$f":"IF(OR(U22=\"U\",U22=\"k\",U22=\"B\"),$D$13,IF(S22>P22,P22+60-S22,P22-S22))","v":0},0,0,0,0,null,null,0,0,0,0,null,null,"",null,null,"",null,null,""]
[{"$f":"Einstellungen!$L$7","v":"arbeitszeit für"},null,null,null,null,null,{"$f":"IF(AND(E14>0,I23<>\"\",U23<>\"f\"),F14,0)","v":0},{"$f":"IF(AND(I23<>\"\",U23<>\"f\"),1,0)","v":0},"2026-05-14","Do",null,null,null,null,0,0,null,null,null,"nur dienstl. Sonderfälle!*","F",{"$f":"IF(OR(U23=\"U\",U23=\"k\",U23=\"B\"),$C$14,IF(S23>P23,O23-1-R23,O23-R23))","v":0},{"$f":"IF(OR(U23=\"U\",U23=\"k\",U23=\"B\"),$D$14,IF(S23>P23,P23+60-S23,P23-S23))","v":0},0,0,0,0,null,null,0,0,0,0,null,null,"",null,null,"",null,null,""]
[{"$f":"Einstellungen!$L$8","v":"Wochenfeier-"},null,null,null,null,null,{"$f":"IF(AND(E15>0,I24<>\"\",U24<>\"f\"),F15,0)","v":1},{"$f":"IF(AND(I24<>\"\",U24<>\"f\"),1,0)","v":1},"2026-05-15","Fr",null,null,null,null,0,0,null,null,null,null,null,{"$f":"IF(OR(U24=\"U\",U24=\"k\",U24=\"B\"),$C$15,IF(S24>P24,O24-1-R24,O24-R24))","v":0},{"$f":"IF(OR(U24=\"U\",U24=\"k\",U24=\"B\"),$D$15,IF(S24>P24,P24+60-S24,P24-S24))","v":0},0,0,0,0,null,null,0,0,0,0,null,null,"",null,null,"",null,null,""]
[{"$f":"Einstellungen!$L$9","v":"tage, bei Urlaub"},null,null,null,null,null,null,null,"2026-05-16","Sa",null,null,null,null,0,0,null,null,null,"nur dienstl. Sonderfälle!*",null,{"$f":"IF(S25>P25,O25-1-R25,O25-R25)","v":0},{"$f":"IF(S25>P25,P25+60-S25,P25-S25)","v":0},0,0,0,0,null,null,0,0,0,0,null,null,"",null,null,"",null,null,""]
[{"$f":"Einstellungen!$L$10","v":"oder Krankheit"},null,null,null,null,null,null,null,"2026-05-17","So",null,null,null,null,0,0,null,null,null,"nur dienstl. Sonderfälle!*",null,{"$f":"IF(S26>P26,O26-1-R26,O26-R26)","v":0},{"$f":"IF(S26>P26,P26+60-S26,P26-S26)","v":0},0,0,0,0,null,null,0,0,0,0,null,null,"",null,null,"",null,null,""]
[{"$f":"Einstellungen!$L$11","v":"Mo-Fr  "},{"$f":"Einstellungen!$M$11","v":"Std.Min"},{"$f":"Einstellungen!$N$11","v":" 7.54"},{"$f":"Einstellungen!$O$11","v":" 5.56"},null,{"$f":"Einstellungen!$Q$11","v":" 3.57"},null,null,null,null,null,null,null,null,null,null,null,null,null,null,null,{"$f":"INT((60*SUM(V20:V26)+SUM(W20:W26)-W27)/60)","v":0},{"$f":"INT(60*SUM(V20:V26)+SUM(W20:W26)-60*INT((60*SUM(V20:V26)+SUM(W20:W26))/60))","v":0},{"$f":"INT((60*SUM(X20:X26)+SUM(Y20:Y26)-Y27)/60)","v":0},{"$f":"INT(60*SUM(X20:X26)+SUM(Y20:Y26)-60*INT((60*SUM(X20:X26)+SUM(Y20:Y26))/60))","v":0},{"$f":"INT((60*SUM(Z20:Z26)+SUM(AA20:AA26)-AA27)/60)","v":0},{"$f":"INT(60*SUM(Z20:Z26)+SUM(AA20:AA26)-60*INT((60*SUM(Z20:Z26)+SUM(AA20:AA26))/60))","v":0},{"$f":"INT((60*SUM(AB20:AB26)+SUM(AC20:AC26)-AC27)/60)","v":0},{"$f":"INT(60*SUM(AB20:AB26)+SUM(AC20:AC26)-60*INT((60*SUM(AB20:AB26)+SUM(AC20:AC26))/60))","v":0},{"$f":"INT((60*SUM(AD20:AD26)+SUM(AE20:AE26)-AE27)/60)","v":0},{"$f":"INT(60*SUM(AD20:AD26)+SUM(AE20:AE26)-60*INT((60*SUM(AD20:AD26)+SUM(AE20:AE26))/60))","v":0},{"$f":"INT((60*SUM(AF20:AF26)+SUM(AG20:AG26)-AG27)/60)","v":0},{"$f":"INT(60*SUM(AF20:AF26)+SUM(AG20:AG26)-60*INT((60*SUM(AF20:AF26)+SUM(AG20:AG26))/60))","v":0},{"$f":"INT((60*SUM(AH20:AH26)+SUM(AI20:AI26)-AI27)/60)","v":0},{"$f":"INT(60*SUM(AH20:AH26)+SUM(AI20:AI26)-60*INT((60*SUM(AH20:AH26)+SUM(AI20:AI26))/60))","v":0},null,{"$f":"INT((60*SUM(AK20:AK26)+SUM(AL20:AL26)-AL27)/60)","v":0},{"$f":"INT(60*SUM(AK20:AK26)+SUM(AL20:AL26)-60*INT((60*SUM(AK20:AK26)+SUM(AL20:AL26))/60))","v":0},null,{"$f":"INT((60*SUM(AN20:AN26)+SUM(AO20:AO26)-AO27)/60)","v":0},{"$f":"INT(60*SUM(AN20:AN26)+SUM(AO20:AO26)-60*INT((60*SUM(AN20:AN26)+SUM(AO20:AO26))/60))","v":0},null,{"$f":"INT((60*SUM(AQ20:AQ26)+SUM(AR20:AR26)-AR27)/60)","v":0},{"$f":"INT(60*SUM(AQ20:AQ26)+SUM(AR20:AR26)-60*INT((60*SUM(AQ20:AQ26)+SUM(AR20:AR26))/60))","v":0},{"$f":"INT((60*SUM(AS20:AS26)+SUM(AT20:AT26)-AT27)/60)","v":0},{"$f":"INT(60*SUM(AS20:AS26)+SUM(AT20:AT26)-60*INT((60*SUM(AS20:AS26)+SUM(AT20:AT26))/60))","v":0},{"$f":"INT((60*SUM(AU20:AU26)+SUM(AV20:AV26)-AV27)/60)","v":0},{"$f":"INT(60*SUM(AU20:AU26)+SUM(AV20:AV26)-60*INT((60*SUM(AU20:AU26)+SUM(AV20:AV26))/60))","v":0},{"$f":"INT((60*SUM(AW20:AW26)+SUM(AX20:AX26)-AX27)/60)","v":0},{"$f":"INT(60*SUM(AW20:AW26)+SUM(AX20:AX26)-60*INT((60*SUM(AW20:AW26)+SUM(AX20:AX26))/60))","v":0},{"$f":"INT((60*SUM(AY20:AY26)+SUM(AZ20:AZ26)-AZ27)/60)","v":0},{"$f":"INT(60*SUM(AY20:AY26)+SUM(AZ20:AZ26)-60*INT((60*SUM(AY20:AY26)+SUM(AZ20:AZ26))/60))","v":0},{"$f":"INT((60*SUM(BA20:BA26)+SUM(BB20:BB26)-BB27)/60)","v":0},{"$f":"INT(60*SUM(BA20:BA26)+SUM(BB20:BB26)-60*INT((60*SUM(BA20:BA26)+SUM(BB20:BB26))/60))","v":0},{"$f":"INT((60*SUM(BC20:BC26)+SUM(BD20:BD26)-BD27)/60)","v":0},{"$f":"INT(60*SUM(BC20:BC26)+SUM(BD20:BD26)-60*INT((60*SUM(BC20:BC26)+SUM(BD20:BD26))/60))","v":0},{"$f":"INT((60*SUM(BE20:BE26)+SUM(BF20:BF26)-BF27)/60)","v":0},{"$f":"INT(60*SUM(BE20:BE26)+SUM(BF20:BF26)-60*INT((60*SUM(BE20:BE26)+SUM(BF20:BF26))/60))","v":0},{"$f":"INT((60*SUM(BG20:BG26)+SUM(BH20:BH26)-BH27)/60)","v":0},{"$f":"INT(60*SUM(BG20:BG26)+SUM(BH20:BH26)-60*INT((60*SUM(BG20:BG26)+SUM(BH20:BH26))/60))","v":0}]
[" "," "," "," ",null," "]
[{"$f":"Einstellungen!$L$13","v":"Wochen"},null," "," ",null," ",{"$f":"IF(AND(E11>0,I29<>\"\",U29<>\"f\"),F11,0)","v":1},{"$f":"IF(AND(I29<>\"\",U29<>\"f\"),1,0)","v":1},{"$f":"I26+1","v":"2026-05-18"},"Mo",null,null,null,null,{"$f":"HOUR(N29-K29-(M29-L29))","v":0},{"$f":"MINUTE(N29-K29-(M29-L29))","v":0},null,null,null,null,null,{"$f":"IF(OR(U29=\"U\",U29=\"k\",U29=\"B\"),$C$11,IF(S29>P29,O29-1-R29,O29-R29))","v":0},{"$f":"IF(OR(U29=\"U\",U29=\"k\",U29=\"B\"),$D$11,IF(S29>P29,P29+60-S29,P29-S29))","v":0},{"$f":"IF(OR(U29=\"U\",U29=\"K\",U29=\"B\"),0,V29)","v":0},{"$f":"IF(OR(U29=\"U\",U29=\"K\",U29=\"B\"),0,W29)","v":0},{"$f":"INT(((SUM(AB29,AH29,AK29,AN29,AQ29,AS29,AU29,AW29,AY29,BA29,BC29,BE29,BG29)*100)+(SUM(AC29,AI29,AL29,AO29,AR29,AT29,AV29,AX29,AZ29,BB29,BD29,BF29,BH29)/60*100))/100)","v":0},{"$f":"MOD(((SUM(AC29,AI29,AL29,AO29,AR29,AT29,AV29,AX29,AZ29,BB29,BD29,BF29,BH29)*100)+(SUM(AC29,AI29,AL29,AO29,AR29,AT29,AV29,AX29,AZ29,BB29,BD29,BF29,BH29)/60*100))/100,1)*60","v":0},null,null,{"$f":"INT(((SUM(AH29,AK29,AN29)*100)+SUM(AI29,AL29,AO29)/60*100)/100)","v":0},{"$f":"MOD(((SUM(AI29,AL29,AO29)*100)+(SUM(AI29,AL29,AO29)/60*100))/100,1)*60","v":0},{"$f":"INT(((SUM(AQ29+AS29+AU29+AW29+AY29+BA29+BC29+BE29+BG29)*100)+SUM(AR29+AT29+AV29+AX29+AZ29+BB29+BD29+BF29+BH29)/60*100)/100)","v":0},{"$f":"MOD(((SUM(AR29+AT29+AV29+AX29+AZ29+BB29+BD29+BF29+BH29)*100)+(SUM(AR29+AT29+AV29+AX29+AZ29+BB29+BD29+BF29+BH29)/60*100))/100,1)*60","v":0},null,null,"",null,null,"",null,null,""]
[{"$f":"CONCATENATE(Einstellungen!$L$14,\" \",Einstellungen!$M$14)","v":"Arbeitzeit Std.Min"},null,{"$f":"Einstellungen!$N$14","v":"39.30"},{"$f":"Einstellungen!$O$14","v":"29.38"},null,{"$f":"Einstellungen!$Q$14","v":"19.45"},{"$f":"IF(AND(E12>0,I30<>\"\",U30<>\"f\"),F12,0)","v":1},{"$f":"IF(AND(I30<>\"\",U30<>\"f\"),1,0)","v":1},{"$f":"I29+1","v":"2026-05-19"},"Di",null,null,null,null,0,0,null,null,null,null,null,{"$f":"IF(OR(U30=\"U\",U30=\"k\",U30=\"B\"),$C$12,IF(S30>P30,O30-1-R30,O30-R30))","v":0},{"$f":"IF(OR(U30=\"U\",U30=\"k\",U30=\"B\"),$D$12,IF(S30>P30,P30+60-S30,P30-S30))","v":0},0,0,0,0,null,null,0,0,0,0,null,null,"",null,null,"",null,null,""]
[{"$f":"Einstellungen!$L$15","v":"max.Übertrag auf das"},null,null," ",null," ",{"$f":"IF(AND(E13>0,I31<>\"\",U31<>\"f\"),F13,0)","v":1},{"$f":"IF(AND(I31<>\"\",U31<>\"f\"),1,0)","v":1},{"$f":"I30+1","v":"2026-05-20"},"Mi",null,null,null,null,0,0,null,null,null,null,null,{"$f":"IF(OR(U31=\"U\",U31=\"k\",U31=\"B\"),$C$13,IF(S31>P31,O31-1-R31,O31-R31))","v":0},{"$f":"IF(OR(U31=\"U\",U31=\"k\",U31=\"B\"),$D$13,IF(S31>P31,P31+60-S31,P31-S31))","v":0},0,0,0,0,null,null,0,0,0,0,null,null,"",null,null,"",null,null,""]
[{"$f":"Einstellungen!$L$16","v":"Folgejahr Std.Min"},null,{"$f":"Einstellungen!$N$16","v":"39.30"},{"$f":"Einstellungen!$O$16","v":"39.30"},null,{"$f":"Einstellungen!$Q$16","v":"39.30"},{"$f":"IF(AND(E14>0,I32<>\"\",U32<>\"f\"),F14,0)","v":1},{"$f":"IF(AND(I32<>\"\",U32<>\"f\"),1,0)","v":1},"2026-05-21","Do",null,null,null,null,0,0,null,null,null,null,null,{"$f":"IF(OR(U32=\"U\",U32=\"k\",U32=\"B\"),$C$14,IF(S32>P32,O32-1-R32,O32-R32))","v":0},{"$f":"IF(OR(U32=\"U\",U32=\"k\",U32=\"B\"),$D$14,IF(S32>P32,P32+60-S32,P32-S32))","v":0},0,0,0,0,null,null,0,0,0,0,null,null,"",null,null,"",null,null,""]
[{"$f":"Einstellungen!$L$17","v":"II Beschäftigte mit 41 Std-Woche"},null,null,null,null,null,{"$f":"IF(AND(E15>0,I33<>\"\",U33<>\"f\"),F15,0)","v":1},{"$f":"IF(AND(I33<>\"\",U33<>\"f\"),1,0)","v":1},"2026-05-22","Fr",null,null,null,null,0,0,null,null,null,null,null,{"$f":"IF(OR(U33=\"U\",U33=\"k\",U33=\"B\"),$C$15,IF(S33>P33,O33-1-R33,O33-R33))","v":0},{"$f":"IF(OR(U33=\"U\",U33=\"k\",U33=\"B\"),$D$15,IF(S33>P33,P33+60-S33,P33-S33))","v":0},0,0,0,0,null,null,0,0,0,0,null,null,"",null,null,"",null,null,""]
[{"$f":"Einstellungen!$L$18","v":"tägliche Arbeitszeit"},null,null,null,null,null,null,null,"2026-05-23","Sa",null,null,null,null,0,0,null,null,null,"nur dienstl. Sonderfälle!*",null,{"$f":"IF(S34>P34,O34-1-R34,O34-R34)","v":0},{"$f":"IF(S34>P34,P34+60-S34,P34-S34)","v":0},0,0,0,0,null,null,0,0,0,0,null,null,"",null,null,"",null,null,""]
[{"$f":"Einstellungen!$L$19","v":"Mo-Fr  "},{"$f":"Einstellungen!$M$19","v":"Std.Min"},{"$f":"Einstellungen!$N$19","v":"8.12"},{"$f":"Einstellungen!$O$19","v":"6.09"},null,{"$f":"Einstellungen!$Q$19","v":"4.06"},null,null,"2026-05-24","So",null,null,null,null,0,0,null,null,null,"nur dienstl. Sonderfälle!*",null,{"$f":"IF(S35>P35,O35-1-R35,O35-R35)","v":0},{"$f":"IF(S35>P35,P35+60-S35,P35-S35)","v":0},0,0,0,0,null,null,0,0,0,0,null,null,"",null,null,"",null,null,""]
[{"$f":"Einstellungen!$L$20","v":"Wochen"},null," "," ",null," ",null,null,null,null,null,null,null,null,null,null,null,null,null,null,null,{"$f":"INT((60*SUM(V29:V35)+SUM(W29:W35)-W36)/60)","v":0},{"$f":"INT(60*SUM(V29:V35)+SUM(W29:W35)-60*INT((60*SUM(V29:V35)+SUM(W29:W35))/60))","v":0},{"$f":"INT((60*SUM(X29:X35)+SUM(Y29:Y35)-Y36)/60)","v":0},{"$f":"INT(60*SUM(X29:X35)+SUM(Y29:Y35)-60*INT((60*SUM(X29:X35)+SUM(Y29:Y35))/60))","v":0},{"$f":"INT((60*SUM(Z29:Z35)+SUM(AA29:AA35)-AA36)/60)","v":0},{"$f":"INT(60*SUM(Z29:Z35)+SUM(AA29:AA35)-60*INT((60*SUM(Z29:Z35)+SUM(AA29:AA35))/60))","v":0},{"$f":"INT((60*SUM(AB29:AB35)+SUM(AC29:AC35)-AC36)/60)","v":0},{"$f":"INT(60*SUM(AB29:AB35)+SUM(AC29:AC35)-60*INT((60*SUM(AB29:AB35)+SUM(AC29:AC35))/60))","v":0},{"$f":"INT((60*SUM(AD29:AD35)+SUM(AE29:AE35)-AE36)/60)","v":0},{"$f":"INT(60*SUM(AD29:AD35)+SUM(AE29:AE35)-60*INT((60*SUM(AD29:AD35)+SUM(AE29:AE35))/60))","v":0},{"$f":"INT((60*SUM(AF29:AF35)+SUM(AG29:AG35)-AG36)/60)","v":0},{"$f":"INT(60*SUM(AF29:AF35)+SUM(AG29:AG35)-60*INT((60*SUM(AF29:AF35)+SUM(AG29:AG35))/60))","v":0},{"$f":"INT((60*SUM(AH29:AH35)+SUM(AI29:AI35)-AI36)/60)","v":0},{"$f":"INT(60*SUM(AH29:AH35)+SUM(AI29:AI35)-60*INT((60*SUM(AH29:AH35)+SUM(AI29:AI35))/60))","v":0},null,{"$f":"INT((60*SUM(AK29:AK35)+SUM(AL29:AL35)-AL36)/60)","v":0},{"$f":"INT(60*SUM(AK29:AK35)+SUM(AL29:AL35)-60*INT((60*SUM(AK29:AK35)+SUM(AL29:AL35))/60))","v":0},null,{"$f":"INT((60*SUM(AN29:AN35)+SUM(AO29:AO35)-AO36)/60)","v":0},{"$f":"INT(60*SUM(AN29:AN35)+SUM(AO29:AO35)-60*INT((60*SUM(AN29:AN35)+SUM(AO29:AO35))/60))","v":0},null,{"$f":"INT((60*SUM(AQ29:AQ35)+SUM(AR29:AR35)-AR36)/60)","v":0},{"$f":"INT(60*SUM(AQ29:AQ35)+SUM(AR29:AR35)-60*INT((60*SUM(AQ29:AQ35)+SUM(AR29:AR35))/60))","v":0},{"$f":"INT((60*SUM(AS29:AS35)+SUM(AT29:AT35)-AT36)/60)","v":0},{"$f":"INT(60*SUM(AS29:AS35)+SUM(AT29:AT35)-60*INT((60*SUM(AS29:AS35)+SUM(AT29:AT35))/60))","v":0},{"$f":"INT((60*SUM(AU29:AU35)+SUM(AV29:AV35)-AV36)/60)","v":0},{"$f":"INT(60*SUM(AU29:AU35)+SUM(AV29:AV35)-60*INT((60*SUM(AU29:AU35)+SUM(AV29:AV35))/60))","v":0},{"$f":"INT((60*SUM(AW29:AW35)+SUM(AX29:AX35)-AX36)/60)","v":0},{"$f":"INT(60*SUM(AW29:AW35)+SUM(AX29:AX35)-60*INT((60*SUM(AW29:AW35)+SUM(AX29:AX35))/60))","v":0},{"$f":"INT((60*SUM(AY29:AY35)+SUM(AZ29:AZ35)-AZ36)/60)","v":0},{"$f":"INT(60*SUM(AY29:AY35)+SUM(AZ29:AZ35)-60*INT((60*SUM(AY29:AY35)+SUM(AZ29:AZ35))/60))","v":0},{"$f":"INT((60*SUM(BA29:BA35)+SUM(BB29:BB35)-BB36)/60)","v":0},{"$f":"INT(60*SUM(BA29:BA35)+SUM(BB29:BB35)-60*INT((60*SUM(BA29:BA35)+SUM(BB29:BB35))/60))","v":0},{"$f":"INT((60*SUM(BC29:BC35)+SUM(BD29:BD35)-BD36)/60)","v":0},{"$f":"INT(60*SUM(BC29:BC35)+SUM(BD29:BD35)-60*INT((60*SUM(BC29:BC35)+SUM(BD29:BD35))/60))","v":0},{"$f":"INT((60*SUM(BE29:BE35)+SUM(BF29:BF35)-BF36)/60)","v":0},{"$f":"INT(60*SUM(BE29:BE35)+SUM(BF29:BF35)-60*INT((60*SUM(BE29:BE35)+SUM(BF29:BF35))/60))","v":0},{"$f":"INT((60*SUM(BG29:BG35)+SUM(BH29:BH35)-BH36)/60)","v":0},{"$f":"INT(60*SUM(BG29:BG35)+SUM(BH29:BH35)-60*INT((60*SUM(BG29:BG35)+SUM(BH29:BH35))/60))","v":0}]
[]
[{"$f":"CONCATENATE(Einstellungen!$L$21,\" \",Einstellungen!$M$21)","v":"Arbeitzeit Std.Min"},null,{"$f":"Einstellungen!$N$21","v":"41.00"},{"$f":"Einstellungen!$O$21","v":"30.45"},null,{"$f":"Einstellungen!$Q$21","v":"20.30"},{"$f":"IF(AND(E11>0,I38<>\"\",U38<>\"f\"),F11,0)","v":0},{"$f":"IF(AND(I38<>\"\",U38<>\"f\"),1,0)","v":0},{"$f":"IF(I35<>\"\",IF(MONTH(I35)=MONTH(I35+1),I35+1,\"\"),\"\")","v":"2026-05-25"},"Mo",null,null,null,null,{"$f":"HOUR(N38-K38-(M38-L38))","v":0},{"$f":"MINUTE(N38-K38-(M38-L38))","v":0},null,null,null,"nur dienstl. Sonderfälle!*","F",{"$f":"IF(OR(U38=\"U\",U38=\"k\",U38=\"B\"),$C$11,IF(S38>P38,O38-1-R38,O38-R38))","v":0},{"$f":"IF(OR(U38=\"U\",U38=\"k\",U38=\"B\"),$D$11,IF(S38>P38,P38+60-S38,P38-S38))","v":0},{"$f":"IF(OR(U38=\"U\",U38=\"K\",U38=\"B\"),0,V38)","v":0},{"$f":"IF(OR(U38=\"U\",U38=\"K\",U38=\"B\"),0,W38)","v":0},{"$f":"INT(((SUM(AB38,AH38,AK38,AN38,AQ38,AS38,AU38,AW38,AY38,BA38,BC38,BE38,BG38)*100)+(SUM(AC38,AI38,AL38,AO38,AR38,AT38,AV38,AX38,AZ38,BB38,BD38,BF38,BH38)/60*100))/100)","v":0},{"$f":"MOD(((SUM(AC38,AI38,AL38,AO38,AR38,AT38,AV38,AX38,AZ38,BB38,BD38,BF38,BH38)*100)+(SUM(AC38,AI38,AL38,AO38,AR38,AT38,AV38,AX38,AZ38,BB38,BD38,BF38,BH38)/60*100))/100,1)*60","v":0},null,null,{"$f":"INT(((SUM(AH38,AK38,AN38)*100)+SUM(AI38,AL38,AO38)/60*100)/100)","v":0},{"$f":"MOD(((SUM(AI38,AL38,AO38)*100)+(SUM(AI38,AL38,AO38)/60*100))/100,1)*60","v":0},{"$f":"INT(((SUM(AQ38+AS38+AU38+AW38+AY38+BA38+BC38+BE38+BG38)*100)+SUM(AR38+AT38+AV38+AX38+AZ38+BB38+BD38+BF38+BH38)/60*100)/100)","v":0},{"$f":"MOD(((SUM(AR38+AT38+AV38+AX38+AZ38+BB38+BD38+BF38+BH38)*100)+(SUM(AR38+AT38+AV38+AX38+AZ38+BB38+BD38+BF38+BH38)/60*100))/100,1)*60","v":0},null,null,"",null,null,"",null,null,""]
[{"$f":"Einstellungen!$L$22","v":"max.Übertrag auf das"},null,null," "," "," ",{"$f":"IF(AND(E12>0,I39<>\"\",U39<>\"f\"),F12,0)","v":1},{"$f":"IF(AND(I39<>\"\",U39<>\"f\"),1,0)","v":1},{"$f":"IF(I38<>\"\",IF(MONTH(I38)=MONTH(I38+1),I38+1,\"\"),\"\")","v":"2026-05-26"},"Di",null,null,null,null,0,0,null,null,null,null,null,{"$f":"IF(OR(U39=\"U\",U39=\"k\",U39=\"B\"),$C$12,IF(S39>P39,O39-1-R39,O39-R39))","v":0},{"$f":"IF(OR(U39=\"U\",U39=\"k\",U39=\"B\"),$D$12,IF(S39>P39,P39+60-S39,P39-S39))","v":0},0,0,0,0,null,null,0,0,0,0,null,null,"",null,null,"",null,null,""]
[{"$f":"Einstellungen!$L$23","v":"Folgejahr Std.Min"},null,{"$f":"Einstellungen!$N$23","v":"41.00"},{"$f":"Einstellungen!$O$23","v":"41.00"}," ",{"$f":"Einstellungen!$Q$23","v":"41.00"},{"$f":"IF(AND(E13>0,I40<>\"\",U40<>\"f\"),F13,0)","v":1},{"$f":"IF(AND(I40<>\"\",U40<>\"f\"),1,0)","v":1},{"$f":"IF(I39<>\"\",IF(MONTH(I39)=MONTH(I39+1),I39+1,\"\"),\"\")","v":"2026-05-27"},"Mi",null,null,null,null,0,0,null,null,null,null,null,{"$f":"IF(OR(U40=\"U\",U40=\"k\",U40=\"B\"),$C$13,IF(S40>P40,O40-1-R40,O40-R40))","v":0},{"$f":"IF(OR(U40=\"U\",U40=\"k\",U40=\"B\"),$D$13,IF(S40>P40,P40+60-S40,P40-S40))","v":0},0,0,0,0,null,null,0,0,0,0,null,null,"",null,null,"",null,null,""]
[{"$f":"Einstellungen!$L$24","v":"Kernarbeitszeit:"},null,{"$f":"Einstellungen!$N$24","v":"Mo-Do"},{"$f":"Einstellungen!$O$24","v":"9:00 - 14:30 Uhr"},null,null,{"$f":"IF(AND(E14>0,I41<>\"\",U41<>\"f\"),F14,0)","v":1},{"$f":"IF(AND(I41<>\"\",U41<>\"f\"),1,0)","v":1},"2026-05-28","Do",null,null,null,null,0,0,null,null,null,null,null,{"$f":"IF(OR(U41=\"U\",U41=\"k\",U41=\"B\"),$C$14,IF(S41>P41,O41-1-R41,O41-R41))","v":0},{"$f":"IF(OR(U41=\"U\",U41=\"k\",U41=\"B\"),$D$14,IF(S41>P41,P41+60-S41,P41-S41))","v":0},0,0,0,0,null,null,0,0,0,0,null,null,"",null,null,"",null,null,""]
[{"$f":"Einstellungen!$L$25","v":""},{"$f":"Einstellungen!$M$25","v":""},{"$f":"Einstellungen!$N$25","v":"Fr"},{"$f":"Einstellungen!$O$25","v":"9:00 - 12:00 Uhr"},null,null,{"$f":"IF(AND(E15>0,I42<>\"\",U42<>\"f\"),F15,0)","v":1},{"$f":"IF(AND(I42<>\"\",U42<>\"f\"),1,0)","v":1},"2026-05-29","Fr",null,null,null,null,0,0,null,null,null,null,null,{"$f":"IF(OR(U42=\"U\",U42=\"k\",U42=\"B\"),$C$15,IF(S42>P42,O42-1-R42,O42-R42))","v":0},{"$f":"IF(OR(U42=\"U\",U42=\"k\",U42=\"B\"),$D$15,IF(S42>P42,P42+60-S42,P42-S42))","v":0},0,0,0,0,null,null,0,0,0,0,null,null,"",null,null,"",null,null,""]
[{"$f":"Einstellungen!$L$26","v":"Gleitzeit:"},{"$f":"Einstellungen!$M$26","v":"frühester Beginn"},null,null,null,{"$f":"Einstellungen!$P$26","v":"6:00 Uhr"},null,null,"2026-05-30","Sa",null,null,null,null,0,0,null,null,null,"nur dienstl. Sonderfälle!*",null,{"$f":"IF(S43>P43,O43-1-R43,O43-R43)","v":0},{"$f":"IF(S43>P43,P43+60-S43,P43-S43)","v":0},0,0,0,0,null,null,0,0,0,0,null,null,"",null,null,"",null,null,""]
[{"$f":"Einstellungen!$L$27","v":""},{"$f":"Einstellungen!$M$27","v":"spätestes Ende"},null,null,null,{"$f":"Einstellungen!$P$27","v":"21:00 Uhr"},null,null,"2026-05-31","So",null,null,null,null,0,0,null,null,null,"nur dienstl. Sonderfälle!*",null,{"$f":"IF(S44>P44,O44-1-R44,O44-R44)","v":0},{"$f":"IF(S44>P44,P44+60-S44,P44-S44)","v":0},0,0,0,0,null,null,0,0,0,0,null,null,"",null,null,"",null,null,""]
[{"$f":"Einstellungen!$L$29","v":"Mittagspause zw."},null,null,{"$f":"Einstellungen!$O$29","v":"11:15 - 14:00 Uhr"},null,null,null,null,null,null,null,null,null,null,null,null,null,null,null,null,null,{"$f":"INT((60*SUM(V38:V44)+SUM(W38:W44)-W45)/60)","v":0},{"$f":"INT(60*SUM(V38:V44)+SUM(W38:W44)-60*INT((60*SUM(V38:V44)+SUM(W38:W44))/60))","v":0},{"$f":"INT((60*SUM(X38:X44)+SUM(Y38:Y44)-Y45)/60)","v":0},{"$f":"INT(60*SUM(X38:X44)+SUM(Y38:Y44)-60*INT((60*SUM(X38:X44)+SUM(Y38:Y44))/60))","v":0},{"$f":"INT((60*SUM(Z38:Z44)+SUM(AA38:AA44)-AA45)/60)","v":0},{"$f":"INT(60*SUM(Z38:Z44)+SUM(AA38:AA44)-60*INT((60*SUM(Z38:Z44)+SUM(AA38:AA44))/60))","v":0},{"$f":"INT((60*SUM(AB38:AB44)+SUM(AC38:AC44)-AC45)/60)","v":0},{"$f":"INT(60*SUM(AB38:AB44)+SUM(AC38:AC44)-60*INT((60*SUM(AB38:AB44)+SUM(AC38:AC44))/60))","v":0},{"$f":"INT((60*SUM(AD38:AD44)+SUM(AE38:AE44)-AE45)/60)","v":0},{"$f":"INT(60*SUM(AD38:AD44)+SUM(AE38:AE44)-60*INT((60*SUM(AD38:AD44)+SUM(AE38:AE44))/60))","v":0},{"$f":"INT((60*SUM(AF38:AF44)+SUM(AG38:AG44)-AG45)/60)","v":0},{"$f":"INT(60*SUM(AF38:AF44)+SUM(AG38:AG44)-60*INT((60*SUM(AF38:AF44)+SUM(AG38:AG44))/60))","v":0},{"$f":"INT((60*SUM(AH38:AH44)+SUM(AI38:AI44)-AI45)/60)","v":0},{"$f":"INT(60*SUM(AH38:AH44)+SUM(AI38:AI44)-60*INT((60*SUM(AH38:AH44)+SUM(AI38:AI44))/60))","v":0},null,{"$f":"INT((60*SUM(AK38:AK44)+SUM(AL38:AL44)-AL45)/60)","v":0},{"$f":"INT(60*SUM(AK38:AK44)+SUM(AL38:AL44)-60*INT((60*SUM(AK38:AK44)+SUM(AL38:AL44))/60))","v":0},null,{"$f":"INT((60*SUM(AN38:AN44)+SUM(AO38:AO44)-AO45)/60)","v":0},{"$f":"INT(60*SUM(AN38:AN44)+SUM(AO38:AO44)-60*INT((60*SUM(AN38:AN44)+SUM(AO38:AO44))/60))","v":0},null,{"$f":"INT((60*SUM(AQ38:AQ44)+SUM(AR38:AR44)-AR45)/60)","v":0},{"$f":"INT(60*SUM(AQ38:AQ44)+SUM(AR38:AR44)-60*INT((60*SUM(AQ38:AQ44)+SUM(AR38:AR44))/60))","v":0},{"$f":"INT((60*SUM(AS38:AS44)+SUM(AT38:AT44)-AT45)/60)","v":0},{"$f":"INT(60*SUM(AS38:AS44)+SUM(AT38:AT44)-60*INT((60*SUM(AS38:AS44)+SUM(AT38:AT44))/60))","v":0},{"$f":"INT((60*SUM(AU38:AU44)+SUM(AV38:AV44)-AV45)/60)","v":0},{"$f":"INT(60*SUM(AU38:AU44)+SUM(AV38:AV44)-60*INT((60*SUM(AU38:AU44)+SUM(AV38:AV44))/60))","v":0},{"$f":"INT((60*SUM(AW38:AW44)+SUM(AX38:AX44)-AX45)/60)","v":0},{"$f":"INT(60*SUM(AW38:AW44)+SUM(AX38:AX44)-60*INT((60*SUM(AW38:AW44)+SUM(AX38:AX44))/60))","v":0},{"$f":"INT((60*SUM(AY38:AY44)+SUM(AZ38:AZ44)-AZ45)/60)","v":0},{"$f":"INT(60*SUM(AY38:AY44)+SUM(AZ38:AZ44)-60*INT((60*SUM(AY38:AY44)+SUM(AZ38:AZ44))/60))","v":0},{"$f":"INT((60*SUM(BA38:BA44)+SUM(BB38:BB44)-BB45)/60)","v":0},{"$f":"INT(60*SUM(BA38:BA44)+SUM(BB38:BB44)-60*INT((60*SUM(BA38:BA44)+SUM(BB38:BB44))/60))","v":0},{"$f":"INT((60*SUM(BC38:BC44)+SUM(BD38:BD44)-BD45)/60)","v":0},{"$f":"INT(60*SUM(BC38:BC44)+SUM(BD38:BD44)-60*INT((60*SUM(BC38:BC44)+SUM(BD38:BD44))/60))","v":0},{"$f":"INT((60*SUM(BE38:BE44)+SUM(BF38:BF44)-BF45)/60)","v":0},{"$f":"INT(60*SUM(BE38:BE44)+SUM(BF38:BF44)-60*INT((60*SUM(BE38:BE44)+SUM(BF38:BF44))/60))","v":0},{"$f":"INT((60*SUM(BG38:BG44)+SUM(BH38:BH44)-BH45)/60)","v":0},{"$f":"INT(60*SUM(BG38:BG44)+SUM(BH38:BH44)-60*INT((60*SUM(BG38:BG44)+SUM(BH38:BH44))/60))","v":0}]
[]
[{"$f":"Einstellungen!$L$30","v":"ab 6 Std. Arbeitszeit: Dauer min."},null,null,null,null,{"$f":"Einstellungen!$Q$30","v":"30 Min"},{"$f":"IF(AND(E11>0,I47<>\"\",U47<>\"f\"),F11,0)","v":0},{"$f":"IF(AND(I47<>\"\",U47<>\"f\"),1,0)","v":0},{"$f":"IF(I44<>\"\",IF(MONTH(I44)=MONTH(I44+1),I44+1,\"\"),\"\")","v":""},"Mo",null,null,null,null,{"$f":"HOUR(N47-K47-(M47-L47))","v":0},{"$f":"MINUTE(N47-K47-(M47-L47))","v":0},null,null,null,null,null,{"$f":"IF(OR(U47=\"U\",U47=\"k\",U47=\"B\"),$C$11,IF(S47>P47,O47-1-R47,O47-R47))","v":0},{"$f":"IF(OR(U47=\"U\",U47=\"k\",U47=\"B\"),$D$11,IF(S47>P47,P47+60-S47,P47-S47))","v":0},{"$f":"IF(OR(U47=\"U\",U47=\"K\",U47=\"B\"),0,V47)","v":0},{"$f":"IF(OR(U47=\"U\",U47=\"K\",U47=\"B\"),0,W47)","v":0},{"$f":"INT(((SUM(AB47,AH47,AK47,AN47,AQ47,AS47,AU47,AW47,AY47,BA47,BC47,BE47,BG47)*100)+(SUM(AC47,AI47,AL47,AO47,AR47,AT47,AV47,AX47,AZ47,BB47,BD47,BF47,BH47)/60*100))/100)","v":0},{"$f":"MOD(((SUM(AC47,AI47,AL47,AO47,AR47,AT47,AV47,AX47,AZ47,BB47,BD47,BF47,BH47)*100)+(SUM(AC47,AI47,AL47,AO47,AR47,AT47,AV47,AX47,AZ47,BB47,BD47,BF47,BH47)/60*100))/100,1)*60","v":0},null,null,{"$f":"INT(((SUM(AH47,AK47,AN47)*100)+SUM(AI47,AL47,AO47)/60*100)/100)","v":0},{"$f":"MOD(((SUM(AI47,AL47,AO47)*100)+(SUM(AI47,AL47,AO47)/60*100))/100,1)*60","v":0},{"$f":"INT(((SUM(AQ47+AS47+AU47+AW47+AY47+BA47+BC47+BE47+BG47)*100)+SUM(AR47+AT47+AV47+AX47+AZ47+BB47+BD47+BF47+BH47)/60*100)/100)","v":0},{"$f":"MOD(((SUM(AR47+AT47+AV47+AX47+AZ47+BB47+BD47+BF47+BH47)*100)+(SUM(AR47+AT47+AV47+AX47+AZ47+BB47+BD47+BF47+BH47)/60*100))/100,1)*60","v":0},null,null,"",null,null,"",null,null,""]
[{"$f":"Einstellungen!$L$31","v":"ab 9 Std. (exklusiv Beamte) min."},null,null,null,null,{"$f":"Einstellungen!$Q$31","v":"45 Min"},{"$f":"IF(AND(E12>0,I48<>\"\",U48<>\"f\"),F12,0)","v":0},{"$f":"IF(AND(I48<>\"\",U48<>\"f\"),1,0)","v":0},{"$f":"IF(I47<>\"\",IF(MONTH(I47)=MONTH(I47+1),I47+1,\"\"),\"\")","v":""},"Di",null,null,null,null,0,0,null,null,null,null,null,{"$f":"IF(OR(U48=\"U\",U48=\"k\",U48=\"B\"),$C$12,IF(S48>P48,O48-1-R48,O48-R48))","v":0},{"$f":"IF(OR(U48=\"U\",U48=\"k\",U48=\"B\"),$D$12,IF(S48>P48,P48+60-S48,P48-S48))","v":0},0,0,0,0,null,null,0,0,0,0,null,null,"",null,null,"",null,null,""]
[{"$f":"Einstellungen!$L$32","v":""},null," ",{"$f":"Einstellungen!$O$32","v":"max."},null,{"$f":"Einstellungen!$Q$32","v":"120 Min"},{"$f":"IF(AND(E13>0,I49<>\"\",U49<>\"f\"),F13,0)","v":0},{"$f":"IF(AND(I49<>\"\",U49<>\"f\"),1,0)","v":0},{"$f":"IF(I48<>\"\",IF(MONTH(I48)=MONTH(I48+1),I48+1,\"\"),\"\")","v":""},"Mi",null,null,null,null,0,0,null,null,null,null,null,{"$f":"IF(OR(U49=\"U\",U49=\"k\",U49=\"B\"),$C$13,IF(S49>P49,O49-1-R49,O49-R49))","v":0},{"$f":"IF(OR(U49=\"U\",U49=\"k\",U49=\"B\"),$D$13,IF(S49>P49,P49+60-S49,P49-S49))","v":0},0,0,0,0,null,null,0,0,0,0,null,null,"",null,null,"",null,null,""]
[{"$f":"Einstellungen!$L$33","v":"tägliche Arbeitszeit  "},null,null,null,null,{"$f":"Einstellungen!$Q$33","v":" 10 Std"},{"$f":"IF(AND(E14>0,I50<>\"\",U50<>\"f\"),F14,0)","v":0},{"$f":"IF(AND(I50<>\"\",U50<>\"f\"),1,0)","v":0},"","Do",null,null,null,null,0,0,null,null,null,null,null,{"$f":"IF(OR(U50=\"U\",U50=\"k\",U50=\"B\"),$C$14,IF(S50>P50,O50-1-R50,O50-R50))","v":0},{"$f":"IF(OR(U50=\"U\",U50=\"k\",U50=\"B\"),$D$14,IF(S50>P50,P50+60-S50,P50-S50))","v":0},0,0,0,0,null,null,0,0,0,0,null,null,"",null,null,"",null,null,""]
[{"$f":"Einstellungen!$L$34","v":"*) beachte § 5 der Dienstvereinbarung vom 17.04.2024 über die Arbeitszeit der Beschäftigten der Universität Hohenheim"},null,null,null,null,null,{"$f":"IF(AND(E15>0,I51<>\"\",U51<>\"f\"),F15,0)","v":0},{"$f":"IF(AND(I51<>\"\",U51<>\"f\"),1,0)","v":0},"","Fr",null,null,null,null,0,0,null,null,null,null,null,{"$f":"IF(OR(U51=\"U\",U51=\"k\",U51=\"B\"),$C$15,IF(S51>P51,O51-1-R51,O51-R51))","v":0},{"$f":"IF(OR(U51=\"U\",U51=\"k\",U51=\"B\"),$D$15,IF(S51>P51,P51+60-S51,P51-S51))","v":0},0,0,0,0,null,null,0,0,0,0,null,null,"",null,null,"",null,null,""]
[null,null,null,null,null,null,null,null,"","Sa",null,null,null,null,0,0,null,null,null,"nur dienstl. Sonderfälle!*",null,{"$f":"IF(S52>P52,O52-1-R52,O52-R52)","v":0},{"$f":"IF(S52>P52,P52+60-S52,P52-S52)","v":0},0,0,0,0,null,null,0,0,0,0,null,null,"",null,null,"",null,null,""]
[null,null,null,null,null,null,null,null,"","So",null,null,null,null,0,0,null,null,null,"nur dienstl. Sonderfälle!*",null,{"$f":"IF(S53>P53,O53-1-R53,O53-R53)","v":0},{"$f":"IF(S53>P53,P53+60-S53,P53-S53)","v":0},0,0,0,0,null,null,0,0,0,0,null,null,"",null,null,"",null,null,""]
[null,null,null,null,null,null,null,null,null,null,null,null,null,null,null,null,null,null,null,null,null,{"$f":"INT((60*SUM(V47:V53)+SUM(W47:W53)-W54)/60)","v":0},{"$f":"INT(60*SUM(V47:V53)+SUM(W47:W53)-60*INT((60*SUM(V47:V53)+SUM(W47:W53))/60))","v":0},{"$f":"INT((60*SUM(X47:X53)+SUM(Y47:Y53)-Y54)/60)","v":0},{"$f":"INT(60*SUM(X47:X53)+SUM(Y47:Y53)-60*INT((60*SUM(X47:X53)+SUM(Y47:Y53))/60))","v":0},{"$f":"INT((60*SUM(Z47:Z53)+SUM(AA47:AA53)-AA54)/60)","v":0},{"$f":"INT(60*SUM(Z47:Z53)+SUM(AA47:AA53)-60*INT((60*SUM(Z47:Z53)+SUM(AA47:AA53))/60))","v":0},{"$f":"INT((60*SUM(AB47:AB53)+SUM(AC47:AC53)-AC54)/60)","v":0},{"$f":"INT(60*SUM(AB47:AB53)+SUM(AC47:AC53)-60*INT((60*SUM(AB47:AB53)+SUM(AC47:AC53))/60))","v":0},{"$f":"INT((60*SUM(AD47:AD53)+SUM(AE47:AE53)-AE54)/60)","v":0},{"$f":"INT(60*SUM(AD47:AD53)+SUM(AE47:AE53)-60*INT((60*SUM(AD47:AD53)+SUM(AE47:AE53))/60))","v":0},{"$f":"INT((60*SUM(AF47:AF53)+SUM(AG47:AG53)-AG54)/60)","v":0},{"$f":"INT(60*SUM(AF47:AF53)+SUM(AG47:AG53)-60*INT((60*SUM(AF47:AF53)+SUM(AG47:AG53))/60))","v":0},{"$f":"INT((60*SUM(AH47:AH53)+SUM(AI47:AI53)-AI54)/60)","v":0},{"$f":"INT(60*SUM(AH47:AH53)+SUM(AI47:AI53)-60*INT((60*SUM(AH47:AH53)+SUM(AI47:AI53))/60))","v":0},null,{"$f":"INT((60*SUM(AK47:AK53)+SUM(AL47:AL53)-AL54)/60)","v":0},{"$f":"INT(60*SUM(AK47:AK53)+SUM(AL47:AL53)-60*INT((60*SUM(AK47:AK53)+SUM(AL47:AL53))/60))","v":0},null,{"$f":"INT((60*SUM(AN47:AN53)+SUM(AO47:AO53)-AO54)/60)","v":0},{"$f":"INT(60*SUM(AN47:AN53)+SUM(AO47:AO53)-60*INT((60*SUM(AN47:AN53)+SUM(AO47:AO53))/60))","v":0},null,{"$f":"INT((60*SUM(AQ47:AQ53)+SUM(AR47:AR53)-AR54)/60)","v":0},{"$f":"INT(60*SUM(AQ47:AQ53)+SUM(AR47:AR53)-60*INT((60*SUM(AQ47:AQ53)+SUM(AR47:AR53))/60))","v":0},{"$f":"INT((60*SUM(AS47:AS53)+SUM(AT47:AT53)-AT54)/60)","v":0},{"$f":"INT(60*SUM(AS47:AS53)+SUM(AT47:AT53)-60*INT((60*SUM(AS47:AS53)+SUM(AT47:AT53))/60))","v":0},{"$f":"INT((60*SUM(AU47:AU53)+SUM(AV47:AV53)-AV54)/60)","v":0},{"$f":"INT(60*SUM(AU47:AU53)+SUM(AV47:AV53)-60*INT((60*SUM(AU47:AU53)+SUM(AV47:AV53))/60))","v":0},{"$f":"INT((60*SUM(AW47:AW53)+SUM(AX47:AX53)-AX54)/60)","v":0},{"$f":"INT(60*SUM(AW47:AW53)+SUM(AX47:AX53)-60*INT((60*SUM(AW47:AW53)+SUM(AX47:AX53))/60))","v":0},{"$f":"INT((60*SUM(AY47:AY53)+SUM(AZ47:AZ53)-AZ54)/60)","v":0},{"$f":"INT(60*SUM(AY47:AY53)+SUM(AZ47:AZ53)-60*INT((60*SUM(AY47:AY53)+SUM(AZ47:AZ53))/60))","v":0},{"$f":"INT((60*SUM(BA47:BA53)+SUM(BB47:BB53)-BB54)/60)","v":0},{"$f":"INT(60*SUM(BA47:BA53)+SUM(BB47:BB53)-60*INT((60*SUM(BA47:BA53)+SUM(BB47:BB53))/60))","v":0},{"$f":"INT((60*SUM(BC47:BC53)+SUM(BD47:BD53)-BD54)/60)","v":0},{"$f":"INT(60*SUM(BC47:BC53)+SUM(BD47:BD53)-60*INT((60*SUM(BC47:BC53)+SUM(BD47:BD53))/60))","v":0},{"$f":"INT((60*SUM(BE47:BE53)+SUM(BF47:BF53)-BF54)/60)","v":0},{"$f":"INT(60*SUM(BE47:BE53)+SUM(BF47:BF53)-60*INT((60*SUM(BE47:BE53)+SUM(BF47:BF53))/60))","v":0},{"$f":"INT((60*SUM(BG47:BG53)+SUM(BH47:BH53)-BH54)/60)","v":0},{"$f":"INT(60*SUM(BG47:BG53)+SUM(BH47:BH53)-60*INT((60*SUM(BG47:BG53)+SUM(BH47:BH53))/60))","v":0}]
[null,null,null,null,null,null,{"$f":"SUM(G5:G53)","v":18},{"$f":"SUM(H5:H53)","v":18},"Mai",null,null,null,null,null,null,{"$f":"Einstellungen!A1","v":2026},null,null,null,null,null,null,null,"Summe:",null,"Summe:",null,"Summe:",null,"Summe:",null,"Summe:",null,{"$f":"INT(((SUM(AH9,AH18,AH27,AH36,AH45,AH54)*100)+(SUM(AI9,AI18,AI27,AI36,AI45,AI54)/60*100))/100)","v":0},{"$f":"MOD(((SUM(AH9,AH18,AH27,AH36,AH45,AH54)*100)+(SUM(AI9,AI18,AI27,AI36,AI45,AI54)/60*100))/100,1)*60","v":0},null,{"$f":"INT(((SUM(AK9,AK18,AK27,AK36,AK45,AK54)*100)+(SUM(AL9,AL18,AL27,AL36,AL45,AL54)/60*100))/100)","v":0},{"$f":"MOD(((SUM(AK9,AK18,AK27,AK36,AK45,AK54)*100)+(SUM(AL9,AL18,AL27,AL36,AL45,AL54)/60*100))/100,1)*60","v":0},null,{"$f":"INT(((SUM(AN9,AN18,AN27,AN36,AN45,AN54)*100)+(SUM(AO9,AO18,AO27,AO36,AO45,AO54)/60*100))/100)","v":0},{"$f":"MOD(((SUM(AN9,AN18,AN27,AN36,AN45,AN54)*100)+(SUM(AO9,AO18,AO27,AO36,AO45,AO54)/60*100))/100,1)*60","v":0},null,{"$f":"INT(((SUM(AQ9,AQ18,AQ27,AQ36,AQ45,AQ54)*100)+(SUM(AR9,AR18,AR27,AR36,AR45,AR54)/60*100))/100)","v":0},{"$f":"MOD(((SUM(AQ9,AQ18,AQ27,AQ36,AQ45,AQ54)*100)+(SUM(AR9,AR18,AR27,AR36,AR45,AR54)/60*100))/100,1)*60","v":0},{"$f":"INT(((SUM(AS9,AS18,AS27,AS36,AS45,AS54)*100)+(SUM(AT9,AT18,AT27,AT36,AT45,AT54)/60*100))/100)","v":0},{"$f":"MOD(((SUM(AS9,AS18,AS27,AS36,AS45,AS54)*100)+(SUM(AT9,AT18,AT27,AT36,AT45,AT54)/60*100))/100,1)*60","v":0},{"$f":"INT(((SUM(AU9,AU18,AU27,AU36,AU45,AU54)*100)+(SUM(AV9,AV18,AV27,AV36,AV45,AV54)/60*100))/100)","v":0},{"$f":"MOD(((SUM(AU9,AU18,AU27,AU36,AU45,AU54)*100)+(SUM(AV9,AV18,AV27,AV36,AV45,AV54)/60*100))/100,1)*60","v":0},{"$f":"INT(((SUM(AW9,AW18,AW27,AW36,AW45,AW54)*100)+(SUM(AX9,AX18,AX27,AX36,AX45,AX54)/60*100))/100)","v":0},{"$f":"MOD(((SUM(AW9,AW18,AW27,AW36,AW45,AW54)*100)+(SUM(AX9,AX18,AX27,AX36,AX45,AX54)/60*100))/100,1)*60","v":0},{"$f":"INT(((SUM(AY9,AY18,AY27,AY36,AY45,AY54)*100)+(SUM(AZ9,AZ18,AZ27,AZ36,AZ45,AZ54)/60*100))/100)","v":0},{"$f":"MOD(((SUM(AY9,AY18,AY27,AY36,AY45,AY54)*100)+(SUM(AZ9,AZ18,AZ27,AZ36,AZ45,AZ54)/60*100))/100,1)*60","v":0},{"$f":"INT(((SUM(BA9,BA18,BA27,BA36,BA45,BA54)*100)+(SUM(BB9,BB18,BB27,BB36,BB45,BB54)/60*100))/100)","v":0},{"$f":"MOD(((SUM(BA9,BA18,BA27,BA36,BA45,BA54)*100)+(SUM(BB9,BB18,BB27,BB36,BB45,BB54)/60*100))/100,1)*60","v":0},{"$f":"INT(((SUM(BC9,BC18,BC27,BC36,BC45,BC54)*100)+(SUM(BD9,BD18,BD27,BD36,BD45,BD54)/60*100))/100)","v":0},{"$f":"MOD(((SUM(BC9,BC18,BC27,BC36,BC45,BC54)*100)+(SUM(BD9,BD18,BD27,BD36,BD45,BD54)/60*100))/100,1)*60","v":0},{"$f":"INT(((SUM(BE9,BE18,BE27,BE36,BE45,BE54)*100)+(SUM(BF9,BF18,BF27,BF36,BF45,BF54)/60*100))/100)","v":0},{"$f":"MOD(((SUM(BE9,BE18,BE27,BE36,BE45,BE54)*100)+(SUM(BF9,BF18,BF27,BF36,BF45,BF54)/60*100))/100,1)*60","v":0},{"$f":"INT(((SUM(BG9,BG18,BG27,BG36,BG45,BG54)*100)+(SUM(BH9,BH18,BH27,BH36,BH45,BH54)/60*100))/100)","v":0},{"$f":"MOD(((SUM(BG9,BG18,BG27,BG36,BG45,BG54)*100)+(SUM(BH9,BH18,BH27,BH36,BH45,BH54)/60*100))/100,1)*60","v":0}]
[null,null,null,null,null,null,null,null,"Abrechnungsmonat",null,null,null,null,null,null,"Jahr",null,null,null,"Monatsarbeitszeit IST",null,{"$f":"INT((60*SUM(V54,V45,V36,V27,V18,V9)+SUM(W54,W45,W36,W27,W18,W9)-W56)/60)","v":0},{"$f":"INT(60*SUM(V54,V45,V36,V27,V18,V9)+SUM(W54,W45,W36,W27,W18,W9)-60*INT((60*SUM(V54,V45,V36,V27,V18,V9)+SUM(W54,W45,W36,W27,W18,W9))/60))","v":0},{"$f":"INT((60*SUM(X54,X45,X36,X27,X18,X9)+SUM(Y54,Y45,Y36,Y27,Y18,Y9)-Y56)/60)","v":0},{"$f":"INT(60*SUM(X54,X45,X36,X27,X18,X9)+SUM(Y54,Y45,Y36,Y27,Y18,Y9)-60*INT((60*SUM(X54,X45,X36,X27,X18,X9)+SUM(Y54,Y45,Y36,Y27,Y18,Y9))/60))","v":0},{"$f":"INT((60*SUM(Z54,Z45,Z36,Z27,Z18,Z9)+SUM(AA54,AA45,AA36,AA27,AA18,AA9)-AA56)/60)","v":0},{"$f":"INT(60*SUM(Z54,Z45,Z36,Z27,Z18,Z9)+SUM(AA54,AA45,AA36,AA27,AA18,AA9)-60*INT((60*SUM(Z54,Z45,Z36,Z27,Z18,Z9)+SUM(AA54,AA45,AA36,AA27,AA18,AA9))/60))","v":0},{"$f":"INT((60*SUM(AB54,AB45,AB36,AB27,AB18,AB9)+SUM(AC54,AC45,AC36,AC27,AC18,AC9)-AC56)/60)","v":0},{"$f":"INT(60*SUM(AB54,AB45,AB36,AB27,AB18,AB9)+SUM(AC54,AC45,AC36,AC27,AC18,AC9)-60*INT((60*SUM(AB54,AB45,AB36,AB27,AB18,AB9)+SUM(AC54,AC45,AC36,AC27,AC18,AC9))/60))","v":0},{"$f":"INT((60*SUM(AD54,AD45,AD36,AD27,AD18,AD9)+SUM(AE54,AE45,AE36,AE27,AE18,AE9)-AE56)/60)","v":0},{"$f":"INT(60*SUM(AD54,AD45,AD36,AD27,AD18,AD9)+SUM(AE54,AE45,AE36,AE27,AE18,AE9)-60*INT((60*SUM(AD54,AD45,AD36,AD27,AD18,AD9)+SUM(AE54,AE45,AE36,AE27,AE18,AE9))/60))","v":0},{"$f":"INT((60*SUM(AF54,AF45,AF36,AF27,AF18,AF9)+SUM(AG54,AG45,AG36,AG27,AG18,AG9)-AG56)/60)","v":0},{"$f":"INT(60*SUM(AF54,AF45,AF36,AF27,AF18,AF9)+SUM(AG54,AG45,AG36,AG27,AG18,AG9)-60*INT((60*SUM(AF54,AF45,AF36,AF27,AF18,AF9)+SUM(AG54,AG45,AG36,AG27,AG18,AG9))/60))","v":0}]
[null,null,null,null,null,null,null,null,{"$f":"Einstellungen!K23","v":"Franziska von Hohenheim"},null,null,null,null,null,null,null,null,null,null,"Übertrag aus Vormonat (+/-)",{"$f":"IF(V57*W57<0,\"!\",\"\")","v":""},{"$f":"ROUND(Apr!V60,0)","v":-647},{"$f":"ROUND(Apr!W60,0)","v":-48}]
[null,null,null,null,null,null,null,null,"Name, Vorname",null,null,null,null,null,null,null,"Datum",null,null,"Summe",null,{"$f":"ROUND(SIGN(V56+V57+(W56+W57)/60)*ROUNDDOWN(ABS(V56+V57+(W56+W57)/60),0),0)","v":-647},{"$f":"ROUND(SIGN(V56+V57+(W56+W57)/60)*(ABS(V56+V57+(W56+W57)/60)-ABS(V58))*60,0)","v":-48}]
[null,null,null,null,null,null,null,null,{"$f":"Einstellungen!$K$25","v":"630"},null,{"$f":"Einstellungen!K24","v":"KIM"},null,null,null,null,null,null,null,null,"Monatsarbeitszeit SOLL",null,{"$f":"SUM(Einstellungen!B7)","v":142},{"$f":"SUM(Einstellungen!C7)","v":12}]
[null,null,null,null,null,null,null,null,"Einr.-Nr.",null,"Abt. / FG",null,null,null,null,null,"Name Leiter/in",null,null,"Zeitübertrag auf Folgemonat",{"$f":"IF(V60*W60<0,\"!\",\"\")","v":""},{"$f":"ROUND(SIGN(V58-V59+(W58-W59)/60)*ROUNDDOWN(ABS(V58-V59+(W58-W59)/60),0),0)","v":-790},{"$f":"ROUND(SIGN(V58-V59+(W58-W59)/60)*(ABS(V58-V59+(W58-W59)/60)-ABS(V60))*60,0)","v":0}]
[]
[null,null,null,null,null,null,null,null,null,null,null,null,null,null,null,null,null,null,null,"Summe Urlaubstage",null,{"$f":"SUMPRODUCT((U5:U6=\"U\")*(E14:E15>0))+SUMPRODUCT((U11:U15=\"U\")*(E11:E15>0))+SUMPRODUCT((U20:U24=\"U\")*(E11:E15>0))+SUMPRODUCT((U29:U33=\"U\")*(E11:E15>0))+SUMPRODUCT((U38:U42=\"U\")*(E11:E15>0))+SUMPRODUCT((U47:U51=\"U\")*(E11:E15>0))","v":0}]
[null,null,null,null,null,null,null,null,"Datum",null,"Unterschrift Mitarbeiter/in",null,null,null,null,null,"Unterschrift Leiter/in",null,null,"alter / neuer Übertrag",null,{"$f":"IF(SUM(Einstellungen!K27:K30)>0,Apr!W63,\"--- \")","v":30},{"$f":"IF(SUM(Einstellungen!K27:K30)>0,V63-V62,\"--- \")","v":30}]

{"sheet":"Juni","index":5,"n_rows":63,"n_cols":60,"rows_kept":63,"cut":false,"hidden":true,"merged":[[0,31,0,32],[0,23,0,24],[0,25,0,26],[0,27,0,28],[0,29,0,30],[1,23,1,24],[1,25,1,26],[37,0,37,1],[38,0,38,2],[2,23,2,24],[2,25,2,26],[28,0,28,1],[29,0,29,1],[30,0,30,2],[35,0,35,1],[7,0,7,3],[39,0,39,1],[46,0,46,3],[47,0,47,3],[49,0,49,3],[54,23,54,24],[50,0,52,5],[40,3,40,5],[41,3,41,5],[44,3,44,5],[61,21,61,22],[63,25,63,26],[54,27,54,28],[54,29,54,30],[54,31,54,32],[54,25,54,26],[0,42,2,43],[0,44,2,45],[0,46,2,47],[0,33,2,35],[0,36,2,38],[0,39,2,41],[0,58,2,59],[0,48,2,49],[0,50,2,51],[0,52,2,53],[0,54,2,55],[0,56,2,57]]}
[{"$f":"Einstellungen!A27","v":"Universität Hohenheim KIM © 2026"},null,null,null,null,null,null,null,"Datum",null,"Arbeits-",null,null,"Arbeits-","Arb.Zeit ohne",null,"Sonstige Unterbrechungen",null,null,"Erläuterungen, Hinweise,","U,K","Reine Arb.-",null,"Productive",null,"Productive",null,"Sonstiges",null,"Summe ",null,"Summe",null,{"$f":"Projektdaten!D4","v":"EU Projekt 1"},null,null,{"$f":"Projektdaten!D6","v":"EU Projekt 2"},null,null,{"$f":"Projektdaten!D8","v":"EU Projekt 3"},null,null,{"$f":"Projektdaten!D13","v":"Projekt 1"},null,{"$f":"Projektdaten!D15","v":"Projekt 2"},null,{"$f":"Projektdaten!D17","v":"Projekt 3"},null,{"$f":"Projektdaten!D19","v":"Projekt 4"},null,{"$f":"Projektdaten!D21","v":"Projekt 5"},null,{"$f":"Projektdaten!D23","v":"Projekt 6"},null,{"$f":"Projektdaten!D25","v":"Projekt 7"},null,{"$f":"Projektdaten!D27","v":"Projekt 8"},null,{"$f":"Projektdaten!D29","v":"Projekt 9"}]
["Arbeitszeitblatt",null,null,{"$f":"Einstellungen!A28","v":"Version 5.12"},null,null,null,null,"Tag","Wo-","beginn","Mittagspause",null,"ende","Mittagspause",null,"von - bis","Gesamtdauer",null,"Vermerke, z.B. Dienstreise","F,X","Zeit","IST","Hours",null,"Hours",null,null,null,"EU-",null,"andere"]
[null,null,null,null,null,null,null,null,null,"tag",null,"von","bis",null,"Std.","Min.",null,"Std.","Min.","  - non eligible -","A,B","Std.","Min.","i.S.d. EU",null,"verteilt",null,null," ","Projekte",null,"Projekte"]
[null,null,null,null,null,null,null,null,null,null,null,null,null,null,null,null,null,null,null,null,null,null,null,"Std.","Min.","Std.","Min.","Std.","Min.","Std.","Min.","Std.","Min.","Std.","Min.","Geleistete Arbeitspakete nach Annex 1","Std.","Min.","Geleistete Arbeitspakete nach Annex 1","Std.","Min.","Geleistete Arbeitspakete nach Annex 1","Std.","Min.","Std.","Min.","Std.","Min.","Std.","Min.","Std.","Min.","Std.","Min.","Std.","Min.","Std.","Min.","Std.","Min."]
[null,null,null,null,null,"U",{"$f":"IF(AND(E14>0,I5<>\"\",U5<>\"f\"),1,0)","v":0},{"$f":"IF(AND(I5<>\"\",U5<>\"f\"),1,0)","v":0},{"$f":"IF(CHOOSE(WEEKDAY(Einstellungen!$A$8,2),\"Mo\",\"Di\",\"Mi\",\"Do\",\"Fr\",\"Sa\",\"So\")=J5,Einstellungen!$A$8,\"\")","v":""},"Do",null,null,null,null,{"$f":"HOUR(N5-K5-(M5-L5))","v":0},{"$f":"MINUTE(N5-K5-(M5-L5))","v":0},null,null,null,null,null,{"$f":"IF(OR(U5=\"U\",U5=\"k\",U5=\"B\"),$C$14,IF(S5>P5,O5-1-R5,O5-R5))","v":0},{"$f":"IF(OR(U5=\"U\",U5=\"k\",U5=\"B\"),$D$14,IF(S5>P5,P5+60-S5,P5-S5))","v":0},{"$f":"IF(OR(U5=\"U\",U5=\"K\",U5=\"B\"),0,V5)","v":0},{"$f":"IF(OR(U5=\"U\",U5=\"K\",U5=\"B\"),0,W5)","v":0},{"$f":"INT(((SUM(AB5,AH5,AK5,AN5,AQ5,AS5,AU5,AW5,AY5,BA5,BC5,BE5,BG5)*100)+(SUM(AC5,AI5,AL5,AO5,AR5,AT5,AV5,AX5,AZ5,BB5,BD5,BF5,BH5)/60*100))/100)","v":0},{"$f":"MOD(((SUM(AC5,AI5,AL5,AO5,AR5,AT5,AV5,AX5,AZ5,BB5,BD5,BF5,BH5)*100)+(SUM(AC5,AI5,AL5,AO5,AR5,AT5,AV5,AX5,AZ5,BB5,BD5,BF5,BH5)/60*100))/100,1)*60","v":0},null,null,{"$f":"INT(((SUM(AH5,AK5,AN5)*100)+SUM(AI5,AL5,AO5)/60*100)/100)","v":0},{"$f":"MOD(((SUM(AI5,AL5,AO5)*100)+(SUM(AI5,AL5,AO5)/60*100))/100,1)*60","v":0},{"$f":"INT(((SUM(AQ5+AS5+AU5+AW5+AY5+BA5+BC5+BE5+BG5)*100)+SUM(AR5+AT5+AV5+AX5+AZ5+BB5+BD5+BF5+BH5)/60*100)/100)","v":0},{"$f":"MOD(((SUM(AR5+AT5+AV5+AX5+AZ5+BB5+BD5+BF5+BH5)*100)+(SUM(AR5+AT5+AV5+AX5+AZ5+BB5+BD5+BF5+BH5)/60*100))/100,1)*60","v":0},null,null,"",null,null,"",null,null,""]
[null,null,null,null,null,"K",{"$f":"IF(AND(E15>0,I6<>\"\",U6<>\"f\"),F14,0)","v":0},{"$f":"IF(AND(I6<>\"\",U6<>\"f\"),1,0)","v":0},{"$f":"IF(I5<>\"\",I5+1,IF(CHOOSE(WEEKDAY(Einstellungen!$A$8,2),\"Mo\",\"Di\",\"Mi\",\"Do\",\"Fr\",\"Sa\",\"So\")=J6,Einstellungen!$A$8,\"\"))","v":""},"Fr",null,null,null,null,{"$f":"HOUR(N6-K6-(M6-L6))","v":0},{"$f":"MINUTE(N6-K6-(M6-L6))","v":0},null,null,null,null,null,{"$f":"IF(OR(U6=\"U\",U6=\"k\",U6=\"B\"),$C$15,IF(S6>P6,O6-1-R6,O6-R6))","v":0},{"$f":"IF(OR(U6=\"U\",U6=\"k\",U6=\"B\"),$D$15,IF(S6>P6,P6+60-S6,P6-S6))","v":0},{"$f":"IF(OR(U6=\"U\",U6=\"K\",U6=\"B\"),0,V6)","v":0},{"$f":"IF(OR(U6=\"U\",U6=\"K\",U6=\"B\"),0,W6)","v":0},{"$f":"INT(((SUM(AB6,AH6,AK6,AN6,AQ6,AS6,AU6,AW6,AY6,BA6,BC6,BE6,BG6)*100)+(SUM(AC6,AI6,AL6,AO6,AR6,AT6,AV6,AX6,AZ6,BB6,BD6,BF6,BH6)/60*100))/100)","v":0},{"$f":"MOD(((SUM(AC6,AI6,AL6,AO6,AR6,AT6,AV6,AX6,AZ6,BB6,BD6,BF6,BH6)*100)+(SUM(AC6,AI6,AL6,AO6,AR6,AT6,AV6,AX6,AZ6,BB6,BD6,BF6,BH6)/60*100))/100,1)*60","v":0},null,null,{"$f":"INT(((SUM(AH6,AK6,AN6)*100)+SUM(AI6,AL6,AO6)/60*100)/100)","v":0},{"$f":"MOD(((SUM(AI6,AL6,AO6)*100)+(SUM(AI6,AL6,AO6)/60*100))/100,1)*60","v":0},{"$f":"INT(((SUM(AQ6+AS6+AU6+AW6+AY6+BA6+BC6+BE6+BG6)*100)+SUM(AR6+AT6+AV6+AX6+AZ6+BB6+BD6+BF6+BH6)/60*100)/100)","v":0},{"$f":"MOD(((SUM(AR6+AT6+AV6+AX6+AZ6+BB6+BD6+BF6+BH6)*100)+(SUM(AR6+AT6+AV6+AX6+AZ6+BB6+BD6+BF6+BH6)/60*100))/100,1)*60","v":0},null,null,"",null,null,"",null,null,""]
[null,null,null,null,null,"A",{"$f":"IF(AND(E16>0,I7<>\"\",U7<>\"f\"),F15,0)","v":0},null,{"$f":"IF(I6<>\"\",I6+1,IF(CHOOSE(WEEKDAY(Einstellungen!$A$8,2),\"Mo\",\"Di\",\"Mi\",\"Do\",\"Fr\",\"Sa\",\"So\")=J7,Einstellungen!$A$8,\"\"))","v":""},"Sa",null,null,null,null,{"$f":"HOUR(N7-K7-(M7-L7))","v":0},{"$f":"MINUTE(N7-K7-(M7-L7))","v":0},null,null,null,"nur dienstl. Sonderfälle!*",null,{"$f":"IF(S7>P7,O7-1-R7,O7-R7)","v":0},{"$f":"IF(S7>P7,P7+60-S7,P7-S7)","v":0},0,0,{"$f":"INT(((SUM(AB7,AH7,AK7,AN7,AQ7,AS7,AU7,AW7,AY7,BA7,BC7,BE7,BG7)*100)+(SUM(AC7,AI7,AL7,AO7,AR7,AT7,AV7,AX7,AZ7,BB7,BD7,BF7,BH7)/60*100))/100)","v":0},{"$f":"MOD(((SUM(AC7,AI7,AL7,AO7,AR7,AT7,AV7,AX7,AZ7,BB7,BD7,BF7,BH7)*100)+(SUM(AC7,AI7,AL7,AO7,AR7,AT7,AV7,AX7,AZ7,BB7,BD7,BF7,BH7)/60*100))/100,1)*60","v":0},null,null,{"$f":"INT(((SUM(AH7,AK7,AN7)*100)+SUM(AI7,AL7,AO7)/60*100)/100)","v":0},{"$f":"MOD(((SUM(AI7,AL7,AO7)*100)+(SUM(AI7,AL7,AO7)/60*100))/100,1)*60","v":0},{"$f":"INT(((SUM(AQ7+AS7+AU7+AW7+AY7+BA7+BC7+BE7+BG7)*100)+SUM(AR7+AT7+AV7+AX7+AZ7+BB7+BD7+BF7+BH7)/60*100)/100)","v":0},{"$f":"MOD(((SUM(AR7+AT7+AV7+AX7+AZ7+BB7+BD7+BF7+BH7)*100)+(SUM(AR7+AT7+AV7+AX7+AZ7+BB7+BD7+BF7+BH7)/60*100))/100,1)*60","v":0},null,null,"",null,null,"",null,null,""]
[{"$f":"IF(Einstellungen!D25>0.0005,\"Bitte Werte prüfen\",\"\")","v":""},null,null,null,null,"B",null,null,{"$f":"IF(I7<>\"\",I7+1,IF(CHOOSE(WEEKDAY(Einstellungen!$A$8,2),\"Mo\",\"Di\",\"Mi\",\"Do\",\"Fr\",\"Sa\",\"So\")=J8,Einstellungen!$A$8,\"\"))","v":""},"So",null,null,null,null,{"$f":"HOUR(N8-K8-(M8-L8))","v":0},{"$f":"MINUTE(N8-K8-(M8-L8))","v":0},null,null,null,"nur dienstl. Sonderfälle!*",null,{"$f":"IF(S8>P8,O8-1-R8,O8-R8)","v":0},{"$f":"IF(S8>P8,P8+60-S8,P8-S8)","v":0},0,0,{"$f":"INT(((SUM(AB8,AH8,AK8,AN8,AQ8,AS8,AU8,AW8,AY8,BA8,BC8,BE8,BG8)*100)+(SUM(AC8,AI8,AL8,AO8,AR8,AT8,AV8,AX8,AZ8,BB8,BD8,BF8,BH8)/60*100))/100)","v":0},{"$f":"MOD(((SUM(AC8,AI8,AL8,AO8,AR8,AT8,AV8,AX8,AZ8,BB8,BD8,BF8,BH8)*100)+(SUM(AC8,AI8,AL8,AO8,AR8,AT8,AV8,AX8,AZ8,BB8,BD8,BF8,BH8)/60*100))/100,1)*60","v":0},null,null,{"$f":"INT(((SUM(AH8,AK8,AN8)*100)+SUM(AI8,AL8,AO8)/60*100)/100)","v":0},{"$f":"MOD(((SUM(AI8,AL8,AO8)*100)+(SUM(AI8,AL8,AO8)/60*100))/100,1)*60","v":0},{"$f":"INT(((SUM(AQ8+AS8+AU8+AW8+AY8+BA8+BC8+BE8+BG8)*100)+SUM(AR8+AT8+AV8+AX8+AZ8+BB8+BD8+BF8+BH8)/60*100)/100)","v":0},{"$f":"MOD(((SUM(AR8+AT8+AV8+AX8+AZ8+BB8+BD8+BF8+BH8)*100)+(SUM(AR8+AT8+AV8+AX8+AZ8+BB8+BD8+BF8+BH8)/60*100))/100,1)*60","v":0},null,null,"",null,null,"",null,null,""]
["Meine tägl. Regelarbeitszeit:",null,null,null,null,"X",null,null,null,null,null,null,null,null,null,null,null,null,null,null,null,{"$f":"INT((60*SUM(V5:V8)+SUM(W5:W8)-W9)/60)","v":0},{"$f":"INT(60*SUM(V5:V8)+SUM(W5:W8)-60*INT((60*SUM(V5:V8)+SUM(W5:W8))/60))","v":0},{"$f":"INT((60*SUM(X5:X8)+SUM(Y5:Y8)-Y9)/60)","v":0},{"$f":"INT(60*SUM(X5:X8)+SUM(Y5:Y8)-60*INT((60*SUM(X5:X8)+SUM(Y5:Y8))/60))","v":0},{"$f":"INT((60*SUM(Z5:Z8)+SUM(AA5:AA8)-AA9)/60)","v":0},{"$f":"INT(60*SUM(Z5:Z8)+SUM(AA5:AA8)-60*INT((60*SUM(Z5:Z8)+SUM(AA5:AA8))/60))","v":0},{"$f":"INT((60*SUM(AB5:AB8)+SUM(AC5:AC8)-AC9)/60)","v":0},{"$f":"INT(60*SUM(AB5:AB8)+SUM(AC5:AC8)-60*INT((60*SUM(AB5:AB8)+SUM(AC5:AC8))/60))","v":0},{"$f":"INT((60*SUM(AD5:AD8)+SUM(AE5:AE8)-AE9)/60)","v":0},{"$f":"INT(60*SUM(AD5:AD8)+SUM(AE5:AE8)-60*INT((60*SUM(AD5:AD8)+SUM(AE5:AE8))/60))","v":0},{"$f":"INT((60*SUM(AF5:AF8)+SUM(AG5:AG8)-AG9)/60)","v":0},{"$f":"INT(60*SUM(AF5:AF8)+SUM(AG5:AG8)-60*INT((60*SUM(AF5:AF8)+SUM(AG5:AG8))/60))","v":0},{"$f":"INT((60*SUM(AH5:AH8)+SUM(AI5:AI8)-AI9)/60)","v":0},{"$f":"INT(60*SUM(AH5:AH8)+SUM(AI5:AI8)-60*INT((60*SUM(AH5:AH8)+SUM(AI5:AI8))/60))","v":0},null,{"$f":"INT((60*SUM(AK5:AK8)+SUM(AL5:AL8)-AL9)/60)","v":0},{"$f":"INT(60*SUM(AK5:AK8)+SUM(AL5:AL8)-60*INT((60*SUM(AK5:AK8)+SUM(AL5:AL8))/60))","v":0},null,{"$f":"INT((60*SUM(AN5:AN8)+SUM(AO5:AO8)-AO9)/60)","v":0},{"$f":"INT(60*SUM(AN5:AN8)+SUM(AO5:AO8)-60*INT((60*SUM(AN5:AN8)+SUM(AO5:AO8))/60))","v":0},null,{"$f":"INT((60*SUM(AQ5:AQ8)+SUM(AR5:AR8)-AR9)/60)","v":0},{"$f":"INT(60*SUM(AQ5:AQ8)+SUM(AR5:AR8)-60*INT((60*SUM(AQ5:AQ8)+SUM(AR5:AR8))/60))","v":0},{"$f":"INT((60*SUM(AS5:AS8)+SUM(AT5:AT8)-AT9)/60)","v":0},{"$f":"INT(60*SUM(AS5:AS8)+SUM(AT5:AT8)-60*INT((60*SUM(AS5:AS8)+SUM(AT5:AT8))/60))","v":0},{"$f":"INT((60*SUM(AU5:AU8)+SUM(AV5:AV8)-AV9)/60)","v":0},{"$f":"INT(60*SUM(AU5:AU8)+SUM(AV5:AV8)-60*INT((60*SUM(AU5:AU8)+SUM(AV5:AV8))/60))","v":0},{"$f":"INT((60*SUM(AW5:AW8)+SUM(AX5:AX8)-AX9)/60)","v":0},{"$f":"INT(60*SUM(AW5:AW8)+SUM(AX5:AX8)-60*INT((60*SUM(AW5:AW8)+SUM(AX5:AX8))/60))","v":0},{"$f":"INT((60*SUM(AY5:AY8)+SUM(AZ5:AZ8)-AZ9)/60)","v":0},{"$f":"INT(60*SUM(AY5:AY8)+SUM(AZ5:AZ8)-60*INT((60*SUM(AY5:AY8)+SUM(AZ5:AZ8))/60))","v":0},{"$f":"INT((60*SUM(BA5:BA8)+SUM(BB5:BB8)-BB9)/60)","v":0},{"$f":"INT(60*SUM(BA5:BA8)+SUM(BB5:BB8)-60*INT((60*SUM(BA5:BA8)+SUM(BB5:BB8))/60))","v":0},{"$f":"INT((60*SUM(BC5:BC8)+SUM(BD5:BD8)-BD9)/60)","v":0},{"$f":"INT(60*SUM(BC5:BC8)+SUM(BD5:BD8)-60*INT((60*SUM(BC5:BC8)+SUM(BD5:BD8))/60))","v":0},{"$f":"INT((60*SUM(BE5:BE8)+SUM(BF5:BF8)-BF9)/60)","v":0},{"$f":"INT(60*SUM(BE5:BE8)+SUM(BF5:BF8)-60*INT((60*SUM(BE5:BE8)+SUM(BF5:BF8))/60))","v":0},{"$f":"INT((60*SUM(BG5:BG8)+SUM(BH5:BH8)-BH9)/60)","v":0},{"$f":"INT(60*SUM(BG5:BG8)+SUM(BH5:BH8)-60*INT((60*SUM(BG5:BG8)+SUM(BH5:BH8))/60))","v":0}]
[null,null,null,null,{"$f":"5-COUNTIF(E11:E15,0)","v":5},{"$f":"(SUM(C11:C15)*60+SUM(D11:D15))/E10","v":474}]
["Mo",{"$f":"IF(E11=0,\"frei\",\"\")","v":""},{"$f":"SUM(Einstellungen!C19)","v":7},{"$f":"SUM(Einstellungen!D19)","v":54},{"$f":"C11*60+D11","v":474},{"$f":"E11/$F$10","v":1},{"$f":"IF(AND(E11>0,I11<>\"\",U11<>\"f\"),F11,0)","v":1},{"$f":"IF(AND(I11<>\"\",U11<>\"f\"),1,0)","v":1},{"$f":"IF(I8<>\"\",I8+1,IF(CHOOSE(WEEKDAY(Einstellungen!$A$8,2),\"Mo\",\"Di\",\"Mi\",\"Do\",\"Fr\",\"Sa\",\"So\")=J11,Einstellungen!$A$8,\"\"))","v":"2026-06-01"},"Mo",null,null,null,null,{"$f":"HOUR(N11-K11-(M11-L11))","v":0},{"$f":"MINUTE(N11-K11-(M11-L11))","v":0},null,null,null,null,null,{"$f":"IF(OR(U11=\"U\",U11=\"k\",U11=\"B\"),$C$11,IF(S11>P11,O11-1-R11,O11-R11))","v":0},{"$f":"IF(OR(U11=\"U\",U11=\"k\",U11=\"B\"),$D$11,IF(S11>P11,P11+60-S11,P11-S11))","v":0},{"$f":"IF(OR(U11=\"U\",U11=\"K\",U11=\"B\"),0,V11)","v":0},{"$f":"IF(OR(U11=\"U\",U11=\"K\",U11=\"B\"),0,W11)","v":0},{"$f":"INT(((SUM(AB11,AH11,AK11,AN11,AQ11,AS11,AU11,AW11,AY11,BA11,BC11,BE11,BG11)*100)+(SUM(AC11,AI11,AL11,AO11,AR11,AT11,AV11,AX11,AZ11,BB11,BD11,BF11,BH11)/60*100))/100)","v":0},{"$f":"MOD(((SUM(AC11,AI11,AL11,AO11,AR11,AT11,AV11,AX11,AZ11,BB11,BD11,BF11,BH11)*100)+(SUM(AC11,AI11,AL11,AO11,AR11,AT11,AV11,AX11,AZ11,BB11,BD11,BF11,BH11)/60*100))/100,1)*60","v":0},null,null,{"$f":"INT(((SUM(AH11,AK11,AN11)*100)+SUM(AI11,AL11,AO11)/60*100)/100)","v":0},{"$f":"MOD(((SUM(AI11,AL11,AO11)*100)+(SUM(AI11,AL11,AO11)/60*100))/100,1)*60","v":0},{"$f":"INT(((SUM(AQ11+AS11+AU11+AW11+AY11+BA11+BC11+BE11+BG11)*100)+SUM(AR11+AT11+AV11+AX11+AZ11+BB11+BD11+BF11+BH11)/60*100)/100)","v":0},{"$f":"MOD(((SUM(AR11+AT11+AV11+AX11+AZ11+BB11+BD11+BF11+BH11)*100)+(SUM(AR11+AT11+AV11+AX11+AZ11+BB11+BD11+BF11+BH11)/60*100))/100,1)*60","v":0},null,null,"",null,null,"",null,null,""]
["Di",{"$f":"IF(E12=0,\"frei\",\"\")","v":""},{"$f":"SUM(Einstellungen!C20)","v":7},{"$f":"SUM(Einstellungen!D20)","v":54},{"$f":"C12*60+D12","v":474},{"$f":"E12/$F$10","v":1},{"$f":"IF(AND(E12>0,I12<>\"\",U12<>\"f\"),F12,0)","v":1},{"$f":"IF(AND(I12<>\"\",U12<>\"f\"),1,0)","v":1},{"$f":"IF(I11<>\"\",I11+1,IF(CHOOSE(WEEKDAY(Einstellungen!$A$8,2),\"Mo\",\"Di\",\"Mi\",\"Do\",\"Fr\",\"Sa\",\"So\")=J12,Einstellungen!$A$8,\"\"))","v":"2026-06-02"},"Di",null,null,null,null,0,0,null,null,null,null,null,{"$f":"IF(OR(U12=\"U\",U12=\"k\",U12=\"B\"),$C$12,IF(S12>P12,O12-1-R12,O12-R12))","v":0},{"$f":"IF(OR(U12=\"U\",U12=\"k\",U12=\"B\"),$D$12,IF(S12>P12,P12+60-S12,P12-S12))","v":0},0,0,0,0,null,null,0,0,0,0,null,null,"",null,null,"",null,null,""]
["Mi",{"$f":"IF(E13=0,\"frei\",\"\")","v":""},{"$f":"SUM(Einstellungen!C21)","v":7},{"$f":"SUM(Einstellungen!D21)","v":54},{"$f":"C13*60+D13","v":474},{"$f":"E13/$F$10","v":1},{"$f":"IF(AND(E13>0,I13<>\"\",U13<>\"f\"),F13,0)","v":1},{"$f":"IF(AND(I13<>\"\",U13<>\"f\"),1,0)","v":1},{"$f":"IF(I12<>\"\",I12+1,IF(CHOOSE(WEEKDAY(Einstellungen!$A$8,2),\"Mo\",\"Di\",\"Mi\",\"Do\",\"Fr\",\"Sa\",\"So\")=J13,Einstellungen!$A$8,\"\"))","v":"2026-06-03"},"Mi",null,null,null,null,0,0,null,null,null,null,null,{"$f":"IF(OR(U13=\"U\",U13=\"k\",U13=\"B\"),$C$13,IF(S13>P13,O13-1-R13,O13-R13))","v":0},{"$f":"IF(OR(U13=\"U\",U13=\"k\",U13=\"B\"),$D$13,IF(S13>P13,P13+60-S13,P13-S13))","v":0},0,0,0,0,null,null,0,0,0,0,null,null,"",null,null,"",null,null,""]
["Do",{"$f":"IF(E14=0,\"frei\",\"\")","v":""},{"$f":"SUM(Einstellungen!C22)","v":7},{"$f":"SUM(Einstellungen!D22)","v":54},{"$f":"C14*60+D14","v":474},{"$f":"E14/$F$10","v":1},{"$f":"IF(AND(E14>0,I14<>\"\",U14<>\"f\"),F14,0)","v":0},{"$f":"IF(AND(I14<>\"\",U14<>\"f\"),1,0)","v":0},{"$f":"IF(I13<>\"\",I13+1,IF(CHOOSE(WEEKDAY(Einstellungen!$A$8,2),\"Mo\",\"Di\",\"Mi\",\"Do\",\"Fr\",\"Sa\",\"So\")=J14,Einstellungen!$A$8,\"\"))","v":"2026-06-04"},"Do",null,null,null,null,0,0,null,null,null,"nur dienstl. Sonderfälle!*","F",{"$f":"IF(OR(U14=\"U\",U14=\"k\",U14=\"B\"),$C$14,IF(S14>P14,O14-1-R14,O14-R14))","v":0},{"$f":"IF(OR(U14=\"U\",U14=\"k\",U14=\"B\"),$D$14,IF(S14>P14,P14+60-S14,P14-S14))","v":0},0,0,0,0,null,null,0,0,0,0,null,null,"",null,null,"",null,null,""]
["Fr",{"$f":"IF(E15=0,\"frei\",\"\")","v":""},{"$f":"SUM(Einstellungen!C23)","v":7},{"$f":"SUM(Einstellungen!D23)","v":54},{"$f":"C15*60+D15","v":474},{"$f":"E15/$F$10","v":1},{"$f":"IF(AND(E15>0,I15<>\"\",U15<>\"f\"),F15,0)","v":1},{"$f":"IF(AND(I15<>\"\",U15<>\"f\"),1,0)","v":1},{"$f":"I14+1","v":"2026-06-05"},"Fr",null,null,null,null,0,0,null,null,null,null,null,{"$f":"IF(OR(U15=\"U\",U15=\"k\",U15=\"B\"),$C$15,IF(S15>P15,O15-1-R15,O15-R15))","v":0},{"$f":"IF(OR(U15=\"U\",U15=\"k\",U15=\"B\"),$D$15,IF(S15>P15,P15+60-S15,P15-S15))","v":0},0,0,0,0,null,null,0,0,0,0,null,null,"",null,null,"",null,null,""]
[{"$f":"Einstellungen!$L$1","v":"Hinweise:"},null,null,null,null,null,null,null,{"$f":"I15+1","v":"2026-06-06"},"Sa",null,null,null,null,0,0,null,null,null,"nur dienstl. Sonderfälle!*",null,{"$f":"IF(S16>P16,O16-1-R16,O16-R16)","v":0},{"$f":"IF(S16>P16,P16+60-S16,P16-S16)","v":0},0,0,0,0,null,null,0,0,0,0,null,null,"",null,null,"",null,null,""]
[{"$f":"Einstellungen!$L$2","v":"I Beschäftigte mit 39,5 Std-Woche"},null,null,null,null,null,null,null,{"$f":"I16+1","v":"2026-06-07"},"So",null,null,null,null,0,0,null,null,null,"nur dienstl. Sonderfälle!*",null,{"$f":"IF(S17>P17,O17-1-R17,O17-R17)","v":0},{"$f":"IF(S17>P17,P17+60-S17,P17-S17)","v":0},0,0,0,0,null,null,0,0,0,0,null,null,"",null,null,"",null,null,""]
[{"$f":"Einstellungen!$L$3","v":""},null,{"$f":"Einstellungen!$N$3","v":"Beschäftigungsumfang"},null,null,null,null,null,null,null,null,null,null,null,null,null,null,null,null,null,null,{"$f":"INT((60*SUM(V11:V17)+SUM(W11:W17)-W18)/60)","v":0},{"$f":"INT(60*SUM(V11:V17)+SUM(W11:W17)-60*INT((60*SUM(V11:V17)+SUM(W11:W17))/60))","v":0},{"$f":"INT((60*SUM(X11:X17)+SUM(Y11:Y17)-Y18)/60)","v":0},{"$f":"INT(60*SUM(X11:X17)+SUM(Y11:Y17)-60*INT((60*SUM(X11:X17)+SUM(Y11:Y17))/60))","v":0},{"$f":"INT((60*SUM(Z11:Z17)+SUM(AA11:AA17)-AA18)/60)","v":0},{"$f":"INT(60*SUM(Z11:Z17)+SUM(AA11:AA17)-60*INT((60*SUM(Z11:Z17)+SUM(AA11:AA17))/60))","v":0},{"$f":"INT((60*SUM(AB11:AB17)+SUM(AC11:AC17)-AC18)/60)","v":0},{"$f":"INT(60*SUM(AB11:AB17)+SUM(AC11:AC17)-60*INT((60*SUM(AB11:AB17)+SUM(AC11:AC17))/60))","v":0},{"$f":"INT((60*SUM(AD11:AD17)+SUM(AE11:AE17)-AE18)/60)","v":0},{"$f":"INT(60*SUM(AD11:AD17)+SUM(AE11:AE17)-60*INT((60*SUM(AD11:AD17)+SUM(AE11:AE17))/60))","v":0},{"$f":"INT((60*SUM(AF11:AF17)+SUM(AG11:AG17)-AG18)/60)","v":0},{"$f":"INT(60*SUM(AF11:AF17)+SUM(AG11:AG17)-60*INT((60*SUM(AF11:AF17)+SUM(AG11:AG17))/60))","v":0},{"$f":"INT((60*SUM(AH11:AH17)+SUM(AI11:AI17)-AI18)/60)","v":0},{"$f":"INT(60*SUM(AH11:AH17)+SUM(AI11:AI17)-60*INT((60*SUM(AH11:AH17)+SUM(AI11:AI17))/60))","v":0},null,{"$f":"INT((60*SUM(AK11:AK17)+SUM(AL11:AL17)-AL18)/60)","v":0},{"$f":"INT(60*SUM(AK11:AK17)+SUM(AL11:AL17)-60*INT((60*SUM(AK11:AK17)+SUM(AL11:AL17))/60))","v":0},null,{"$f":"INT((60*SUM(AN11:AN17)+SUM(AO11:AO17)-AO18)/60)","v":0},{"$f":"INT(60*SUM(AN11:AN17)+SUM(AO11:AO17)-60*INT((60*SUM(AN11:AN17)+SUM(AO11:AO17))/60))","v":0},null,{"$f":"INT((60*SUM(AQ11:AQ17)+SUM(AR11:AR17)-AR18)/60)","v":0},{"$f":"INT(60*SUM(AQ11:AQ17)+SUM(AR11:AR17)-60*INT((60*SUM(AQ11:AQ17)+SUM(AR11:AR17))/60))","v":0},{"$f":"INT((60*SUM(AS11:AS17)+SUM(AT11:AT17)-AT18)/60)","v":0},{"$f":"INT(60*SUM(AS11:AS17)+SUM(AT11:AT17)-60*INT((60*SUM(AS11:AS17)+SUM(AT11:AT17))/60))","v":0},{"$f":"INT((60*SUM(AU11:AU17)+SUM(AV11:AV17)-AV18)/60)","v":0},{"$f":"INT(60*SUM(AU11:AU17)+SUM(AV11:AV17)-60*INT((60*SUM(AU11:AU17)+SUM(AV11:AV17))/60))","v":0},{"$f":"INT((60*SUM(AW11:AW17)+SUM(AX11:AX17)-AX18)/60)","v":0},{"$f":"INT(60*SUM(AW11:AW17)+SUM(AX11:AX17)-60*INT((60*SUM(AW11:AW17)+SUM(AX11:AX17))/60))","v":0},{"$f":"INT((60*SUM(AY11:AY17)+SUM(AZ11:AZ17)-AZ18)/60)","v":0},{"$f":"INT(60*SUM(AY11:AY17)+SUM(AZ11:AZ17)-60*INT((60*SUM(AY11:AY17)+SUM(AZ11:AZ17))/60))","v":0},{"$f":"INT((60*SUM(BA11:BA17)+SUM(BB11:BB17)-BB18)/60)","v":0},{"$f":"INT(60*SUM(BA11:BA17)+SUM(BB11:BB17)-60*INT((60*SUM(BA11:BA17)+SUM(BB11:BB17))/60))","v":0},{"$f":"INT((60*SUM(BC11:BC17)+SUM(BD11:BD17)-BD18)/60)","v":0},{"$f":"INT(60*SUM(BC11:BC17)+SUM(BD11:BD17)-60*INT((60*SUM(BC11:BC17)+SUM(BD11:BD17))/60))","v":0},{"$f":"INT((60*SUM(BE11:BE17)+SUM(BF11:BF17)-BF18)/60)","v":0},{"$f":"INT(60*SUM(BE11:BE17)+SUM(BF11:BF17)-60*INT((60*SUM(BE11:BE17)+SUM(BF11:BF17))/60))","v":0},{"$f":"INT((60*SUM(BG11:BG17)+SUM(BH11:BH17)-BH18)/60)","v":0},{"$f":"INT(60*SUM(BG11:BG17)+SUM(BH11:BH17)-60*INT((60*SUM(BG11:BG17)+SUM(BH11:BH17))/60))","v":0}]
[]
[{"$f":"Einstellungen!$L$4","v":"5 Tage-Woche"},null,{"$f":"Einstellungen!$N$4","v":1},{"$f":"Einstellungen!$O$4","v":0.75},null,{"$f":"Einstellungen!$Q$4","v":0.5},{"$f":"IF(AND(E11>0,I20<>\"\",U20<>\"f\"),F11,0)","v":1},{"$f":"IF(AND(I20<>\"\",U20<>\"f\"),1,0)","v":1},{"$f":"I17+1","v":"2026-06-08"},"Mo",null,null,null,null,{"$f":"HOUR(N20-K20-(M20-L20))","v":0},{"$f":"MINUTE(N20-K20-(M20-L20))","v":0},null,null,null,null,null,{"$f":"IF(OR(U20=\"U\",U20=\"k\",U20=\"B\"),$C$11,IF(S20>P20,O20-1-R20,O20-R20))","v":0},{"$f":"IF(OR(U20=\"U\",U20=\"k\",U20=\"B\"),$D$11,IF(S20>P20,P20+60-S20,P20-S20))","v":0},{"$f":"IF(OR(U20=\"U\",U20=\"K\",U20=\"B\"),0,V20)","v":0},{"$f":"IF(OR(U20=\"U\",U20=\"K\",U20=\"B\"),0,W20)","v":0},{"$f":"INT(((SUM(AB20,AH20,AK20,AN20,AQ20,AS20,AU20,AW20,AY20,BA20,BC20,BE20,BG20)*100)+(SUM(AC20,AI20,AL20,AO20,AR20,AT20,AV20,AX20,AZ20,BB20,BD20,BF20,BH20)/60*100))/100)","v":0},{"$f":"MOD(((SUM(AC20,AI20,AL20,AO20,AR20,AT20,AV20,AX20,AZ20,BB20,BD20,BF20,BH20)*100)+(SUM(AC20,AI20,AL20,AO20,AR20,AT20,AV20,AX20,AZ20,BB20,BD20,BF20,BH20)/60*100))/100,1)*60","v":0},null,null,{"$f":"INT(((SUM(AH20,AK20,AN20)*100)+SUM(AI20,AL20,AO20)/60*100)/100)","v":0},{"$f":"MOD(((SUM(AI20,AL20,AO20)*100)+(SUM(AI20,AL20,AO20)/60*100))/100,1)*60","v":0},{"$f":"INT(((SUM(AQ20+AS20+AU20+AW20+AY20+BA20+BC20+BE20+BG20)*100)+SUM(AR20+AT20+AV20+AX20+AZ20+BB20+BD20+BF20+BH20)/60*100)/100)","v":0},{"$f":"MOD(((SUM(AR20+AT20+AV20+AX20+AZ20+BB20+BD20+BF20+BH20)*100)+(SUM(AR20+AT20+AV20+AX20+AZ20+BB20+BD20+BF20+BH20)/60*100))/100,1)*60","v":0},null,null,"",null,null,"",null,null,""]
[{"$f":"Einstellungen!$L$5","v":""},null," "," ",null," ",{"$f":"IF(AND(E12>0,I21<>\"\",U21<>\"f\"),F12,0)","v":1},{"$f":"IF(AND(I21<>\"\",U21<>\"f\"),1,0)","v":1},{"$f":"I20+1","v":"2026-06-09"},"Di",null,null,null,null,0,0,null,null,null,null,null,{"$f":"IF(OR(U21=\"U\",U21=\"k\",U21=\"B\"),$C$12,IF(S21>P21,O21-1-R21,O21-R21))","v":0},{"$f":"IF(OR(U21=\"U\",U21=\"k\",U21=\"B\"),$D$12,IF(S21>P21,P21+60-S21,P21-S21))","v":0},0,0,0,0,null,null,0,0,0,0,null,null,"",null,null,"",null,null,""]
[{"$f":"Einstellungen!$L$6","v":"tägliche Regel-"},null," "," ",null," ",{"$f":"IF(AND(E13>0,I22<>\"\",U22<>\"f\"),F13,0)","v":1},{"$f":"IF(AND(I22<>\"\",U22<>\"f\"),1,0)","v":1},{"$f":"I21+1","v":"2026-06-10"},"Mi",null,null,null,null,0,0,null,null,null,null,null,{"$f":"IF(OR(U22=\"U\",U22=\"k\",U22=\"B\"),$C$13,IF(S22>P22,O22-1-R22,O22-R22))","v":0},{"$f":"IF(OR(U22=\"U\",U22=\"k\",U22=\"B\"),$D$13,IF(S22>P22,P22+60-S22,P22-S22))","v":0},0,0,0,0,null,null,0,0,0,0,null,null,"",null,null,"",null,null,""]
[{"$f":"Einstellungen!$L$7","v":"arbeitszeit für"},null,null,null,null,null,{"$f":"IF(AND(E14>0,I23<>\"\",U23<>\"f\"),F14,0)","v":1},{"$f":"IF(AND(I23<>\"\",U23<>\"f\"),1,0)","v":1},"2026-06-11","Do",null,null,null,null,0,0,null,null,null,null,null,{"$f":"IF(OR(U23=\"U\",U23=\"k\",U23=\"B\"),$C$14,IF(S23>P23,O23-1-R23,O23-R23))","v":0},{"$f":"IF(OR(U23=\"U\",U23=\"k\",U23=\"B\"),$D$14,IF(S23>P23,P23+60-S23,P23-S23))","v":0},0,0,0,0,null,null,0,0,0,0,null,null,"",null,null,"",null,null,""]
[{"$f":"Einstellungen!$L$8","v":"Wochenfeier-"},null,null,null,null,null,{"$f":"IF(AND(E15>0,I24<>\"\",U24<>\"f\"),F15,0)","v":1},{"$f":"IF(AND(I24<>\"\",U24<>\"f\"),1,0)","v":1},"2026-06-12","Fr",null,null,null,null,0,0,null,null,null,null,null,{"$f":"IF(OR(U24=\"U\",U24=\"k\",U24=\"B\"),$C$15,IF(S24>P24,O24-1-R24,O24-R24))","v":0},{"$f":"IF(OR(U24=\"U\",U24=\"k\",U24=\"B\"),$D$15,IF(S24>P24,P24+60-S24,P24-S24))","v":0},0,0,0,0,null,null,0,0,0,0,null,null,"",null,null,"",null,null,""]
[{"$f":"Einstellungen!$L$9","v":"tage, bei Urlaub"},null,null,null,null,null,null,null,"2026-06-13","Sa",null,null,null,null,0,0,null,null,null,"nur dienstl. Sonderfälle!*",null,{"$f":"IF(S25>P25,O25-1-R25,O25-R25)","v":0},{"$f":"IF(S25>P25,P25+60-S25,P25-S25)","v":0},0,0,0,0,null,null,0,0,0,0,null,null,"",null,null,"",null,null,""]
[{"$f":"Einstellungen!$L$10","v":"oder Krankheit"},null,null,null,null,null,null,null,"2026-06-14","So",null,null,null,null,0,0,null,null,null,"nur dienstl. Sonderfälle!*",null,{"$f":"IF(S26>P26,O26-1-R26,O26-R26)","v":0},{"$f":"IF(S26>P26,P26+60-S26,P26-S26)","v":0},0,0,0,0,null,null,0,0,0,0,null,null,"",null,null,"",null,null,""]
[{"$f":"Einstellungen!$L$11","v":"Mo-Fr  "},{"$f":"Einstellungen!$M$11","v":"Std.Min"},{"$f":"Einstellungen!$N$11","v":" 7.54"},{"$f":"Einstellungen!$O$11","v":" 5.56"},null,{"$f":"Einstellungen!$Q$11","v":" 3.57"},null,null,null,null,null,null,null,null,null,null,null,null,null,null,null,{"$f":"INT((60*SUM(V20:V26)+SUM(W20:W26)-W27)/60)","v":0},{"$f":"INT(60*SUM(V20:V26)+SUM(W20:W26)-60*INT((60*SUM(V20:V26)+SUM(W20:W26))/60))","v":0},{"$f":"INT((60*SUM(X20:X26)+SUM(Y20:Y26)-Y27)/60)","v":0},{"$f":"INT(60*SUM(X20:X26)+SUM(Y20:Y26)-60*INT((60*SUM(X20:X26)+SUM(Y20:Y26))/60))","v":0},{"$f":"INT((60*SUM(Z20:Z26)+SUM(AA20:AA26)-AA27)/60)","v":0},{"$f":"INT(60*SUM(Z20:Z26)+SUM(AA20:AA26)-60*INT((60*SUM(Z20:Z26)+SUM(AA20:AA26))/60))","v":0},{"$f":"INT((60*SUM(AB20:AB26)+SUM(AC20:AC26)-AC27)/60)","v":0},{"$f":"INT(60*SUM(AB20:AB26)+SUM(AC20:AC26)-60*INT((60*SUM(AB20:AB26)+SUM(AC20:AC26))/60))","v":0},{"$f":"INT((60*SUM(AD20:AD26)+SUM(AE20:AE26)-AE27)/60)","v":0},{"$f":"INT(60*SUM(AD20:AD26)+SUM(AE20:AE26)-60*INT((60*SUM(AD20:AD26)+SUM(AE20:AE26))/60))","v":0},{"$f":"INT((60*SUM(AF20:AF26)+SUM(AG20:AG26)-AG27)/60)","v":0},{"$f":"INT(60*SUM(AF20:AF26)+SUM(AG20:AG26)-60*INT((60*SUM(AF20:AF26)+SUM(AG20:AG26))/60))","v":0},{"$f":"INT((60*SUM(AH20:AH26)+SUM(AI20:AI26)-AI27)/60)","v":0},{"$f":"INT(60*SUM(AH20:AH26)+SUM(AI20:AI26)-60*INT((60*SUM(AH20:AH26)+SUM(AI20:AI26))/60))","v":0},null,{"$f":"INT((60*SUM(AK20:AK26)+SUM(AL20:AL26)-AL27)/60)","v":0},{"$f":"INT(60*SUM(AK20:AK26)+SUM(AL20:AL26)-60*INT((60*SUM(AK20:AK26)+SUM(AL20:AL26))/60))","v":0},null,{"$f":"INT((60*SUM(AN20:AN26)+SUM(AO20:AO26)-AO27)/60)","v":0},{"$f":"INT(60*SUM(AN20:AN26)+SUM(AO20:AO26)-60*INT((60*SUM(AN20:AN26)+SUM(AO20:AO26))/60))","v":0},null,{"$f":"INT((60*SUM(AQ20:AQ26)+SUM(AR20:AR26)-AR27)/60)","v":0},{"$f":"INT(60*SUM(AQ20:AQ26)+SUM(AR20:AR26)-60*INT((60*SUM(AQ20:AQ26)+SUM(AR20:AR26))/60))","v":0},{"$f":"INT((60*SUM(AS20:AS26)+SUM(AT20:AT26)-AT27)/60)","v":0},{"$f":"INT(60*SUM(AS20:AS26)+SUM(AT20:AT26)-60*INT((60*SUM(AS20:AS26)+SUM(AT20:AT26))/60))","v":0},{"$f":"INT((60*SUM(AU20:AU26)+SUM(AV20:AV26)-AV27)/60)","v":0},{"$f":"INT(60*SUM(AU20:AU26)+SUM(AV20:AV26)-60*INT((60*SUM(AU20:AU26)+SUM(AV20:AV26))/60))","v":0},{"$f":"INT((60*SUM(AW20:AW26)+SUM(AX20:AX26)-AX27)/60)","v":0},{"$f":"INT(60*SUM(AW20:AW26)+SUM(AX20:AX26)-60*INT((60*SUM(AW20:AW26)+SUM(AX20:AX26))/60))","v":0},{"$f":"INT((60*SUM(AY20:AY26)+SUM(AZ20:AZ26)-AZ27)/60)","v":0},{"$f":"INT(60*SUM(AY20:AY26)+SUM(AZ20:AZ26)-60*INT((60*SUM(AY20:AY26)+SUM(AZ20:AZ26))/60))","v":0},{"$f":"INT((60*SUM(BA20:BA26)+SUM(BB20:BB26)-BB27)/60)","v":0},{"$f":"INT(60*SUM(BA20:BA26)+SUM(BB20:BB26)-60*INT((60*SUM(BA20:BA26)+SUM(BB20:BB26))/60))","v":0},{"$f":"INT((60*SUM(BC20:BC26)+SUM(BD20:BD26)-BD27)/60)","v":0},{"$f":"INT(60*SUM(BC20:BC26)+SUM(BD20:BD26)-60*INT((60*SUM(BC20:BC26)+SUM(BD20:BD26))/60))","v":0},{"$f":"INT((60*SUM(BE20:BE26)+SUM(BF20:BF26)-BF27)/60)","v":0},{"$f":"INT(60*SUM(BE20:BE26)+SUM(BF20:BF26)-60*INT((60*SUM(BE20:BE26)+SUM(BF20:BF26))/60))","v":0},{"$f":"INT((60*SUM(BG20:BG26)+SUM(BH20:BH26)-BH27)/60)","v":0},{"$f":"INT(60*SUM(BG20:BG26)+SUM(BH20:BH26)-60*INT((60*SUM(BG20:BG26)+SUM(BH20:BH26))/60))","v":0}]
[" "," "," "," ",null," "]
[{"$f":"Einstellungen!$L$13","v":"Wochen"},null," "," ",null," ",{"$f":"IF(AND(E11>0,I29<>\"\",U29<>\"f\"),F11,0)","v":1},{"$f":"IF(AND(I29<>\"\",U29<>\"f\"),1,0)","v":1},{"$f":"I26+1","v":"2026-06-15"},"Mo",null,null,null,null,{"$f":"HOUR(N29-K29-(M29-L29))","v":0},{"$f":"MINUTE(N29-K29-(M29-L29))","v":0},null,null,null,null,null,{"$f":"IF(OR(U29=\"U\",U29=\"k\",U29=\"B\"),$C$11,IF(S29>P29,O29-1-R29,O29-R29))","v":0},{"$f":"IF(OR(U29=\"U\",U29=\"k\",U29=\"B\"),$D$11,IF(S29>P29,P29+60-S29,P29-S29))","v":0},{"$f":"IF(OR(U29=\"U\",U29=\"K\",U29=\"B\"),0,V29)","v":0},{"$f":"IF(OR(U29=\"U\",U29=\"K\",U29=\"B\"),0,W29)","v":0},{"$f":"INT(((SUM(AB29,AH29,AK29,AN29,AQ29,AS29,AU29,AW29,AY29,BA29,BC29,BE29,BG29)*100)+(SUM(AC29,AI29,AL29,AO29,AR29,AT29,AV29,AX29,AZ29,BB29,BD29,BF29,BH29)/60*100))/100)","v":0},{"$f":"MOD(((SUM(AC29,AI29,AL29,AO29,AR29,AT29,AV29,AX29,AZ29,BB29,BD29,BF29,BH29)*100)+(SUM(AC29,AI29,AL29,AO29,AR29,AT29,AV29,AX29,AZ29,BB29,BD29,BF29,BH29)/60*100))/100,1)*60","v":0},null,null,{"$f":"INT(((SUM(AH29,AK29,AN29)*100)+SUM(AI29,AL29,AO29)/60*100)/100)","v":0},{"$f":"MOD(((SUM(AI29,AL29,AO29)*100)+(SUM(AI29,AL29,AO29)/60*100))/100,1)*60","v":0},{"$f":"INT(((SUM(AQ29+AS29+AU29+AW29+AY29+BA29+BC29+BE29+BG29)*100)+SUM(AR29+AT29+AV29+AX29+AZ29+BB29+BD29+BF29+BH29)/60*100)/100)","v":0},{"$f":"MOD(((SUM(AR29+AT29+AV29+AX29+AZ29+BB29+BD29+BF29+BH29)*100)+(SUM(AR29+AT29+AV29+AX29+AZ29+BB29+BD29+BF29+BH29)/60*100))/100,1)*60","v":0},null,null,"",null,null,"",null,null,""]
[{"$f":"CONCATENATE(Einstellungen!$L$14,\" \",Einstellungen!$M$14)","v":"Arbeitzeit Std.Min"},null,{"$f":"Einstellungen!$N$14","v":"39.30"},{"$f":"Einstellungen!$O$14","v":"29.38"},null,{"$f":"Einstellungen!$Q$14","v":"19.45"},{"$f":"IF(AND(E12>0,I30<>\"\",U30<>\"f\"),F12,0)","v":1},{"$f":"IF(AND(I30<>\"\",U30<>\"f\"),1,0)","v":1},{"$f":"I29+1","v":"2026-06-16"},"Di",null,null,null,null,0,0,null,null,null,null,null,{"$f":"IF(OR(U30=\"U\",U30=\"k\",U30=\"B\"),$C$12,IF(S30>P30,O30-1-R30,O30-R30))","v":0},{"$f":"IF(OR(U30=\"U\",U30=\"k\",U30=\"B\"),$D$12,IF(S30>P30,P30+60-S30,P30-S30))","v":0},0,0,0,0,null,null,0,0,0,0,null,null,"",null,null,"",null,null,""]
[{"$f":"Einstellungen!$L$15","v":"max.Übertrag auf das"},null,null," ",null," ",{"$f":"IF(AND(E13>0,I31<>\"\",U31<>\"f\"),F13,0)","v":1},{"$f":"IF(AND(I31<>\"\",U31<>\"f\"),1,0)","v":1},{"$f":"I30+1","v":"2026-06-17"},"Mi",null,null,null,null,0,0,null,null,null,null,null,{"$f":"IF(OR(U31=\"U\",U31=\"k\",U31=\"B\"),$C$13,IF(S31>P31,O31-1-R31,O31-R31))","v":0},{"$f":"IF(OR(U31=\"U\",U31=\"k\",U31=\"B\"),$D$13,IF(S31>P31,P31+60-S31,P31-S31))","v":0},0,0,0,0,null,null,0,0,0,0,null,null,"",null,null,"",null,null,""]
[{"$f":"Einstellungen!$L$16","v":"Folgejahr Std.Min"},null,{"$f":"Einstellungen!$N$16","v":"39.30"},{"$f":"Einstellungen!$O$16","v":"39.30"},null,{"$f":"Einstellungen!$Q$16","v":"39.30"},{"$f":"IF(AND(E14>0,I32<>\"\",U32<>\"f\"),F14,0)","v":1},{"$f":"IF(AND(I32<>\"\",U32<>\"f\"),1,0)","v":1},"2026-06-18","Do",null,null,null,null,0,0,null,null,null,null,null,{"$f":"IF(OR(U32=\"U\",U32=\"k\",U32=\"B\"),$C$14,IF(S32>P32,O32-1-R32,O32-R32))","v":0},{"$f":"IF(OR(U32=\"U\",U32=\"k\",U32=\"B\"),$D$14,IF(S32>P32,P32+60-S32,P32-S32))","v":0},0,0,0,0,null,null,0,0,0,0,null,null,"",null,null,"",null,null,""]
[{"$f":"Einstellungen!$L$17","v":"II Beschäftigte mit 41 Std-Woche"},null,null,null,null,null,{"$f":"IF(AND(E15>0,I33<>\"\",U33<>\"f\"),F15,0)","v":1},{"$f":"IF(AND(I33<>\"\",U33<>\"f\"),1,0)","v":1},"2026-06-19","Fr",null,null,null,null,0,0,null,null,null,null,null,{"$f":"IF(OR(U33=\"U\",U33=\"k\",U33=\"B\"),$C$15,IF(S33>P33,O33-1-R33,O33-R33))","v":0},{"$f":"IF(OR(U33=\"U\",U33=\"k\",U33=\"B\"),$D$15,IF(S33>P33,P33+60-S33,P33-S33))","v":0},0,0,0,0,null,null,0,0,0,0,null,null,"",null,null,"",null,null,""]
[{"$f":"Einstellungen!$L$18","v":"tägliche Arbeitszeit"},null,null,null,null,null,null,null,"2026-06-20","Sa",null,null,null,null,0,0,null,null,null,"nur dienstl. Sonderfälle!*",null,{"$f":"IF(S34>P34,O34-1-R34,O34-R34)","v":0},{"$f":"IF(S34>P34,P34+60-S34,P34-S34)","v":0},0,0,0,0,null,null,0,0,0,0,null,null,"",null,null,"",null,null,""]
[{"$f":"Einstellungen!$L$19","v":"Mo-Fr  "},{"$f":"Einstellungen!$M$19","v":"Std.Min"},{"$f":"Einstellungen!$N$19","v":"8.12"},{"$f":"Einstellungen!$O$19","v":"6.09"},null,{"$f":"Einstellungen!$Q$19","v":"4.06"},null,null,"2026-06-21","So",null,null,null,null,0,0,null,null,null,"nur dienstl. Sonderfälle!*",null,{"$f":"IF(S35>P35,O35-1-R35,O35-R35)","v":0},{"$f":"IF(S35>P35,P35+60-S35,P35-S35)","v":0},0,0,0,0,null,null,0,0,0,0,null,null,"",null,null,"",null,null,""]
[{"$f":"Einstellungen!$L$20","v":"Wochen"},null," "," ",null," ",null,null,null,null,null,null,null,null,null,null,null,null,null,null,null,{"$f":"INT((60*SUM(V29:V35)+SUM(W29:W35)-W36)/60)","v":0},{"$f":"INT(60*SUM(V29:V35)+SUM(W29:W35)-60*INT((60*SUM(V29:V35)+SUM(W29:W35))/60))","v":0},{"$f":"INT((60*SUM(X29:X35)+SUM(Y29:Y35)-Y36)/60)","v":0},{"$f":"INT(60*SUM(X29:X35)+SUM(Y29:Y35)-60*INT((60*SUM(X29:X35)+SUM(Y29:Y35))/60))","v":0},{"$f":"INT((60*SUM(Z29:Z35)+SUM(AA29:AA35)-AA36)/60)","v":0},{"$f":"INT(60*SUM(Z29:Z35)+SUM(AA29:AA35)-60*INT((60*SUM(Z29:Z35)+SUM(AA29:AA35))/60))","v":0},{"$f":"INT((60*SUM(AB29:AB35)+SUM(AC29:AC35)-AC36)/60)","v":0},{"$f":"INT(60*SUM(AB29:AB35)+SUM(AC29:AC35)-60*INT((60*SUM(AB29:AB35)+SUM(AC29:AC35))/60))","v":0},{"$f":"INT((60*SUM(AD29:AD35)+SUM(AE29:AE35)-AE36)/60)","v":0},{"$f":"INT(60*SUM(AD29:AD35)+SUM(AE29:AE35)-60*INT((60*SUM(AD29:AD35)+SUM(AE29:AE35))/60))","v":0},{"$f":"INT((60*SUM(AF29:AF35)+SUM(AG29:AG35)-AG36)/60)","v":0},{"$f":"INT(60*SUM(AF29:AF35)+SUM(AG29:AG35)-60*INT((60*SUM(AF29:AF35)+SUM(AG29:AG35))/60))","v":0},{"$f":"INT((60*SUM(AH29:AH35)+SUM(AI29:AI35)-AI36)/60)","v":0},{"$f":"INT(60*SUM(AH29:AH35)+SUM(AI29:AI35)-60*INT((60*SUM(AH29:AH35)+SUM(AI29:AI35))/60))","v":0},null,{"$f":"INT((60*SUM(AK29:AK35)+SUM(AL29:AL35)-AL36)/60)","v":0},{"$f":"INT(60*SUM(AK29:AK35)+SUM(AL29:AL35)-60*INT((60*SUM(AK29:AK35)+SUM(AL29:AL35))/60))","v":0},null,{"$f":"INT((60*SUM(AN29:AN35)+SUM(AO29:AO35)-AO36)/60)","v":0},{"$f":"INT(60*SUM(AN29:AN35)+SUM(AO29:AO35)-60*INT((60*SUM(AN29:AN35)+SUM(AO29:AO35))/60))","v":0},null,{"$f":"INT((60*SUM(AQ29:AQ35)+SUM(AR29:AR35)-AR36)/60)","v":0},{"$f":"INT(60*SUM(AQ29:AQ35)+SUM(AR29:AR35)-60*INT((60*SUM(AQ29:AQ35)+SUM(AR29:AR35))/60))","v":0},{"$f":"INT((60*SUM(AS29:AS35)+SUM(AT29:AT35)-AT36)/60)","v":0},{"$f":"INT(60*SUM(AS29:AS35)+SUM(AT29:AT35)-60*INT((60*SUM(AS29:AS35)+SUM(AT29:AT35))/60))","v":0},{"$f":"INT((60*SUM(AU29:AU35)+SUM(AV29:AV35)-AV36)/60)","v":0},{"$f":"INT(60*SUM(AU29:AU35)+SUM(AV29:AV35)-60*INT((60*SUM(AU29:AU35)+SUM(AV29:AV35))/60))","v":0},{"$f":"INT((60*SUM(AW29:AW35)+SUM(AX29:AX35)-AX36)/60)","v":0},{"$f":"INT(60*SUM(AW29:AW35)+SUM(AX29:AX35)-60*INT((60*SUM(AW29:AW35)+SUM(AX29:AX35))/60))","v":0},{"$f":"INT((60*SUM(AY29:AY35)+SUM(AZ29:AZ35)-AZ36)/60)","v":0},{"$f":"INT(60*SUM(AY29:AY35)+SUM(AZ29:AZ35)-60*INT((60*SUM(AY29:AY35)+SUM(AZ29:AZ35))/60))","v":0},{"$f":"INT((60*SUM(BA29:BA35)+SUM(BB29:BB35)-BB36)/60)","v":0},{"$f":"INT(60*SUM(BA29:BA35)+SUM(BB29:BB35)-60*INT((60*SUM(BA29:BA35)+SUM(BB29:BB35))/60))","v":0},{"$f":"INT((60*SUM(BC29:BC35)+SUM(BD29:BD35)-BD36)/60)","v":0},{"$f":"INT(60*SUM(BC29:BC35)+SUM(BD29:BD35)-60*INT((60*SUM(BC29:BC35)+SUM(BD29:BD35))/60))","v":0},{"$f":"INT((60*SUM(BE29:BE35)+SUM(BF29:BF35)-BF36)/60)","v":0},{"$f":"INT(60*SUM(BE29:BE35)+SUM(BF29:BF35)-60*INT((60*SUM(BE29:BE35)+SUM(BF29:BF35))/60))","v":0},{"$f":"INT((60*SUM(BG29:BG35)+SUM(BH29:BH35)-BH36)/60)","v":0},{"$f":"INT(60*SUM(BG29:BG35)+SUM(BH29:BH35)-60*INT((60*SUM(BG29:BG35)+SUM(BH29:BH35))/60))","v":0}]
[]
[{"$f":"CONCATENATE(Einstellungen!$L$21,\" \",Einstellungen!$M$21)","v":"Arbeitzeit Std.Min"},null,{"$f":"Einstellungen!$N$21","v":"41.00"},{"$f":"Einstellungen!$O$21","v":"30.45"},null,{"$f":"Einstellungen!$Q$21","v":"20.30"},{"$f":"IF(AND(E11>0,I38<>\"\",U38<>\"f\"),F11,0)","v":1},{"$f":"IF(AND(I38<>\"\",U38<>\"f\"),1,0)","v":1},{"$f":"IF(I35<>\"\",IF(MONTH(I35)=MONTH(I35+1),I35+1,\"\"),\"\")","v":"2026-06-22"},"Mo",null,null,null,null,{"$f":"HOUR(N38-K38-(M38-L38))","v":0},{"$f":"MINUTE(N38-K38-(M38-L38))","v":0},null,null,null,null,null,{"$f":"IF(OR(U38=\"U\",U38=\"k\",U38=\"B\"),$C$11,IF(S38>P38,O38-1-R38,O38-R38))","v":0},{"$f":"IF(OR(U38=\"U\",U38=\"k\",U38=\"B\"),$D$11,IF(S38>P38,P38+60-S38,P38-S38))","v":0},{"$f":"IF(OR(U38=\"U\",U38=\"K\",U38=\"B\"),0,V38)","v":0},{"$f":"IF(OR(U38=\"U\",U38=\"K\",U38=\"B\"),0,W38)","v":0},{"$f":"INT(((SUM(AB38,AH38,AK38,AN38,AQ38,AS38,AU38,AW38,AY38,BA38,BC38,BE38,BG38)*100)+(SUM(AC38,AI38,AL38,AO38,AR38,AT38,AV38,AX38,AZ38,BB38,BD38,BF38,BH38)/60*100))/100)","v":0},{"$f":"MOD(((SUM(AC38,AI38,AL38,AO38,AR38,AT38,AV38,AX38,AZ38,BB38,BD38,BF38,BH38)*100)+(SUM(AC38,AI38,AL38,AO38,AR38,AT38,AV38,AX38,AZ38,BB38,BD38,BF38,BH38)/60*100))/100,1)*60","v":0},null,null,{"$f":"INT(((SUM(AH38,AK38,AN38)*100)+SUM(AI38,AL38,AO38)/60*100)/100)","v":0},{"$f":"MOD(((SUM(AI38,AL38,AO38)*100)+(SUM(AI38,AL38,AO38)/60*100))/100,1)*60","v":0},{"$f":"INT(((SUM(AQ38+AS38+AU38+AW38+AY38+BA38+BC38+BE38+BG38)*100)+SUM(AR38+AT38+AV38+AX38+AZ38+BB38+BD38+BF38+BH38)/60*100)/100)","v":0},{"$f":"MOD(((SUM(AR38+AT38+AV38+AX38+AZ38+BB38+BD38+BF38+BH38)*100)+(SUM(AR38+AT38+AV38+AX38+AZ38+BB38+BD38+BF38+BH38)/60*100))/100,1)*60","v":0},null,null,"",null,null,"",null,null,""]
[{"$f":"Einstellungen!$L$22","v":"max.Übertrag auf das"},null,null," "," "," ",{"$f":"IF(AND(E12>0,I39<>\"\",U39<>\"f\"),F12,0)","v":1},{"$f":"IF(AND(I39<>\"\",U39<>\"f\"),1,0)","v":1},{"$f":"IF(I38<>\"\",IF(MONTH(I38)=MONTH(I38+1),I38+1,\"\"),\"\")","v":"2026-06-23"},"Di",null,null,null,null,0,0,null,null,null,null,null,{"$f":"IF(OR(U39=\"U\",U39=\"k\",U39=\"B\"),$C$12,IF(S39>P39,O39-1-R39,O39-R39))","v":0},{"$f":"IF(OR(U39=\"U\",U39=\"k\",U39=\"B\"),$D$12,IF(S39>P39,P39+60-S39,P39-S39))","v":0},0,0,0,0,null,null,0,0,0,0,null,null,"",null,null,"",null,null,""]
[{"$f":"Einstellungen!$L$23","v":"Folgejahr Std.Min"},null,{"$f":"Einstellungen!$N$23","v":"41.00"},{"$f":"Einstellungen!$O$23","v":"41.00"}," ",{"$f":"Einstellungen!$Q$23","v":"41.00"},{"$f":"IF(AND(E13>0,I40<>\"\",U40<>\"f\"),F13,0)","v":1},{"$f":"IF(AND(I40<>\"\",U40<>\"f\"),1,0)","v":1},{"$f":"IF(I39<>\"\",IF(MONTH(I39)=MONTH(I39+1),I39+1,\"\"),\"\")","v":"2026-06-24"},"Mi",null,null,null,null,0,0,null,null,null,null,null,{"$f":"IF(OR(U40=\"U\",U40=\"k\",U40=\"B\"),$C$13,IF(S40>P40,O40-1-R40,O40-R40))","v":0},{"$f":"IF(OR(U40=\"U\",U40=\"k\",U40=\"B\"),$D$13,IF(S40>P40,P40+60-S40,P40-S40))","v":0},0,0,0,0,null,null,0,0,0,0,null,null,"",null,null,"",null,null,""]
[{"$f":"Einstellungen!$L$24","v":"Kernarbeitszeit:"},null,{"$f":"Einstellungen!$N$24","v":"Mo-Do"},{"$f":"Einstellungen!$O$24","v":"9:00 - 14:30 Uhr"},null,null,{"$f":"IF(AND(E14>0,I41<>\"\",U41<>\"f\"),F14,0)","v":1},{"$f":"IF(AND(I41<>\"\",U41<>\"f\"),1,0)","v":1},"2026-06-25","Do",null,null,null,null,0,0,null,null,null,null,null,{"$f":"IF(OR(U41=\"U\",U41=\"k\",U41=\"B\"),$C$14,IF(S41>P41,O41-1-R41,O41-R41))","v":0},{"$f":"IF(OR(U41=\"U\",U41=\"k\",U41=\"B\"),$D$14,IF(S41>P41,P41+60-S41,P41-S41))","v":0},0,0,0,0,null,null,0,0,0,0,null,null,"",null,null,"",null,null,""]
[{"$f":"Einstellungen!$L$25","v":""},{"$f":"Einstellungen!$M$25","v":""},{"$f":"Einstellungen!$N$25","v":"Fr"},{"$f":"Einstellungen!$O$25","v":"9:00 - 12:00 Uhr"},null,null,{"$f":"IF(AND(E15>0,I42<>\"\",U42<>\"f\"),F15,0)","v":1},{"$f":"IF(AND(I42<>\"\",U42<>\"f\"),1,0)","v":1},"2026-06-26","Fr",null,null,null,null,0,0,null,null,null,null,null,{"$f":"IF(OR(U42=\"U\",U42=\"k\",U42=\"B\"),$C$15,IF(S42>P42,O42-1-R42,O42-R42))","v":0},{"$f":"IF(OR(U42=\"U\",U42=\"k\",U42=\"B\"),$D$15,IF(S42>P42,P42+60-S42,P42-S42))","v":0},0,0,0,0,null,null,0,0,0,0,null,null,"",null,null,"",null,null,""]
[{"$f":"Einstellungen!$L$26","v":"Gleitzeit:"},{"$f":"Einstellungen!$M$26","v":"frühester Beginn"},null,null,null,{"$f":"Einstellungen!$P$26","v":"6:00 Uhr"},null,null,"2026-06-27","Sa",null,null,null,null,0,0,null,null,null,"nur dienstl. Sonderfälle!*",null,{"$f":"IF(S43>P43,O43-1-R43,O43-R43)","v":0},{"$f":"IF(S43>P43,P43+60-S43,P43-S43)","v":0},0,0,0,0,null,null,0,0,0,0,null,null,"",null,null,"",null,null,""]
[{"$f":"Einstellungen!$L$27","v":""},{"$f":"Einstellungen!$M$27","v":"spätestes Ende"},null,null,null,{"$f":"Einstellungen!$P$27","v":"21:00 Uhr"},null,null,"2026-06-28","So",null,null,null,null,0,0,null,null,null,"nur dienstl. Sonderfälle!*",null,{"$f":"IF(S44>P44,O44-1-R44,O44-R44)","v":0},{"$f":"IF(S44>P44,P44+60-S44,P44-S44)","v":0},0,0,0,0,null,null,0,0,0,0,null,null,"",null,null,"",null,null,""]
[{"$f":"Einstellungen!$L$29","v":"Mittagspause zw."},null,null,{"$f":"Einstellungen!$O$29","v":"11:15 - 14:00 Uhr"},null,null,null,null,null,null,null,null,null,null,null,null,null,null,null,null,null,{"$f":"INT((60*SUM(V38:V44)+SUM(W38:W44)-W45)/60)","v":0},{"$f":"INT(60*SUM(V38:V44)+SUM(W38:W44)-60*INT((60*SUM(V38:V44)+SUM(W38:W44))/60))","v":0},{"$f":"INT((60*SUM(X38:X44)+SUM(Y38:Y44)-Y45)/60)","v":0},{"$f":"INT(60*SUM(X38:X44)+SUM(Y38:Y44)-60*INT((60*SUM(X38:X44)+SUM(Y38:Y44))/60))","v":0},{"$f":"INT((60*SUM(Z38:Z44)+SUM(AA38:AA44)-AA45)/60)","v":0},{"$f":"INT(60*SUM(Z38:Z44)+SUM(AA38:AA44)-60*INT((60*SUM(Z38:Z44)+SUM(AA38:AA44))/60))","v":0},{"$f":"INT((60*SUM(AB38:AB44)+SUM(AC38:AC44)-AC45)/60)","v":0},{"$f":"INT(60*SUM(AB38:AB44)+SUM(AC38:AC44)-60*INT((60*SUM(AB38:AB44)+SUM(AC38:AC44))/60))","v":0},{"$f":"INT((60*SUM(AD38:AD44)+SUM(AE38:AE44)-AE45)/60)","v":0},{"$f":"INT(60*SUM(AD38:AD44)+SUM(AE38:AE44)-60*INT((60*SUM(AD38:AD44)+SUM(AE38:AE44))/60))","v":0},{"$f":"INT((60*SUM(AF38:AF44)+SUM(AG38:AG44)-AG45)/60)","v":0},{"$f":"INT(60*SUM(AF38:AF44)+SUM(AG38:AG44)-60*INT((60*SUM(AF38:AF44)+SUM(AG38:AG44))/60))","v":0},{"$f":"INT((60*SUM(AH38:AH44)+SUM(AI38:AI44)-AI45)/60)","v":0},{"$f":"INT(60*SUM(AH38:AH44)+SUM(AI38:AI44)-60*INT((60*SUM(AH38:AH44)+SUM(AI38:AI44))/60))","v":0},null,{"$f":"INT((60*SUM(AK38:AK44)+SUM(AL38:AL44)-AL45)/60)","v":0},{"$f":"INT(60*SUM(AK38:AK44)+SUM(AL38:AL44)-60*INT((60*SUM(AK38:AK44)+SUM(AL38:AL44))/60))","v":0},null,{"$f":"INT((60*SUM(AN38:AN44)+SUM(AO38:AO44)-AO45)/60)","v":0},{"$f":"INT(60*SUM(AN38:AN44)+SUM(AO38:AO44)-60*INT((60*SUM(AN38:AN44)+SUM(AO38:AO44))/60))","v":0},null,{"$f":"INT((60*SUM(AQ38:AQ44)+SUM(AR38:AR44)-AR45)/60)","v":0},{"$f":"INT(60*SUM(AQ38:AQ44)+SUM(AR38:AR44)-60*INT((60*SUM(AQ38:AQ44)+SUM(AR38:AR44))/60))","v":0},{"$f":"INT((60*SUM(AS38:AS44)+SUM(AT38:AT44)-AT45)/60)","v":0},{"$f":"INT(60*SUM(AS38:AS44)+SUM(AT38:AT44)-60*INT((60*SUM(AS38:AS44)+SUM(AT38:AT44))/60))","v":0},{"$f":"INT((60*SUM(AU38:AU44)+SUM(AV38:AV44)-AV45)/60)","v":0},{"$f":"INT(60*SUM(AU38:AU44)+SUM(AV38:AV44)-60*INT((60*SUM(AU38:AU44)+SUM(AV38:AV44))/60))","v":0},{"$f":"INT((60*SUM(AW38:AW44)+SUM(AX38:AX44)-AX45)/60)","v":0},{"$f":"INT(60*SUM(AW38:AW44)+SUM(AX38:AX44)-60*INT((60*SUM(AW38:AW44)+SUM(AX38:AX44))/60))","v":0},{"$f":"INT((60*SUM(AY38:AY44)+SUM(AZ38:AZ44)-AZ45)/60)","v":0},{"$f":"INT(60*SUM(AY38:AY44)+SUM(AZ38:AZ44)-60*INT((60*SUM(AY38:AY44)+SUM(AZ38:AZ44))/60))","v":0},{"$f":"INT((60*SUM(BA38:BA44)+SUM(BB38:BB44)-BB45)/60)","v":0},{"$f":"INT(60*SUM(BA38:BA44)+SUM(BB38:BB44)-60*INT((60*SUM(BA38:BA44)+SUM(BB38:BB44))/60))","v":0},{"$f":"INT((60*SUM(BC38:BC44)+SUM(BD38:BD44)-BD45)/60)","v":0},{"$f":"INT(60*SUM(BC38:BC44)+SUM(BD38:BD44)-60*INT((60*SUM(BC38:BC44)+SUM(BD38:BD44))/60))","v":0},{"$f":"INT((60*SUM(BE38:BE44)+SUM(BF38:BF44)-BF45)/60)","v":0},{"$f":"INT(60*SUM(BE38:BE44)+SUM(BF38:BF44)-60*INT((60*SUM(BE38:BE44)+SUM(BF38:BF44))/60))","v":0},{"$f":"INT((60*SUM(BG38:BG44)+SUM(BH38:BH44)-BH45)/60)","v":0},{"$f":"INT(60*SUM(BG38:BG44)+SUM(BH38:BH44)-60*INT((60*SUM(BG38:BG44)+SUM(BH38:BH44))/60))","v":0}]
[]
[{"$f":"Einstellungen!$L$30","v":"ab 6 Std. Arbeitszeit: Dauer min."},null,null,null,null,{"$f":"Einstellungen!$Q$30","v":"30 Min"},{"$f":"IF(AND(E11>0,I47<>\"\",U47<>\"f\"),F11,0)","v":1},{"$f":"IF(AND(I47<>\"\",U47<>\"f\"),1,0)","v":1},{"$f":"IF(I44<>\"\",IF(MONTH(I44)=MONTH(I44+1),I44+1,\"\"),\"\")","v":"2026-06-29"},"Mo",null,null,null,null,{"$f":"HOUR(N47-K47-(M47-L47))","v":0},{"$f":"MINUTE(N47-K47-(M47-L47))","v":0},null,null,null,null,null,{"$f":"IF(OR(U47=\"U\",U47=\"k\",U47=\"B\"),$C$11,IF(S47>P47,O47-1-R47,O47-R47))","v":0},{"$f":"IF(OR(U47=\"U\",U47=\"k\",U47=\"B\"),$D$11,IF(S47>P47,P47+60-S47,P47-S47))","v":0},{"$f":"IF(OR(U47=\"U\",U47=\"K\",U47=\"B\"),0,V47)","v":0},{"$f":"IF(OR(U47=\"U\",U47=\"K\",U47=\"B\"),0,W47)","v":0},{"$f":"INT(((SUM(AB47,AH47,AK47,AN47,AQ47,AS47,AU47,AW47,AY47,BA47,BC47,BE47,BG47)*100)+(SUM(AC47,AI47,AL47,AO47,AR47,AT47,AV47,AX47,AZ47,BB47,BD47,BF47,BH47)/60*100))/100)","v":0},{"$f":"MOD(((SUM(AC47,AI47,AL47,AO47,AR47,AT47,AV47,AX47,AZ47,BB47,BD47,BF47,BH47)*100)+(SUM(AC47,AI47,AL47,AO47,AR47,AT47,AV47,AX47,AZ47,BB47,BD47,BF47,BH47)/60*100))/100,1)*60","v":0},null,null,{"$f":"INT(((SUM(AH47,AK47,AN47)*100)+SUM(AI47,AL47,AO47)/60*100)/100)","v":0},{"$f":"MOD(((SUM(AI47,AL47,AO47)*100)+(SUM(AI47,AL47,AO47)/60*100))/100,1)*60","v":0},{"$f":"INT(((SUM(AQ47+AS47+AU47+AW47+AY47+BA47+BC47+BE47+BG47)*100)+SUM(AR47+AT47+AV47+AX47+AZ47+BB47+BD47+BF47+BH47)/60*100)/100)","v":0},{"$f":"MOD(((SUM(AR47+AT47+AV47+AX47+AZ47+BB47+BD47+BF47+BH47)*100)+(SUM(AR47+AT47+AV47+AX47+AZ47+BB47+BD47+BF47+BH47)/60*100))/100,1)*60","v":0},null,null,"",null,null,"",null,null,""]
[{"$f":"Einstellungen!$L$31","v":"ab 9 Std. (exklusiv Beamte) min."},null,null,null,null,{"$f":"Einstellungen!$Q$31","v":"45 Min"},{"$f":"IF(AND(E12>0,I48<>\"\",U48<>\"f\"),F12,0)","v":1},{"$f":"IF(AND(I48<>\"\",U48<>\"f\"),1,0)","v":1},{"$f":"IF(I47<>\"\",IF(MONTH(I47)=MONTH(I47+1),I47+1,\"\"),\"\")","v":"2026-06-30"},"Di",null,null,null,null,0,0,null,null,null,null,null,{"$f":"IF(OR(U48=\"U\",U48=\"k\",U48=\"B\"),$C$12,IF(S48>P48,O48-1-R48,O48-R48))","v":0},{"$f":"IF(OR(U48=\"U\",U48=\"k\",U48=\"B\"),$D$12,IF(S48>P48,P48+60-S48,P48-S48))","v":0},0,0,0,0,null,null,0,0,0,0,null,null,"",null,null,"",null,null,""]
[{"$f":"Einstellungen!$L$32","v":""},null," ",{"$f":"Einstellungen!$O$32","v":"max."},null,{"$f":"Einstellungen!$Q$32","v":"120 Min"},{"$f":"IF(AND(E13>0,I49<>\"\",U49<>\"f\"),F13,0)","v":0},{"$f":"IF(AND(I49<>\"\",U49<>\"f\"),1,0)","v":0},{"$f":"IF(I48<>\"\",IF(MONTH(I48)=MONTH(I48+1),I48+1,\"\"),\"\")","v":""},"Mi",null,null,null,null,0,0,null,null,null,null,null,{"$f":"IF(OR(U49=\"U\",U49=\"k\",U49=\"B\"),$C$13,IF(S49>P49,O49-1-R49,O49-R49))","v":0},{"$f":"IF(OR(U49=\"U\",U49=\"k\",U49=\"B\"),$D$13,IF(S49>P49,P49+60-S49,P49-S49))","v":0},0,0,0,0,null,null,0,0,0,0,null,null,"",null,null,"",null,null,""]
[{"$f":"Einstellungen!$L$33","v":"tägliche Arbeitszeit  "},null,null,null,null,{"$f":"Einstellungen!$Q$33","v":" 10 Std"},{"$f":"IF(AND(E14>0,I50<>\"\",U50<>\"f\"),F14,0)","v":0},{"$f":"IF(AND(I50<>\"\",U50<>\"f\"),1,0)","v":0},"","Do",null,null,null,null,0,0,null,null,null,null,null,{"$f":"IF(OR(U50=\"U\",U50=\"k\",U50=\"B\"),$C$14,IF(S50>P50,O50-1-R50,O50-R50))","v":0},{"$f":"IF(OR(U50=\"U\",U50=\"k\",U50=\"B\"),$D$14,IF(S50>P50,P50+60-S50,P50-S50))","v":0},0,0,0,0,null,null,0,0,0,0,null,null,"",null,null,"",null,null,""]
[{"$f":"Einstellungen!$L$34","v":"*) beachte § 5 der Dienstvereinbarung vom 17.04.2024 über die Arbeitszeit der Beschäftigten der Universität Hohenheim"},null,null,null,null,null,{"$f":"IF(AND(E15>0,I51<>\"\",U51<>\"f\"),F15,0)","v":0},{"$f":"IF(AND(I51<>\"\",U51<>\"f\"),1,0)","v":0},"","Fr",null,null,null,null,0,0,null,null,null,null,null,{"$f":"IF(OR(U51=\"U\",U51=\"k\",U51=\"B\"),$C$15,IF(S51>P51,O51-1-R51,O51-R51))","v":0},{"$f":"IF(OR(U51=\"U\",U51=\"k\",U51=\"B\"),$D$15,IF(S51>P51,P51+60-S51,P51-S51))","v":0},0,0,0,0,null,null,0,0,0,0,null,null,"",null,null,"",null,null,""]
[null,null,null,null,null,null,null,null,"","Sa",null,null,null,null,0,0,null,null,null,"nur dienstl. Sonderfälle!*",null,{"$f":"IF(S52>P52,O52-1-R52,O52-R52)","v":0},{"$f":"IF(S52>P52,P52+60-S52,P52-S52)","v":0},0,0,0,0,null,null,0,0,0,0,null,null,"",null,null,"",null,null,""]
[null,null,null,null,null,null,null,null,"","So",null,null,null,null,0,0,null,null,null,"nur dienstl. Sonderfälle!*",null,{"$f":"IF(S53>P53,O53-1-R53,O53-R53)","v":0},{"$f":"IF(S53>P53,P53+60-S53,P53-S53)","v":0},0,0,0,0,null,null,0,0,0,0,null,null,"",null,null,"",null,null,""]
[null,null,null,null,null,null,null,null,null,null,null,null,null,null,null,null,null,null,null,null,null,{"$f":"INT((60*SUM(V47:V53)+SUM(W47:W53)-W54)/60)","v":0},{"$f":"INT(60*SUM(V47:V53)+SUM(W47:W53)-60*INT((60*SUM(V47:V53)+SUM(W47:W53))/60))","v":0},{"$f":"INT((60*SUM(X47:X53)+SUM(Y47:Y53)-Y54)/60)","v":0},{"$f":"INT(60*SUM(X47:X53)+SUM(Y47:Y53)-60*INT((60*SUM(X47:X53)+SUM(Y47:Y53))/60))","v":0},{"$f":"INT((60*SUM(Z47:Z53)+SUM(AA47:AA53)-AA54)/60)","v":0},{"$f":"INT(60*SUM(Z47:Z53)+SUM(AA47:AA53)-60*INT((60*SUM(Z47:Z53)+SUM(AA47:AA53))/60))","v":0},{"$f":"INT((60*SUM(AB47:AB53)+SUM(AC47:AC53)-AC54)/60)","v":0},{"$f":"INT(60*SUM(AB47:AB53)+SUM(AC47:AC53)-60*INT((60*SUM(AB47:AB53)+SUM(AC47:AC53))/60))","v":0},{"$f":"INT((60*SUM(AD47:AD53)+SUM(AE47:AE53)-AE54)/60)","v":0},{"$f":"INT(60*SUM(AD47:AD53)+SUM(AE47:AE53)-60*INT((60*SUM(AD47:AD53)+SUM(AE47:AE53))/60))","v":0},{"$f":"INT((60*SUM(AF47:AF53)+SUM(AG47:AG53)-AG54)/60)","v":0},{"$f":"INT(60*SUM(AF47:AF53)+SUM(AG47:AG53)-60*INT((60*SUM(AF47:AF53)+SUM(AG47:AG53))/60))","v":0},{"$f":"INT((60*SUM(AH47:AH53)+SUM(AI47:AI53)-AI54)/60)","v":0},{"$f":"INT(60*SUM(AH47:AH53)+SUM(AI47:AI53)-60*INT((60*SUM(AH47:AH53)+SUM(AI47:AI53))/60))","v":0},null,{"$f":"INT((60*SUM(AK47:AK53)+SUM(AL47:AL53)-AL54)/60)","v":0},{"$f":"INT(60*SUM(AK47:AK53)+SUM(AL47:AL53)-60*INT((60*SUM(AK47:AK53)+SUM(AL47:AL53))/60))","v":0},null,{"$f":"INT((60*SUM(AN47:AN53)+SUM(AO47:AO53)-AO54)/60)","v":0},{"$f":"INT(60*SUM(AN47:AN53)+SUM(AO47:AO53)-60*INT((60*SUM(AN47:AN53)+SUM(AO47:AO53))/60))","v":0},null,{"$f":"INT((60*SUM(AQ47:AQ53)+SUM(AR47:AR53)-AR54)/60)","v":0},{"$f":"INT(60*SUM(AQ47:AQ53)+SUM(AR47:AR53)-60*INT((60*SUM(AQ47:AQ53)+SUM(AR47:AR53))/60))","v":0},{"$f":"INT((60*SUM(AS47:AS53)+SUM(AT47:AT53)-AT54)/60)","v":0},{"$f":"INT(60*SUM(AS47:AS53)+SUM(AT47:AT53)-60*INT((60*SUM(AS47:AS53)+SUM(AT47:AT53))/60))","v":0},{"$f":"INT((60*SUM(AU47:AU53)+SUM(AV47:AV53)-AV54)/60)","v":0},{"$f":"INT(60*SUM(AU47:AU53)+SUM(AV47:AV53)-60*INT((60*SUM(AU47:AU53)+SUM(AV47:AV53))/60))","v":0},{"$f":"INT((60*SUM(AW47:AW53)+SUM(AX47:AX53)-AX54)/60)","v":0},{"$f":"INT(60*SUM(AW47:AW53)+SUM(AX47:AX53)-60*INT((60*SUM(AW47:AW53)+SUM(AX47:AX53))/60))","v":0},{"$f":"INT((60*SUM(AY47:AY53)+SUM(AZ47:AZ53)-AZ54)/60)","v":0},{"$f":"INT(60*SUM(AY47:AY53)+SUM(AZ47:AZ53)-60*INT((60*SUM(AY47:AY53)+SUM(AZ47:AZ53))/60))","v":0},{"$f":"INT((60*SUM(BA47:BA53)+SUM(BB47:BB53)-BB54)/60)","v":0},{"$f":"INT(60*SUM(BA47:BA53)+SUM(BB47:BB53)-60*INT((60*SUM(BA47:BA53)+SUM(BB47:BB53))/60))","v":0},{"$f":"INT((60*SUM(BC47:BC53)+SUM(BD47:BD53)-BD54)/60)","v":0},{"$f":"INT(60*SUM(BC47:BC53)+SUM(BD47:BD53)-60*INT((60*SUM(BC47:BC53)+SUM(BD47:BD53))/60))","v":0},{"$f":"INT((60*SUM(BE47:BE53)+SUM(BF47:BF53)-BF54)/60)","v":0},{"$f":"INT(60*SUM(BE47:BE53)+SUM(BF47:BF53)-60*INT((60*SUM(BE47:BE53)+SUM(BF47:BF53))/60))","v":0},{"$f":"INT((60*SUM(BG47:BG53)+SUM(BH47:BH53)-BH54)/60)","v":0},{"$f":"INT(60*SUM(BG47:BG53)+SUM(BH47:BH53)-60*INT((60*SUM(BG47:BG53)+SUM(BH47:BH53))/60))","v":0}]
[null,null,null,null,null,null,{"$f":"SUM(G5:G53)","v":21},{"$f":"SUM(H5:H53)","v":21},"Juni",null,null,null,null,null,null,{"$f":"Einstellungen!A1","v":2026},null,null,null,null,null,null,null,"Summe:",null,"Summe:",null,"Summe:",null,"Summe:",null,"Summe:",null,{"$f":"INT(((SUM(AH9,AH18,AH27,AH36,AH45,AH54)*100)+(SUM(AI9,AI18,AI27,AI36,AI45,AI54)/60*100))/100)","v":0},{"$f":"MOD(((SUM(AH9,AH18,AH27,AH36,AH45,AH54)*100)+(SUM(AI9,AI18,AI27,AI36,AI45,AI54)/60*100))/100,1)*60","v":0},null,{"$f":"INT(((SUM(AK9,AK18,AK27,AK36,AK45,AK54)*100)+(SUM(AL9,AL18,AL27,AL36,AL45,AL54)/60*100))/100)","v":0},{"$f":"MOD(((SUM(AK9,AK18,AK27,AK36,AK45,AK54)*100)+(SUM(AL9,AL18,AL27,AL36,AL45,AL54)/60*100))/100,1)*60","v":0},null,{"$f":"INT(((SUM(AN9,AN18,AN27,AN36,AN45,AN54)*100)+(SUM(AO9,AO18,AO27,AO36,AO45,AO54)/60*100))/100)","v":0},{"$f":"MOD(((SUM(AN9,AN18,AN27,AN36,AN45,AN54)*100)+(SUM(AO9,AO18,AO27,AO36,AO45,AO54)/60*100))/100,1)*60","v":0},null,{"$f":"INT(((SUM(AQ9,AQ18,AQ27,AQ36,AQ45,AQ54)*100)+(SUM(AR9,AR18,AR27,AR36,AR45,AR54)/60*100))/100)","v":0},{"$f":"MOD(((SUM(AQ9,AQ18,AQ27,AQ36,AQ45,AQ54)*100)+(SUM(AR9,AR18,AR27,AR36,AR45,AR54)/60*100))/100,1)*60","v":0},{"$f":"INT(((SUM(AS9,AS18,AS27,AS36,AS45,AS54)*100)+(SUM(AT9,AT18,AT27,AT36,AT45,AT54)/60*100))/100)","v":0},{"$f":"MOD(((SUM(AS9,AS18,AS27,AS36,AS45,AS54)*100)+(SUM(AT9,AT18,AT27,AT36,AT45,AT54)/60*100))/100,1)*60","v":0},{"$f":"INT(((SUM(AU9,AU18,AU27,AU36,AU45,AU54)*100)+(SUM(AV9,AV18,AV27,AV36,AV45,AV54)/60*100))/100)","v":0},{"$f":"MOD(((SUM(AU9,AU18,AU27,AU36,AU45,AU54)*100)+(SUM(AV9,AV18,AV27,AV36,AV45,AV54)/60*100))/100,1)*60","v":0},{"$f":"INT(((SUM(AW9,AW18,AW27,AW36,AW45,AW54)*100)+(SUM(AX9,AX18,AX27,AX36,AX45,AX54)/60*100))/100)","v":0},{"$f":"MOD(((SUM(AW9,AW18,AW27,AW36,AW45,AW54)*100)+(SUM(AX9,AX18,AX27,AX36,AX45,AX54)/60*100))/100,1)*60","v":0},{"$f":"INT(((SUM(AY9,AY18,AY27,AY36,AY45,AY54)*100)+(SUM(AZ9,AZ18,AZ27,AZ36,AZ45,AZ54)/60*100))/100)","v":0},{"$f":"MOD(((SUM(AY9,AY18,AY27,AY36,AY45,AY54)*100)+(SUM(AZ9,AZ18,AZ27,AZ36,AZ45,AZ54)/60*100))/100,1)*60","v":0},{"$f":"INT(((SUM(BA9,BA18,BA27,BA36,BA45,BA54)*100)+(SUM(BB9,BB18,BB27,BB36,BB45,BB54)/60*100))/100)","v":0},{"$f":"MOD(((SUM(BA9,BA18,BA27,BA36,BA45,BA54)*100)+(SUM(BB9,BB18,BB27,BB36,BB45,BB54)/60*100))/100,1)*60","v":0},{"$f":"INT(((SUM(BC9,BC18,BC27,BC36,BC45,BC54)*100)+(SUM(BD9,BD18,BD27,BD36,BD45,BD54)/60*100))/100)","v":0},{"$f":"MOD(((SUM(BC9,BC18,BC27,BC36,BC45,BC54)*100)+(SUM(BD9,BD18,BD27,BD36,BD45,BD54)/60*100))/100,1)*60","v":0},{"$f":"INT(((SUM(BE9,BE18,BE27,BE36,BE45,BE54)*100)+(SUM(BF9,BF18,BF27,BF36,BF45,BF54)/60*100))/100)","v":0},{"$f":"MOD(((SUM(BE9,BE18,BE27,BE36,BE45,BE54)*100)+(SUM(BF9,BF18,BF27,BF36,BF45,BF54)/60*100))/100,1)*60","v":0},{"$f":"INT(((SUM(BG9,BG18,BG27,BG36,BG45,BG54)*100)+(SUM(BH9,BH18,BH27,BH36,BH45,BH54)/60*100))/100)","v":0},{"$f":"MOD(((SUM(BG9,BG18,BG27,BG36,BG45,BG54)*100)+(SUM(BH9,BH18,BH27,BH36,BH45,BH54)/60*100))/100,1)*60","v":0}]
[null,null,null,null,null,null,null,null,"Abrechnungsmonat",null,null,null,null,null,null,"Jahr",null,null,null,"Monatsarbeitszeit IST",null,{"$f":"INT((60*SUM(V54,V45,V36,V27,V18,V9)+SUM(W54,W45,W36,W27,W18,W9)-W56)/60)","v":0},{"$f":"INT(60*SUM(V54,V45,V36,V27,V18,V9)+SUM(W54,W45,W36,W27,W18,W9)-60*INT((60*SUM(V54,V45,V36,V27,V18,V9)+SUM(W54,W45,W36,W27,W18,W9))/60))","v":0},{"$f":"INT((60*SUM(X54,X45,X36,X27,X18,X9)+SUM(Y54,Y45,Y36,Y27,Y18,Y9)-Y56)/60)","v":0},{"$f":"INT(60*SUM(X54,X45,X36,X27,X18,X9)+SUM(Y54,Y45,Y36,Y27,Y18,Y9)-60*INT((60*SUM(X54,X45,X36,X27,X18,X9)+SUM(Y54,Y45,Y36,Y27,Y18,Y9))/60))","v":0},{"$f":"INT((60*SUM(Z54,Z45,Z36,Z27,Z18,Z9)+SUM(AA54,AA45,AA36,AA27,AA18,AA9)-AA56)/60)","v":0},{"$f":"INT(60*SUM(Z54,Z45,Z36,Z27,Z18,Z9)+SUM(AA54,AA45,AA36,AA27,AA18,AA9)-60*INT((60*SUM(Z54,Z45,Z36,Z27,Z18,Z9)+SUM(AA54,AA45,AA36,AA27,AA18,AA9))/60))","v":0},{"$f":"INT((60*SUM(AB54,AB45,AB36,AB27,AB18,AB9)+SUM(AC54,AC45,AC36,AC27,AC18,AC9)-AC56)/60)","v":0},{"$f":"INT(60*SUM(AB54,AB45,AB36,AB27,AB18,AB9)+SUM(AC54,AC45,AC36,AC27,AC18,AC9)-60*INT((60*SUM(AB54,AB45,AB36,AB27,AB18,AB9)+SUM(AC54,AC45,AC36,AC27,AC18,AC9))/60))","v":0},{"$f":"INT((60*SUM(AD54,AD45,AD36,AD27,AD18,AD9)+SUM(AE54,AE45,AE36,AE27,AE18,AE9)-AE56)/60)","v":0},{"$f":"INT(60*SUM(AD54,AD45,AD36,AD27,AD18,AD9)+SUM(AE54,AE45,AE36,AE27,AE18,AE9)-60*INT((60*SUM(AD54,AD45,AD36,AD27,AD18,AD9)+SUM(AE54,AE45,AE36,AE27,AE18,AE9))/60))","v":0},{"$f":"INT((60*SUM(AF54,AF45,AF36,AF27,AF18,AF9)+SUM(AG54,AG45,AG36,AG27,AG18,AG9)-AG56)/60)","v":0},{"$f":"INT(60*SUM(AF54,AF45,AF36,AF27,AF18,AF9)+SUM(AG54,AG45,AG36,AG27,AG18,AG9)-60*INT((60*SUM(AF54,AF45,AF36,AF27,AF18,AF9)+SUM(AG54,AG45,AG36,AG27,AG18,AG9))/60))","v":0}]
[null,null,null,null,null,null,null,null,{"$f":"Einstellungen!K23","v":"Franziska von Hohenheim"},null,null,null,null,null,null,null,null,null,null,"Übertrag aus Vormonat (+/-)",{"$f":"IF(V57*W57<0,\"!\",\"\")","v":""},{"$f":"ROUND(Mai!V60,0)","v":-790},{"$f":"ROUND(Mai!W60,0)","v":0}]
[null,null,null,null,null,null,null,null,"Name, Vorname",null,null,null,null,null,null,null,"Datum",null,null,"Summe",null,{"$f":"ROUND(SIGN(V56+V57+(W56+W57)/60)*ROUNDDOWN(ABS(V56+V57+(W56+W57)/60),0),0)","v":-790},{"$f":"ROUND(SIGN(V56+V57+(W56+W57)/60)*(ABS(V56+V57+(W56+W57)/60)-ABS(V58))*60,0)","v":0}]
[null,null,null,null,null,null,null,null,{"$f":"Einstellungen!$K$25","v":"630"},null,{"$f":"Einstellungen!K24","v":"KIM"},null,null,null,null,null,null,null,null,"Monatsarbeitszeit SOLL",null,{"$f":"SUM(Einstellungen!B8)","v":165},{"$f":"SUM(Einstellungen!C8)","v":54}]
[null,null,null,null,null,null,null,null,"Einr.-Nr.",null,"Abt. / FG",null,null,null,null,null,"Name Leiter/in",null,null,"Zeitübertrag auf Folgemonat",{"$f":"IF(V60*W60<0,\"!\",\"\")","v":""},{"$f":"ROUND(SIGN(V58-V59+(W58-W59)/60)*ROUNDDOWN(ABS(V58-V59+(W58-W59)/60),0),0)","v":-955},{"$f":"ROUND(SIGN(V58-V59+(W58-W59)/60)*(ABS(V58-V59+(W58-W59)/60)-ABS(V60))*60,0)","v":-54}]
[]
[null,null,null,null,null,null,null,null,null,null,null,null,null,null,null,null,null,null,null,"Summe Urlaubstage",null,{"$f":"SUMPRODUCT((U5:U6=\"U\")*(E14:E15>0))+SUMPRODUCT((U11:U15=\"U\")*(E11:E15>0))+SUMPRODUCT((U20:U24=\"U\")*(E11:E15>0))+SUMPRODUCT((U29:U33=\"U\")*(E11:E15>0))+SUMPRODUCT((U38:U42=\"U\")*(E11:E15>0))+SUMPRODUCT((U47:U51=\"U\")*(E11:E15>0))","v":0}]
[null,null,null,null,null,null,null,null,"Datum",null,"Unterschrift Mitarbeiter/in",null,null,null,null,null,"Unterschrift Leiter/in",null,null,"alter / neuer Übertrag",null,{"$f":"IF(SUM(Einstellungen!K27:K30)>0,Mai!W63,\"--- \")","v":30},{"$f":"IF(SUM(Einstellungen!K27:K30)>0,V63-V62,\"--- \")","v":30}]

{"sheet":"Juli","index":6,"n_rows":63,"n_cols":60,"rows_kept":63,"cut":false,"hidden":true,"merged":[[0,31,0,32],[0,23,0,24],[0,25,0,26],[0,27,0,28],[0,29,0,30],[1,23,1,24],[1,25,1,26],[37,0,37,1],[38,0,38,2],[2,23,2,24],[2,25,2,26],[28,0,28,1],[29,0,29,1],[30,0,30,2],[35,0,35,1],[7,0,7,3],[39,0,39,1],[46,0,46,3],[47,0,47,3],[49,0,49,3],[54,23,54,24],[50,0,52,5],[40,3,40,5],[41,3,41,5],[44,3,44,5],[61,21,61,22],[63,25,63,26],[54,27,54,28],[54,29,54,30],[54,31,54,32],[54,25,54,26],[0,42,2,43],[0,44,2,45],[0,46,2,47],[0,33,2,35],[0,36,2,38],[0,39,2,41],[0,58,2,59],[0,48,2,49],[0,50,2,51],[0,52,2,53],[0,54,2,55],[0,56,2,57]]}
[{"$f":"Einstellungen!A27","v":"Universität Hohenheim KIM © 2026"},null,null,null,null,null,null,null,"Datum",null,"Arbeits-",null,null,"Arbeits-","Arb.Zeit ohne",null,"Sonstige Unterbrechungen",null,null,"Erläuterungen, Hinweise,","U,K","Reine Arb.-",null,"Productive",null,"Productive",null,"Sonstiges",null,"Summe ",null,"Summe",null,{"$f":"Projektdaten!D4","v":"EU Projekt 1"},null,null,{"$f":"Projektdaten!D6","v":"EU Projekt 2"},null,null,{"$f":"Projektdaten!D8","v":"EU Projekt 3"},null,null,{"$f":"Projektdaten!D13","v":"Projekt 1"},null,{"$f":"Projektdaten!D15","v":"Projekt 2"},null,{"$f":"Projektdaten!D17","v":"Projekt 3"},null,{"$f":"Projektdaten!D19","v":"Projekt 4"},null,{"$f":"Projektdaten!D21","v":"Projekt 5"},null,{"$f":"Projektdaten!D23","v":"Projekt 6"},null,{"$f":"Projektdaten!D25","v":"Projekt 7"},null,{"$f":"Projektdaten!D27","v":"Projekt 8"},null,{"$f":"Projektdaten!D29","v":"Projekt 9"}]
["Arbeitszeitblatt",null,null,{"$f":"Einstellungen!A28","v":"Version 5.12"},null,null,null,null,"Tag","Wo-","beginn","Mittagspause",null,"ende","Mittagspause",null,"von - bis","Gesamtdauer",null,"Vermerke, z.B. Dienstreise","F,X","Zeit","IST","Hours",null,"Hours",null,null,null,"EU-",null,"andere"]
[null,null,null,null,null,null,null,null,null,"tag",null,"von","bis",null,"Std.","Min.",null,"Std.","Min.","  - non eligible -","A,B","Std.","Min.","i.S.d. EU",null,"verteilt",null,null," ","Projekte",null,"Projekte"]
[null,null,null,null,null,null,null,null,null,null,null,null,null,null,null,null,null,null,null,null,null,null,null,"Std.","Min.","Std.","Min.","Std.","Min.","Std.","Min.","Std.","Min.","Std.","Min.","Geleistete Arbeitspakete nach Annex 1","Std.","Min.","Geleistete Arbeitspakete nach Annex 1","Std.","Min.","Geleistete Arbeitspakete nach Annex 1","Std.","Min.","Std.","Min.","Std.","Min.","Std.","Min.","Std.","Min.","Std.","Min.","Std.","Min.","Std.","Min.","Std.","Min."]
[null,null,null,null,null,"U",{"$f":"IF(AND(E14>0,I5<>\"\",U5<>\"f\"),1,0)","v":0},{"$f":"IF(AND(I5<>\"\",U5<>\"f\"),1,0)","v":0},{"$f":"IF(CHOOSE(WEEKDAY(Einstellungen!$A$9,2),\"Mo\",\"Di\",\"Mi\",\"Do\",\"Fr\",\"Sa\",\"So\")=J5,Einstellungen!$A$9,\"\")","v":""},"Do",null,null,null,null,{"$f":"HOUR(N5-K5-(M5-L5))","v":0},{"$f":"MINUTE(N5-K5-(M5-L5))","v":0},null,null,null,null,null,{"$f":"IF(OR(U5=\"U\",U5=\"k\",U5=\"B\"),$C$14,IF(S5>P5,O5-1-R5,O5-R5))","v":0},{"$f":"IF(OR(U5=\"U\",U5=\"k\",U5=\"B\"),$D$14,IF(S5>P5,P5+60-S5,P5-S5))","v":0},{"$f":"IF(OR(U5=\"U\",U5=\"K\",U5=\"B\"),0,V5)","v":0},{"$f":"IF(OR(U5=\"U\",U5=\"K\",U5=\"B\"),0,W5)","v":0},{"$f":"INT(((SUM(AB5,AH5,AK5,AN5,AQ5,AS5,AU5,AW5,AY5,BA5,BC5,BE5,BG5)*100)+(SUM(AC5,AI5,AL5,AO5,AR5,AT5,AV5,AX5,AZ5,BB5,BD5,BF5,BH5)/60*100))/100)","v":0},{"$f":"MOD(((SUM(AC5,AI5,AL5,AO5,AR5,AT5,AV5,AX5,AZ5,BB5,BD5,BF5,BH5)*100)+(SUM(AC5,AI5,AL5,AO5,AR5,AT5,AV5,AX5,AZ5,BB5,BD5,BF5,BH5)/60*100))/100,1)*60","v":0},null,null,{"$f":"INT(((SUM(AH5,AK5,AN5)*100)+SUM(AI5,AL5,AO5)/60*100)/100)","v":0},{"$f":"MOD(((SUM(AI5,AL5,AO5)*100)+(SUM(AI5,AL5,AO5)/60*100))/100,1)*60","v":0},{"$f":"INT(((SUM(AQ5+AS5+AU5+AW5+AY5+BA5+BC5+BE5+BG5)*100)+SUM(AR5+AT5+AV5+AX5+AZ5+BB5+BD5+BF5+BH5)/60*100)/100)","v":0},{"$f":"MOD(((SUM(AR5+AT5+AV5+AX5+AZ5+BB5+BD5+BF5+BH5)*100)+(SUM(AR5+AT5+AV5+AX5+AZ5+BB5+BD5+BF5+BH5)/60*100))/100,1)*60","v":0},null,null,"",null,null,"",null,null,""]
[null,null,null,null,null,"K",{"$f":"IF(AND(E15>0,I6<>\"\",U6<>\"f\"),F14,0)","v":0},{"$f":"IF(AND(I6<>\"\",U6<>\"f\"),1,0)","v":0},{"$f":"IF(I5<>\"\",I5+1,IF(CHOOSE(WEEKDAY(Einstellungen!$A$9,2),\"Mo\",\"Di\",\"Mi\",\"Do\",\"Fr\",\"Sa\",\"So\")=J6,Einstellungen!$A$9,\"\"))","v":""},"Fr",null,null,null,null,{"$f":"HOUR(N6-K6-(M6-L6))","v":0},{"$f":"MINUTE(N6-K6-(M6-L6))","v":0},null,null,null,null,null,{"$f":"IF(OR(U6=\"U\",U6=\"k\",U6=\"B\"),$C$15,IF(S6>P6,O6-1-R6,O6-R6))","v":0},{"$f":"IF(OR(U6=\"U\",U6=\"k\",U6=\"B\"),$D$15,IF(S6>P6,P6+60-S6,P6-S6))","v":0},{"$f":"IF(OR(U6=\"U\",U6=\"K\",U6=\"B\"),0,V6)","v":0},{"$f":"IF(OR(U6=\"U\",U6=\"K\",U6=\"B\"),0,W6)","v":0},{"$f":"INT(((SUM(AB6,AH6,AK6,AN6,AQ6,AS6,AU6,AW6,AY6,BA6,BC6,BE6,BG6)*100)+(SUM(AC6,AI6,AL6,AO6,AR6,AT6,AV6,AX6,AZ6,BB6,BD6,BF6,BH6)/60*100))/100)","v":0},{"$f":"MOD(((SUM(AC6,AI6,AL6,AO6,AR6,AT6,AV6,AX6,AZ6,BB6,BD6,BF6,BH6)*100)+(SUM(AC6,AI6,AL6,AO6,AR6,AT6,AV6,AX6,AZ6,BB6,BD6,BF6,BH6)/60*100))/100,1)*60","v":0},null,null,{"$f":"INT(((SUM(AH6,AK6,AN6)*100)+SUM(AI6,AL6,AO6)/60*100)/100)","v":0},{"$f":"MOD(((SUM(AI6,AL6,AO6)*100)+(SUM(AI6,AL6,AO6)/60*100))/100,1)*60","v":0},{"$f":"INT(((SUM(AQ6+AS6+AU6+AW6+AY6+BA6+BC6+BE6+BG6)*100)+SUM(AR6+AT6+AV6+AX6+AZ6+BB6+BD6+BF6+BH6)/60*100)/100)","v":0},{"$f":"MOD(((SUM(AR6+AT6+AV6+AX6+AZ6+BB6+BD6+BF6+BH6)*100)+(SUM(AR6+AT6+AV6+AX6+AZ6+BB6+BD6+BF6+BH6)/60*100))/100,1)*60","v":0},null,null,"",null,null,"",null,null,""]
[null,null,null,null,null,"A",{"$f":"IF(AND(E16>0,I7<>\"\",U7<>\"f\"),F15,0)","v":0},null,{"$f":"IF(I6<>\"\",I6+1,IF(CHOOSE(WEEKDAY(Einstellungen!$A$9,2),\"Mo\",\"Di\",\"Mi\",\"Do\",\"Fr\",\"Sa\",\"So\")=J7,Einstellungen!$A$9,\"\"))","v":""},"Sa",null,null,null,null,{"$f":"HOUR(N7-K7-(M7-L7))","v":0},{"$f":"MINUTE(N7-K7-(M7-L7))","v":0},null,null,null,"nur dienstl. Sonderfälle!*",null,{"$f":"IF(S7>P7,O7-1-R7,O7-R7)","v":0},{"$f":"IF(S7>P7,P7+60-S7,P7-S7)","v":0},0,0,{"$f":"INT(((SUM(AB7,AH7,AK7,AN7,AQ7,AS7,AU7,AW7,AY7,BA7,BC7,BE7,BG7)*100)+(SUM(AC7,AI7,AL7,AO7,AR7,AT7,AV7,AX7,AZ7,BB7,BD7,BF7,BH7)/60*100))/100)","v":0},{"$f":"MOD(((SUM(AC7,AI7,AL7,AO7,AR7,AT7,AV7,AX7,AZ7,BB7,BD7,BF7,BH7)*100)+(SUM(AC7,AI7,AL7,AO7,AR7,AT7,AV7,AX7,AZ7,BB7,BD7,BF7,BH7)/60*100))/100,1)*60","v":0},null,null,{"$f":"INT(((SUM(AH7,AK7,AN7)*100)+SUM(AI7,AL7,AO7)/60*100)/100)","v":0},{"$f":"MOD(((SUM(AI7,AL7,AO7)*100)+(SUM(AI7,AL7,AO7)/60*100))/100,1)*60","v":0},{"$f":"INT(((SUM(AQ7+AS7+AU7+AW7+AY7+BA7+BC7+BE7+BG7)*100)+SUM(AR7+AT7+AV7+AX7+AZ7+BB7+BD7+BF7+BH7)/60*100)/100)","v":0},{"$f":"MOD(((SUM(AR7+AT7+AV7+AX7+AZ7+BB7+BD7+BF7+BH7)*100)+(SUM(AR7+AT7+AV7+AX7+AZ7+BB7+BD7+BF7+BH7)/60*100))/100,1)*60","v":0},null,null,"",null,null,"",null,null,""]
[{"$f":"IF(Einstellungen!D25>0.0005,\"Bitte Werte prüfen\",\"\")","v":""},null,null,null,null,"B",null,null,{"$f":"IF(I7<>\"\",I7+1,IF(CHOOSE(WEEKDAY(Einstellungen!$A$9,2),\"Mo\",\"Di\",\"Mi\",\"Do\",\"Fr\",\"Sa\",\"So\")=J8,Einstellungen!$A$9,\"\"))","v":""},"So",null,null,null,null,{"$f":"HOUR(N8-K8-(M8-L8))","v":0},{"$f":"MINUTE(N8-K8-(M8-L8))","v":0},null,null,null,"nur dienstl. Sonderfälle!*",null,{"$f":"IF(S8>P8,O8-1-R8,O8-R8)","v":0},{"$f":"IF(S8>P8,P8+60-S8,P8-S8)","v":0},0,0,{"$f":"INT(((SUM(AB8,AH8,AK8,AN8,AQ8,AS8,AU8,AW8,AY8,BA8,BC8,BE8,BG8)*100)+(SUM(AC8,AI8,AL8,AO8,AR8,AT8,AV8,AX8,AZ8,BB8,BD8,BF8,BH8)/60*100))/100)","v":0},{"$f":"MOD(((SUM(AC8,AI8,AL8,AO8,AR8,AT8,AV8,AX8,AZ8,BB8,BD8,BF8,BH8)*100)+(SUM(AC8,AI8,AL8,AO8,AR8,AT8,AV8,AX8,AZ8,BB8,BD8,BF8,BH8)/60*100))/100,1)*60","v":0},null,null,{"$f":"INT(((SUM(AH8,AK8,AN8)*100)+SUM(AI8,AL8,AO8)/60*100)/100)","v":0},{"$f":"MOD(((SUM(AI8,AL8,AO8)*100)+(SUM(AI8,AL8,AO8)/60*100))/100,1)*60","v":0},{"$f":"INT(((SUM(AQ8+AS8+AU8+AW8+AY8+BA8+BC8+BE8+BG8)*100)+SUM(AR8+AT8+AV8+AX8+AZ8+BB8+BD8+BF8+BH8)/60*100)/100)","v":0},{"$f":"MOD(((SUM(AR8+AT8+AV8+AX8+AZ8+BB8+BD8+BF8+BH8)*100)+(SUM(AR8+AT8+AV8+AX8+AZ8+BB8+BD8+BF8+BH8)/60*100))/100,1)*60","v":0},null,null,"",null,null,"",null,null,""]
["Meine tägl. Regelarbeitszeit:",null,null,null,null,"X",null,null,null,null,null,null,null,null,null,null,null,null,null,null,null,{"$f":"INT((60*SUM(V5:V8)+SUM(W5:W8)-W9)/60)","v":0},{"$f":"INT(60*SUM(V5:V8)+SUM(W5:W8)-60*INT((60*SUM(V5:V8)+SUM(W5:W8))/60))","v":0},{"$f":"INT((60*SUM(X5:X8)+SUM(Y5:Y8)-Y9)/60)","v":0},{"$f":"INT(60*SUM(X5:X8)+SUM(Y5:Y8)-60*INT((60*SUM(X5:X8)+SUM(Y5:Y8))/60))","v":0},{"$f":"INT((60*SUM(Z5:Z8)+SUM(AA5:AA8)-AA9)/60)","v":0},{"$f":"INT(60*SUM(Z5:Z8)+SUM(AA5:AA8)-60*INT((60*SUM(Z5:Z8)+SUM(AA5:AA8))/60))","v":0},{"$f":"INT((60*SUM(AB5:AB8)+SUM(AC5:AC8)-AC9)/60)","v":0},{"$f":"INT(60*SUM(AB5:AB8)+SUM(AC5:AC8)-60*INT((60*SUM(AB5:AB8)+SUM(AC5:AC8))/60))","v":0},{"$f":"INT((60*SUM(AD5:AD8)+SUM(AE5:AE8)-AE9)/60)","v":0},{"$f":"INT(60*SUM(AD5:AD8)+SUM(AE5:AE8)-60*INT((60*SUM(AD5:AD8)+SUM(AE5:AE8))/60))","v":0},{"$f":"INT((60*SUM(AF5:AF8)+SUM(AG5:AG8)-AG9)/60)","v":0},{"$f":"INT(60*SUM(AF5:AF8)+SUM(AG5:AG8)-60*INT((60*SUM(AF5:AF8)+SUM(AG5:AG8))/60))","v":0},{"$f":"INT((60*SUM(AH5:AH8)+SUM(AI5:AI8)-AI9)/60)","v":0},{"$f":"INT(60*SUM(AH5:AH8)+SUM(AI5:AI8)-60*INT((60*SUM(AH5:AH8)+SUM(AI5:AI8))/60))","v":0},null,{"$f":"INT((60*SUM(AK5:AK8)+SUM(AL5:AL8)-AL9)/60)","v":0},{"$f":"INT(60*SUM(AK5:AK8)+SUM(AL5:AL8)-60*INT((60*SUM(AK5:AK8)+SUM(AL5:AL8))/60))","v":0},null,{"$f":"INT((60*SUM(AN5:AN8)+SUM(AO5:AO8)-AO9)/60)","v":0},{"$f":"INT(60*SUM(AN5:AN8)+SUM(AO5:AO8)-60*INT((60*SUM(AN5:AN8)+SUM(AO5:AO8))/60))","v":0},null,{"$f":"INT((60*SUM(AQ5:AQ8)+SUM(AR5:AR8)-AR9)/60)","v":0},{"$f":"INT(60*SUM(AQ5:AQ8)+SUM(AR5:AR8)-60*INT((60*SUM(AQ5:AQ8)+SUM(AR5:AR8))/60))","v":0},{"$f":"INT((60*SUM(AS5:AS8)+SUM(AT5:AT8)-AT9)/60)","v":0},{"$f":"INT(60*SUM(AS5:AS8)+SUM(AT5:AT8)-60*INT((60*SUM(AS5:AS8)+SUM(AT5:AT8))/60))","v":0},{"$f":"INT((60*SUM(AU5:AU8)+SUM(AV5:AV8)-AV9)/60)","v":0},{"$f":"INT(60*SUM(AU5:AU8)+SUM(AV5:AV8)-60*INT((60*SUM(AU5:AU8)+SUM(AV5:AV8))/60))","v":0},{"$f":"INT((60*SUM(AW5:AW8)+SUM(AX5:AX8)-AX9)/60)","v":0},{"$f":"INT(60*SUM(AW5:AW8)+SUM(AX5:AX8)-60*INT((60*SUM(AW5:AW8)+SUM(AX5:AX8))/60))","v":0},{"$f":"INT((60*SUM(AY5:AY8)+SUM(AZ5:AZ8)-AZ9)/60)","v":0},{"$f":"INT(60*SUM(AY5:AY8)+SUM(AZ5:AZ8)-60*INT((60*SUM(AY5:AY8)+SUM(AZ5:AZ8))/60))","v":0},{"$f":"INT((60*SUM(BA5:BA8)+SUM(BB5:BB8)-BB9)/60)","v":0},{"$f":"INT(60*SUM(BA5:BA8)+SUM(BB5:BB8)-60*INT((60*SUM(BA5:BA8)+SUM(BB5:BB8))/60))","v":0},{"$f":"INT((60*SUM(BC5:BC8)+SUM(BD5:BD8)-BD9)/60)","v":0},{"$f":"INT(60*SUM(BC5:BC8)+SUM(BD5:BD8)-60*INT((60*SUM(BC5:BC8)+SUM(BD5:BD8))/60))","v":0},{"$f":"INT((60*SUM(BE5:BE8)+SUM(BF5:BF8)-BF9)/60)","v":0},{"$f":"INT(60*SUM(BE5:BE8)+SUM(BF5:BF8)-60*INT((60*SUM(BE5:BE8)+SUM(BF5:BF8))/60))","v":0},{"$f":"INT((60*SUM(BG5:BG8)+SUM(BH5:BH8)-BH9)/60)","v":0},{"$f":"INT(60*SUM(BG5:BG8)+SUM(BH5:BH8)-60*INT((60*SUM(BG5:BG8)+SUM(BH5:BH8))/60))","v":0}]
[null,null,null,null,{"$f":"5-COUNTIF(E11:E15,0)","v":5},{"$f":"(SUM(C11:C15)*60+SUM(D11:D15))/E10","v":474}]
["Mo",{"$f":"IF(E11=0,\"frei\",\"\")","v":""},{"$f":"SUM(Einstellungen!C19)","v":7},{"$f":"SUM(Einstellungen!D19)","v":54},{"$f":"C11*60+D11","v":474},{"$f":"E11/$F$10","v":1},{"$f":"IF(AND(E11>0,I11<>\"\",U11<>\"f\"),F11,0)","v":0},{"$f":"IF(AND(I11<>\"\",U11<>\"f\"),1,0)","v":0},{"$f":"IF(I8<>\"\",I8+1,IF(CHOOSE(WEEKDAY(Einstellungen!$A$9,2),\"Mo\",\"Di\",\"Mi\",\"Do\",\"Fr\",\"Sa\",\"So\")=J11,Einstellungen!$A$9,\"\"))","v":""},"Mo",null,null,null,null,{"$f":"HOUR(N11-K11-(M11-L11))","v":0},{"$f":"MINUTE(N11-K11-(M11-L11))","v":0},null,null,null,null,null,{"$f":"IF(OR(U11=\"U\",U11=\"k\",U11=\"B\"),$C$11,IF(S11>P11,O11-1-R11,O11-R11))","v":0},{"$f":"IF(OR(U11=\"U\",U11=\"k\",U11=\"B\"),$D$11,IF(S11>P11,P11+60-S11,P11-S11))","v":0},{"$f":"IF(OR(U11=\"U\",U11=\"K\",U11=\"B\"),0,V11)","v":0},{"$f":"IF(OR(U11=\"U\",U11=\"K\",U11=\"B\"),0,W11)","v":0},{"$f":"INT(((SUM(AB11,AH11,AK11,AN11,AQ11,AS11,AU11,AW11,AY11,BA11,BC11,BE11,BG11)*100)+(SUM(AC11,AI11,AL11,AO11,AR11,AT11,AV11,AX11,AZ11,BB11,BD11,BF11,BH11)/60*100))/100)","v":0},{"$f":"MOD(((SUM(AC11,AI11,AL11,AO11,AR11,AT11,AV11,AX11,AZ11,BB11,BD11,BF11,BH11)*100)+(SUM(AC11,AI11,AL11,AO11,AR11,AT11,AV11,AX11,AZ11,BB11,BD11,BF11,BH11)/60*100))/100,1)*60","v":0},null,null,{"$f":"INT(((SUM(AH11,AK11,AN11)*100)+SUM(AI11,AL11,AO11)/60*100)/100)","v":0},{"$f":"MOD(((SUM(AI11,AL11,AO11)*100)+(SUM(AI11,AL11,AO11)/60*100))/100,1)*60","v":0},{"$f":"INT(((SUM(AQ11+AS11+AU11+AW11+AY11+BA11+BC11+BE11+BG11)*100)+SUM(AR11+AT11+AV11+AX11+AZ11+BB11+BD11+BF11+BH11)/60*100)/100)","v":0},{"$f":"MOD(((SUM(AR11+AT11+AV11+AX11+AZ11+BB11+BD11+BF11+BH11)*100)+(SUM(AR11+AT11+AV11+AX11+AZ11+BB11+BD11+BF11+BH11)/60*100))/100,1)*60","v":0},null,null,"",null,null,"",null,null,""]
["Di",{"$f":"IF(E12=0,\"frei\",\"\")","v":""},{"$f":"SUM(Einstellungen!C20)","v":7},{"$f":"SUM(Einstellungen!D20)","v":54},{"$f":"C12*60+D12","v":474},{"$f":"E12/$F$10","v":1},{"$f":"IF(AND(E12>0,I12<>\"\",U12<>\"f\"),F12,0)","v":0},{"$f":"IF(AND(I12<>\"\",U12<>\"f\"),1,0)","v":0},{"$f":"IF(I11<>\"\",I11+1,IF(CHOOSE(WEEKDAY(Einstellungen!$A$9,2),\"Mo\",\"Di\",\"Mi\",\"Do\",\"Fr\",\"Sa\",\"So\")=J12,Einstellungen!$A$9,\"\"))","v":""},"Di",null,null,null,null,0,0,null,null,null,null,null,{"$f":"IF(OR(U12=\"U\",U12=\"k\",U12=\"B\"),$C$12,IF(S12>P12,O12-1-R12,O12-R12))","v":0},{"$f":"IF(OR(U12=\"U\",U12=\"k\",U12=\"B\"),$D$12,IF(S12>P12,P12+60-S12,P12-S12))","v":0},0,0,0,0,null,null,0,0,0,0,null,null,"",null,null,"",null,null,""]
["Mi",{"$f":"IF(E13=0,\"frei\",\"\")","v":""},{"$f":"SUM(Einstellungen!C21)","v":7},{"$f":"SUM(Einstellungen!D21)","v":54},{"$f":"C13*60+D13","v":474},{"$f":"E13/$F$10","v":1},{"$f":"IF(AND(E13>0,I13<>\"\",U13<>\"f\"),F13,0)","v":1},{"$f":"IF(AND(I13<>\"\",U13<>\"f\"),1,0)","v":1},{"$f":"IF(I12<>\"\",I12+1,IF(CHOOSE(WEEKDAY(Einstellungen!$A$9,2),\"Mo\",\"Di\",\"Mi\",\"Do\",\"Fr\",\"Sa\",\"So\")=J13,Einstellungen!$A$9,\"\"))","v":"2026-07-01"},"Mi",null,null,null,null,0,0,null,null,null,null,null,{"$f":"IF(OR(U13=\"U\",U13=\"k\",U13=\"B\"),$C$13,IF(S13>P13,O13-1-R13,O13-R13))","v":0},{"$f":"IF(OR(U13=\"U\",U13=\"k\",U13=\"B\"),$D$13,IF(S13>P13,P13+60-S13,P13-S13))","v":0},0,0,0,0,null,null,0,0,0,0,null,null,"",null,null,"",null,null,""]
["Do",{"$f":"IF(E14=0,\"frei\",\"\")","v":""},{"$f":"SUM(Einstellungen!C22)","v":7},{"$f":"SUM(Einstellungen!D22)","v":54},{"$f":"C14*60+D14","v":474},{"$f":"E14/$F$10","v":1},{"$f":"IF(AND(E14>0,I14<>\"\",U14<>\"f\"),F14,0)","v":1},{"$f":"IF(AND(I14<>\"\",U14<>\"f\"),1,0)","v":1},{"$f":"IF(I13<>\"\",I13+1,IF(CHOOSE(WEEKDAY(Einstellungen!$A$9,2),\"Mo\",\"Di\",\"Mi\",\"Do\",\"Fr\",\"Sa\",\"So\")=J14,Einstellungen!$A$9,\"\"))","v":"2026-07-02"},"Do",null,null,null,null,0,0,null,null,null,null,null,{"$f":"IF(OR(U14=\"U\",U14=\"k\",U14=\"B\"),$C$14,IF(S14>P14,O14-1-R14,O14-R14))","v":0},{"$f":"IF(OR(U14=\"U\",U14=\"k\",U14=\"B\"),$D$14,IF(S14>P14,P14+60-S14,P14-S14))","v":0},0,0,0,0,null,null,0,0,0,0,null,null,"",null,null,"",null,null,""]
["Fr",{"$f":"IF(E15=0,\"frei\",\"\")","v":""},{"$f":"SUM(Einstellungen!C23)","v":7},{"$f":"SUM(Einstellungen!D23)","v":54},{"$f":"C15*60+D15","v":474},{"$f":"E15/$F$10","v":1},{"$f":"IF(AND(E15>0,I15<>\"\",U15<>\"f\"),F15,0)","v":1},{"$f":"IF(AND(I15<>\"\",U15<>\"f\"),1,0)","v":1},{"$f":"I14+1","v":"2026-07-03"},"Fr",null,null,null,null,0,0,null,null,null,null,null,{"$f":"IF(OR(U15=\"U\",U15=\"k\",U15=\"B\"),$C$15,IF(S15>P15,O15-1-R15,O15-R15))","v":0},{"$f":"IF(OR(U15=\"U\",U15=\"k\",U15=\"B\"),$D$15,IF(S15>P15,P15+60-S15,P15-S15))","v":0},0,0,0,0,null,null,0,0,0,0,null,null,"",null,null,"",null,null,""]
[{"$f":"Einstellungen!$L$1","v":"Hinweise:"},null,null,null,null,null,null,null,{"$f":"I15+1","v":"2026-07-04"},"Sa",null,null,null,null,0,0,null,null,null,"nur dienstl. Sonderfälle!*",null,{"$f":"IF(S16>P16,O16-1-R16,O16-R16)","v":0},{"$f":"IF(S16>P16,P16+60-S16,P16-S16)","v":0},0,0,0,0,null,null,0,0,0,0,null,null,"",null,null,"",null,null,""]
[{"$f":"Einstellungen!$L$2","v":"I Beschäftigte mit 39,5 Std-Woche"},null,null,null,null,null,null,null,{"$f":"I16+1","v":"2026-07-05"},"So",null,null,null,null,0,0,null,null,null,"nur dienstl. Sonderfälle!*",null,{"$f":"IF(S17>P17,O17-1-R17,O17-R17)","v":0},{"$f":"IF(S17>P17,P17+60-S17,P17-S17)","v":0},0,0,0,0,null,null,0,0,0,0,null,null,"",null,null,"",null,null,""]
[{"$f":"Einstellungen!$L$3","v":""},null,{"$f":"Einstellungen!$N$3","v":"Beschäftigungsumfang"},null,null,null,null,null,null,null,null,null,null,null,null,null,null,null,null,null,null,{"$f":"INT((60*SUM(V11:V17)+SUM(W11:W17)-W18)/60)","v":0},{"$f":"INT(60*SUM(V11:V17)+SUM(W11:W17)-60*INT((60*SUM(V11:V17)+SUM(W11:W17))/60))","v":0},{"$f":"INT((60*SUM(X11:X17)+SUM(Y11:Y17)-Y18)/60)","v":0},{"$f":"INT(60*SUM(X11:X17)+SUM(Y11:Y17)-60*INT((60*SUM(X11:X17)+SUM(Y11:Y17))/60))","v":0},{"$f":"INT((60*SUM(Z11:Z17)+SUM(AA11:AA17)-AA18)/60)","v":0},{"$f":"INT(60*SUM(Z11:Z17)+SUM(AA11:AA17)-60*INT((60*SUM(Z11:Z17)+SUM(AA11:AA17))/60))","v":0},{"$f":"INT((60*SUM(AB11:AB17)+SUM(AC11:AC17)-AC18)/60)","v":0},{"$f":"INT(60*SUM(AB11:AB17)+SUM(AC11:AC17)-60*INT((60*SUM(AB11:AB17)+SUM(AC11:AC17))/60))","v":0},{"$f":"INT((60*SUM(AD11:AD17)+SUM(AE11:AE17)-AE18)/60)","v":0},{"$f":"INT(60*SUM(AD11:AD17)+SUM(AE11:AE17)-60*INT((60*SUM(AD11:AD17)+SUM(AE11:AE17))/60))","v":0},{"$f":"INT((60*SUM(AF11:AF17)+SUM(AG11:AG17)-AG18)/60)","v":0},{"$f":"INT(60*SUM(AF11:AF17)+SUM(AG11:AG17)-60*INT((60*SUM(AF11:AF17)+SUM(AG11:AG17))/60))","v":0},{"$f":"INT((60*SUM(AH11:AH17)+SUM(AI11:AI17)-AI18)/60)","v":0},{"$f":"INT(60*SUM(AH11:AH17)+SUM(AI11:AI17)-60*INT((60*SUM(AH11:AH17)+SUM(AI11:AI17))/60))","v":0},null,{"$f":"INT((60*SUM(AK11:AK17)+SUM(AL11:AL17)-AL18)/60)","v":0},{"$f":"INT(60*SUM(AK11:AK17)+SUM(AL11:AL17)-60*INT((60*SUM(AK11:AK17)+SUM(AL11:AL17))/60))","v":0},null,{"$f":"INT((60*SUM(AN11:AN17)+SUM(AO11:AO17)-AO18)/60)","v":0},{"$f":"INT(60*SUM(AN11:AN17)+SUM(AO11:AO17)-60*INT((60*SUM(AN11:AN17)+SUM(AO11:AO17))/60))","v":0},null,{"$f":"INT((60*SUM(AQ11:AQ17)+SUM(AR11:AR17)-AR18)/60)","v":0},{"$f":"INT(60*SUM(AQ11:AQ17)+SUM(AR11:AR17)-60*INT((60*SUM(AQ11:AQ17)+SUM(AR11:AR17))/60))","v":0},{"$f":"INT((60*SUM(AS11:AS17)+SUM(AT11:AT17)-AT18)/60)","v":0},{"$f":"INT(60*SUM(AS11:AS17)+SUM(AT11:AT17)-60*INT((60*SUM(AS11:AS17)+SUM(AT11:AT17))/60))","v":0},{"$f":"INT((60*SUM(AU11:AU17)+SUM(AV11:AV17)-AV18)/60)","v":0},{"$f":"INT(60*SUM(AU11:AU17)+SUM(AV11:AV17)-60*INT((60*SUM(AU11:AU17)+SUM(AV11:AV17))/60))","v":0},{"$f":"INT((60*SUM(AW11:AW17)+SUM(AX11:AX17)-AX18)/60)","v":0},{"$f":"INT(60*SUM(AW11:AW17)+SUM(AX11:AX17)-60*INT((60*SUM(AW11:AW17)+SUM(AX11:AX17))/60))","v":0},{"$f":"INT((60*SUM(AY11:AY17)+SUM(AZ11:AZ17)-AZ18)/60)","v":0},{"$f":"INT(60*SUM(AY11:AY17)+SUM(AZ11:AZ17)-60*INT((60*SUM(AY11:AY17)+SUM(AZ11:AZ17))/60))","v":0},{"$f":"INT((60*SUM(BA11:BA17)+SUM(BB11:BB17)-BB18)/60)","v":0},{"$f":"INT(60*SUM(BA11:BA17)+SUM(BB11:BB17)-60*INT((60*SUM(BA11:BA17)+SUM(BB11:BB17))/60))","v":0},{"$f":"INT((60*SUM(BC11:BC17)+SUM(BD11:BD17)-BD18)/60)","v":0},{"$f":"INT(60*SUM(BC11:BC17)+SUM(BD11:BD17)-60*INT((60*SUM(BC11:BC17)+SUM(BD11:BD17))/60))","v":0},{"$f":"INT((60*SUM(BE11:BE17)+SUM(BF11:BF17)-BF18)/60)","v":0},{"$f":"INT(60*SUM(BE11:BE17)+SUM(BF11:BF17)-60*INT((60*SUM(BE11:BE17)+SUM(BF11:BF17))/60))","v":0},{"$f":"INT((60*SUM(BG11:BG17)+SUM(BH11:BH17)-BH18)/60)","v":0},{"$f":"INT(60*SUM(BG11:BG17)+SUM(BH11:BH17)-60*INT((60*SUM(BG11:BG17)+SUM(BH11:BH17))/60))","v":0}]
[]
[{"$f":"Einstellungen!$L$4","v":"5 Tage-Woche"},null,{"$f":"Einstellungen!$N$4","v":1},{"$f":"Einstellungen!$O$4","v":0.75},null,{"$f":"Einstellungen!$Q$4","v":0.5},{"$f":"IF(AND(E11>0,I20<>\"\",U20<>\"f\"),F11,0)","v":1},{"$f":"IF(AND(I20<>\"\",U20<>\"f\"),1,0)","v":1},{"$f":"I17+1","v":"2026-07-06"},"Mo",null,null,null,null,{"$f":"HOUR(N20-K20-(M20-L20))","v":0},{"$f":"MINUTE(N20-K20-(M20-L20))","v":0},null,null,null,null,null,{"$f":"IF(OR(U20=\"U\",U20=\"k\",U20=\"B\"),$C$11,IF(S20>P20,O20-1-R20,O20-R20))","v":0},{"$f":"IF(OR(U20=\"U\",U20=\"k\",U20=\"B\"),$D$11,IF(S20>P20,P20+60-S20,P20-S20))","v":0},{"$f":"IF(OR(U20=\"U\",U20=\"K\",U20=\"B\"),0,V20)","v":0},{"$f":"IF(OR(U20=\"U\",U20=\"K\",U20=\"B\"),0,W20)","v":0},{"$f":"INT(((SUM(AB20,AH20,AK20,AN20,AQ20,AS20,AU20,AW20,AY20,BA20,BC20,BE20,BG20)*100)+(SUM(AC20,AI20,AL20,AO20,AR20,AT20,AV20,AX20,AZ20,BB20,BD20,BF20,BH20)/60*100))/100)","v":0},{"$f":"MOD(((SUM(AC20,AI20,AL20,AO20,AR20,AT20,AV20,AX20,AZ20,BB20,BD20,BF20,BH20)*100)+(SUM(AC20,AI20,AL20,AO20,AR20,AT20,AV20,AX20,AZ20,BB20,BD20,BF20,BH20)/60*100))/100,1)*60","v":0},null,null,{"$f":"INT(((SUM(AH20,AK20,AN20)*100)+SUM(AI20,AL20,AO20)/60*100)/100)","v":0},{"$f":"MOD(((SUM(AI20,AL20,AO20)*100)+(SUM(AI20,AL20,AO20)/60*100))/100,1)*60","v":0},{"$f":"INT(((SUM(AQ20+AS20+AU20+AW20+AY20+BA20+BC20+BE20+BG20)*100)+SUM(AR20+AT20+AV20+AX20+AZ20+BB20+BD20+BF20+BH20)/60*100)/100)","v":0},{"$f":"MOD(((SUM(AR20+AT20+AV20+AX20+AZ20+BB20+BD20+BF20+BH20)*100)+(SUM(AR20+AT20+AV20+AX20+AZ20+BB20+BD20+BF20+BH20)/60*100))/100,1)*60","v":0},null,null,"",null,null,"",null,null,""]
[{"$f":"Einstellungen!$L$5","v":""},null," "," ",null," ",{"$f":"IF(AND(E12>0,I21<>\"\",U21<>\"f\"),F12,0)","v":1},{"$f":"IF(AND(I21<>\"\",U21<>\"f\"),1,0)","v":1},{"$f":"I20+1","v":"2026-07-07"},"Di",null,null,null,null,0,0,null,null,null,null,null,{"$f":"IF(OR(U21=\"U\",U21=\"k\",U21=\"B\"),$C$12,IF(S21>P21,O21-1-R21,O21-R21))","v":0},{"$f":"IF(OR(U21=\"U\",U21=\"k\",U21=\"B\"),$D$12,IF(S21>P21,P21+60-S21,P21-S21))","v":0},0,0,0,0,null,null,0,0,0,0,null,null,"",null,null,"",null,null,""]
[{"$f":"Einstellungen!$L$6","v":"tägliche Regel-"},null," "," ",null," ",{"$f":"IF(AND(E13>0,I22<>\"\",U22<>\"f\"),F13,0)","v":1},{"$f":"IF(AND(I22<>\"\",U22<>\"f\"),1,0)","v":1},{"$f":"I21+1","v":"2026-07-08"},"Mi",null,null,null,null,0,0,null,null,null,null,null,{"$f":"IF(OR(U22=\"U\",U22=\"k\",U22=\"B\"),$C$13,IF(S22>P22,O22-1-R22,O22-R22))","v":0},{"$f":"IF(OR(U22=\"U\",U22=\"k\",U22=\"B\"),$D$13,IF(S22>P22,P22+60-S22,P22-S22))","v":0},0,0,0,0,null,null,0,0,0,0,null,null,"",null,null,"",null,null,""]
[{"$f":"Einstellungen!$L$7","v":"arbeitszeit für"},null,null,null,null,null,{"$f":"IF(AND(E14>0,I23<>\"\",U23<>\"f\"),F14,0)","v":1},{"$f":"IF(AND(I23<>\"\",U23<>\"f\"),1,0)","v":1},"2026-07-09","Do",null,null,null,null,0,0,null,null,null,null,null,{"$f":"IF(OR(U23=\"U\",U23=\"k\",U23=\"B\"),$C$14,IF(S23>P23,O23-1-R23,O23-R23))","v":0},{"$f":"IF(OR(U23=\"U\",U23=\"k\",U23=\"B\"),$D$14,IF(S23>P23,P23+60-S23,P23-S23))","v":0},0,0,0,0,null,null,0,0,0,0,null,null,"",null,null,"",null,null,""]
[{"$f":"Einstellungen!$L$8","v":"Wochenfeier-"},null,null,null,null,null,{"$f":"IF(AND(E15>0,I24<>\"\",U24<>\"f\"),F15,0)","v":1},{"$f":"IF(AND(I24<>\"\",U24<>\"f\"),1,0)","v":1},"2026-07-10","Fr",null,null,null,null,0,0,null,null,null,null,null,{"$f":"IF(OR(U24=\"U\",U24=\"k\",U24=\"B\"),$C$15,IF(S24>P24,O24-1-R24,O24-R24))","v":0},{"$f":"IF(OR(U24=\"U\",U24=\"k\",U24=\"B\"),$D$15,IF(S24>P24,P24+60-S24,P24-S24))","v":0},0,0,0,0,null,null,0,0,0,0,null,null,"",null,null,"",null,null,""]
[{"$f":"Einstellungen!$L$9","v":"tage, bei Urlaub"},null,null,null,null,null,null,null,"2026-07-11","Sa",null,null,null,null,0,0,null,null,null,"nur dienstl. Sonderfälle!*",null,{"$f":"IF(S25>P25,O25-1-R25,O25-R25)","v":0},{"$f":"IF(S25>P25,P25+60-S25,P25-S25)","v":0},0,0,0,0,null,null,0,0,0,0,null,null,"",null,null,"",null,null,""]
[{"$f":"Einstellungen!$L$10","v":"oder Krankheit"},null,null,null,null,null,null,null,"2026-07-12","So",null,null,null,null,0,0,null,null,null,"nur dienstl. Sonderfälle!*",null,{"$f":"IF(S26>P26,O26-1-R26,O26-R26)","v":0},{"$f":"IF(S26>P26,P26+60-S26,P26-S26)","v":0},0,0,0,0,null,null,0,0,0,0,null,null,"",null,null,"",null,null,""]
[{"$f":"Einstellungen!$L$11","v":"Mo-Fr  "},{"$f":"Einstellungen!$M$11","v":"Std.Min"},{"$f":"Einstellungen!$N$11","v":" 7.54"},{"$f":"Einstellungen!$O$11","v":" 5.56"},null,{"$f":"Einstellungen!$Q$11","v":" 3.57"},null,null,null,null,null,null,null,null,null,null,null,null,null,null,null,{"$f":"INT((60*SUM(V20:V26)+SUM(W20:W26)-W27)/60)","v":0},{"$f":"INT(60*SUM(V20:V26)+SUM(W20:W26)-60*INT((60*SUM(V20:V26)+SUM(W20:W26))/60))","v":0},{"$f":"INT((60*SUM(X20:X26)+SUM(Y20:Y26)-Y27)/60)","v":0},{"$f":"INT(60*SUM(X20:X26)+SUM(Y20:Y26)-60*INT((60*SUM(X20:X26)+SUM(Y20:Y26))/60))","v":0},{"$f":"INT((60*SUM(Z20:Z26)+SUM(AA20:AA26)-AA27)/60)","v":0},{"$f":"INT(60*SUM(Z20:Z26)+SUM(AA20:AA26)-60*INT((60*SUM(Z20:Z26)+SUM(AA20:AA26))/60))","v":0},{"$f":"INT((60*SUM(AB20:AB26)+SUM(AC20:AC26)-AC27)/60)","v":0},{"$f":"INT(60*SUM(AB20:AB26)+SUM(AC20:AC26)-60*INT((60*SUM(AB20:AB26)+SUM(AC20:AC26))/60))","v":0},{"$f":"INT((60*SUM(AD20:AD26)+SUM(AE20:AE26)-AE27)/60)","v":0},{"$f":"INT(60*SUM(AD20:AD26)+SUM(AE20:AE26)-60*INT((60*SUM(AD20:AD26)+SUM(AE20:AE26))/60))","v":0},{"$f":"INT((60*SUM(AF20:AF26)+SUM(AG20:AG26)-AG27)/60)","v":0},{"$f":"INT(60*SUM(AF20:AF26)+SUM(AG20:AG26)-60*INT((60*SUM(AF20:AF26)+SUM(AG20:AG26))/60))","v":0},{"$f":"INT((60*SUM(AH20:AH26)+SUM(AI20:AI26)-AI27)/60)","v":0},{"$f":"INT(60*SUM(AH20:AH26)+SUM(AI20:AI26)-60*INT((60*SUM(AH20:AH26)+SUM(AI20:AI26))/60))","v":0},null,{"$f":"INT((60*SUM(AK20:AK26)+SUM(AL20:AL26)-AL27)/60)","v":0},{"$f":"INT(60*SUM(AK20:AK26)+SUM(AL20:AL26)-60*INT((60*SUM(AK20:AK26)+SUM(AL20:AL26))/60))","v":0},null,{"$f":"INT((60*SUM(AN20:AN26)+SUM(AO20:AO26)-AO27)/60)","v":0},{"$f":"INT(60*SUM(AN20:AN26)+SUM(AO20:AO26)-60*INT((60*SUM(AN20:AN26)+SUM(AO20:AO26))/60))","v":0},null,{"$f":"INT((60*SUM(AQ20:AQ26)+SUM(AR20:AR26)-AR27)/60)","v":0},{"$f":"INT(60*SUM(AQ20:AQ26)+SUM(AR20:AR26)-60*INT((60*SUM(AQ20:AQ26)+SUM(AR20:AR26))/60))","v":0},{"$f":"INT((60*SUM(AS20:AS26)+SUM(AT20:AT26)-AT27)/60)","v":0},{"$f":"INT(60*SUM(AS20:AS26)+SUM(AT20:AT26)-60*INT((60*SUM(AS20:AS26)+SUM(AT20:AT26))/60))","v":0},{"$f":"INT((60*SUM(AU20:AU26)+SUM(AV20:AV26)-AV27)/60)","v":0},{"$f":"INT(60*SUM(AU20:AU26)+SUM(AV20:AV26)-60*INT((60*SUM(AU20:AU26)+SUM(AV20:AV26))/60))","v":0},{"$f":"INT((60*SUM(AW20:AW26)+SUM(AX20:AX26)-AX27)/60)","v":0},{"$f":"INT(60*SUM(AW20:AW26)+SUM(AX20:AX26)-60*INT((60*SUM(AW20:AW26)+SUM(AX20:AX26))/60))","v":0},{"$f":"INT((60*SUM(AY20:AY26)+SUM(AZ20:AZ26)-AZ27)/60)","v":0},{"$f":"INT(60*SUM(AY20:AY26)+SUM(AZ20:AZ26)-60*INT((60*SUM(AY20:AY26)+SUM(AZ20:AZ26))/60))","v":0},{"$f":"INT((60*SUM(BA20:BA26)+SUM(BB20:BB26)-BB27)/60)","v":0},{"$f":"INT(60*SUM(BA20:BA26)+SUM(BB20:BB26)-60*INT((60*SUM(BA20:BA26)+SUM(BB20:BB26))/60))","v":0},{"$f":"INT((60*SUM(BC20:BC26)+SUM(BD20:BD26)-BD27)/60)","v":0},{"$f":"INT(60*SUM(BC20:BC26)+SUM(BD20:BD26)-60*INT((60*SUM(BC20:BC26)+SUM(BD20:BD26))/60))","v":0},{"$f":"INT((60*SUM(BE20:BE26)+SUM(BF20:BF26)-BF27)/60)","v":0},{"$f":"INT(60*SUM(BE20:BE26)+SUM(BF20:BF26)-60*INT((60*SUM(BE20:BE26)+SUM(BF20:BF26))/60))","v":0},{"$f":"INT((60*SUM(BG20:BG26)+SUM(BH20:BH26)-BH27)/60)","v":0},{"$f":"INT(60*SUM(BG20:BG26)+SUM(BH20:BH26)-60*INT((60*SUM(BG20:BG26)+SUM(BH20:BH26))/60))","v":0}]
[" "," "," "," ",null," "]
[{"$f":"Einstellungen!$L$13","v":"Wochen"},null," "," ",null," ",{"$f":"IF(AND(E11>0,I29<>\"\",U29<>\"f\"),F11,0)","v":1},{"$f":"IF(AND(I29<>\"\",U29<>\"f\"),1,0)","v":1},{"$f":"I26+1","v":"2026-07-13"},"Mo",null,null,null,null,{"$f":"HOUR(N29-K29-(M29-L29))","v":0},{"$f":"MINUTE(N29-K29-(M29-L29))","v":0},null,null,null,null,null,{"$f":"IF(OR(U29=\"U\",U29=\"k\",U29=\"B\"),$C$11,IF(S29>P29,O29-1-R29,O29-R29))","v":0},{"$f":"IF(OR(U29=\"U\",U29=\"k\",U29=\"B\"),$D$11,IF(S29>P29,P29+60-S29,P29-S29))","v":0},{"$f":"IF(OR(U29=\"U\",U29=\"K\",U29=\"B\"),0,V29)","v":0},{"$f":"IF(OR(U29=\"U\",U29=\"K\",U29=\"B\"),0,W29)","v":0},{"$f":"INT(((SUM(AB29,AH29,AK29,AN29,AQ29,AS29,AU29,AW29,AY29,BA29,BC29,BE29,BG29)*100)+(SUM(AC29,AI29,AL29,AO29,AR29,AT29,AV29,AX29,AZ29,BB29,BD29,BF29,BH29)/60*100))/100)","v":0},{"$f":"MOD(((SUM(AC29,AI29,AL29,AO29,AR29,AT29,AV29,AX29,AZ29,BB29,BD29,BF29,BH29)*100)+(SUM(AC29,AI29,AL29,AO29,AR29,AT29,AV29,AX29,AZ29,BB29,BD29,BF29,BH29)/60*100))/100,1)*60","v":0},null,null,{"$f":"INT(((SUM(AH29,AK29,AN29)*100)+SUM(AI29,AL29,AO29)/60*100)/100)","v":0},{"$f":"MOD(((SUM(AI29,AL29,AO29)*100)+(SUM(AI29,AL29,AO29)/60*100))/100,1)*60","v":0},{"$f":"INT(((SUM(AQ29+AS29+AU29+AW29+AY29+BA29+BC29+BE29+BG29)*100)+SUM(AR29+AT29+AV29+AX29+AZ29+BB29+BD29+BF29+BH29)/60*100)/100)","v":0},{"$f":"MOD(((SUM(AR29+AT29+AV29+AX29+AZ29+BB29+BD29+BF29+BH29)*100)+(SUM(AR29+AT29+AV29+AX29+AZ29+BB29+BD29+BF29+BH29)/60*100))/100,1)*60","v":0},null,null,"",null,null,"",null,null,""]
[{"$f":"CONCATENATE(Einstellungen!$L$14,\" \",Einstellungen!$M$14)","v":"Arbeitzeit Std.Min"},null,{"$f":"Einstellungen!$N$14","v":"39.30"},{"$f":"Einstellungen!$O$14","v":"29.38"},null,{"$f":"Einstellungen!$Q$14","v":"19.45"},{"$f":"IF(AND(E12>0,I30<>\"\",U30<>\"f\"),F12,0)","v":1},{"$f":"IF(AND(I30<>\"\",U30<>\"f\"),1,0)","v":1},{"$f":"I29+1","v":"2026-07-14"},"Di",null,null,null,null,0,0,null,null,null,null,null,{"$f":"IF(OR(U30=\"U\",U30=\"k\",U30=\"B\"),$C$12,IF(S30>P30,O30-1-R30,O30-R30))","v":0},{"$f":"IF(OR(U30=\"U\",U30=\"k\",U30=\"B\"),$D$12,IF(S30>P30,P30+60-S30,P30-S30))","v":0},0,0,0,0,null,null,0,0,0,0,null,null,"",null,null,"",null,null,""]
[{"$f":"Einstellungen!$L$15","v":"max.Übertrag auf das"},null,null," ",null," ",{"$f":"IF(AND(E13>0,I31<>\"\",U31<>\"f\"),F13,0)","v":1},{"$f":"IF(AND(I31<>\"\",U31<>\"f\"),1,0)","v":1},{"$f":"I30+1","v":"2026-07-15"},"Mi",null,null,null,null,0,0,null,null,null,null,null,{"$f":"IF(OR(U31=\"U\",U31=\"k\",U31=\"B\"),$C$13,IF(S31>P31,O31-1-R31,O31-R31))","v":0},{"$f":"IF(OR(U31=\"U\",U31=\"k\",U31=\"B\"),$D$13,IF(S31>P31,P31+60-S31,P31-S31))","v":0},0,0,0,0,null,null,0,0,0,0,null,null,"",null,null,"",null,null,""]
[{"$f":"Einstellungen!$L$16","v":"Folgejahr Std.Min"},null,{"$f":"Einstellungen!$N$16","v":"39.30"},{"$f":"Einstellungen!$O$16","v":"39.30"},null,{"$f":"Einstellungen!$Q$16","v":"39.30"},{"$f":"IF(AND(E14>0,I32<>\"\",U32<>\"f\"),F14,0)","v":1},{"$f":"IF(AND(I32<>\"\",U32<>\"f\"),1,0)","v":1},"2026-07-16","Do",null,null,null,null,0,0,null,null,null,null,null,{"$f":"IF(OR(U32=\"U\",U32=\"k\",U32=\"B\"),$C$14,IF(S32>P32,O32-1-R32,O32-R32))","v":0},{"$f":"IF(OR(U32=\"U\",U32=\"k\",U32=\"B\"),$D$14,IF(S32>P32,P32+60-S32,P32-S32))","v":0},0,0,0,0,null,null,0,0,0,0,null,null,"",null,null,"",null,null,""]
[{"$f":"Einstellungen!$L$17","v":"II Beschäftigte mit 41 Std-Woche"},null,null,null,null,null,{"$f":"IF(AND(E15>0,I33<>\"\",U33<>\"f\"),F15,0)","v":1},{"$f":"IF(AND(I33<>\"\",U33<>\"f\"),1,0)","v":1},"2026-07-17","Fr",null,null,null,null,0,0,null,null,null,null,null,{"$f":"IF(OR(U33=\"U\",U33=\"k\",U33=\"B\"),$C$15,IF(S33>P33,O33-1-R33,O33-R33))","v":0},{"$f":"IF(OR(U33=\"U\",U33=\"k\",U33=\"B\"),$D$15,IF(S33>P33,P33+60-S33,P33-S33))","v":0},0,0,0,0,null,null,0,0,0,0,null,null,"",null,null,"",null,null,""]
[{"$f":"Einstellungen!$L$18","v":"tägliche Arbeitszeit"},null,null,null,null,null,null,null,"2026-07-18","Sa",null,null,null,null,0,0,null,null,null,"nur dienstl. Sonderfälle!*",null,{"$f":"IF(S34>P34,O34-1-R34,O34-R34)","v":0},{"$f":"IF(S34>P34,P34+60-S34,P34-S34)","v":0},0,0,0,0,null,null,0,0,0,0,null,null,"",null,null,"",null,null,""]
[{"$f":"Einstellungen!$L$19","v":"Mo-Fr  "},{"$f":"Einstellungen!$M$19","v":"Std.Min"},{"$f":"Einstellungen!$N$19","v":"8.12"},{"$f":"Einstellungen!$O$19","v":"6.09"},null,{"$f":"Einstellungen!$Q$19","v":"4.06"},null,null,"2026-07-19","So",null,null,null,null,0,0,null,null,null,"nur dienstl. Sonderfälle!*",null,{"$f":"IF(S35>P35,O35-1-R35,O35-R35)","v":0},{"$f":"IF(S35>P35,P35+60-S35,P35-S35)","v":0},0,0,0,0,null,null,0,0,0,0,null,null,"",null,null,"",null,null,""]
[{"$f":"Einstellungen!$L$20","v":"Wochen"},null," "," ",null," ",null,null,null,null,null,null,null,null,null,null,null,null,null,null,null,{"$f":"INT((60*SUM(V29:V35)+SUM(W29:W35)-W36)/60)","v":0},{"$f":"INT(60*SUM(V29:V35)+SUM(W29:W35)-60*INT((60*SUM(V29:V35)+SUM(W29:W35))/60))","v":0},{"$f":"INT((60*SUM(X29:X35)+SUM(Y29:Y35)-Y36)/60)","v":0},{"$f":"INT(60*SUM(X29:X35)+SUM(Y29:Y35)-60*INT((60*SUM(X29:X35)+SUM(Y29:Y35))/60))","v":0},{"$f":"INT((60*SUM(Z29:Z35)+SUM(AA29:AA35)-AA36)/60)","v":0},{"$f":"INT(60*SUM(Z29:Z35)+SUM(AA29:AA35)-60*INT((60*SUM(Z29:Z35)+SUM(AA29:AA35))/60))","v":0},{"$f":"INT((60*SUM(AB29:AB35)+SUM(AC29:AC35)-AC36)/60)","v":0},{"$f":"INT(60*SUM(AB29:AB35)+SUM(AC29:AC35)-60*INT((60*SUM(AB29:AB35)+SUM(AC29:AC35))/60))","v":0},{"$f":"INT((60*SUM(AD29:AD35)+SUM(AE29:AE35)-AE36)/60)","v":0},{"$f":"INT(60*SUM(AD29:AD35)+SUM(AE29:AE35)-60*INT((60*SUM(AD29:AD35)+SUM(AE29:AE35))/60))","v":0},{"$f":"INT((60*SUM(AF29:AF35)+SUM(AG29:AG35)-AG36)/60)","v":0},{"$f":"INT(60*SUM(AF29:AF35)+SUM(AG29:AG35)-60*INT((60*SUM(AF29:AF35)+SUM(AG29:AG35))/60))","v":0},{"$f":"INT((60*SUM(AH29:AH35)+SUM(AI29:AI35)-AI36)/60)","v":0},{"$f":"INT(60*SUM(AH29:AH35)+SUM(AI29:AI35)-60*INT((60*SUM(AH29:AH35)+SUM(AI29:AI35))/60))","v":0},null,{"$f":"INT((60*SUM(AK29:AK35)+SUM(AL29:AL35)-AL36)/60)","v":0},{"$f":"INT(60*SUM(AK29:AK35)+SUM(AL29:AL35)-60*INT((60*SUM(AK29:AK35)+SUM(AL29:AL35))/60))","v":0},null,{"$f":"INT((60*SUM(AN29:AN35)+SUM(AO29:AO35)-AO36)/60)","v":0},{"$f":"INT(60*SUM(AN29:AN35)+SUM(AO29:AO35)-60*INT((60*SUM(AN29:AN35)+SUM(AO29:AO35))/60))","v":0},null,{"$f":"INT((60*SUM(AQ29:AQ35)+SUM(AR29:AR35)-AR36)/60)","v":0},{"$f":"INT(60*SUM(AQ29:AQ35)+SUM(AR29:AR35)-60*INT((60*SUM(AQ29:AQ35)+SUM(AR29:AR35))/60))","v":0},{"$f":"INT((60*SUM(AS29:AS35)+SUM(AT29:AT35)-AT36)/60)","v":0},{"$f":"INT(60*SUM(AS29:AS35)+SUM(AT29:AT35)-60*INT((60*SUM(AS29:AS35)+SUM(AT29:AT35))/60))","v":0},{"$f":"INT((60*SUM(AU29:AU35)+SUM(AV29:AV35)-AV36)/60)","v":0},{"$f":"INT(60*SUM(AU29:AU35)+SUM(AV29:AV35)-60*INT((60*SUM(AU29:AU35)+SUM(AV29:AV35))/60))","v":0},{"$f":"INT((60*SUM(AW29:AW35)+SUM(AX29:AX35)-AX36)/60)","v":0},{"$f":"INT(60*SUM(AW29:AW35)+SUM(AX29:AX35)-60*INT((60*SUM(AW29:AW35)+SUM(AX29:AX35))/60))","v":0},{"$f":"INT((60*SUM(AY29:AY35)+SUM(AZ29:AZ35)-AZ36)/60)","v":0},{"$f":"INT(60*SUM(AY29:AY35)+SUM(AZ29:AZ35)-60*INT((60*SUM(AY29:AY35)+SUM(AZ29:AZ35))/60))","v":0},{"$f":"INT((60*SUM(BA29:BA35)+SUM(BB29:BB35)-BB36)/60)","v":0},{"$f":"INT(60*SUM(BA29:BA35)+SUM(BB29:BB35)-60*INT((60*SUM(BA29:BA35)+SUM(BB29:BB35))/60))","v":0},{"$f":"INT((60*SUM(BC29:BC35)+SUM(BD29:BD35)-BD36)/60)","v":0},{"$f":"INT(60*SUM(BC29:BC35)+SUM(BD29:BD35)-60*INT((60*SUM(BC29:BC35)+SUM(BD29:BD35))/60))","v":0},{"$f":"INT((60*SUM(BE29:BE35)+SUM(BF29:BF35)-BF36)/60)","v":0},{"$f":"INT(60*SUM(BE29:BE35)+SUM(BF29:BF35)-60*INT((60*SUM(BE29:BE35)+SUM(BF29:BF35))/60))","v":0},{"$f":"INT((60*SUM(BG29:BG35)+SUM(BH29:BH35)-BH36)/60)","v":0},{"$f":"INT(60*SUM(BG29:BG35)+SUM(BH29:BH35)-60*INT((60*SUM(BG29:BG35)+SUM(BH29:BH35))/60))","v":0}]
[]
[{"$f":"CONCATENATE(Einstellungen!$L$21,\" \",Einstellungen!$M$21)","v":"Arbeitzeit Std.Min"},null,{"$f":"Einstellungen!$N$21","v":"41.00"},{"$f":"Einstellungen!$O$21","v":"30.45"},null,{"$f":"Einstellungen!$Q$21","v":"20.30"},{"$f":"IF(AND(E11>0,I38<>\"\",U38<>\"f\"),F11,0)","v":1},{"$f":"IF(AND(I38<>\"\",U38<>\"f\"),1,0)","v":1},{"$f":"IF(I35<>\"\",IF(MONTH(I35)=MONTH(I35+1),I35+1,\"\"),\"\")","v":"2026-07-20"},"Mo",null,null,null,null,{"$f":"HOUR(N38-K38-(M38-L38))","v":0},{"$f":"MINUTE(N38-K38-(M38-L38))","v":0},null,null,null,null,null,{"$f":"IF(OR(U38=\"U\",U38=\"k\",U38=\"B\"),$C$11,IF(S38>P38,O38-1-R38,O38-R38))","v":0},{"$f":"IF(OR(U38=\"U\",U38=\"k\",U38=\"B\"),$D$11,IF(S38>P38,P38+60-S38,P38-S38))","v":0},{"$f":"IF(OR(U38=\"U\",U38=\"K\",U38=\"B\"),0,V38)","v":0},{"$f":"IF(OR(U38=\"U\",U38=\"K\",U38=\"B\"),0,W38)","v":0},{"$f":"INT(((SUM(AB38,AH38,AK38,AN38,AQ38,AS38,AU38,AW38,AY38,BA38,BC38,BE38,BG38)*100)+(SUM(AC38,AI38,AL38,AO38,AR38,AT38,AV38,AX38,AZ38,BB38,BD38,BF38,BH38)/60*100))/100)","v":0},{"$f":"MOD(((SUM(AC38,AI38,AL38,AO38,AR38,AT38,AV38,AX38,AZ38,BB38,BD38,BF38,BH38)*100)+(SUM(AC38,AI38,AL38,AO38,AR38,AT38,AV38,AX38,AZ38,BB38,BD38,BF38,BH38)/60*100))/100,1)*60","v":0},null,null,{"$f":"INT(((SUM(AH38,AK38,AN38)*100)+SUM(AI38,AL38,AO38)/60*100)/100)","v":0},{"$f":"MOD(((SUM(AI38,AL38,AO38)*100)+(SUM(AI38,AL38,AO38)/60*100))/100,1)*60","v":0},{"$f":"INT(((SUM(AQ38+AS38+AU38+AW38+AY38+BA38+BC38+BE38+BG38)*100)+SUM(AR38+AT38+AV38+AX38+AZ38+BB38+BD38+BF38+BH38)/60*100)/100)","v":0},{"$f":"MOD(((SUM(AR38+AT38+AV38+AX38+AZ38+BB38+BD38+BF38+BH38)*100)+(SUM(AR38+AT38+AV38+AX38+AZ38+BB38+BD38+BF38+BH38)/60*100))/100,1)*60","v":0},null,null,"",null,null,"",null,null,""]
[{"$f":"Einstellungen!$L$22","v":"max.Übertrag auf das"},null,null," "," "," ",{"$f":"IF(AND(E12>0,I39<>\"\",U39<>\"f\"),F12,0)","v":1},{"$f":"IF(AND(I39<>\"\",U39<>\"f\"),1,0)","v":1},{"$f":"IF(I38<>\"\",IF(MONTH(I38)=MONTH(I38+1),I38+1,\"\"),\"\")","v":"2026-07-21"},"Di",null,null,null,null,0,0,null,null,null,null,null,{"$f":"IF(OR(U39=\"U\",U39=\"k\",U39=\"B\"),$C$12,IF(S39>P39,O39-1-R39,O39-R39))","v":0},{"$f":"IF(OR(U39=\"U\",U39=\"k\",U39=\"B\"),$D$12,IF(S39>P39,P39+60-S39,P39-S39))","v":0},0,0,0,0,null,null,0,0,0,0,null,null,"",null,null,"",null,null,""]
[{"$f":"Einstellungen!$L$23","v":"Folgejahr Std.Min"},null,{"$f":"Einstellungen!$N$23","v":"41.00"},{"$f":"Einstellungen!$O$23","v":"41.00"}," ",{"$f":"Einstellungen!$Q$23","v":"41.00"},{"$f":"IF(AND(E13>0,I40<>\"\",U40<>\"f\"),F13,0)","v":1},{"$f":"IF(AND(I40<>\"\",U40<>\"f\"),1,0)","v":1},{"$f":"IF(I39<>\"\",IF(MONTH(I39)=MONTH(I39+1),I39+1,\"\"),\"\")","v":"2026-07-22"},"Mi",null,null,null,null,0,0,null,null,null,null,null,{"$f":"IF(OR(U40=\"U\",U40=\"k\",U40=\"B\"),$C$13,IF(S40>P40,O40-1-R40,O40-R40))","v":0},{"$f":"IF(OR(U40=\"U\",U40=\"k\",U40=\"B\"),$D$13,IF(S40>P40,P40+60-S40,P40-S40))","v":0},0,0,0,0,null,null,0,0,0,0,null,null,"",null,null,"",null,null,""]
[{"$f":"Einstellungen!$L$24","v":"Kernarbeitszeit:"},null,{"$f":"Einstellungen!$N$24","v":"Mo-Do"},{"$f":"Einstellungen!$O$24","v":"9:00 - 14:30 Uhr"},null,null,{"$f":"IF(AND(E14>0,I41<>\"\",U41<>\"f\"),F14,0)","v":1},{"$f":"IF(AND(I41<>\"\",U41<>\"f\"),1,0)","v":1},"2026-07-23","Do",null,null,null,null,0,0,null,null,null,null,null,{"$f":"IF(OR(U41=\"U\",U41=\"k\",U41=\"B\"),$C$14,IF(S41>P41,O41-1-R41,O41-R41))","v":0},{"$f":"IF(OR(U41=\"U\",U41=\"k\",U41=\"B\"),$D$14,IF(S41>P41,P41+60-S41,P41-S41))","v":0},0,0,0,0,null,null,0,0,0,0,null,null,"",null,null,"",null,null,""]
[{"$f":"Einstellungen!$L$25","v":""},{"$f":"Einstellungen!$M$25","v":""},{"$f":"Einstellungen!$N$25","v":"Fr"},{"$f":"Einstellungen!$O$25","v":"9:00 - 12:00 Uhr"},null,null,{"$f":"IF(AND(E15>0,I42<>\"\",U42<>\"f\"),F15,0)","v":1},{"$f":"IF(AND(I42<>\"\",U42<>\"f\"),1,0)","v":1},"2026-07-24","Fr",null,null,null,null,0,0,null,null,null,null,null,{"$f":"IF(OR(U42=\"U\",U42=\"k\",U42=\"B\"),$C$15,IF(S42>P42,O42-1-R42,O42-R42))","v":0},{"$f":"IF(OR(U42=\"U\",U42=\"k\",U42=\"B\"),$D$15,IF(S42>P42,P42+60-S42,P42-S42))","v":0},0,0,0,0,null,null,0,0,0,0,null,null,"",null,null,"",null,null,""]
[{"$f":"Einstellungen!$L$26","v":"Gleitzeit:"},{"$f":"Einstellungen!$M$26","v":"frühester Beginn"},null,null,null,{"$f":"Einstellungen!$P$26","v":"6:00 Uhr"},null,null,"2026-07-25","Sa",null,null,null,null,0,0,null,null,null,"nur dienstl. Sonderfälle!*",null,{"$f":"IF(S43>P43,O43-1-R43,O43-R43)","v":0},{"$f":"IF(S43>P43,P43+60-S43,P43-S43)","v":0},0,0,0,0,null,null,0,0,0,0,null,null,"",null,null,"",null,null,""]
[{"$f":"Einstellungen!$L$27","v":""},{"$f":"Einstellungen!$M$27","v":"spätestes Ende"},null,null,null,{"$f":"Einstellungen!$P$27","v":"21:00 Uhr"},null,null,"2026-07-26","So",null,null,null,null,0,0,null,null,null,"nur dienstl. Sonderfälle!*",null,{"$f":"IF(S44>P44,O44-1-R44,O44-R44)","v":0},{"$f":"IF(S44>P44,P44+60-S44,P44-S44)","v":0},0,0,0,0,null,null,0,0,0,0,null,null,"",null,null,"",null,null,""]
[{"$f":"Einstellungen!$L$29","v":"Mittagspause zw."},null,null,{"$f":"Einstellungen!$O$29","v":"11:15 - 14:00 Uhr"},null,null,null,null,null,null,null,null,null,null,null,null,null,null,null,null,null,{"$f":"INT((60*SUM(V38:V44)+SUM(W38:W44)-W45)/60)","v":0},{"$f":"INT(60*SUM(V38:V44)+SUM(W38:W44)-60*INT((60*SUM(V38:V44)+SUM(W38:W44))/60))","v":0},{"$f":"INT((60*SUM(X38:X44)+SUM(Y38:Y44)-Y45)/60)","v":0},{"$f":"INT(60*SUM(X38:X44)+SUM(Y38:Y44)-60*INT((60*SUM(X38:X44)+SUM(Y38:Y44))/60))","v":0},{"$f":"INT((60*SUM(Z38:Z44)+SUM(AA38:AA44)-AA45)/60)","v":0},{"$f":"INT(60*SUM(Z38:Z44)+SUM(AA38:AA44)-60*INT((60*SUM(Z38:Z44)+SUM(AA38:AA44))/60))","v":0},{"$f":"INT((60*SUM(AB38:AB44)+SUM(AC38:AC44)-AC45)/60)","v":0},{"$f":"INT(60*SUM(AB38:AB44)+SUM(AC38:AC44)-60*INT((60*SUM(AB38:AB44)+SUM(AC38:AC44))/60))","v":0},{"$f":"INT((60*SUM(AD38:AD44)+SUM(AE38:AE44)-AE45)/60)","v":0},{"$f":"INT(60*SUM(AD38:AD44)+SUM(AE38:AE44)-60*INT((60*SUM(AD38:AD44)+SUM(AE38:AE44))/60))","v":0},{"$f":"INT((60*SUM(AF38:AF44)+SUM(AG38:AG44)-AG45)/60)","v":0},{"$f":"INT(60*SUM(AF38:AF44)+SUM(AG38:AG44)-60*INT((60*SUM(AF38:AF44)+SUM(AG38:AG44))/60))","v":0},{"$f":"INT((60*SUM(AH38:AH44)+SUM(AI38:AI44)-AI45)/60)","v":0},{"$f":"INT(60*SUM(AH38:AH44)+SUM(AI38:AI44)-60*INT((60*SUM(AH38:AH44)+SUM(AI38:AI44))/60))","v":0},null,{"$f":"INT((60*SUM(AK38:AK44)+SUM(AL38:AL44)-AL45)/60)","v":0},{"$f":"INT(60*SUM(AK38:AK44)+SUM(AL38:AL44)-60*INT((60*SUM(AK38:AK44)+SUM(AL38:AL44))/60))","v":0},null,{"$f":"INT((60*SUM(AN38:AN44)+SUM(AO38:AO44)-AO45)/60)","v":0},{"$f":"INT(60*SUM(AN38:AN44)+SUM(AO38:AO44)-60*INT((60*SUM(AN38:AN44)+SUM(AO38:AO44))/60))","v":0},null,{"$f":"INT((60*SUM(AQ38:AQ44)+SUM(AR38:AR44)-AR45)/60)","v":0},{"$f":"INT(60*SUM(AQ38:AQ44)+SUM(AR38:AR44)-60*INT((60*SUM(AQ38:AQ44)+SUM(AR38:AR44))/60))","v":0},{"$f":"INT((60*SUM(AS38:AS44)+SUM(AT38:AT44)-AT45)/60)","v":0},{"$f":"INT(60*SUM(AS38:AS44)+SUM(AT38:AT44)-60*INT((60*SUM(AS38:AS44)+SUM(AT38:AT44))/60))","v":0},{"$f":"INT((60*SUM(AU38:AU44)+SUM(AV38:AV44)-AV45)/60)","v":0},{"$f":"INT(60*SUM(AU38:AU44)+SUM(AV38:AV44)-60*INT((60*SUM(AU38:AU44)+SUM(AV38:AV44))/60))","v":0},{"$f":"INT((60*SUM(AW38:AW44)+SUM(AX38:AX44)-AX45)/60)","v":0},{"$f":"INT(60*SUM(AW38:AW44)+SUM(AX38:AX44)-60*INT((60*SUM(AW38:AW44)+SUM(AX38:AX44))/60))","v":0},{"$f":"INT((60*SUM(AY38:AY44)+SUM(AZ38:AZ44)-AZ45)/60)","v":0},{"$f":"INT(60*SUM(AY38:AY44)+SUM(AZ38:AZ44)-60*INT((60*SUM(AY38:AY44)+SUM(AZ38:AZ44))/60))","v":0},{"$f":"INT((60*SUM(BA38:BA44)+SUM(BB38:BB44)-BB45)/60)","v":0},{"$f":"INT(60*SUM(BA38:BA44)+SUM(BB38:BB44)-60*INT((60*SUM(BA38:BA44)+SUM(BB38:BB44))/60))","v":0},{"$f":"INT((60*SUM(BC38:BC44)+SUM(BD38:BD44)-BD45)/60)","v":0},{"$f":"INT(60*SUM(BC38:BC44)+SUM(BD38:BD44)-60*INT((60*SUM(BC38:BC44)+SUM(BD38:BD44))/60))","v":0},{"$f":"INT((60*SUM(BE38:BE44)+SUM(BF38:BF44)-BF45)/60)","v":0},{"$f":"INT(60*SUM(BE38:BE44)+SUM(BF38:BF44)-60*INT((60*SUM(BE38:BE44)+SUM(BF38:BF44))/60))","v":0},{"$f":"INT((60*SUM(BG38:BG44)+SUM(BH38:BH44)-BH45)/60)","v":0},{"$f":"INT(60*SUM(BG38:BG44)+SUM(BH38:BH44)-60*INT((60*SUM(BG38:BG44)+SUM(BH38:BH44))/60))","v":0}]
[]
[{"$f":"Einstellungen!$L$30","v":"ab 6 Std. Arbeitszeit: Dauer min."},null,null,null,null,{"$f":"Einstellungen!$Q$30","v":"30 Min"},{"$f":"IF(AND(E11>0,I47<>\"\",U47<>\"f\"),F11,0)","v":1},{"$f":"IF(AND(I47<>\"\",U47<>\"f\"),1,0)","v":1},{"$f":"IF(I44<>\"\",IF(MONTH(I44)=MONTH(I44+1),I44+1,\"\"),\"\")","v":"2026-07-27"},"Mo",null,null,null,null,{"$f":"HOUR(N47-K47-(M47-L47))","v":0},{"$f":"MINUTE(N47-K47-(M47-L47))","v":0},null,null,null,null,null,{"$f":"IF(OR(U47=\"U\",U47=\"k\",U47=\"B\"),$C$11,IF(S47>P47,O47-1-R47,O47-R47))","v":0},{"$f":"IF(OR(U47=\"U\",U47=\"k\",U47=\"B\"),$D$11,IF(S47>P47,P47+60-S47,P47-S47))","v":0},{"$f":"IF(OR(U47=\"U\",U47=\"K\",U47=\"B\"),0,V47)","v":0},{"$f":"IF(OR(U47=\"U\",U47=\"K\",U47=\"B\"),0,W47)","v":0},{"$f":"INT(((SUM(AB47,AH47,AK47,AN47,AQ47,AS47,AU47,AW47,AY47,BA47,BC47,BE47,BG47)*100)+(SUM(AC47,AI47,AL47,AO47,AR47,AT47,AV47,AX47,AZ47,BB47,BD47,BF47,BH47)/60*100))/100)","v":0},{"$f":"MOD(((SUM(AC47,AI47,AL47,AO47,AR47,AT47,AV47,AX47,AZ47,BB47,BD47,BF47,BH47)*100)+(SUM(AC47,AI47,AL47,AO47,AR47,AT47,AV47,AX47,AZ47,BB47,BD47,BF47,BH47)/60*100))/100,1)*60","v":0},null,null,{"$f":"INT(((SUM(AH47,AK47,AN47)*100)+SUM(AI47,AL47,AO47)/60*100)/100)","v":0},{"$f":"MOD(((SUM(AI47,AL47,AO47)*100)+(SUM(AI47,AL47,AO47)/60*100))/100,1)*60","v":0},{"$f":"INT(((SUM(AQ47+AS47+AU47+AW47+AY47+BA47+BC47+BE47+BG47)*100)+SUM(AR47+AT47+AV47+AX47+AZ47+BB47+BD47+BF47+BH47)/60*100)/100)","v":0},{"$f":"MOD(((SUM(AR47+AT47+AV47+AX47+AZ47+BB47+BD47+BF47+BH47)*100)+(SUM(AR47+AT47+AV47+AX47+AZ47+BB47+BD47+BF47+BH47)/60*100))/100,1)*60","v":0},null,null,"",null,null,"",null,null,""]
[{"$f":"Einstellungen!$L$31","v":"ab 9 Std. (exklusiv Beamte) min."},null,null,null,null,{"$f":"Einstellungen!$Q$31","v":"45 Min"},{"$f":"IF(AND(E12>0,I48<>\"\",U48<>\"f\"),F12,0)","v":1},{"$f":"IF(AND(I48<>\"\",U48<>\"f\"),1,0)","v":1},{"$f":"IF(I47<>\"\",IF(MONTH(I47)=MONTH(I47+1),I47+1,\"\"),\"\")","v":"2026-07-28"},"Di",null,null,null,null,0,0,null,null,null,null,null,{"$f":"IF(OR(U48=\"U\",U48=\"k\",U48=\"B\"),$C$12,IF(S48>P48,O48-1-R48,O48-R48))","v":0},{"$f":"IF(OR(U48=\"U\",U48=\"k\",U48=\"B\"),$D$12,IF(S48>P48,P48+60-S48,P48-S48))","v":0},0,0,0,0,null,null,0,0,0,0,null,null,"",null,null,"",null,null,""]
[{"$f":"Einstellungen!$L$32","v":""},null," ",{"$f":"Einstellungen!$O$32","v":"max."},null,{"$f":"Einstellungen!$Q$32","v":"120 Min"},{"$f":"IF(AND(E13>0,I49<>\"\",U49<>\"f\"),F13,0)","v":1},{"$f":"IF(AND(I49<>\"\",U49<>\"f\"),1,0)","v":1},{"$f":"IF(I48<>\"\",IF(MONTH(I48)=MONTH(I48+1),I48+1,\"\"),\"\")","v":"2026-07-29"},"Mi",null,null,null,null,0,0,null,null,null,null,null,{"$f":"IF(OR(U49=\"U\",U49=\"k\",U49=\"B\"),$C$13,IF(S49>P49,O49-1-R49,O49-R49))","v":0},{"$f":"IF(OR(U49=\"U\",U49=\"k\",U49=\"B\"),$D$13,IF(S49>P49,P49+60-S49,P49-S49))","v":0},0,0,0,0,null,null,0,0,0,0,null,null,"",null,null,"",null,null,""]
[{"$f":"Einstellungen!$L$33","v":"tägliche Arbeitszeit  "},null,null,null,null,{"$f":"Einstellungen!$Q$33","v":" 10 Std"},{"$f":"IF(AND(E14>0,I50<>\"\",U50<>\"f\"),F14,0)","v":1},{"$f":"IF(AND(I50<>\"\",U50<>\"f\"),1,0)","v":1},"2026-07-30","Do",null,null,null,null,0,0,null,null,null,null,null,{"$f":"IF(OR(U50=\"U\",U50=\"k\",U50=\"B\"),$C$14,IF(S50>P50,O50-1-R50,O50-R50))","v":0},{"$f":"IF(OR(U50=\"U\",U50=\"k\",U50=\"B\"),$D$14,IF(S50>P50,P50+60-S50,P50-S50))","v":0},0,0,0,0,null,null,0,0,0,0,null,null,"",null,null,"",null,null,""]
[{"$f":"Einstellungen!$L$34","v":"*) beachte § 5 der Dienstvereinbarung vom 17.04.2024 über die Arbeitszeit der Beschäftigten der Universität Hohenheim"},null,null,null,null,null,{"$f":"IF(AND(E15>0,I51<>\"\",U51<>\"f\"),F15,0)","v":1},{"$f":"IF(AND(I51<>\"\",U51<>\"f\"),1,0)","v":1},"2026-07-31","Fr",null,null,null,null,0,0,null,null,null,null,null,{"$f":"IF(OR(U51=\"U\",U51=\"k\",U51=\"B\"),$C$15,IF(S51>P51,O51-1-R51,O51-R51))","v":0},{"$f":"IF(OR(U51=\"U\",U51=\"k\",U51=\"B\"),$D$15,IF(S51>P51,P51+60-S51,P51-S51))","v":0},0,0,0,0,null,null,0,0,0,0,null,null,"",null,null,"",null,null,""]
[null,null,null,null,null,null,null,null,"","Sa",null,null,null,null,0,0,null,null,null,"nur dienstl. Sonderfälle!*",null,{"$f":"IF(S52>P52,O52-1-R52,O52-R52)","v":0},{"$f":"IF(S52>P52,P52+60-S52,P52-S52)","v":0},0,0,0,0,null,null,0,0,0,0,null,null,"",null,null,"",null,null,""]
[null,null,null,null,null,null,null,null,"","So",null,null,null,null,0,0,null,null,null,"nur dienstl. Sonderfälle!*",null,{"$f":"IF(S53>P53,O53-1-R53,O53-R53)","v":0},{"$f":"IF(S53>P53,P53+60-S53,P53-S53)","v":0},0,0,0,0,null,null,0,0,0,0,null,null,"",null,null,"",null,null,""]
[null,null,null,null,null,null,null,null,null,null,null,null,null,null,null,null,null,null,null,null,null,{"$f":"INT((60*SUM(V47:V53)+SUM(W47:W53)-W54)/60)","v":0},{"$f":"INT(60*SUM(V47:V53)+SUM(W47:W53)-60*INT((60*SUM(V47:V53)+SUM(W47:W53))/60))","v":0},{"$f":"INT((60*SUM(X47:X53)+SUM(Y47:Y53)-Y54)/60)","v":0},{"$f":"INT(60*SUM(X47:X53)+SUM(Y47:Y53)-60*INT((60*SUM(X47:X53)+SUM(Y47:Y53))/60))","v":0},{"$f":"INT((60*SUM(Z47:Z53)+SUM(AA47:AA53)-AA54)/60)","v":0},{"$f":"INT(60*SUM(Z47:Z53)+SUM(AA47:AA53)-60*INT((60*SUM(Z47:Z53)+SUM(AA47:AA53))/60))","v":0},{"$f":"INT((60*SUM(AB47:AB53)+SUM(AC47:AC53)-AC54)/60)","v":0},{"$f":"INT(60*SUM(AB47:AB53)+SUM(AC47:AC53)-60*INT((60*SUM(AB47:AB53)+SUM(AC47:AC53))/60))","v":0},{"$f":"INT((60*SUM(AD47:AD53)+SUM(AE47:AE53)-AE54)/60)","v":0},{"$f":"INT(60*SUM(AD47:AD53)+SUM(AE47:AE53)-60*INT((60*SUM(AD47:AD53)+SUM(AE47:AE53))/60))","v":0},{"$f":"INT((60*SUM(AF47:AF53)+SUM(AG47:AG53)-AG54)/60)","v":0},{"$f":"INT(60*SUM(AF47:AF53)+SUM(AG47:AG53)-60*INT((60*SUM(AF47:AF53)+SUM(AG47:AG53))/60))","v":0},{"$f":"INT((60*SUM(AH47:AH53)+SUM(AI47:AI53)-AI54)/60)","v":0},{"$f":"INT(60*SUM(AH47:AH53)+SUM(AI47:AI53)-60*INT((60*SUM(AH47:AH53)+SUM(AI47:AI53))/60))","v":0},null,{"$f":"INT((60*SUM(AK47:AK53)+SUM(AL47:AL53)-AL54)/60)","v":0},{"$f":"INT(60*SUM(AK47:AK53)+SUM(AL47:AL53)-60*INT((60*SUM(AK47:AK53)+SUM(AL47:AL53))/60))","v":0},null,{"$f":"INT((60*SUM(AN47:AN53)+SUM(AO47:AO53)-AO54)/60)","v":0},{"$f":"INT(60*SUM(AN47:AN53)+SUM(AO47:AO53)-60*INT((60*SUM(AN47:AN53)+SUM(AO47:AO53))/60))","v":0},null,{"$f":"INT((60*SUM(AQ47:AQ53)+SUM(AR47:AR53)-AR54)/60)","v":0},{"$f":"INT(60*SUM(AQ47:AQ53)+SUM(AR47:AR53)-60*INT((60*SUM(AQ47:AQ53)+SUM(AR47:AR53))/60))","v":0},{"$f":"INT((60*SUM(AS47:AS53)+SUM(AT47:AT53)-AT54)/60)","v":0},{"$f":"INT(60*SUM(AS47:AS53)+SUM(AT47:AT53)-60*INT((60*SUM(AS47:AS53)+SUM(AT47:AT53))/60))","v":0},{"$f":"INT((60*SUM(AU47:AU53)+SUM(AV47:AV53)-AV54)/60)","v":0},{"$f":"INT(60*SUM(AU47:AU53)+SUM(AV47:AV53)-60*INT((60*SUM(AU47:AU53)+SUM(AV47:AV53))/60))","v":0},{"$f":"INT((60*SUM(AW47:AW53)+SUM(AX47:AX53)-AX54)/60)","v":0},{"$f":"INT(60*SUM(AW47:AW53)+SUM(AX47:AX53)-60*INT((60*SUM(AW47:AW53)+SUM(AX47:AX53))/60))","v":0},{"$f":"INT((60*SUM(AY47:AY53)+SUM(AZ47:AZ53)-AZ54)/60)","v":0},{"$f":"INT(60*SUM(AY47:AY53)+SUM(AZ47:AZ53)-60*INT((60*SUM(AY47:AY53)+SUM(AZ47:AZ53))/60))","v":0},{"$f":"INT((60*SUM(BA47:BA53)+SUM(BB47:BB53)-BB54)/60)","v":0},{"$f":"INT(60*SUM(BA47:BA53)+SUM(BB47:BB53)-60*INT((60*SUM(BA47:BA53)+SUM(BB47:BB53))/60))","v":0},{"$f":"INT((60*SUM(BC47:BC53)+SUM(BD47:BD53)-BD54)/60)","v":0},{"$f":"INT(60*SUM(BC47:BC53)+SUM(BD47:BD53)-60*INT((60*SUM(BC47:BC53)+SUM(BD47:BD53))/60))","v":0},{"$f":"INT((60*SUM(BE47:BE53)+SUM(BF47:BF53)-BF54)/60)","v":0},{"$f":"INT(60*SUM(BE47:BE53)+SUM(BF47:BF53)-60*INT((60*SUM(BE47:BE53)+SUM(BF47:BF53))/60))","v":0},{"$f":"INT((60*SUM(BG47:BG53)+SUM(BH47:BH53)-BH54)/60)","v":0},{"$f":"INT(60*SUM(BG47:BG53)+SUM(BH47:BH53)-60*INT((60*SUM(BG47:BG53)+SUM(BH47:BH53))/60))","v":0}]
[null,null,null,null,null,null,{"$f":"SUM(G5:G53)","v":23},{"$f":"SUM(H5:H53)","v":23},"Juli",null,null,null,null,null,null,{"$f":"Einstellungen!A1","v":2026},null,null,null,null,null,null,null,"Summe:",null,"Summe:",null,"Summe:",null,"Summe:",null,"Summe:",null,{"$f":"INT(((SUM(AH9,AH18,AH27,AH36,AH45,AH54)*100)+(SUM(AI9,AI18,AI27,AI36,AI45,AI54)/60*100))/100)","v":0},{"$f":"MOD(((SUM(AH9,AH18,AH27,AH36,AH45,AH54)*100)+(SUM(AI9,AI18,AI27,AI36,AI45,AI54)/60*100))/100,1)*60","v":0},null,{"$f":"INT(((SUM(AK9,AK18,AK27,AK36,AK45,AK54)*100)+(SUM(AL9,AL18,AL27,AL36,AL45,AL54)/60*100))/100)","v":0},{"$f":"MOD(((SUM(AK9,AK18,AK27,AK36,AK45,AK54)*100)+(SUM(AL9,AL18,AL27,AL36,AL45,AL54)/60*100))/100,1)*60","v":0},null,{"$f":"INT(((SUM(AN9,AN18,AN27,AN36,AN45,AN54)*100)+(SUM(AO9,AO18,AO27,AO36,AO45,AO54)/60*100))/100)","v":0},{"$f":"MOD(((SUM(AN9,AN18,AN27,AN36,AN45,AN54)*100)+(SUM(AO9,AO18,AO27,AO36,AO45,AO54)/60*100))/100,1)*60","v":0},null,{"$f":"INT(((SUM(AQ9,AQ18,AQ27,AQ36,AQ45,AQ54)*100)+(SUM(AR9,AR18,AR27,AR36,AR45,AR54)/60*100))/100)","v":0},{"$f":"MOD(((SUM(AQ9,AQ18,AQ27,AQ36,AQ45,AQ54)*100)+(SUM(AR9,AR18,AR27,AR36,AR45,AR54)/60*100))/100,1)*60","v":0},{"$f":"INT(((SUM(AS9,AS18,AS27,AS36,AS45,AS54)*100)+(SUM(AT9,AT18,AT27,AT36,AT45,AT54)/60*100))/100)","v":0},{"$f":"MOD(((SUM(AS9,AS18,AS27,AS36,AS45,AS54)*100)+(SUM(AT9,AT18,AT27,AT36,AT45,AT54)/60*100))/100,1)*60","v":0},{"$f":"INT(((SUM(AU9,AU18,AU27,AU36,AU45,AU54)*100)+(SUM(AV9,AV18,AV27,AV36,AV45,AV54)/60*100))/100)","v":0},{"$f":"MOD(((SUM(AU9,AU18,AU27,AU36,AU45,AU54)*100)+(SUM(AV9,AV18,AV27,AV36,AV45,AV54)/60*100))/100,1)*60","v":0},{"$f":"INT(((SUM(AW9,AW18,AW27,AW36,AW45,AW54)*100)+(SUM(AX9,AX18,AX27,AX36,AX45,AX54)/60*100))/100)","v":0},{"$f":"MOD(((SUM(AW9,AW18,AW27,AW36,AW45,AW54)*100)+(SUM(AX9,AX18,AX27,AX36,AX45,AX54)/60*100))/100,1)*60","v":0},{"$f":"INT(((SUM(AY9,AY18,AY27,AY36,AY45,AY54)*100)+(SUM(AZ9,AZ18,AZ27,AZ36,AZ45,AZ54)/60*100))/100)","v":0},{"$f":"MOD(((SUM(AY9,AY18,AY27,AY36,AY45,AY54)*100)+(SUM(AZ9,AZ18,AZ27,AZ36,AZ45,AZ54)/60*100))/100,1)*60","v":0},{"$f":"INT(((SUM(BA9,BA18,BA27,BA36,BA45,BA54)*100)+(SUM(BB9,BB18,BB27,BB36,BB45,BB54)/60*100))/100)","v":0},{"$f":"MOD(((SUM(BA9,BA18,BA27,BA36,BA45,BA54)*100)+(SUM(BB9,BB18,BB27,BB36,BB45,BB54)/60*100))/100,1)*60","v":0},{"$f":"INT(((SUM(BC9,BC18,BC27,BC36,BC45,BC54)*100)+(SUM(BD9,BD18,BD27,BD36,BD45,BD54)/60*100))/100)","v":0},{"$f":"MOD(((SUM(BC9,BC18,BC27,BC36,BC45,BC54)*100)+(SUM(BD9,BD18,BD27,BD36,BD45,BD54)/60*100))/100,1)*60","v":0},{"$f":"INT(((SUM(BE9,BE18,BE27,BE36,BE45,BE54)*100)+(SUM(BF9,BF18,BF27,BF36,BF45,BF54)/60*100))/100)","v":0},{"$f":"MOD(((SUM(BE9,BE18,BE27,BE36,BE45,BE54)*100)+(SUM(BF9,BF18,BF27,BF36,BF45,BF54)/60*100))/100,1)*60","v":0},{"$f":"INT(((SUM(BG9,BG18,BG27,BG36,BG45,BG54)*100)+(SUM(BH9,BH18,BH27,BH36,BH45,BH54)/60*100))/100)","v":0},{"$f":"MOD(((SUM(BG9,BG18,BG27,BG36,BG45,BG54)*100)+(SUM(BH9,BH18,BH27,BH36,BH45,BH54)/60*100))/100,1)*60","v":0}]
[null,null,null,null,null,null,null,null,"Abrechnungsmonat",null,null,null,null,null,null,"Jahr",null,null,null,"Monatsarbeitszeit IST",null,{"$f":"INT((60*SUM(V54,V45,V36,V27,V18,V9)+SUM(W54,W45,W36,W27,W18,W9)-W56)/60)","v":0},{"$f":"INT(60*SUM(V54,V45,V36,V27,V18,V9)+SUM(W54,W45,W36,W27,W18,W9)-60*INT((60*SUM(V54,V45,V36,V27,V18,V9)+SUM(W54,W45,W36,W27,W18,W9))/60))","v":0},{"$f":"INT((60*SUM(X54,X45,X36,X27,X18,X9)+SUM(Y54,Y45,Y36,Y27,Y18,Y9)-Y56)/60)","v":0},{"$f":"INT(60*SUM(X54,X45,X36,X27,X18,X9)+SUM(Y54,Y45,Y36,Y27,Y18,Y9)-60*INT((60*SUM(X54,X45,X36,X27,X18,X9)+SUM(Y54,Y45,Y36,Y27,Y18,Y9))/60))","v":0},{"$f":"INT((60*SUM(Z54,Z45,Z36,Z27,Z18,Z9)+SUM(AA54,AA45,AA36,AA27,AA18,AA9)-AA56)/60)","v":0},{"$f":"INT(60*SUM(Z54,Z45,Z36,Z27,Z18,Z9)+SUM(AA54,AA45,AA36,AA27,AA18,AA9)-60*INT((60*SUM(Z54,Z45,Z36,Z27,Z18,Z9)+SUM(AA54,AA45,AA36,AA27,AA18,AA9))/60))","v":0},{"$f":"INT((60*SUM(AB54,AB45,AB36,AB27,AB18,AB9)+SUM(AC54,AC45,AC36,AC27,AC18,AC9)-AC56)/60)","v":0},{"$f":"INT(60*SUM(AB54,AB45,AB36,AB27,AB18,AB9)+SUM(AC54,AC45,AC36,AC27,AC18,AC9)-60*INT((60*SUM(AB54,AB45,AB36,AB27,AB18,AB9)+SUM(AC54,AC45,AC36,AC27,AC18,AC9))/60))","v":0},{"$f":"INT((60*SUM(AD54,AD45,AD36,AD27,AD18,AD9)+SUM(AE54,AE45,AE36,AE27,AE18,AE9)-AE56)/60)","v":0},{"$f":"INT(60*SUM(AD54,AD45,AD36,AD27,AD18,AD9)+SUM(AE54,AE45,AE36,AE27,AE18,AE9)-60*INT((60*SUM(AD54,AD45,AD36,AD27,AD18,AD9)+SUM(AE54,AE45,AE36,AE27,AE18,AE9))/60))","v":0},{"$f":"INT((60*SUM(AF54,AF45,AF36,AF27,AF18,AF9)+SUM(AG54,AG45,AG36,AG27,AG18,AG9)-AG56)/60)","v":0},{"$f":"INT(60*SUM(AF54,AF45,AF36,AF27,AF18,AF9)+SUM(AG54,AG45,AG36,AG27,AG18,AG9)-60*INT((60*SUM(AF54,AF45,AF36,AF27,AF18,AF9)+SUM(AG54,AG45,AG36,AG27,AG18,AG9))/60))","v":0}]
[null,null,null,null,null,null,null,null,{"$f":"Einstellungen!K23","v":"Franziska von Hohenheim"},null,null,null,null,null,null,null,null,null,null,"Übertrag aus Vormonat (+/-)",{"$f":"IF(V57*W57<0,\"!\",\"\")","v":""},{"$f":"ROUND(Juni!V60,0)","v":-955},{"$f":"ROUND(Juni!W60,0)","v":-54}]
[null,null,null,null,null,null,null,null,"Name, Vorname",null,null,null,null,null,null,null,"Datum",null,null,"Summe",null,{"$f":"ROUND(SIGN(V56+V57+(W56+W57)/60)*ROUNDDOWN(ABS(V56+V57+(W56+W57)/60),0),0)","v":-955},{"$f":"ROUND(SIGN(V56+V57+(W56+W57)/60)*(ABS(V56+V57+(W56+W57)/60)-ABS(V58))*60,0)","v":-54}]
[null,null,null,null,null,null,null,null,{"$f":"Einstellungen!$K$25","v":"630"},null,{"$f":"Einstellungen!K24","v":"KIM"},null,null,null,null,null,null,null,null,"Monatsarbeitszeit SOLL",null,{"$f":"SUM(Einstellungen!B9)","v":181},{"$f":"SUM(Einstellungen!C9)","v":42}]
[null,null,null,null,null,null,null,null,"Einr.-Nr.",null,"Abt. / FG",null,null,null,null,null,"Name Leiter/in",null,null,"Zeitübertrag auf Folgemonat",{"$f":"IF(V60*W60<0,\"!\",\"\")","v":""},{"$f":"ROUND(SIGN(V58-V59+(W58-W59)/60)*ROUNDDOWN(ABS(V58-V59+(W58-W59)/60),0),0)","v":-1137},{"$f":"ROUND(SIGN(V58-V59+(W58-W59)/60)*(ABS(V58-V59+(W58-W59)/60)-ABS(V60))*60,0)","v":-36}]
[]
[null,null,null,null,null,null,null,null,null,null,null,null,null,null,null,null,null,null,null,"Summe Urlaubstage",null,{"$f":"SUMPRODUCT((U5:U6=\"U\")*(E14:E15>0))+SUMPRODUCT((U11:U15=\"U\")*(E11:E15>0))+SUMPRODUCT((U20:U24=\"U\")*(E11:E15>0))+SUMPRODUCT((U29:U33=\"U\")*(E11:E15>0))+SUMPRODUCT((U38:U42=\"U\")*(E11:E15>0))+SUMPRODUCT((U47:U51=\"U\")*(E11:E15>0))","v":0}]
[null,null,null,null,null,null,null,null,"Datum",null,"Unterschrift Mitarbeiter/in",null,null,null,null,null,"Unterschrift Leiter/in",null,null,"alter / neuer Übertrag",null,{"$f":"IF(SUM(Einstellungen!K27:K30)>0,Juni!W63,\"--- \")","v":30},{"$f":"IF(SUM(Einstellungen!K27:K30)>0,V63-V62,\"--- \")","v":30}]

{"sheet":"Aug","index":7,"n_rows":63,"n_cols":60,"rows_kept":63,"cut":false,"hidden":true,"merged":[[0,31,0,32],[0,23,0,24],[0,25,0,26],[0,27,0,28],[0,29,0,30],[1,23,1,24],[1,25,1,26],[37,0,37,1],[38,0,38,2],[2,23,2,24],[2,25,2,26],[28,0,28,1],[29,0,29,1],[30,0,30,2],[35,0,35,1],[7,0,7,3],[39,0,39,1],[46,0,46,3],[47,0,47,3],[49,0,49,3],[54,23,54,24],[50,0,52,5],[40,3,40,5],[41,3,41,5],[44,3,44,5],[61,21,61,22],[63,25,63,26],[54,27,54,28],[54,29,54,30],[54,31,54,32],[54,25,54,26],[0,42,2,43],[0,44,2,45],[0,46,2,47],[0,33,2,35],[0,36,2,38],[0,39,2,41],[0,58,2,59],[0,48,2,49],[0,50,2,51],[0,52,2,53],[0,54,2,55],[0,56,2,57]]}
[{"$f":"Einstellungen!A27","v":"Universität Hohenheim KIM © 2026"},null,null,null,null,null,null,null,"Datum",null,"Arbeits-",null,null,"Arbeits-","Arb.Zeit ohne",null,"Sonstige Unterbrechungen",null,null,"Erläuterungen, Hinweise,","U,K","Reine Arb.-",null,"Productive",null,"Productive",null,"Sonstiges",null,"Summe ",null,"Summe",null,{"$f":"Projektdaten!D4","v":"EU Projekt 1"},null,null,{"$f":"Projektdaten!D6","v":"EU Projekt 2"},null,null,{"$f":"Projektdaten!D8","v":"EU Projekt 3"},null,null,{"$f":"Projektdaten!D13","v":"Projekt 1"},null,{"$f":"Projektdaten!D15","v":"Projekt 2"},null,{"$f":"Projektdaten!D17","v":"Projekt 3"},null,{"$f":"Projektdaten!D19","v":"Projekt 4"},null,{"$f":"Projektdaten!D21","v":"Projekt 5"},null,{"$f":"Projektdaten!D23","v":"Projekt 6"},null,{"$f":"Projektdaten!D25","v":"Projekt 7"},null,{"$f":"Projektdaten!D27","v":"Projekt 8"},null,{"$f":"Projektdaten!D29","v":"Projekt 9"}]
["Arbeitszeitblatt",null,null,{"$f":"Einstellungen!A28","v":"Version 5.12"},null,null,null,null,"Tag","Wo-","beginn","Mittagspause",null,"ende","Mittagspause",null,"von - bis","Gesamtdauer",null,"Vermerke, z.B. Dienstreise","F,X","Zeit","IST","Hours",null,"Hours",null,null,null,"EU-",null,"andere"]
[null,null,null,null,null,null,null,null,null,"tag",null,"von","bis",null,"Std.","Min.",null,"Std.","Min.","  - non eligible -","A,B","Std.","Min.","i.S.d. EU",null,"verteilt",null,null," ","Projekte",null,"Projekte"]
[null,null,null,null,null,null,null,null,null,null,null,null,null,null,null,null,null,null,null,null,null,null,null,"Std.","Min.","Std.","Min.","Std.","Min.","Std.","Min.","Std.","Min.","Std.","Min.","Geleistete Arbeitspakete nach Annex 1","Std.","Min.","Geleistete Arbeitspakete nach Annex 1","Std.","Min.","Geleistete Arbeitspakete nach Annex 1","Std.","Min.","Std.","Min.","Std.","Min.","Std.","Min.","Std.","Min.","Std.","Min.","Std.","Min.","Std.","Min.","Std.","Min."]
[null,null,null,null,null,"U",{"$f":"IF(AND(E14>0,I5<>\"\",U5<>\"f\"),1,0)","v":0},{"$f":"IF(AND(I5<>\"\",U5<>\"f\"),1,0)","v":0},{"$f":"IF(CHOOSE(WEEKDAY(Einstellungen!$A$10,2),\"Mo\",\"Di\",\"Mi\",\"Do\",\"Fr\",\"Sa\",\"So\")=J5,Einstellungen!$A$10,\"\")","v":""},"Do",null,null,null,null,{"$f":"HOUR(N5-K5-(M5-L5))","v":0},{"$f":"MINUTE(N5-K5-(M5-L5))","v":0},null,null,null,null,null,{"$f":"IF(OR(U5=\"U\",U5=\"k\",U5=\"B\"),$C$14,IF(S5>P5,O5-1-R5,O5-R5))","v":0},{"$f":"IF(OR(U5=\"U\",U5=\"k\",U5=\"B\"),$D$14,IF(S5>P5,P5+60-S5,P5-S5))","v":0},{"$f":"IF(OR(U5=\"U\",U5=\"K\",U5=\"B\"),0,V5)","v":0},{"$f":"IF(OR(U5=\"U\",U5=\"K\",U5=\"B\"),0,W5)","v":0},{"$f":"INT(((SUM(AB5,AH5,AK5,AN5,AQ5,AS5,AU5,AW5,AY5,BA5,BC5,BE5,BG5)*100)+(SUM(AC5,AI5,AL5,AO5,AR5,AT5,AV5,AX5,AZ5,BB5,BD5,BF5,BH5)/60*100))/100)","v":0},{"$f":"MOD(((SUM(AC5,AI5,AL5,AO5,AR5,AT5,AV5,AX5,AZ5,BB5,BD5,BF5,BH5)*100)+(SUM(AC5,AI5,AL5,AO5,AR5,AT5,AV5,AX5,AZ5,BB5,BD5,BF5,BH5)/60*100))/100,1)*60","v":0},null,null,{"$f":"INT(((SUM(AH5,AK5,AN5)*100)+SUM(AI5,AL5,AO5)/60*100)/100)","v":0},{"$f":"MOD(((SUM(AI5,AL5,AO5)*100)+(SUM(AI5,AL5,AO5)/60*100))/100,1)*60","v":0},{"$f":"INT(((SUM(AQ5+AS5+AU5+AW5+AY5+BA5+BC5+BE5+BG5)*100)+SUM(AR5+AT5+AV5+AX5+AZ5+BB5+BD5+BF5+BH5)/60*100)/100)","v":0},{"$f":"MOD(((SUM(AR5+AT5+AV5+AX5+AZ5+BB5+BD5+BF5+BH5)*100)+(SUM(AR5+AT5+AV5+AX5+AZ5+BB5+BD5+BF5+BH5)/60*100))/100,1)*60","v":0},null,null,"",null,null,"",null,null,""]
[null,null,null,null,null,"K",{"$f":"IF(AND(E15>0,I6<>\"\",U6<>\"f\"),F14,0)","v":0},{"$f":"IF(AND(I6<>\"\",U6<>\"f\"),1,0)","v":0},{"$f":"IF(I5<>\"\",I5+1,IF(CHOOSE(WEEKDAY(Einstellungen!$A$10,2),\"Mo\",\"Di\",\"Mi\",\"Do\",\"Fr\",\"Sa\",\"So\")=J6,Einstellungen!$A$10,\"\"))","v":""},"Fr",null,null,null,null,{"$f":"HOUR(N6-K6-(M6-L6))","v":0},{"$f":"MINUTE(N6-K6-(M6-L6))","v":0},null,null,null,null,null,{"$f":"IF(OR(U6=\"U\",U6=\"k\",U6=\"B\"),$C$15,IF(S6>P6,O6-1-R6,O6-R6))","v":0},{"$f":"IF(OR(U6=\"U\",U6=\"k\",U6=\"B\"),$D$15,IF(S6>P6,P6+60-S6,P6-S6))","v":0},{"$f":"IF(OR(U6=\"U\",U6=\"K\",U6=\"B\"),0,V6)","v":0},{"$f":"IF(OR(U6=\"U\",U6=\"K\",U6=\"B\"),0,W6)","v":0},{"$f":"INT(((SUM(AB6,AH6,AK6,AN6,AQ6,AS6,AU6,AW6,AY6,BA6,BC6,BE6,BG6)*100)+(SUM(AC6,AI6,AL6,AO6,AR6,AT6,AV6,AX6,AZ6,BB6,BD6,BF6,BH6)/60*100))/100)","v":0},{"$f":"MOD(((SUM(AC6,AI6,AL6,AO6,AR6,AT6,AV6,AX6,AZ6,BB6,BD6,BF6,BH6)*100)+(SUM(AC6,AI6,AL6,AO6,AR6,AT6,AV6,AX6,AZ6,BB6,BD6,BF6,BH6)/60*100))/100,1)*60","v":0},null,null,{"$f":"INT(((SUM(AH6,AK6,AN6)*100)+SUM(AI6,AL6,AO6)/60*100)/100)","v":0},{"$f":"MOD(((SUM(AI6,AL6,AO6)*100)+(SUM(AI6,AL6,AO6)/60*100))/100,1)*60","v":0},{"$f":"INT(((SUM(AQ6+AS6+AU6+AW6+AY6+BA6+BC6+BE6+BG6)*100)+SUM(AR6+AT6+AV6+AX6+AZ6+BB6+BD6+BF6+BH6)/60*100)/100)","v":0},{"$f":"MOD(((SUM(AR6+AT6+AV6+AX6+AZ6+BB6+BD6+BF6+BH6)*100)+(SUM(AR6+AT6+AV6+AX6+AZ6+BB6+BD6+BF6+BH6)/60*100))/100,1)*60","v":0},null,null,"",null,null,"",null,null,""]
[null,null,null,null,null,"A",{"$f":"IF(AND(E16>0,I7<>\"\",U7<>\"f\"),F15,0)","v":0},null,{"$f":"IF(I6<>\"\",I6+1,IF(CHOOSE(WEEKDAY(Einstellungen!$A$10,2),\"Mo\",\"Di\",\"Mi\",\"Do\",\"Fr\",\"Sa\",\"So\")=J7,Einstellungen!$A$10,\"\"))","v":"2026-08-01"},"Sa",null,null,null,null,{"$f":"HOUR(N7-K7-(M7-L7))","v":0},{"$f":"MINUTE(N7-K7-(M7-L7))","v":0},null,null,null,"nur dienstl. Sonderfälle!*",null,{"$f":"IF(S7>P7,O7-1-R7,O7-R7)","v":0},{"$f":"IF(S7>P7,P7+60-S7,P7-S7)","v":0},0,0,{"$f":"INT(((SUM(AB7,AH7,AK7,AN7,AQ7,AS7,AU7,AW7,AY7,BA7,BC7,BE7,BG7)*100)+(SUM(AC7,AI7,AL7,AO7,AR7,AT7,AV7,AX7,AZ7,BB7,BD7,BF7,BH7)/60*100))/100)","v":0},{"$f":"MOD(((SUM(AC7,AI7,AL7,AO7,AR7,AT7,AV7,AX7,AZ7,BB7,BD7,BF7,BH7)*100)+(SUM(AC7,AI7,AL7,AO7,AR7,AT7,AV7,AX7,AZ7,BB7,BD7,BF7,BH7)/60*100))/100,1)*60","v":0},null,null,{"$f":"INT(((SUM(AH7,AK7,AN7)*100)+SUM(AI7,AL7,AO7)/60*100)/100)","v":0},{"$f":"MOD(((SUM(AI7,AL7,AO7)*100)+(SUM(AI7,AL7,AO7)/60*100))/100,1)*60","v":0},{"$f":"INT(((SUM(AQ7+AS7+AU7+AW7+AY7+BA7+BC7+BE7+BG7)*100)+SUM(AR7+AT7+AV7+AX7+AZ7+BB7+BD7+BF7+BH7)/60*100)/100)","v":0},{"$f":"MOD(((SUM(AR7+AT7+AV7+AX7+AZ7+BB7+BD7+BF7+BH7)*100)+(SUM(AR7+AT7+AV7+AX7+AZ7+BB7+BD7+BF7+BH7)/60*100))/100,1)*60","v":0},null,null,"",null,null,"",null,null,""]
[{"$f":"IF(Einstellungen!D25>0.0005,\"Bitte Werte prüfen\",\"\")","v":""},null,null,null,null,"B",null,null,{"$f":"IF(I7<>\"\",I7+1,IF(CHOOSE(WEEKDAY(Einstellungen!$A$10,2),\"Mo\",\"Di\",\"Mi\",\"Do\",\"Fr\",\"Sa\",\"So\")=J8,Einstellungen!$A$10,\"\"))","v":"2026-08-02"},"So",null,null,null,null,{"$f":"HOUR(N8-K8-(M8-L8))","v":0},{"$f":"MINUTE(N8-K8-(M8-L8))","v":0},null,null,null,"nur dienstl. Sonderfälle!*",null,{"$f":"IF(S8>P8,O8-1-R8,O8-R8)","v":0},{"$f":"IF(S8>P8,P8+60-S8,P8-S8)","v":0},0,0,{"$f":"INT(((SUM(AB8,AH8,AK8,AN8,AQ8,AS8,AU8,AW8,AY8,BA8,BC8,BE8,BG8)*100)+(SUM(AC8,AI8,AL8,AO8,AR8,AT8,AV8,AX8,AZ8,BB8,BD8,BF8,BH8)/60*100))/100)","v":0},{"$f":"MOD(((SUM(AC8,AI8,AL8,AO8,AR8,AT8,AV8,AX8,AZ8,BB8,BD8,BF8,BH8)*100)+(SUM(AC8,AI8,AL8,AO8,AR8,AT8,AV8,AX8,AZ8,BB8,BD8,BF8,BH8)/60*100))/100,1)*60","v":0},null,null,{"$f":"INT(((SUM(AH8,AK8,AN8)*100)+SUM(AI8,AL8,AO8)/60*100)/100)","v":0},{"$f":"MOD(((SUM(AI8,AL8,AO8)*100)+(SUM(AI8,AL8,AO8)/60*100))/100,1)*60","v":0},{"$f":"INT(((SUM(AQ8+AS8+AU8+AW8+AY8+BA8+BC8+BE8+BG8)*100)+SUM(AR8+AT8+AV8+AX8+AZ8+BB8+BD8+BF8+BH8)/60*100)/100)","v":0},{"$f":"MOD(((SUM(AR8+AT8+AV8+AX8+AZ8+BB8+BD8+BF8+BH8)*100)+(SUM(AR8+AT8+AV8+AX8+AZ8+BB8+BD8+BF8+BH8)/60*100))/100,1)*60","v":0},null,null,"",null,null,"",null,null,""]
["Meine tägl. Regelarbeitszeit:",null,null,null,null,"X",null,null,null,null,null,null,null,null,null,null,null,null,null,null,null,{"$f":"INT((60*SUM(V5:V8)+SUM(W5:W8)-W9)/60)","v":0},{"$f":"INT(60*SUM(V5:V8)+SUM(W5:W8)-60*INT((60*SUM(V5:V8)+SUM(W5:W8))/60))","v":0},{"$f":"INT((60*SUM(X5:X8)+SUM(Y5:Y8)-Y9)/60)","v":0},{"$f":"INT(60*SUM(X5:X8)+SUM(Y5:Y8)-60*INT((60*SUM(X5:X8)+SUM(Y5:Y8))/60))","v":0},{"$f":"INT((60*SUM(Z5:Z8)+SUM(AA5:AA8)-AA9)/60)","v":0},{"$f":"INT(60*SUM(Z5:Z8)+SUM(AA5:AA8)-60*INT((60*SUM(Z5:Z8)+SUM(AA5:AA8))/60))","v":0},{"$f":"INT((60*SUM(AB5:AB8)+SUM(AC5:AC8)-AC9)/60)","v":0},{"$f":"INT(60*SUM(AB5:AB8)+SUM(AC5:AC8)-60*INT((60*SUM(AB5:AB8)+SUM(AC5:AC8))/60))","v":0},{"$f":"INT((60*SUM(AD5:AD8)+SUM(AE5:AE8)-AE9)/60)","v":0},{"$f":"INT(60*SUM(AD5:AD8)+SUM(AE5:AE8)-60*INT((60*SUM(AD5:AD8)+SUM(AE5:AE8))/60))","v":0},{"$f":"INT((60*SUM(AF5:AF8)+SUM(AG5:AG8)-AG9)/60)","v":0},{"$f":"INT(60*SUM(AF5:AF8)+SUM(AG5:AG8)-60*INT((60*SUM(AF5:AF8)+SUM(AG5:AG8))/60))","v":0},{"$f":"INT((60*SUM(AH5:AH8)+SUM(AI5:AI8)-AI9)/60)","v":0},{"$f":"INT(60*SUM(AH5:AH8)+SUM(AI5:AI8)-60*INT((60*SUM(AH5:AH8)+SUM(AI5:AI8))/60))","v":0},null,{"$f":"INT((60*SUM(AK5:AK8)+SUM(AL5:AL8)-AL9)/60)","v":0},{"$f":"INT(60*SUM(AK5:AK8)+SUM(AL5:AL8)-60*INT((60*SUM(AK5:AK8)+SUM(AL5:AL8))/60))","v":0},null,{"$f":"INT((60*SUM(AN5:AN8)+SUM(AO5:AO8)-AO9)/60)","v":0},{"$f":"INT(60*SUM(AN5:AN8)+SUM(AO5:AO8)-60*INT((60*SUM(AN5:AN8)+SUM(AO5:AO8))/60))","v":0},null,{"$f":"INT((60*SUM(AQ5:AQ8)+SUM(AR5:AR8)-AR9)/60)","v":0},{"$f":"INT(60*SUM(AQ5:AQ8)+SUM(AR5:AR8)-60*INT((60*SUM(AQ5:AQ8)+SUM(AR5:AR8))/60))","v":0},{"$f":"INT((60*SUM(AS5:AS8)+SUM(AT5:AT8)-AT9)/60)","v":0},{"$f":"INT(60*SUM(AS5:AS8)+SUM(AT5:AT8)-60*INT((60*SUM(AS5:AS8)+SUM(AT5:AT8))/60))","v":0},{"$f":"INT((60*SUM(AU5:AU8)+SUM(AV5:AV8)-AV9)/60)","v":0},{"$f":"INT(60*SUM(AU5:AU8)+SUM(AV5:AV8)-60*INT((60*SUM(AU5:AU8)+SUM(AV5:AV8))/60))","v":0},{"$f":"INT((60*SUM(AW5:AW8)+SUM(AX5:AX8)-AX9)/60)","v":0},{"$f":"INT(60*SUM(AW5:AW8)+SUM(AX5:AX8)-60*INT((60*SUM(AW5:AW8)+SUM(AX5:AX8))/60))","v":0},{"$f":"INT((60*SUM(AY5:AY8)+SUM(AZ5:AZ8)-AZ9)/60)","v":0},{"$f":"INT(60*SUM(AY5:AY8)+SUM(AZ5:AZ8)-60*INT((60*SUM(AY5:AY8)+SUM(AZ5:AZ8))/60))","v":0},{"$f":"INT((60*SUM(BA5:BA8)+SUM(BB5:BB8)-BB9)/60)","v":0},{"$f":"INT(60*SUM(BA5:BA8)+SUM(BB5:BB8)-60*INT((60*SUM(BA5:BA8)+SUM(BB5:BB8))/60))","v":0},{"$f":"INT((60*SUM(BC5:BC8)+SUM(BD5:BD8)-BD9)/60)","v":0},{"$f":"INT(60*SUM(BC5:BC8)+SUM(BD5:BD8)-60*INT((60*SUM(BC5:BC8)+SUM(BD5:BD8))/60))","v":0},{"$f":"INT((60*SUM(BE5:BE8)+SUM(BF5:BF8)-BF9)/60)","v":0},{"$f":"INT(60*SUM(BE5:BE8)+SUM(BF5:BF8)-60*INT((60*SUM(BE5:BE8)+SUM(BF5:BF8))/60))","v":0},{"$f":"INT((60*SUM(BG5:BG8)+SUM(BH5:BH8)-BH9)/60)","v":0},{"$f":"INT(60*SUM(BG5:BG8)+SUM(BH5:BH8)-60*INT((60*SUM(BG5:BG8)+SUM(BH5:BH8))/60))","v":0}]
[null,null,null,null,{"$f":"5-COUNTIF(E11:E15,0)","v":5},{"$f":"(SUM(C11:C15)*60+SUM(D11:D15))/E10","v":474}]
["Mo",{"$f":"IF(E11=0,\"frei\",\"\")","v":""},{"$f":"SUM(Einstellungen!C19)","v":7},{"$f":"SUM(Einstellungen!D19)","v":54},{"$f":"C11*60+D11","v":474},{"$f":"E11/$F$10","v":1},{"$f":"IF(AND(E11>0,I11<>\"\",U11<>\"f\"),F11,0)","v":1},{"$f":"IF(AND(I11<>\"\",U11<>\"f\"),1,0)","v":1},{"$f":"IF(I8<>\"\",I8+1,IF(CHOOSE(WEEKDAY(Einstellungen!$A$10,2),\"Mo\",\"Di\",\"Mi\",\"Do\",\"Fr\",\"Sa\",\"So\")=J11,Einstellungen!$A$10,\"\"))","v":"2026-08-03"},"Mo",null,null,null,null,{"$f":"HOUR(N11-K11-(M11-L11))","v":0},{"$f":"MINUTE(N11-K11-(M11-L11))","v":0},null,null,null,null,null,{"$f":"IF(OR(U11=\"U\",U11=\"k\",U11=\"B\"),$C$11,IF(S11>P11,O11-1-R11,O11-R11))","v":0},{"$f":"IF(OR(U11=\"U\",U11=\"k\",U11=\"B\"),$D$11,IF(S11>P11,P11+60-S11,P11-S11))","v":0},{"$f":"IF(OR(U11=\"U\",U11=\"K\",U11=\"B\"),0,V11)","v":0},{"$f":"IF(OR(U11=\"U\",U11=\"K\",U11=\"B\"),0,W11)","v":0},{"$f":"INT(((SUM(AB11,AH11,AK11,AN11,AQ11,AS11,AU11,AW11,AY11,BA11,BC11,BE11,BG11)*100)+(SUM(AC11,AI11,AL11,AO11,AR11,AT11,AV11,AX11,AZ11,BB11,BD11,BF11,BH11)/60*100))/100)","v":0},{"$f":"MOD(((SUM(AC11,AI11,AL11,AO11,AR11,AT11,AV11,AX11,AZ11,BB11,BD11,BF11,BH11)*100)+(SUM(AC11,AI11,AL11,AO11,AR11,AT11,AV11,AX11,AZ11,BB11,BD11,BF11,BH11)/60*100))/100,1)*60","v":0},null,null,{"$f":"INT(((SUM(AH11,AK11,AN11)*100)+SUM(AI11,AL11,AO11)/60*100)/100)","v":0},{"$f":"MOD(((SUM(AI11,AL11,AO11)*100)+(SUM(AI11,AL11,AO11)/60*100))/100,1)*60","v":0},{"$f":"INT(((SUM(AQ11+AS11+AU11+AW11+AY11+BA11+BC11+BE11+BG11)*100)+SUM(AR11+AT11+AV11+AX11+AZ11+BB11+BD11+BF11+BH11)/60*100)/100)","v":0},{"$f":"MOD(((SUM(AR11+AT11+AV11+AX11+AZ11+BB11+BD11+BF11+BH11)*100)+(SUM(AR11+AT11+AV11+AX11+AZ11+BB11+BD11+BF11+BH11)/60*100))/100,1)*60","v":0},null,null,"",null,null,"",null,null,""]
["Di",{"$f":"IF(E12=0,\"frei\",\"\")","v":""},{"$f":"SUM(Einstellungen!C20)","v":7},{"$f":"SUM(Einstellungen!D20)","v":54},{"$f":"C12*60+D12","v":474},{"$f":"E12/$F$10","v":1},{"$f":"IF(AND(E12>0,I12<>\"\",U12<>\"f\"),F12,0)","v":1},{"$f":"IF(AND(I12<>\"\",U12<>\"f\"),1,0)","v":1},{"$f":"IF(I11<>\"\",I11+1,IF(CHOOSE(WEEKDAY(Einstellungen!$A$10,2),\"Mo\",\"Di\",\"Mi\",\"Do\",\"Fr\",\"Sa\",\"So\")=J12,Einstellungen!$A$10,\"\"))","v":"2026-08-04"},"Di",null,null,null,null,0,0,null,null,null,null,null,{"$f":"IF(OR(U12=\"U\",U12=\"k\",U12=\"B\"),$C$12,IF(S12>P12,O12-1-R12,O12-R12))","v":0},{"$f":"IF(OR(U12=\"U\",U12=\"k\",U12=\"B\"),$D$12,IF(S12>P12,P12+60-S12,P12-S12))","v":0},0,0,0,0,null,null,0,0,0,0,null,null,"",null,null,"",null,null,""]
["Mi",{"$f":"IF(E13=0,\"frei\",\"\")","v":""},{"$f":"SUM(Einstellungen!C21)","v":7},{"$f":"SUM(Einstellungen!D21)","v":54},{"$f":"C13*60+D13","v":474},{"$f":"E13/$F$10","v":1},{"$f":"IF(AND(E13>0,I13<>\"\",U13<>\"f\"),F13,0)","v":1},{"$f":"IF(AND(I13<>\"\",U13<>\"f\"),1,0)","v":1},{"$f":"IF(I12<>\"\",I12+1,IF(CHOOSE(WEEKDAY(Einstellungen!$A$10,2),\"Mo\",\"Di\",\"Mi\",\"Do\",\"Fr\",\"Sa\",\"So\")=J13,Einstellungen!$A$10,\"\"))","v":"2026-08-05"},"Mi",null,null,null,null,0,0,null,null,null,null,null,{"$f":"IF(OR(U13=\"U\",U13=\"k\",U13=\"B\"),$C$13,IF(S13>P13,O13-1-R13,O13-R13))","v":0},{"$f":"IF(OR(U13=\"U\",U13=\"k\",U13=\"B\"),$D$13,IF(S13>P13,P13+60-S13,P13-S13))","v":0},0,0,0,0,null,null,0,0,0,0,null,null,"",null,null,"",null,null,""]
["Do",{"$f":"IF(E14=0,\"frei\",\"\")","v":""},{"$f":"SUM(Einstellungen!C22)","v":7},{"$f":"SUM(Einstellungen!D22)","v":54},{"$f":"C14*60+D14","v":474},{"$f":"E14/$F$10","v":1},{"$f":"IF(AND(E14>0,I14<>\"\",U14<>\"f\"),F14,0)","v":1},{"$f":"IF(AND(I14<>\"\",U14<>\"f\"),1,0)","v":1},{"$f":"IF(I13<>\"\",I13+1,IF(CHOOSE(WEEKDAY(Einstellungen!$A$10,2),\"Mo\",\"Di\",\"Mi\",\"Do\",\"Fr\",\"Sa\",\"So\")=J14,Einstellungen!$A$10,\"\"))","v":"2026-08-06"},"Do",null,null,null,null,0,0,null,null,null,null,null,{"$f":"IF(OR(U14=\"U\",U14=\"k\",U14=\"B\"),$C$14,IF(S14>P14,O14-1-R14,O14-R14))","v":0},{"$f":"IF(OR(U14=\"U\",U14=\"k\",U14=\"B\"),$D$14,IF(S14>P14,P14+60-S14,P14-S14))","v":0},0,0,0,0,null,null,0,0,0,0,null,null,"",null,null,"",null,null,""]
["Fr",{"$f":"IF(E15=0,\"frei\",\"\")","v":""},{"$f":"SUM(Einstellungen!C23)","v":7},{"$f":"SUM(Einstellungen!D23)","v":54},{"$f":"C15*60+D15","v":474},{"$f":"E15/$F$10","v":1},{"$f":"IF(AND(E15>0,I15<>\"\",U15<>\"f\"),F15,0)","v":1},{"$f":"IF(AND(I15<>\"\",U15<>\"f\"),1,0)","v":1},{"$f":"I14+1","v":"2026-08-07"},"Fr",null,null,null,null,0,0,null,null,null,null,null,{"$f":"IF(OR(U15=\"U\",U15=\"k\",U15=\"B\"),$C$15,IF(S15>P15,O15-1-R15,O15-R15))","v":0},{"$f":"IF(OR(U15=\"U\",U15=\"k\",U15=\"B\"),$D$15,IF(S15>P15,P15+60-S15,P15-S15))","v":0},0,0,0,0,null,null,0,0,0,0,null,null,"",null,null,"",null,null,""]
[{"$f":"Einstellungen!$L$1","v":"Hinweise:"},null,null,null,null,null,null,null,{"$f":"I15+1","v":"2026-08-08"},"Sa",null,null,null,null,0,0,null,null,null,"nur dienstl. Sonderfälle!*",null,{"$f":"IF(S16>P16,O16-1-R16,O16-R16)","v":0},{"$f":"IF(S16>P16,P16+60-S16,P16-S16)","v":0},0,0,0,0,null,null,0,0,0,0,null,null,"",null,null,"",null,null,""]
[{"$f":"Einstellungen!$L$2","v":"I Beschäftigte mit 39,5 Std-Woche"},null,null,null,null,null,null,null,{"$f":"I16+1","v":"2026-08-09"},"So",null,null,null,null,0,0,null,null,null,"nur dienstl. Sonderfälle!*",null,{"$f":"IF(S17>P17,O17-1-R17,O17-R17)","v":0},{"$f":"IF(S17>P17,P17+60-S17,P17-S17)","v":0},0,0,0,0,null,null,0,0,0,0,null,null,"",null,null,"",null,null,""]
[{"$f":"Einstellungen!$L$3","v":""},null,{"$f":"Einstellungen!$N$3","v":"Beschäftigungsumfang"},null,null,null,null,null,null,null,null,null,null,null,null,null,null,null,null,null,null,{"$f":"INT((60*SUM(V11:V17)+SUM(W11:W17)-W18)/60)","v":0},{"$f":"INT(60*SUM(V11:V17)+SUM(W11:W17)-60*INT((60*SUM(V11:V17)+SUM(W11:W17))/60))","v":0},{"$f":"INT((60*SUM(X11:X17)+SUM(Y11:Y17)-Y18)/60)","v":0},{"$f":"INT(60*SUM(X11:X17)+SUM(Y11:Y17)-60*INT((60*SUM(X11:X17)+SUM(Y11:Y17))/60))","v":0},{"$f":"INT((60*SUM(Z11:Z17)+SUM(AA11:AA17)-AA18)/60)","v":0},{"$f":"INT(60*SUM(Z11:Z17)+SUM(AA11:AA17)-60*INT((60*SUM(Z11:Z17)+SUM(AA11:AA17))/60))","v":0},{"$f":"INT((60*SUM(AB11:AB17)+SUM(AC11:AC17)-AC18)/60)","v":0},{"$f":"INT(60*SUM(AB11:AB17)+SUM(AC11:AC17)-60*INT((60*SUM(AB11:AB17)+SUM(AC11:AC17))/60))","v":0},{"$f":"INT((60*SUM(AD11:AD17)+SUM(AE11:AE17)-AE18)/60)","v":0},{"$f":"INT(60*SUM(AD11:AD17)+SUM(AE11:AE17)-60*INT((60*SUM(AD11:AD17)+SUM(AE11:AE17))/60))","v":0},{"$f":"INT((60*SUM(AF11:AF17)+SUM(AG11:AG17)-AG18)/60)","v":0},{"$f":"INT(60*SUM(AF11:AF17)+SUM(AG11:AG17)-60*INT((60*SUM(AF11:AF17)+SUM(AG11:AG17))/60))","v":0},{"$f":"INT((60*SUM(AH11:AH17)+SUM(AI11:AI17)-AI18)/60)","v":0},{"$f":"INT(60*SUM(AH11:AH17)+SUM(AI11:AI17)-60*INT((60*SUM(AH11:AH17)+SUM(AI11:AI17))/60))","v":0},null,{"$f":"INT((60*SUM(AK11:AK17)+SUM(AL11:AL17)-AL18)/60)","v":0},{"$f":"INT(60*SUM(AK11:AK17)+SUM(AL11:AL17)-60*INT((60*SUM(AK11:AK17)+SUM(AL11:AL17))/60))","v":0},null,{"$f":"INT((60*SUM(AN11:AN17)+SUM(AO11:AO17)-AO18)/60)","v":0},{"$f":"INT(60*SUM(AN11:AN17)+SUM(AO11:AO17)-60*INT((60*SUM(AN11:AN17)+SUM(AO11:AO17))/60))","v":0},null,{"$f":"INT((60*SUM(AQ11:AQ17)+SUM(AR11:AR17)-AR18)/60)","v":0},{"$f":"INT(60*SUM(AQ11:AQ17)+SUM(AR11:AR17)-60*INT((60*SUM(AQ11:AQ17)+SUM(AR11:AR17))/60))","v":0},{"$f":"INT((60*SUM(AS11:AS17)+SUM(AT11:AT17)-AT18)/60)","v":0},{"$f":"INT(60*SUM(AS11:AS17)+SUM(AT11:AT17)-60*INT((60*SUM(AS11:AS17)+SUM(AT11:AT17))/60))","v":0},{"$f":"INT((60*SUM(AU11:AU17)+SUM(AV11:AV17)-AV18)/60)","v":0},{"$f":"INT(60*SUM(AU11:AU17)+SUM(AV11:AV17)-60*INT((60*SUM(AU11:AU17)+SUM(AV11:AV17))/60))","v":0},{"$f":"INT((60*SUM(AW11:AW17)+SUM(AX11:AX17)-AX18)/60)","v":0},{"$f":"INT(60*SUM(AW11:AW17)+SUM(AX11:AX17)-60*INT((60*SUM(AW11:AW17)+SUM(AX11:AX17))/60))","v":0},{"$f":"INT((60*SUM(AY11:AY17)+SUM(AZ11:AZ17)-AZ18)/60)","v":0},{"$f":"INT(60*SUM(AY11:AY17)+SUM(AZ11:AZ17)-60*INT((60*SUM(AY11:AY17)+SUM(AZ11:AZ17))/60))","v":0},{"$f":"INT((60*SUM(BA11:BA17)+SUM(BB11:BB17)-BB18)/60)","v":0},{"$f":"INT(60*SUM(BA11:BA17)+SUM(BB11:BB17)-60*INT((60*SUM(BA11:BA17)+SUM(BB11:BB17))/60))","v":0},{"$f":"INT((60*SUM(BC11:BC17)+SUM(BD11:BD17)-BD18)/60)","v":0},{"$f":"INT(60*SUM(BC11:BC17)+SUM(BD11:BD17)-60*INT((60*SUM(BC11:BC17)+SUM(BD11:BD17))/60))","v":0},{"$f":"INT((60*SUM(BE11:BE17)+SUM(BF11:BF17)-BF18)/60)","v":0},{"$f":"INT(60*SUM(BE11:BE17)+SUM(BF11:BF17)-60*INT((60*SUM(BE11:BE17)+SUM(BF11:BF17))/60))","v":0},{"$f":"INT((60*SUM(BG11:BG17)+SUM(BH11:BH17)-BH18)/60)","v":0},{"$f":"INT(60*SUM(BG11:BG17)+SUM(BH11:BH17)-60*INT((60*SUM(BG11:BG17)+SUM(BH11:BH17))/60))","v":0}]
[]
[{"$f":"Einstellungen!$L$4","v":"5 Tage-Woche"},null,{"$f":"Einstellungen!$N$4","v":1},{"$f":"Einstellungen!$O$4","v":0.75},null,{"$f":"Einstellungen!$Q$4","v":0.5},{"$f":"IF(AND(E11>0,I20<>\"\",U20<>\"f\"),F11,0)","v":1},{"$f":"IF(AND(I20<>\"\",U20<>\"f\"),1,0)","v":1},{"$f":"I17+1","v":"2026-08-10"},"Mo",null,null,null,null,{"$f":"HOUR(N20-K20-(M20-L20))","v":0},{"$f":"MINUTE(N20-K20-(M20-L20))","v":0},null,null,null,null,null,{"$f":"IF(OR(U20=\"U\",U20=\"k\",U20=\"B\"),$C$11,IF(S20>P20,O20-1-R20,O20-R20))","v":0},{"$f":"IF(OR(U20=\"U\",U20=\"k\",U20=\"B\"),$D$11,IF(S20>P20,P20+60-S20,P20-S20))","v":0},{"$f":"IF(OR(U20=\"U\",U20=\"K\",U20=\"B\"),0,V20)","v":0},{"$f":"IF(OR(U20=\"U\",U20=\"K\",U20=\"B\"),0,W20)","v":0},{"$f":"INT(((SUM(AB20,AH20,AK20,AN20,AQ20,AS20,AU20,AW20,AY20,BA20,BC20,BE20,BG20)*100)+(SUM(AC20,AI20,AL20,AO20,AR20,AT20,AV20,AX20,AZ20,BB20,BD20,BF20,BH20)/60*100))/100)","v":0},{"$f":"MOD(((SUM(AC20,AI20,AL20,AO20,AR20,AT20,AV20,AX20,AZ20,BB20,BD20,BF20,BH20)*100)+(SUM(AC20,AI20,AL20,AO20,AR20,AT20,AV20,AX20,AZ20,BB20,BD20,BF20,BH20)/60*100))/100,1)*60","v":0},null,null,{"$f":"INT(((SUM(AH20,AK20,AN20)*100)+SUM(AI20,AL20,AO20)/60*100)/100)","v":0},{"$f":"MOD(((SUM(AI20,AL20,AO20)*100)+(SUM(AI20,AL20,AO20)/60*100))/100,1)*60","v":0},{"$f":"INT(((SUM(AQ20+AS20+AU20+AW20+AY20+BA20+BC20+BE20+BG20)*100)+SUM(AR20+AT20+AV20+AX20+AZ20+BB20+BD20+BF20+BH20)/60*100)/100)","v":0},{"$f":"MOD(((SUM(AR20+AT20+AV20+AX20+AZ20+BB20+BD20+BF20+BH20)*100)+(SUM(AR20+AT20+AV20+AX20+AZ20+BB20+BD20+BF20+BH20)/60*100))/100,1)*60","v":0},null,null,"",null,null,"",null,null,""]
[{"$f":"Einstellungen!$L$5","v":""},null," "," ",null," ",{"$f":"IF(AND(E12>0,I21<>\"\",U21<>\"f\"),F12,0)","v":1},{"$f":"IF(AND(I21<>\"\",U21<>\"f\"),1,0)","v":1},{"$f":"I20+1","v":"2026-08-11"},"Di",null,null,null,null,0,0,null,null,null,null,null,{"$f":"IF(OR(U21=\"U\",U21=\"k\",U21=\"B\"),$C$12,IF(S21>P21,O21-1-R21,O21-R21))","v":0},{"$f":"IF(OR(U21=\"U\",U21=\"k\",U21=\"B\"),$D$12,IF(S21>P21,P21+60-S21,P21-S21))","v":0},0,0,0,0,null,null,0,0,0,0,null,null,"",null,null,"",null,null,""]
[{"$f":"Einstellungen!$L$6","v":"tägliche Regel-"},null," "," ",null," ",{"$f":"IF(AND(E13>0,I22<>\"\",U22<>\"f\"),F13,0)","v":1},{"$f":"IF(AND(I22<>\"\",U22<>\"f\"),1,0)","v":1},{"$f":"I21+1","v":"2026-08-12"},"Mi",null,null,null,null,0,0,null,null,null,null,null,{"$f":"IF(OR(U22=\"U\",U22=\"k\",U22=\"B\"),$C$13,IF(S22>P22,O22-1-R22,O22-R22))","v":0},{"$f":"IF(OR(U22=\"U\",U22=\"k\",U22=\"B\"),$D$13,IF(S22>P22,P22+60-S22,P22-S22))","v":0},0,0,0,0,null,null,0,0,0,0,null,null,"",null,null,"",null,null,""]
[{"$f":"Einstellungen!$L$7","v":"arbeitszeit für"},null,null,null,null,null,{"$f":"IF(AND(E14>0,I23<>\"\",U23<>\"f\"),F14,0)","v":1},{"$f":"IF(AND(I23<>\"\",U23<>\"f\"),1,0)","v":1},"2026-08-13","Do",null,null,null,null,0,0,null,null,null,null,null,{"$f":"IF(OR(U23=\"U\",U23=\"k\",U23=\"B\"),$C$14,IF(S23>P23,O23-1-R23,O23-R23))","v":0},{"$f":"IF(OR(U23=\"U\",U23=\"k\",U23=\"B\"),$D$14,IF(S23>P23,P23+60-S23,P23-S23))","v":0},0,0,0,0,null,null,0,0,0,0,null,null,"",null,null,"",null,null,""]
[{"$f":"Einstellungen!$L$8","v":"Wochenfeier-"},null,null,null,null,null,{"$f":"IF(AND(E15>0,I24<>\"\",U24<>\"f\"),F15,0)","v":1},{"$f":"IF(AND(I24<>\"\",U24<>\"f\"),1,0)","v":1},"2026-08-14","Fr",null,null,null,null,0,0,null,null,null,null,null,{"$f":"IF(OR(U24=\"U\",U24=\"k\",U24=\"B\"),$C$15,IF(S24>P24,O24-1-R24,O24-R24))","v":0},{"$f":"IF(OR(U24=\"U\",U24=\"k\",U24=\"B\"),$D$15,IF(S24>P24,P24+60-S24,P24-S24))","v":0},0,0,0,0,null,null,0,0,0,0,null,null,"",null,null,"",null,null,""]
[{"$f":"Einstellungen!$L$9","v":"tage, bei Urlaub"},null,null,null,null,null,null,null,"2026-08-15","Sa",null,null,null,null,0,0,null,null,null,"nur dienstl. Sonderfälle!*",null,{"$f":"IF(S25>P25,O25-1-R25,O25-R25)","v":0},{"$f":"IF(S25>P25,P25+60-S25,P25-S25)","v":0},0,0,0,0,null,null,0,0,0,0,null,null,"",null,null,"",null,null,""]
[{"$f":"Einstellungen!$L$10","v":"oder Krankheit"},null,null,null,null,null,null,null,"2026-08-16","So",null,null,null,null,0,0,null,null,null,"nur dienstl. Sonderfälle!*",null,{"$f":"IF(S26>P26,O26-1-R26,O26-R26)","v":0},{"$f":"IF(S26>P26,P26+60-S26,P26-S26)","v":0},0,0,0,0,null,null,0,0,0,0,null,null,"",null,null,"",null,null,""]
[{"$f":"Einstellungen!$L$11","v":"Mo-Fr  "},{"$f":"Einstellungen!$M$11","v":"Std.Min"},{"$f":"Einstellungen!$N$11","v":" 7.54"},{"$f":"Einstellungen!$O$11","v":" 5.56"},null,{"$f":"Einstellungen!$Q$11","v":" 3.57"},null,null,null,null,null,null,null,null,null,null,null,null,null,null,null,{"$f":"INT((60*SUM(V20:V26)+SUM(W20:W26)-W27)/60)","v":0},{"$f":"INT(60*SUM(V20:V26)+SUM(W20:W26)-60*INT((60*SUM(V20:V26)+SUM(W20:W26))/60))","v":0},{"$f":"INT((60*SUM(X20:X26)+SUM(Y20:Y26)-Y27)/60)","v":0},{"$f":"INT(60*SUM(X20:X26)+SUM(Y20:Y26)-60*INT((60*SUM(X20:X26)+SUM(Y20:Y26))/60))","v":0},{"$f":"INT((60*SUM(Z20:Z26)+SUM(AA20:AA26)-AA27)/60)","v":0},{"$f":"INT(60*SUM(Z20:Z26)+SUM(AA20:AA26)-60*INT((60*SUM(Z20:Z26)+SUM(AA20:AA26))/60))","v":0},{"$f":"INT((60*SUM(AB20:AB26)+SUM(AC20:AC26)-AC27)/60)","v":0},{"$f":"INT(60*SUM(AB20:AB26)+SUM(AC20:AC26)-60*INT((60*SUM(AB20:AB26)+SUM(AC20:AC26))/60))","v":0},{"$f":"INT((60*SUM(AD20:AD26)+SUM(AE20:AE26)-AE27)/60)","v":0},{"$f":"INT(60*SUM(AD20:AD26)+SUM(AE20:AE26)-60*INT((60*SUM(AD20:AD26)+SUM(AE20:AE26))/60))","v":0},{"$f":"INT((60*SUM(AF20:AF26)+SUM(AG20:AG26)-AG27)/60)","v":0},{"$f":"INT(60*SUM(AF20:AF26)+SUM(AG20:AG26)-60*INT((60*SUM(AF20:AF26)+SUM(AG20:AG26))/60))","v":0},{"$f":"INT((60*SUM(AH20:AH26)+SUM(AI20:AI26)-AI27)/60)","v":0},{"$f":"INT(60*SUM(AH20:AH26)+SUM(AI20:AI26)-60*INT((60*SUM(AH20:AH26)+SUM(AI20:AI26))/60))","v":0},null,{"$f":"INT((60*SUM(AK20:AK26)+SUM(AL20:AL26)-AL27)/60)","v":0},{"$f":"INT(60*SUM(AK20:AK26)+SUM(AL20:AL26)-60*INT((60*SUM(AK20:AK26)+SUM(AL20:AL26))/60))","v":0},null,{"$f":"INT((60*SUM(AN20:AN26)+SUM(AO20:AO26)-AO27)/60)","v":0},{"$f":"INT(60*SUM(AN20:AN26)+SUM(AO20:AO26)-60*INT((60*SUM(AN20:AN26)+SUM(AO20:AO26))/60))","v":0},null,{"$f":"INT((60*SUM(AQ20:AQ26)+SUM(AR20:AR26)-AR27)/60)","v":0},{"$f":"INT(60*SUM(AQ20:AQ26)+SUM(AR20:AR26)-60*INT((60*SUM(AQ20:AQ26)+SUM(AR20:AR26))/60))","v":0},{"$f":"INT((60*SUM(AS20:AS26)+SUM(AT20:AT26)-AT27)/60)","v":0},{"$f":"INT(60*SUM(AS20:AS26)+SUM(AT20:AT26)-60*INT((60*SUM(AS20:AS26)+SUM(AT20:AT26))/60))","v":0},{"$f":"INT((60*SUM(AU20:AU26)+SUM(AV20:AV26)-AV27)/60)","v":0},{"$f":"INT(60*SUM(AU20:AU26)+SUM(AV20:AV26)-60*INT((60*SUM(AU20:AU26)+SUM(AV20:AV26))/60))","v":0},{"$f":"INT((60*SUM(AW20:AW26)+SUM(AX20:AX26)-AX27)/60)","v":0},{"$f":"INT(60*SUM(AW20:AW26)+SUM(AX20:AX26)-60*INT((60*SUM(AW20:AW26)+SUM(AX20:AX26))/60))","v":0},{"$f":"INT((60*SUM(AY20:AY26)+SUM(AZ20:AZ26)-AZ27)/60)","v":0},{"$f":"INT(60*SUM(AY20:AY26)+SUM(AZ20:AZ26)-60*INT((60*SUM(AY20:AY26)+SUM(AZ20:AZ26))/60))","v":0},{"$f":"INT((60*SUM(BA20:BA26)+SUM(BB20:BB26)-BB27)/60)","v":0},{"$f":"INT(60*SUM(BA20:BA26)+SUM(BB20:BB26)-60*INT((60*SUM(BA20:BA26)+SUM(BB20:BB26))/60))","v":0},{"$f":"INT((60*SUM(BC20:BC26)+SUM(BD20:BD26)-BD27)/60)","v":0},{"$f":"INT(60*SUM(BC20:BC26)+SUM(BD20:BD26)-60*INT((60*SUM(BC20:BC26)+SUM(BD20:BD26))/60))","v":0},{"$f":"INT((60*SUM(BE20:BE26)+SUM(BF20:BF26)-BF27)/60)","v":0},{"$f":"INT(60*SUM(BE20:BE26)+SUM(BF20:BF26)-60*INT((60*SUM(BE20:BE26)+SUM(BF20:BF26))/60))","v":0},{"$f":"INT((60*SUM(BG20:BG26)+SUM(BH20:BH26)-BH27)/60)","v":0},{"$f":"INT(60*SUM(BG20:BG26)+SUM(BH20:BH26)-60*INT((60*SUM(BG20:BG26)+SUM(BH20:BH26))/60))","v":0}]
[" "," "," "," ",null," "]
[{"$f":"Einstellungen!$L$13","v":"Wochen"},null," "," ",null," ",{"$f":"IF(AND(E11>0,I29<>\"\",U29<>\"f\"),F11,0)","v":1},{"$f":"IF(AND(I29<>\"\",U29<>\"f\"),1,0)","v":1},{"$f":"I26+1","v":"2026-08-17"},"Mo",null,null,null,null,{"$f":"HOUR(N29-K29-(M29-L29))","v":0},{"$f":"MINUTE(N29-K29-(M29-L29))","v":0},null,null,null,null,null,{"$f":"IF(OR(U29=\"U\",U29=\"k\",U29=\"B\"),$C$11,IF(S29>P29,O29-1-R29,O29-R29))","v":0},{"$f":"IF(OR(U29=\"U\",U29=\"k\",U29=\"B\"),$D$11,IF(S29>P29,P29+60-S29,P29-S29))","v":0},{"$f":"IF(OR(U29=\"U\",U29=\"K\",U29=\"B\"),0,V29)","v":0},{"$f":"IF(OR(U29=\"U\",U29=\"K\",U29=\"B\"),0,W29)","v":0},{"$f":"INT(((SUM(AB29,AH29,AK29,AN29,AQ29,AS29,AU29,AW29,AY29,BA29,BC29,BE29,BG29)*100)+(SUM(AC29,AI29,AL29,AO29,AR29,AT29,AV29,AX29,AZ29,BB29,BD29,BF29,BH29)/60*100))/100)","v":0},{"$f":"MOD(((SUM(AC29,AI29,AL29,AO29,AR29,AT29,AV29,AX29,AZ29,BB29,BD29,BF29,BH29)*100)+(SUM(AC29,AI29,AL29,AO29,AR29,AT29,AV29,AX29,AZ29,BB29,BD29,BF29,BH29)/60*100))/100,1)*60","v":0},null,null,{"$f":"INT(((SUM(AH29,AK29,AN29)*100)+SUM(AI29,AL29,AO29)/60*100)/100)","v":0},{"$f":"MOD(((SUM(AI29,AL29,AO29)*100)+(SUM(AI29,AL29,AO29)/60*100))/100,1)*60","v":0},{"$f":"INT(((SUM(AQ29+AS29+AU29+AW29+AY29+BA29+BC29+BE29+BG29)*100)+SUM(AR29+AT29+AV29+AX29+AZ29+BB29+BD29+BF29+BH29)/60*100)/100)","v":0},{"$f":"MOD(((SUM(AR29+AT29+AV29+AX29+AZ29+BB29+BD29+BF29+BH29)*100)+(SUM(AR29+AT29+AV29+AX29+AZ29+BB29+BD29+BF29+BH29)/60*100))/100,1)*60","v":0},null,null,"",null,null,"",null,null,""]
[{"$f":"CONCATENATE(Einstellungen!$L$14,\" \",Einstellungen!$M$14)","v":"Arbeitzeit Std.Min"},null,{"$f":"Einstellungen!$N$14","v":"39.30"},{"$f":"Einstellungen!$O$14","v":"29.38"},null,{"$f":"Einstellungen!$Q$14","v":"19.45"},{"$f":"IF(AND(E12>0,I30<>\"\",U30<>\"f\"),F12,0)","v":1},{"$f":"IF(AND(I30<>\"\",U30<>\"f\"),1,0)","v":1},{"$f":"I29+1","v":"2026-08-18"},"Di",null,null,null,null,0,0,null,null,null,null,null,{"$f":"IF(OR(U30=\"U\",U30=\"k\",U30=\"B\"),$C$12,IF(S30>P30,O30-1-R30,O30-R30))","v":0},{"$f":"IF(OR(U30=\"U\",U30=\"k\",U30=\"B\"),$D$12,IF(S30>P30,P30+60-S30,P30-S30))","v":0},0,0,0,0,null,null,0,0,0,0,null,null,"",null,null,"",null,null,""]
[{"$f":"Einstellungen!$L$15","v":"max.Übertrag auf das"},null,null," ",null," ",{"$f":"IF(AND(E13>0,I31<>\"\",U31<>\"f\"),F13,0)","v":1},{"$f":"IF(AND(I31<>\"\",U31<>\"f\"),1,0)","v":1},{"$f":"I30+1","v":"2026-08-19"},"Mi",null,null,null,null,0,0,null,null,null,null,null,{"$f":"IF(OR(U31=\"U\",U31=\"k\",U31=\"B\"),$C$13,IF(S31>P31,O31-1-R31,O31-R31))","v":0},{"$f":"IF(OR(U31=\"U\",U31=\"k\",U31=\"B\"),$D$13,IF(S31>P31,P31+60-S31,P31-S31))","v":0},0,0,0,0,null,null,0,0,0,0,null,null,"",null,null,"",null,null,""]
[{"$f":"Einstellungen!$L$16","v":"Folgejahr Std.Min"},null,{"$f":"Einstellungen!$N$16","v":"39.30"},{"$f":"Einstellungen!$O$16","v":"39.30"},null,{"$f":"Einstellungen!$Q$16","v":"39.30"},{"$f":"IF(AND(E14>0,I32<>\"\",U32<>\"f\"),F14,0)","v":1},{"$f":"IF(AND(I32<>\"\",U32<>\"f\"),1,0)","v":1},"2026-08-20","Do",null,null,null,null,0,0,null,null,null,null,null,{"$f":"IF(OR(U32=\"U\",U32=\"k\",U32=\"B\"),$C$14,IF(S32>P32,O32-1-R32,O32-R32))","v":0},{"$f":"IF(OR(U32=\"U\",U32=\"k\",U32=\"B\"),$D$14,IF(S32>P32,P32+60-S32,P32-S32))","v":0},0,0,0,0,null,null,0,0,0,0,null,null,"",null,null,"",null,null,""]
[{"$f":"Einstellungen!$L$17","v":"II Beschäftigte mit 41 Std-Woche"},null,null,null,null,null,{"$f":"IF(AND(E15>0,I33<>\"\",U33<>\"f\"),F15,0)","v":1},{"$f":"IF(AND(I33<>\"\",U33<>\"f\"),1,0)","v":1},"2026-08-21","Fr",null,null,null,null,0,0,null,null,null,null,null,{"$f":"IF(OR(U33=\"U\",U33=\"k\",U33=\"B\"),$C$15,IF(S33>P33,O33-1-R33,O33-R33))","v":0},{"$f":"IF(OR(U33=\"U\",U33=\"k\",U33=\"B\"),$D$15,IF(S33>P33,P33+60-S33,P33-S33))","v":0},0,0,0,0,null,null,0,0,0,0,null,null,"",null,null,"",null,null,""]
[{"$f":"Einstellungen!$L$18","v":"tägliche Arbeitszeit"},null,null,null,null,null,null,null,"2026-08-22","Sa",null,null,null,null,0,0,null,null,null,"nur dienstl. Sonderfälle!*",null,{"$f":"IF(S34>P34,O34-1-R34,O34-R34)","v":0},{"$f":"IF(S34>P34,P34+60-S34,P34-S34)","v":0},0,0,0,0,null,null,0,0,0,0,null,null,"",null,null,"",null,null,""]
[{"$f":"Einstellungen!$L$19","v":"Mo-Fr  "},{"$f":"Einstellungen!$M$19","v":"Std.Min"},{"$f":"Einstellungen!$N$19","v":"8.12"},{"$f":"Einstellungen!$O$19","v":"6.09"},null,{"$f":"Einstellungen!$Q$19","v":"4.06"},null,null,"2026-08-23","So",null,null,null,null,0,0,null,null,null,"nur dienstl. Sonderfälle!*",null,{"$f":"IF(S35>P35,O35-1-R35,O35-R35)","v":0},{"$f":"IF(S35>P35,P35+60-S35,P35-S35)","v":0},0,0,0,0,null,null,0,0,0,0,null,null,"",null,null,"",null,null,""]
[{"$f":"Einstellungen!$L$20","v":"Wochen"},null," "," ",null," ",null,null,null,null,null,null,null,null,null,null,null,null,null,null,null,{"$f":"INT((60*SUM(V29:V35)+SUM(W29:W35)-W36)/60)","v":0},{"$f":"INT(60*SUM(V29:V35)+SUM(W29:W35)-60*INT((60*SUM(V29:V35)+SUM(W29:W35))/60))","v":0},{"$f":"INT((60*SUM(X29:X35)+SUM(Y29:Y35)-Y36)/60)","v":0},{"$f":"INT(60*SUM(X29:X35)+SUM(Y29:Y35)-60*INT((60*SUM(X29:X35)+SUM(Y29:Y35))/60))","v":0},{"$f":"INT((60*SUM(Z29:Z35)+SUM(AA29:AA35)-AA36)/60)","v":0},{"$f":"INT(60*SUM(Z29:Z35)+SUM(AA29:AA35)-60*INT((60*SUM(Z29:Z35)+SUM(AA29:AA35))/60))","v":0},{"$f":"INT((60*SUM(AB29:AB35)+SUM(AC29:AC35)-AC36)/60)","v":0},{"$f":"INT(60*SUM(AB29:AB35)+SUM(AC29:AC35)-60*INT((60*SUM(AB29:AB35)+SUM(AC29:AC35))/60))","v":0},{"$f":"INT((60*SUM(AD29:AD35)+SUM(AE29:AE35)-AE36)/60)","v":0},{"$f":"INT(60*SUM(AD29:AD35)+SUM(AE29:AE35)-60*INT((60*SUM(AD29:AD35)+SUM(AE29:AE35))/60))","v":0},{"$f":"INT((60*SUM(AF29:AF35)+SUM(AG29:AG35)-AG36)/60)","v":0},{"$f":"INT(60*SUM(AF29:AF35)+SUM(AG29:AG35)-60*INT((60*SUM(AF29:AF35)+SUM(AG29:AG35))/60))","v":0},{"$f":"INT((60*SUM(AH29:AH35)+SUM(AI29:AI35)-AI36)/60)","v":0},{"$f":"INT(60*SUM(AH29:AH35)+SUM(AI29:AI35)-60*INT((60*SUM(AH29:AH35)+SUM(AI29:AI35))/60))","v":0},null,{"$f":"INT((60*SUM(AK29:AK35)+SUM(AL29:AL35)-AL36)/60)","v":0},{"$f":"INT(60*SUM(AK29:AK35)+SUM(AL29:AL35)-60*INT((60*SUM(AK29:AK35)+SUM(AL29:AL35))/60))","v":0},null,{"$f":"INT((60*SUM(AN29:AN35)+SUM(AO29:AO35)-AO36)/60)","v":0},{"$f":"INT(60*SUM(AN29:AN35)+SUM(AO29:AO35)-60*INT((60*SUM(AN29:AN35)+SUM(AO29:AO35))/60))","v":0},null,{"$f":"INT((60*SUM(AQ29:AQ35)+SUM(AR29:AR35)-AR36)/60)","v":0},{"$f":"INT(60*SUM(AQ29:AQ35)+SUM(AR29:AR35)-60*INT((60*SUM(AQ29:AQ35)+SUM(AR29:AR35))/60))","v":0},{"$f":"INT((60*SUM(AS29:AS35)+SUM(AT29:AT35)-AT36)/60)","v":0},{"$f":"INT(60*SUM(AS29:AS35)+SUM(AT29:AT35)-60*INT((60*SUM(AS29:AS35)+SUM(AT29:AT35))/60))","v":0},{"$f":"INT((60*SUM(AU29:AU35)+SUM(AV29:AV35)-AV36)/60)","v":0},{"$f":"INT(60*SUM(AU29:AU35)+SUM(AV29:AV35)-60*INT((60*SUM(AU29:AU35)+SUM(AV29:AV35))/60))","v":0},{"$f":"INT((60*SUM(AW29:AW35)+SUM(AX29:AX35)-AX36)/60)","v":0},{"$f":"INT(60*SUM(AW29:AW35)+SUM(AX29:AX35)-60*INT((60*SUM(AW29:AW35)+SUM(AX29:AX35))/60))","v":0},{"$f":"INT((60*SUM(AY29:AY35)+SUM(AZ29:AZ35)-AZ36)/60)","v":0},{"$f":"INT(60*SUM(AY29:AY35)+SUM(AZ29:AZ35)-60*INT((60*SUM(AY29:AY35)+SUM(AZ29:AZ35))/60))","v":0},{"$f":"INT((60*SUM(BA29:BA35)+SUM(BB29:BB35)-BB36)/60)","v":0},{"$f":"INT(60*SUM(BA29:BA35)+SUM(BB29:BB35)-60*INT((60*SUM(BA29:BA35)+SUM(BB29:BB35))/60))","v":0},{"$f":"INT((60*SUM(BC29:BC35)+SUM(BD29:BD35)-BD36)/60)","v":0},{"$f":"INT(60*SUM(BC29:BC35)+SUM(BD29:BD35)-60*INT((60*SUM(BC29:BC35)+SUM(BD29:BD35))/60))","v":0},{"$f":"INT((60*SUM(BE29:BE35)+SUM(BF29:BF35)-BF36)/60)","v":0},{"$f":"INT(60*SUM(BE29:BE35)+SUM(BF29:BF35)-60*INT((60*SUM(BE29:BE35)+SUM(BF29:BF35))/60))","v":0},{"$f":"INT((60*SUM(BG29:BG35)+SUM(BH29:BH35)-BH36)/60)","v":0},{"$f":"INT(60*SUM(BG29:BG35)+SUM(BH29:BH35)-60*INT((60*SUM(BG29:BG35)+SUM(BH29:BH35))/60))","v":0}]
[]
[{"$f":"CONCATENATE(Einstellungen!$L$21,\" \",Einstellungen!$M$21)","v":"Arbeitzeit Std.Min"},null,{"$f":"Einstellungen!$N$21","v":"41.00"},{"$f":"Einstellungen!$O$21","v":"30.45"},null,{"$f":"Einstellungen!$Q$21","v":"20.30"},{"$f":"IF(AND(E11>0,I38<>\"\",U38<>\"f\"),F11,0)","v":1},{"$f":"IF(AND(I38<>\"\",U38<>\"f\"),1,0)","v":1},{"$f":"IF(I35<>\"\",IF(MONTH(I35)=MONTH(I35+1),I35+1,\"\"),\"\")","v":"2026-08-24"},"Mo",null,null,null,null,{"$f":"HOUR(N38-K38-(M38-L38))","v":0},{"$f":"MINUTE(N38-K38-(M38-L38))","v":0},null,null,null,null,null,{"$f":"IF(OR(U38=\"U\",U38=\"k\",U38=\"B\"),$C$11,IF(S38>P38,O38-1-R38,O38-R38))","v":0},{"$f":"IF(OR(U38=\"U\",U38=\"k\",U38=\"B\"),$D$11,IF(S38>P38,P38+60-S38,P38-S38))","v":0},{"$f":"IF(OR(U38=\"U\",U38=\"K\",U38=\"B\"),0,V38)","v":0},{"$f":"IF(OR(U38=\"U\",U38=\"K\",U38=\"B\"),0,W38)","v":0},{"$f":"INT(((SUM(AB38,AH38,AK38,AN38,AQ38,AS38,AU38,AW38,AY38,BA38,BC38,BE38,BG38)*100)+(SUM(AC38,AI38,AL38,AO38,AR38,AT38,AV38,AX38,AZ38,BB38,BD38,BF38,BH38)/60*100))/100)","v":0},{"$f":"MOD(((SUM(AC38,AI38,AL38,AO38,AR38,AT38,AV38,AX38,AZ38,BB38,BD38,BF38,BH38)*100)+(SUM(AC38,AI38,AL38,AO38,AR38,AT38,AV38,AX38,AZ38,BB38,BD38,BF38,BH38)/60*100))/100,1)*60","v":0},null,null,{"$f":"INT(((SUM(AH38,AK38,AN38)*100)+SUM(AI38,AL38,AO38)/60*100)/100)","v":0},{"$f":"MOD(((SUM(AI38,AL38,AO38)*100)+(SUM(AI38,AL38,AO38)/60*100))/100,1)*60","v":0},{"$f":"INT(((SUM(AQ38+AS38+AU38+AW38+AY38+BA38+BC38+BE38+BG38)*100)+SUM(AR38+AT38+AV38+AX38+AZ38+BB38+BD38+BF38+BH38)/60*100)/100)","v":0},{"$f":"MOD(((SUM(AR38+AT38+AV38+AX38+AZ38+BB38+BD38+BF38+BH38)*100)+(SUM(AR38+AT38+AV38+AX38+AZ38+BB38+BD38+BF38+BH38)/60*100))/100,1)*60","v":0},null,null,"",null,null,"",null,null,""]
[{"$f":"Einstellungen!$L$22","v":"max.Übertrag auf das"},null,null," "," "," ",{"$f":"IF(AND(E12>0,I39<>\"\",U39<>\"f\"),F12,0)","v":1},{"$f":"IF(AND(I39<>\"\",U39<>\"f\"),1,0)","v":1},{"$f":"IF(I38<>\"\",IF(MONTH(I38)=MONTH(I38+1),I38+1,\"\"),\"\")","v":"2026-08-25"},"Di",null,null,null,null,0,0,null,null,null,null,null,{"$f":"IF(OR(U39=\"U\",U39=\"k\",U39=\"B\"),$C$12,IF(S39>P39,O39-1-R39,O39-R39))","v":0},{"$f":"IF(OR(U39=\"U\",U39=\"k\",U39=\"B\"),$D$12,IF(S39>P39,P39+60-S39,P39-S39))","v":0},0,0,0,0,null,null,0,0,0,0,null,null,"",null,null,"",null,null,""]
[{"$f":"Einstellungen!$L$23","v":"Folgejahr Std.Min"},null,{"$f":"Einstellungen!$N$23","v":"41.00"},{"$f":"Einstellungen!$O$23","v":"41.00"}," ",{"$f":"Einstellungen!$Q$23","v":"41.00"},{"$f":"IF(AND(E13>0,I40<>\"\",U40<>\"f\"),F13,0)","v":1},{"$f":"IF(AND(I40<>\"\",U40<>\"f\"),1,0)","v":1},{"$f":"IF(I39<>\"\",IF(MONTH(I39)=MONTH(I39+1),I39+1,\"\"),\"\")","v":"2026-08-26"},"Mi",null,null,null,null,0,0,null,null,null,null,null,{"$f":"IF(OR(U40=\"U\",U40=\"k\",U40=\"B\"),$C$13,IF(S40>P40,O40-1-R40,O40-R40))","v":0},{"$f":"IF(OR(U40=\"U\",U40=\"k\",U40=\"B\"),$D$13,IF(S40>P40,P40+60-S40,P40-S40))","v":0},0,0,0,0,null,null,0,0,0,0,null,null,"",null,null,"",null,null,""]
[{"$f":"Einstellungen!$L$24","v":"Kernarbeitszeit:"},null,{"$f":"Einstellungen!$N$24","v":"Mo-Do"},{"$f":"Einstellungen!$O$24","v":"9:00 - 14:30 Uhr"},null,null,{"$f":"IF(AND(E14>0,I41<>\"\",U41<>\"f\"),F14,0)","v":1},{"$f":"IF(AND(I41<>\"\",U41<>\"f\"),1,0)","v":1},"2026-08-27","Do",null,null,null,null,0,0,null,null,null,null,null,{"$f":"IF(OR(U41=\"U\",U41=\"k\",U41=\"B\"),$C$14,IF(S41>P41,O41-1-R41,O41-R41))","v":0},{"$f":"IF(OR(U41=\"U\",U41=\"k\",U41=\"B\"),$D$14,IF(S41>P41,P41+60-S41,P41-S41))","v":0},0,0,0,0,null,null,0,0,0,0,null,null,"",null,null,"",null,null,""]
[{"$f":"Einstellungen!$L$25","v":""},{"$f":"Einstellungen!$M$25","v":""},{"$f":"Einstellungen!$N$25","v":"Fr"},{"$f":"Einstellungen!$O$25","v":"9:00 - 12:00 Uhr"},null,null,{"$f":"IF(AND(E15>0,I42<>\"\",U42<>\"f\"),F15,0)","v":1},{"$f":"IF(AND(I42<>\"\",U42<>\"f\"),1,0)","v":1},"2026-08-28","Fr",null,null,null,null,0,0,null,null,null,null,null,{"$f":"IF(OR(U42=\"U\",U42=\"k\",U42=\"B\"),$C$15,IF(S42>P42,O42-1-R42,O42-R42))","v":0},{"$f":"IF(OR(U42=\"U\",U42=\"k\",U42=\"B\"),$D$15,IF(S42>P42,P42+60-S42,P42-S42))","v":0},0,0,0,0,null,null,0,0,0,0,null,null,"",null,null,"",null,null,""]
[{"$f":"Einstellungen!$L$26","v":"Gleitzeit:"},{"$f":"Einstellungen!$M$26","v":"frühester Beginn"},null,null,null,{"$f":"Einstellungen!$P$26","v":"6:00 Uhr"},null,null,"2026-08-29","Sa",null,null,null,null,0,0,null,null,null,"nur dienstl. Sonderfälle!*",null,{"$f":"IF(S43>P43,O43-1-R43,O43-R43)","v":0},{"$f":"IF(S43>P43,P43+60-S43,P43-S43)","v":0},0,0,0,0,null,null,0,0,0,0,null,null,"",null,null,"",null,null,""]
[{"$f":"Einstellungen!$L$27","v":""},{"$f":"Einstellungen!$M$27","v":"spätestes Ende"},null,null,null,{"$f":"Einstellungen!$P$27","v":"21:00 Uhr"},null,null,"2026-08-30","So",null,null,null,null,0,0,null,null,null,"nur dienstl. Sonderfälle!*",null,{"$f":"IF(S44>P44,O44-1-R44,O44-R44)","v":0},{"$f":"IF(S44>P44,P44+60-S44,P44-S44)","v":0},0,0,0,0,null,null,0,0,0,0,null,null,"",null,null,"",null,null,""]
[{"$f":"Einstellungen!$L$29","v":"Mittagspause zw."},null,null,{"$f":"Einstellungen!$O$29","v":"11:15 - 14:00 Uhr"},null,null,null,null,null,null,null,null,null,null,null,null,null,null,null,null,null,{"$f":"INT((60*SUM(V38:V44)+SUM(W38:W44)-W45)/60)","v":0},{"$f":"INT(60*SUM(V38:V44)+SUM(W38:W44)-60*INT((60*SUM(V38:V44)+SUM(W38:W44))/60))","v":0},{"$f":"INT((60*SUM(X38:X44)+SUM(Y38:Y44)-Y45)/60)","v":0},{"$f":"INT(60*SUM(X38:X44)+SUM(Y38:Y44)-60*INT((60*SUM(X38:X44)+SUM(Y38:Y44))/60))","v":0},{"$f":"INT((60*SUM(Z38:Z44)+SUM(AA38:AA44)-AA45)/60)","v":0},{"$f":"INT(60*SUM(Z38:Z44)+SUM(AA38:AA44)-60*INT((60*SUM(Z38:Z44)+SUM(AA38:AA44))/60))","v":0},{"$f":"INT((60*SUM(AB38:AB44)+SUM(AC38:AC44)-AC45)/60)","v":0},{"$f":"INT(60*SUM(AB38:AB44)+SUM(AC38:AC44)-60*INT((60*SUM(AB38:AB44)+SUM(AC38:AC44))/60))","v":0},{"$f":"INT((60*SUM(AD38:AD44)+SUM(AE38:AE44)-AE45)/60)","v":0},{"$f":"INT(60*SUM(AD38:AD44)+SUM(AE38:AE44)-60*INT((60*SUM(AD38:AD44)+SUM(AE38:AE44))/60))","v":0},{"$f":"INT((60*SUM(AF38:AF44)+SUM(AG38:AG44)-AG45)/60)","v":0},{"$f":"INT(60*SUM(AF38:AF44)+SUM(AG38:AG44)-60*INT((60*SUM(AF38:AF44)+SUM(AG38:AG44))/60))","v":0},{"$f":"INT((60*SUM(AH38:AH44)+SUM(AI38:AI44)-AI45)/60)","v":0},{"$f":"INT(60*SUM(AH38:AH44)+SUM(AI38:AI44)-60*INT((60*SUM(AH38:AH44)+SUM(AI38:AI44))/60))","v":0},null,{"$f":"INT((60*SUM(AK38:AK44)+SUM(AL38:AL44)-AL45)/60)","v":0},{"$f":"INT(60*SUM(AK38:AK44)+SUM(AL38:AL44)-60*INT((60*SUM(AK38:AK44)+SUM(AL38:AL44))/60))","v":0},null,{"$f":"INT((60*SUM(AN38:AN44)+SUM(AO38:AO44)-AO45)/60)","v":0},{"$f":"INT(60*SUM(AN38:AN44)+SUM(AO38:AO44)-60*INT((60*SUM(AN38:AN44)+SUM(AO38:AO44))/60))","v":0},null,{"$f":"INT((60*SUM(AQ38:AQ44)+SUM(AR38:AR44)-AR45)/60)","v":0},{"$f":"INT(60*SUM(AQ38:AQ44)+SUM(AR38:AR44)-60*INT((60*SUM(AQ38:AQ44)+SUM(AR38:AR44))/60))","v":0},{"$f":"INT((60*SUM(AS38:AS44)+SUM(AT38:AT44)-AT45)/60)","v":0},{"$f":"INT(60*SUM(AS38:AS44)+SUM(AT38:AT44)-60*INT((60*SUM(AS38:AS44)+SUM(AT38:AT44))/60))","v":0},{"$f":"INT((60*SUM(AU38:AU44)+SUM(AV38:AV44)-AV45)/60)","v":0},{"$f":"INT(60*SUM(AU38:AU44)+SUM(AV38:AV44)-60*INT((60*SUM(AU38:AU44)+SUM(AV38:AV44))/60))","v":0},{"$f":"INT((60*SUM(AW38:AW44)+SUM(AX38:AX44)-AX45)/60)","v":0},{"$f":"INT(60*SUM(AW38:AW44)+SUM(AX38:AX44)-60*INT((60*SUM(AW38:AW44)+SUM(AX38:AX44))/60))","v":0},{"$f":"INT((60*SUM(AY38:AY44)+SUM(AZ38:AZ44)-AZ45)/60)","v":0},{"$f":"INT(60*SUM(AY38:AY44)+SUM(AZ38:AZ44)-60*INT((60*SUM(AY38:AY44)+SUM(AZ38:AZ44))/60))","v":0},{"$f":"INT((60*SUM(BA38:BA44)+SUM(BB38:BB44)-BB45)/60)","v":0},{"$f":"INT(60*SUM(BA38:BA44)+SUM(BB38:BB44)-60*INT((60*SUM(BA38:BA44)+SUM(BB38:BB44))/60))","v":0},{"$f":"INT((60*SUM(BC38:BC44)+SUM(BD38:BD44)-BD45)/60)","v":0},{"$f":"INT(60*SUM(BC38:BC44)+SUM(BD38:BD44)-60*INT((60*SUM(BC38:BC44)+SUM(BD38:BD44))/60))","v":0},{"$f":"INT((60*SUM(BE38:BE44)+SUM(BF38:BF44)-BF45)/60)","v":0},{"$f":"INT(60*SUM(BE38:BE44)+SUM(BF38:BF44)-60*INT((60*SUM(BE38:BE44)+SUM(BF38:BF44))/60))","v":0},{"$f":"INT((60*SUM(BG38:BG44)+SUM(BH38:BH44)-BH45)/60)","v":0},{"$f":"INT(60*SUM(BG38:BG44)+SUM(BH38:BH44)-60*INT((60*SUM(BG38:BG44)+SUM(BH38:BH44))/60))","v":0}]
[]
[{"$f":"Einstellungen!$L$30","v":"ab 6 Std. Arbeitszeit: Dauer min."},null,null,null,null,{"$f":"Einstellungen!$Q$30","v":"30 Min"},{"$f":"IF(AND(E11>0,I47<>\"\",U47<>\"f\"),F11,0)","v":1},{"$f":"IF(AND(I47<>\"\",U47<>\"f\"),1,0)","v":1},{"$f":"IF(I44<>\"\",IF(MONTH(I44)=MONTH(I44+1),I44+1,\"\"),\"\")","v":"2026-08-31"},"Mo",null,null,null,null,{"$f":"HOUR(N47-K47-(M47-L47))","v":0},{"$f":"MINUTE(N47-K47-(M47-L47))","v":0},null,null,null,null,null,{"$f":"IF(OR(U47=\"U\",U47=\"k\",U47=\"B\"),$C$11,IF(S47>P47,O47-1-R47,O47-R47))","v":0},{"$f":"IF(OR(U47=\"U\",U47=\"k\",U47=\"B\"),$D$11,IF(S47>P47,P47+60-S47,P47-S47))","v":0},{"$f":"IF(OR(U47=\"U\",U47=\"K\",U47=\"B\"),0,V47)","v":0},{"$f":"IF(OR(U47=\"U\",U47=\"K\",U47=\"B\"),0,W47)","v":0},{"$f":"INT(((SUM(AB47,AH47,AK47,AN47,AQ47,AS47,AU47,AW47,AY47,BA47,BC47,BE47,BG47)*100)+(SUM(AC47,AI47,AL47,AO47,AR47,AT47,AV47,AX47,AZ47,BB47,BD47,BF47,BH47)/60*100))/100)","v":0},{"$f":"MOD(((SUM(AC47,AI47,AL47,AO47,AR47,AT47,AV47,AX47,AZ47,BB47,BD47,BF47,BH47)*100)+(SUM(AC47,AI47,AL47,AO47,AR47,AT47,AV47,AX47,AZ47,BB47,BD47,BF47,BH47)/60*100))/100,1)*60","v":0},null,null,{"$f":"INT(((SUM(AH47,AK47,AN47)*100)+SUM(AI47,AL47,AO47)/60*100)/100)","v":0},{"$f":"MOD(((SUM(AI47,AL47,AO47)*100)+(SUM(AI47,AL47,AO47)/60*100))/100,1)*60","v":0},{"$f":"INT(((SUM(AQ47+AS47+AU47+AW47+AY47+BA47+BC47+BE47+BG47)*100)+SUM(AR47+AT47+AV47+AX47+AZ47+BB47+BD47+BF47+BH47)/60*100)/100)","v":0},{"$f":"MOD(((SUM(AR47+AT47+AV47+AX47+AZ47+BB47+BD47+BF47+BH47)*100)+(SUM(AR47+AT47+AV47+AX47+AZ47+BB47+BD47+BF47+BH47)/60*100))/100,1)*60","v":0},null,null,"",null,null,"",null,null,""]
[{"$f":"Einstellungen!$L$31","v":"ab 9 Std. (exklusiv Beamte) min."},null,null,null,null,{"$f":"Einstellungen!$Q$31","v":"45 Min"},{"$f":"IF(AND(E12>0,I48<>\"\",U48<>\"f\"),F12,0)","v":0},{"$f":"IF(AND(I48<>\"\",U48<>\"f\"),1,0)","v":0},{"$f":"IF(I47<>\"\",IF(MONTH(I47)=MONTH(I47+1),I47+1,\"\"),\"\")","v":""},"Di",null,null,null,null,0,0,null,null,null,null,null,{"$f":"IF(OR(U48=\"U\",U48=\"k\",U48=\"B\"),$C$12,IF(S48>P48,O48-1-R48,O48-R48))","v":0},{"$f":"IF(OR(U48=\"U\",U48=\"k\",U48=\"B\"),$D$12,IF(S48>P48,P48+60-S48,P48-S48))","v":0},0,0,0,0,null,null,0,0,0,0,null,null,"",null,null,"",null,null,""]
[{"$f":"Einstellungen!$L$32","v":""},null," ",{"$f":"Einstellungen!$O$32","v":"max."},null,{"$f":"Einstellungen!$Q$32","v":"120 Min"},{"$f":"IF(AND(E13>0,I49<>\"\",U49<>\"f\"),F13,0)","v":0},{"$f":"IF(AND(I49<>\"\",U49<>\"f\"),1,0)","v":0},{"$f":"IF(I48<>\"\",IF(MONTH(I48)=MONTH(I48+1),I48+1,\"\"),\"\")","v":""},"Mi",null,null,null,null,0,0,null,null,null,null,null,{"$f":"IF(OR(U49=\"U\",U49=\"k\",U49=\"B\"),$C$13,IF(S49>P49,O49-1-R49,O49-R49))","v":0},{"$f":"IF(OR(U49=\"U\",U49=\"k\",U49=\"B\"),$D$13,IF(S49>P49,P49+60-S49,P49-S49))","v":0},0,0,0,0,null,null,0,0,0,0,null,null,"",null,null,"",null,null,""]
[{"$f":"Einstellungen!$L$33","v":"tägliche Arbeitszeit  "},null,null,null,null,{"$f":"Einstellungen!$Q$33","v":" 10 Std"},{"$f":"IF(AND(E14>0,I50<>\"\",U50<>\"f\"),F14,0)","v":0},{"$f":"IF(AND(I50<>\"\",U50<>\"f\"),1,0)","v":0},"","Do",null,null,null,null,0,0,null,null,null,null,null,{"$f":"IF(OR(U50=\"U\",U50=\"k\",U50=\"B\"),$C$14,IF(S50>P50,O50-1-R50,O50-R50))","v":0},{"$f":"IF(OR(U50=\"U\",U50=\"k\",U50=\"B\"),$D$14,IF(S50>P50,P50+60-S50,P50-S50))","v":0},0,0,0,0,null,null,0,0,0,0,null,null,"",null,null,"",null,null,""]
[{"$f":"Einstellungen!$L$34","v":"*) beachte § 5 der Dienstvereinbarung vom 17.04.2024 über die Arbeitszeit der Beschäftigten der Universität Hohenheim"},null,null,null,null,null,{"$f":"IF(AND(E15>0,I51<>\"\",U51<>\"f\"),F15,0)","v":0},{"$f":"IF(AND(I51<>\"\",U51<>\"f\"),1,0)","v":0},"","Fr",null,null,null,null,0,0,null,null,null,null,null,{"$f":"IF(OR(U51=\"U\",U51=\"k\",U51=\"B\"),$C$15,IF(S51>P51,O51-1-R51,O51-R51))","v":0},{"$f":"IF(OR(U51=\"U\",U51=\"k\",U51=\"B\"),$D$15,IF(S51>P51,P51+60-S51,P51-S51))","v":0},0,0,0,0,null,null,0,0,0,0,null,null,"",null,null,"",null,null,""]
[null,null,null,null,null,null,null,null,"","Sa",null,null,null,null,0,0,null,null,null,"nur dienstl. Sonderfälle!*",null,{"$f":"IF(S52>P52,O52-1-R52,O52-R52)","v":0},{"$f":"IF(S52>P52,P52+60-S52,P52-S52)","v":0},0,0,0,0,null,null,0,0,0,0,null,null,"",null,null,"",null,null,""]
[null,null,null,null,null,null,null,null,"","So",null,null,null,null,0,0,null,null,null,"nur dienstl. Sonderfälle!*",null,{"$f":"IF(S53>P53,O53-1-R53,O53-R53)","v":0},{"$f":"IF(S53>P53,P53+60-S53,P53-S53)","v":0},0,0,0,0,null,null,0,0,0,0,null,null,"",null,null,"",null,null,""]
[null,null,null,null,null,null,null,null,null,null,null,null,null,null,null,null,null,null,null,null,null,{"$f":"INT((60*SUM(V47:V53)+SUM(W47:W53)-W54)/60)","v":0},{"$f":"INT(60*SUM(V47:V53)+SUM(W47:W53)-60*INT((60*SUM(V47:V53)+SUM(W47:W53))/60))","v":0},{"$f":"INT((60*SUM(X47:X53)+SUM(Y47:Y53)-Y54)/60)","v":0},{"$f":"INT(60*SUM(X47:X53)+SUM(Y47:Y53)-60*INT((60*SUM(X47:X53)+SUM(Y47:Y53))/60))","v":0},{"$f":"INT((60*SUM(Z47:Z53)+SUM(AA47:AA53)-AA54)/60)","v":0},{"$f":"INT(60*SUM(Z47:Z53)+SUM(AA47:AA53)-60*INT((60*SUM(Z47:Z53)+SUM(AA47:AA53))/60))","v":0},{"$f":"INT((60*SUM(AB47:AB53)+SUM(AC47:AC53)-AC54)/60)","v":0},{"$f":"INT(60*SUM(AB47:AB53)+SUM(AC47:AC53)-60*INT((60*SUM(AB47:AB53)+SUM(AC47:AC53))/60))","v":0},{"$f":"INT((60*SUM(AD47:AD53)+SUM(AE47:AE53)-AE54)/60)","v":0},{"$f":"INT(60*SUM(AD47:AD53)+SUM(AE47:AE53)-60*INT((60*SUM(AD47:AD53)+SUM(AE47:AE53))/60))","v":0},{"$f":"INT((60*SUM(AF47:AF53)+SUM(AG47:AG53)-AG54)/60)","v":0},{"$f":"INT(60*SUM(AF47:AF53)+SUM(AG47:AG53)-60*INT((60*SUM(AF47:AF53)+SUM(AG47:AG53))/60))","v":0},{"$f":"INT((60*SUM(AH47:AH53)+SUM(AI47:AI53)-AI54)/60)","v":0},{"$f":"INT(60*SUM(AH47:AH53)+SUM(AI47:AI53)-60*INT((60*SUM(AH47:AH53)+SUM(AI47:AI53))/60))","v":0},null,{"$f":"INT((60*SUM(AK47:AK53)+SUM(AL47:AL53)-AL54)/60)","v":0},{"$f":"INT(60*SUM(AK47:AK53)+SUM(AL47:AL53)-60*INT((60*SUM(AK47:AK53)+SUM(AL47:AL53))/60))","v":0},null,{"$f":"INT((60*SUM(AN47:AN53)+SUM(AO47:AO53)-AO54)/60)","v":0},{"$f":"INT(60*SUM(AN47:AN53)+SUM(AO47:AO53)-60*INT((60*SUM(AN47:AN53)+SUM(AO47:AO53))/60))","v":0},null,{"$f":"INT((60*SUM(AQ47:AQ53)+SUM(AR47:AR53)-AR54)/60)","v":0},{"$f":"INT(60*SUM(AQ47:AQ53)+SUM(AR47:AR53)-60*INT((60*SUM(AQ47:AQ53)+SUM(AR47:AR53))/60))","v":0},{"$f":"INT((60*SUM(AS47:AS53)+SUM(AT47:AT53)-AT54)/60)","v":0},{"$f":"INT(60*SUM(AS47:AS53)+SUM(AT47:AT53)-60*INT((60*SUM(AS47:AS53)+SUM(AT47:AT53))/60))","v":0},{"$f":"INT((60*SUM(AU47:AU53)+SUM(AV47:AV53)-AV54)/60)","v":0},{"$f":"INT(60*SUM(AU47:AU53)+SUM(AV47:AV53)-60*INT((60*SUM(AU47:AU53)+SUM(AV47:AV53))/60))","v":0},{"$f":"INT((60*SUM(AW47:AW53)+SUM(AX47:AX53)-AX54)/60)","v":0},{"$f":"INT(60*SUM(AW47:AW53)+SUM(AX47:AX53)-60*INT((60*SUM(AW47:AW53)+SUM(AX47:AX53))/60))","v":0},{"$f":"INT((60*SUM(AY47:AY53)+SUM(AZ47:AZ53)-AZ54)/60)","v":0},{"$f":"INT(60*SUM(AY47:AY53)+SUM(AZ47:AZ53)-60*INT((60*SUM(AY47:AY53)+SUM(AZ47:AZ53))/60))","v":0},{"$f":"INT((60*SUM(BA47:BA53)+SUM(BB47:BB53)-BB54)/60)","v":0},{"$f":"INT(60*SUM(BA47:BA53)+SUM(BB47:BB53)-60*INT((60*SUM(BA47:BA53)+SUM(BB47:BB53))/60))","v":0},{"$f":"INT((60*SUM(BC47:BC53)+SUM(BD47:BD53)-BD54)/60)","v":0},{"$f":"INT(60*SUM(BC47:BC53)+SUM(BD47:BD53)-60*INT((60*SUM(BC47:BC53)+SUM(BD47:BD53))/60))","v":0},{"$f":"INT((60*SUM(BE47:BE53)+SUM(BF47:BF53)-BF54)/60)","v":0},{"$f":"INT(60*SUM(BE47:BE53)+SUM(BF47:BF53)-60*INT((60*SUM(BE47:BE53)+SUM(BF47:BF53))/60))","v":0},{"$f":"INT((60*SUM(BG47:BG53)+SUM(BH47:BH53)-BH54)/60)","v":0},{"$f":"INT(60*SUM(BG47:BG53)+SUM(BH47:BH53)-60*INT((60*SUM(BG47:BG53)+SUM(BH47:BH53))/60))","v":0}]
[null,null,null,null,null,null,{"$f":"SUM(G5:G53)","v":21},{"$f":"SUM(H5:H53)","v":21},"August",null,null,null,null,null,null,{"$f":"Einstellungen!A1","v":2026},null,null,null,null,null,null,null,"Summe:",null,"Summe:",null,"Summe:",null,"Summe:",null,"Summe:",null,{"$f":"INT(((SUM(AH9,AH18,AH27,AH36,AH45,AH54)*100)+(SUM(AI9,AI18,AI27,AI36,AI45,AI54)/60*100))/100)","v":0},{"$f":"MOD(((SUM(AH9,AH18,AH27,AH36,AH45,AH54)*100)+(SUM(AI9,AI18,AI27,AI36,AI45,AI54)/60*100))/100,1)*60","v":0},null,{"$f":"INT(((SUM(AK9,AK18,AK27,AK36,AK45,AK54)*100)+(SUM(AL9,AL18,AL27,AL36,AL45,AL54)/60*100))/100)","v":0},{"$f":"MOD(((SUM(AK9,AK18,AK27,AK36,AK45,AK54)*100)+(SUM(AL9,AL18,AL27,AL36,AL45,AL54)/60*100))/100,1)*60","v":0},null,{"$f":"INT(((SUM(AN9,AN18,AN27,AN36,AN45,AN54)*100)+(SUM(AO9,AO18,AO27,AO36,AO45,AO54)/60*100))/100)","v":0},{"$f":"MOD(((SUM(AN9,AN18,AN27,AN36,AN45,AN54)*100)+(SUM(AO9,AO18,AO27,AO36,AO45,AO54)/60*100))/100,1)*60","v":0},null,{"$f":"INT(((SUM(AQ9,AQ18,AQ27,AQ36,AQ45,AQ54)*100)+(SUM(AR9,AR18,AR27,AR36,AR45,AR54)/60*100))/100)","v":0},{"$f":"MOD(((SUM(AQ9,AQ18,AQ27,AQ36,AQ45,AQ54)*100)+(SUM(AR9,AR18,AR27,AR36,AR45,AR54)/60*100))/100,1)*60","v":0},{"$f":"INT(((SUM(AS9,AS18,AS27,AS36,AS45,AS54)*100)+(SUM(AT9,AT18,AT27,AT36,AT45,AT54)/60*100))/100)","v":0},{"$f":"MOD(((SUM(AS9,AS18,AS27,AS36,AS45,AS54)*100)+(SUM(AT9,AT18,AT27,AT36,AT45,AT54)/60*100))/100,1)*60","v":0},{"$f":"INT(((SUM(AU9,AU18,AU27,AU36,AU45,AU54)*100)+(SUM(AV9,AV18,AV27,AV36,AV45,AV54)/60*100))/100)","v":0},{"$f":"MOD(((SUM(AU9,AU18,AU27,AU36,AU45,AU54)*100)+(SUM(AV9,AV18,AV27,AV36,AV45,AV54)/60*100))/100,1)*60","v":0},{"$f":"INT(((SUM(AW9,AW18,AW27,AW36,AW45,AW54)*100)+(SUM(AX9,AX18,AX27,AX36,AX45,AX54)/60*100))/100)","v":0},{"$f":"MOD(((SUM(AW9,AW18,AW27,AW36,AW45,AW54)*100)+(SUM(AX9,AX18,AX27,AX36,AX45,AX54)/60*100))/100,1)*60","v":0},{"$f":"INT(((SUM(AY9,AY18,AY27,AY36,AY45,AY54)*100)+(SUM(AZ9,AZ18,AZ27,AZ36,AZ45,AZ54)/60*100))/100)","v":0},{"$f":"MOD(((SUM(AY9,AY18,AY27,AY36,AY45,AY54)*100)+(SUM(AZ9,AZ18,AZ27,AZ36,AZ45,AZ54)/60*100))/100,1)*60","v":0},{"$f":"INT(((SUM(BA9,BA18,BA27,BA36,BA45,BA54)*100)+(SUM(BB9,BB18,BB27,BB36,BB45,BB54)/60*100))/100)","v":0},{"$f":"MOD(((SUM(BA9,BA18,BA27,BA36,BA45,BA54)*100)+(SUM(BB9,BB18,BB27,BB36,BB45,BB54)/60*100))/100,1)*60","v":0},{"$f":"INT(((SUM(BC9,BC18,BC27,BC36,BC45,BC54)*100)+(SUM(BD9,BD18,BD27,BD36,BD45,BD54)/60*100))/100)","v":0},{"$f":"MOD(((SUM(BC9,BC18,BC27,BC36,BC45,BC54)*100)+(SUM(BD9,BD18,BD27,BD36,BD45,BD54)/60*100))/100,1)*60","v":0},{"$f":"INT(((SUM(BE9,BE18,BE27,BE36,BE45,BE54)*100)+(SUM(BF9,BF18,BF27,BF36,BF45,BF54)/60*100))/100)","v":0},{"$f":"MOD(((SUM(BE9,BE18,BE27,BE36,BE45,BE54)*100)+(SUM(BF9,BF18,BF27,BF36,BF45,BF54)/60*100))/100,1)*60","v":0},{"$f":"INT(((SUM(BG9,BG18,BG27,BG36,BG45,BG54)*100)+(SUM(BH9,BH18,BH27,BH36,BH45,BH54)/60*100))/100)","v":0},{"$f":"MOD(((SUM(BG9,BG18,BG27,BG36,BG45,BG54)*100)+(SUM(BH9,BH18,BH27,BH36,BH45,BH54)/60*100))/100,1)*60","v":0}]
[null,null,null,null,null,null,null,null,"Abrechnungsmonat",null,null,null,null,null,null,"Jahr",null,null,null,"Monatsarbeitszeit IST",null,{"$f":"INT((60*SUM(V54,V45,V36,V27,V18,V9)+SUM(W54,W45,W36,W27,W18,W9)-W56)/60)","v":0},{"$f":"INT(60*SUM(V54,V45,V36,V27,V18,V9)+SUM(W54,W45,W36,W27,W18,W9)-60*INT((60*SUM(V54,V45,V36,V27,V18,V9)+SUM(W54,W45,W36,W27,W18,W9))/60))","v":0},{"$f":"INT((60*SUM(X54,X45,X36,X27,X18,X9)+SUM(Y54,Y45,Y36,Y27,Y18,Y9)-Y56)/60)","v":0},{"$f":"INT(60*SUM(X54,X45,X36,X27,X18,X9)+SUM(Y54,Y45,Y36,Y27,Y18,Y9)-60*INT((60*SUM(X54,X45,X36,X27,X18,X9)+SUM(Y54,Y45,Y36,Y27,Y18,Y9))/60))","v":0},{"$f":"INT((60*SUM(Z54,Z45,Z36,Z27,Z18,Z9)+SUM(AA54,AA45,AA36,AA27,AA18,AA9)-AA56)/60)","v":0},{"$f":"INT(60*SUM(Z54,Z45,Z36,Z27,Z18,Z9)+SUM(AA54,AA45,AA36,AA27,AA18,AA9)-60*INT((60*SUM(Z54,Z45,Z36,Z27,Z18,Z9)+SUM(AA54,AA45,AA36,AA27,AA18,AA9))/60))","v":0},{"$f":"INT((60*SUM(AB54,AB45,AB36,AB27,AB18,AB9)+SUM(AC54,AC45,AC36,AC27,AC18,AC9)-AC56)/60)","v":0},{"$f":"INT(60*SUM(AB54,AB45,AB36,AB27,AB18,AB9)+SUM(AC54,AC45,AC36,AC27,AC18,AC9)-60*INT((60*SUM(AB54,AB45,AB36,AB27,AB18,AB9)+SUM(AC54,AC45,AC36,AC27,AC18,AC9))/60))","v":0},{"$f":"INT((60*SUM(AD54,AD45,AD36,AD27,AD18,AD9)+SUM(AE54,AE45,AE36,AE27,AE18,AE9)-AE56)/60)","v":0},{"$f":"INT(60*SUM(AD54,AD45,AD36,AD27,AD18,AD9)+SUM(AE54,AE45,AE36,AE27,AE18,AE9)-60*INT((60*SUM(AD54,AD45,AD36,AD27,AD18,AD9)+SUM(AE54,AE45,AE36,AE27,AE18,AE9))/60))","v":0},{"$f":"INT((60*SUM(AF54,AF45,AF36,AF27,AF18,AF9)+SUM(AG54,AG45,AG36,AG27,AG18,AG9)-AG56)/60)","v":0},{"$f":"INT(60*SUM(AF54,AF45,AF36,AF27,AF18,AF9)+SUM(AG54,AG45,AG36,AG27,AG18,AG9)-60*INT((60*SUM(AF54,AF45,AF36,AF27,AF18,AF9)+SUM(AG54,AG45,AG36,AG27,AG18,AG9))/60))","v":0}]
[null,null,null,null,null,null,null,null,{"$f":"Einstellungen!K23","v":"Franziska von Hohenheim"},null,null,null,null,null,null,null,null,null,null,"Übertrag aus Vormonat (+/-)",{"$f":"IF(V57*W57<0,\"!\",\"\")","v":""},{"$f":"ROUND(Juli!V60,0)","v":-1137},{"$f":"ROUND(Juli!W60,0)","v":-36}]
[null,null,null,null,null,null,null,null,"Name, Vorname",null,null,null,null,null,null,null,"Datum",null,null,"Summe",null,{"$f":"ROUND(SIGN(V56+V57+(W56+W57)/60)*ROUNDDOWN(ABS(V56+V57+(W56+W57)/60),0),0)","v":-1137},{"$f":"ROUND(SIGN(V56+V57+(W56+W57)/60)*(ABS(V56+V57+(W56+W57)/60)-ABS(V58))*60,0)","v":-36}]
[null,null,null,null,null,null,null,null,{"$f":"Einstellungen!$K$25","v":"630"},null,{"$f":"Einstellungen!K24","v":"KIM"},null,null,null,null,null,null,null,null,"Monatsarbeitszeit SOLL",null,{"$f":"SUM(Einstellungen!B10)","v":165},{"$f":"SUM(Einstellungen!C10)","v":54}]
[null,null,null,null,null,null,null,null,"Einr.-Nr.",null,"Abt. / FG",null,null,null,null,null,"Name Leiter/in",null,null,"Zeitübertrag auf Folgemonat",{"$f":"IF(V60*W60<0,\"!\",\"\")","v":""},{"$f":"ROUND(SIGN(V58-V59+(W58-W59)/60)*ROUNDDOWN(ABS(V58-V59+(W58-W59)/60),0),0)","v":-1303},{"$f":"ROUND(SIGN(V58-V59+(W58-W59)/60)*(ABS(V58-V59+(W58-W59)/60)-ABS(V60))*60,0)","v":-30}]
[]
[null,null,null,null,null,null,null,null,null,null,null,null,null,null,null,null,null,null,null,"Summe Urlaubstage",null,{"$f":"SUMPRODUCT((U5:U6=\"U\")*(E14:E15>0))+SUMPRODUCT((U11:U15=\"U\")*(E11:E15>0))+SUMPRODUCT((U20:U24=\"U\")*(E11:E15>0))+SUMPRODUCT((U29:U33=\"U\")*(E11:E15>0))+SUMPRODUCT((U38:U42=\"U\")*(E11:E15>0))+SUMPRODUCT((U47:U51=\"U\")*(E11:E15>0))","v":0}]
[null,null,null,null,null,null,null,null,"Datum",null,"Unterschrift Mitarbeiter/in",null,null,null,null,null,"Unterschrift Leiter/in",null,null,"alter / neuer Übertrag",null,{"$f":"IF(SUM(Einstellungen!K27:K30)>0,Juli!W63,\"--- \")","v":30},{"$f":"IF(SUM(Einstellungen!K27:K30)>0,V63-V62,\"--- \")","v":30}]

{"sheet":"Sept","index":8,"n_rows":63,"n_cols":60,"rows_kept":63,"cut":false,"hidden":true,"merged":[[0,31,0,32],[0,23,0,24],[0,25,0,26],[0,27,0,28],[0,29,0,30],[1,23,1,24],[1,25,1,26],[54,31,54,32],[50,0,52,5],[37,0,37,1],[38,0,38,2],[2,23,2,24],[2,25,2,26],[28,0,28,1],[29,0,29,1],[30,0,30,2],[35,0,35,1],[7,0,7,3],[40,3,40,5],[41,3,41,5],[44,3,44,5],[61,21,61,22],[63,25,63,26],[54,27,54,28],[54,29,54,30],[39,0,39,1],[46,0,46,3],[47,0,47,3],[49,0,49,3],[54,23,54,24],[54,25,54,26],[61,20,62,20],[0,42,2,43],[0,44,2,45],[0,46,2,47],[0,33,2,35],[0,36,2,38],[0,39,2,41],[0,58,2,59],[0,48,2,49],[0,50,2,51],[0,52,2,53],[0,54,2,55],[0,56,2,57]]}
[{"$f":"Einstellungen!A27","v":"Universität Hohenheim KIM © 2026"},null,null,null,null,null,null,null,"Datum",null,"Arbeits-",null,null,"Arbeits-","Arb.Zeit ohne",null,"Sonstige Unterbrechungen",null,null,"Erläuterungen, Hinweise,","U,K","Reine Arb.-",null,"Productive",null,"Productive",null,"Sonstiges",null,"Summe ",null,"Summe",null,{"$f":"Projektdaten!D4","v":"EU Projekt 1"},null,null,{"$f":"Projektdaten!D6","v":"EU Projekt 2"},null,null,{"$f":"Projektdaten!D8","v":"EU Projekt 3"},null,null,{"$f":"Projektdaten!D13","v":"Projekt 1"},null,{"$f":"Projektdaten!D15","v":"Projekt 2"},null,{"$f":"Projektdaten!D17","v":"Projekt 3"},null,{"$f":"Projektdaten!D19","v":"Projekt 4"},null,{"$f":"Projektdaten!D21","v":"Projekt 5"},null,{"$f":"Projektdaten!D23","v":"Projekt 6"},null,{"$f":"Projektdaten!D25","v":"Projekt 7"},null,{"$f":"Projektdaten!D27","v":"Projekt 8"},null,{"$f":"Projektdaten!D29","v":"Projekt 9"}]
["Arbeitszeitblatt",null,null,{"$f":"Einstellungen!A28","v":"Version 5.12"},null,null,null,null,"Tag","Wo-","beginn","Mittagspause",null,"ende","Mittagspause",null,"von - bis","Gesamtdauer",null,"Vermerke, z.B. Dienstreise","F,X","Zeit","IST","Hours",null,"Hours",null,null,null,"EU-",null,"andere"]
[null,null,null,null,null,null,null,null,null,"tag",null,"von","bis",null,"Std.","Min.",null,"Std.","Min.","  - non eligible -","A,B","Std.","Min.","i.S.d. EU",null,"verteilt",null,null," ","Projekte",null,"Projekte"]
[null,null,null,null,null,null,null,null,null,null,null,null,null,null,null,null,null,null,null,null,null,null,null,"Std.","Min.","Std.","Min.","Std.","Min.","Std.","Min.","Std.","Min.","Std.","Min.","Geleistete Arbeitspakete nach Annex 1","Std.","Min.","Geleistete Arbeitspakete nach Annex 1","Std.","Min.","Geleistete Arbeitspakete nach Annex 1","Std.","Min.","Std.","Min.","Std.","Min.","Std.","Min.","Std.","Min.","Std.","Min.","Std.","Min.","Std.","Min.","Std.","Min."]
[null,null,null,null,null,"U",{"$f":"IF(AND(E14>0,I5<>\"\",U5<>\"f\"),1,0)","v":0},{"$f":"IF(AND(I5<>\"\",U5<>\"f\"),1,0)","v":0},{"$f":"IF(CHOOSE(WEEKDAY(Einstellungen!$A$11,2),\"Mo\",\"Di\",\"Mi\",\"Do\",\"Fr\",\"Sa\",\"So\")=J5,Einstellungen!$A$11,\"\")","v":""},"Do",null,null,null,null,{"$f":"HOUR(N5-K5-(M5-L5))","v":0},{"$f":"MINUTE(N5-K5-(M5-L5))","v":0},null,null,null,null,null,{"$f":"IF(OR(U5=\"U\",U5=\"k\",U5=\"B\"),$C$14,IF(S5>P5,O5-1-R5,O5-R5))","v":0},{"$f":"IF(OR(U5=\"U\",U5=\"k\",U5=\"B\"),$D$14,IF(S5>P5,P5+60-S5,P5-S5))","v":0},{"$f":"IF(OR(U5=\"U\",U5=\"K\",U5=\"B\"),0,V5)","v":0},{"$f":"IF(OR(U5=\"U\",U5=\"K\",U5=\"B\"),0,W5)","v":0},{"$f":"INT(((SUM(AB5,AH5,AK5,AN5,AQ5,AS5,AU5,AW5,AY5,BA5,BC5,BE5,BG5)*100)+(SUM(AC5,AI5,AL5,AO5,AR5,AT5,AV5,AX5,AZ5,BB5,BD5,BF5,BH5)/60*100))/100)","v":0},{"$f":"MOD(((SUM(AC5,AI5,AL5,AO5,AR5,AT5,AV5,AX5,AZ5,BB5,BD5,BF5,BH5)*100)+(SUM(AC5,AI5,AL5,AO5,AR5,AT5,AV5,AX5,AZ5,BB5,BD5,BF5,BH5)/60*100))/100,1)*60","v":0},null,null,{"$f":"INT(((SUM(AH5,AK5,AN5)*100)+SUM(AI5,AL5,AO5)/60*100)/100)","v":0},{"$f":"MOD(((SUM(AI5,AL5,AO5)*100)+(SUM(AI5,AL5,AO5)/60*100))/100,1)*60","v":0},{"$f":"INT(((SUM(AQ5+AS5+AU5+AW5+AY5+BA5+BC5+BE5+BG5)*100)+SUM(AR5+AT5+AV5+AX5+AZ5+BB5+BD5+BF5+BH5)/60*100)/100)","v":0},{"$f":"MOD(((SUM(AR5+AT5+AV5+AX5+AZ5+BB5+BD5+BF5+BH5)*100)+(SUM(AR5+AT5+AV5+AX5+AZ5+BB5+BD5+BF5+BH5)/60*100))/100,1)*60","v":0},null,null,"",null,null,"",null,null,""]
[null,null,null,null,null,"K",{"$f":"IF(AND(E15>0,I6<>\"\",U6<>\"f\"),F14,0)","v":0},{"$f":"IF(AND(I6<>\"\",U6<>\"f\"),1,0)","v":0},{"$f":"IF(I5<>\"\",I5+1,IF(CHOOSE(WEEKDAY(Einstellungen!$A$11,2),\"Mo\",\"Di\",\"Mi\",\"Do\",\"Fr\",\"Sa\",\"So\")=J6,Einstellungen!$A$11,\"\"))","v":""},"Fr",null,null,null,null,{"$f":"HOUR(N6-K6-(M6-L6))","v":0},{"$f":"MINUTE(N6-K6-(M6-L6))","v":0},null,null,null,null,null,{"$f":"IF(OR(U6=\"U\",U6=\"k\",U6=\"B\"),$C$15,IF(S6>P6,O6-1-R6,O6-R6))","v":0},{"$f":"IF(OR(U6=\"U\",U6=\"k\",U6=\"B\"),$D$15,IF(S6>P6,P6+60-S6,P6-S6))","v":0},{"$f":"IF(OR(U6=\"U\",U6=\"K\",U6=\"B\"),0,V6)","v":0},{"$f":"IF(OR(U6=\"U\",U6=\"K\",U6=\"B\"),0,W6)","v":0},{"$f":"INT(((SUM(AB6,AH6,AK6,AN6,AQ6,AS6,AU6,AW6,AY6,BA6,BC6,BE6,BG6)*100)+(SUM(AC6,AI6,AL6,AO6,AR6,AT6,AV6,AX6,AZ6,BB6,BD6,BF6,BH6)/60*100))/100)","v":0},{"$f":"MOD(((SUM(AC6,AI6,AL6,AO6,AR6,AT6,AV6,AX6,AZ6,BB6,BD6,BF6,BH6)*100)+(SUM(AC6,AI6,AL6,AO6,AR6,AT6,AV6,AX6,AZ6,BB6,BD6,BF6,BH6)/60*100))/100,1)*60","v":0},null,null,{"$f":"INT(((SUM(AH6,AK6,AN6)*100)+SUM(AI6,AL6,AO6)/60*100)/100)","v":0},{"$f":"MOD(((SUM(AI6,AL6,AO6)*100)+(SUM(AI6,AL6,AO6)/60*100))/100,1)*60","v":0},{"$f":"INT(((SUM(AQ6+AS6+AU6+AW6+AY6+BA6+BC6+BE6+BG6)*100)+SUM(AR6+AT6+AV6+AX6+AZ6+BB6+BD6+BF6+BH6)/60*100)/100)","v":0},{"$f":"MOD(((SUM(AR6+AT6+AV6+AX6+AZ6+BB6+BD6+BF6+BH6)*100)+(SUM(AR6+AT6+AV6+AX6+AZ6+BB6+BD6+BF6+BH6)/60*100))/100,1)*60","v":0},null,null,"",null,null,"",null,null,""]
[null,null,null,null,null,"A",{"$f":"IF(AND(E16>0,I7<>\"\",U7<>\"f\"),F15,0)","v":0},null,{"$f":"IF(I6<>\"\",I6+1,IF(CHOOSE(WEEKDAY(Einstellungen!$A$11,2),\"Mo\",\"Di\",\"Mi\",\"Do\",\"Fr\",\"Sa\",\"So\")=J7,Einstellungen!$A$11,\"\"))","v":""},"Sa",null,null,null,null,{"$f":"HOUR(N7-K7-(M7-L7))","v":0},{"$f":"MINUTE(N7-K7-(M7-L7))","v":0},null,null,null,"nur dienstl. Sonderfälle!*",null,{"$f":"IF(S7>P7,O7-1-R7,O7-R7)","v":0},{"$f":"IF(S7>P7,P7+60-S7,P7-S7)","v":0},0,0,{"$f":"INT(((SUM(AB7,AH7,AK7,AN7,AQ7,AS7,AU7,AW7,AY7,BA7,BC7,BE7,BG7)*100)+(SUM(AC7,AI7,AL7,AO7,AR7,AT7,AV7,AX7,AZ7,BB7,BD7,BF7,BH7)/60*100))/100)","v":0},{"$f":"MOD(((SUM(AC7,AI7,AL7,AO7,AR7,AT7,AV7,AX7,AZ7,BB7,BD7,BF7,BH7)*100)+(SUM(AC7,AI7,AL7,AO7,AR7,AT7,AV7,AX7,AZ7,BB7,BD7,BF7,BH7)/60*100))/100,1)*60","v":0},null,null,{"$f":"INT(((SUM(AH7,AK7,AN7)*100)+SUM(AI7,AL7,AO7)/60*100)/100)","v":0},{"$f":"MOD(((SUM(AI7,AL7,AO7)*100)+(SUM(AI7,AL7,AO7)/60*100))/100,1)*60","v":0},{"$f":"INT(((SUM(AQ7+AS7+AU7+AW7+AY7+BA7+BC7+BE7+BG7)*100)+SUM(AR7+AT7+AV7+AX7+AZ7+BB7+BD7+BF7+BH7)/60*100)/100)","v":0},{"$f":"MOD(((SUM(AR7+AT7+AV7+AX7+AZ7+BB7+BD7+BF7+BH7)*100)+(SUM(AR7+AT7+AV7+AX7+AZ7+BB7+BD7+BF7+BH7)/60*100))/100,1)*60","v":0},null,null,"",null,null,"",null,null,""]
[{"$f":"IF(Einstellungen!D25>0.0005,\"Bitte Werte prüfen\",\"\")","v":""},null,null,null,null,"B",null,null,{"$f":"IF(I7<>\"\",I7+1,IF(CHOOSE(WEEKDAY(Einstellungen!$A$11,2),\"Mo\",\"Di\",\"Mi\",\"Do\",\"Fr\",\"Sa\",\"So\")=J8,Einstellungen!$A$11,\"\"))","v":""},"So",null,null,null,null,{"$f":"HOUR(N8-K8-(M8-L8))","v":0},{"$f":"MINUTE(N8-K8-(M8-L8))","v":0},null,null,null,"nur dienstl. Sonderfälle!*",null,{"$f":"IF(S8>P8,O8-1-R8,O8-R8)","v":0},{"$f":"IF(S8>P8,P8+60-S8,P8-S8)","v":0},0,0,{"$f":"INT(((SUM(AB8,AH8,AK8,AN8,AQ8,AS8,AU8,AW8,AY8,BA8,BC8,BE8,BG8)*100)+(SUM(AC8,AI8,AL8,AO8,AR8,AT8,AV8,AX8,AZ8,BB8,BD8,BF8,BH8)/60*100))/100)","v":0},{"$f":"MOD(((SUM(AC8,AI8,AL8,AO8,AR8,AT8,AV8,AX8,AZ8,BB8,BD8,BF8,BH8)*100)+(SUM(AC8,AI8,AL8,AO8,AR8,AT8,AV8,AX8,AZ8,BB8,BD8,BF8,BH8)/60*100))/100,1)*60","v":0},null,null,{"$f":"INT(((SUM(AH8,AK8,AN8)*100)+SUM(AI8,AL8,AO8)/60*100)/100)","v":0},{"$f":"MOD(((SUM(AI8,AL8,AO8)*100)+(SUM(AI8,AL8,AO8)/60*100))/100,1)*60","v":0},{"$f":"INT(((SUM(AQ8+AS8+AU8+AW8+AY8+BA8+BC8+BE8+BG8)*100)+SUM(AR8+AT8+AV8+AX8+AZ8+BB8+BD8+BF8+BH8)/60*100)/100)","v":0},{"$f":"MOD(((SUM(AR8+AT8+AV8+AX8+AZ8+BB8+BD8+BF8+BH8)*100)+(SUM(AR8+AT8+AV8+AX8+AZ8+BB8+BD8+BF8+BH8)/60*100))/100,1)*60","v":0},null,null,"",null,null,"",null,null,""]
["Meine tägl. Regelarbeitszeit:",null,null,null,null,"X",null,null,null,null,null,null,null,null,null,null,null,null,null,null,null,{"$f":"INT((60*SUM(V5:V8)+SUM(W5:W8)-W9)/60)","v":0},{"$f":"INT(60*SUM(V5:V8)+SUM(W5:W8)-60*INT((60*SUM(V5:V8)+SUM(W5:W8))/60))","v":0},{"$f":"INT((60*SUM(X5:X8)+SUM(Y5:Y8)-Y9)/60)","v":0},{"$f":"INT(60*SUM(X5:X8)+SUM(Y5:Y8)-60*INT((60*SUM(X5:X8)+SUM(Y5:Y8))/60))","v":0},{"$f":"INT((60*SUM(Z5:Z8)+SUM(AA5:AA8)-AA9)/60)","v":0},{"$f":"INT(60*SUM(Z5:Z8)+SUM(AA5:AA8)-60*INT((60*SUM(Z5:Z8)+SUM(AA5:AA8))/60))","v":0},{"$f":"INT((60*SUM(AB5:AB8)+SUM(AC5:AC8)-AC9)/60)","v":0},{"$f":"INT(60*SUM(AB5:AB8)+SUM(AC5:AC8)-60*INT((60*SUM(AB5:AB8)+SUM(AC5:AC8))/60))","v":0},{"$f":"INT((60*SUM(AD5:AD8)+SUM(AE5:AE8)-AE9)/60)","v":0},{"$f":"INT(60*SUM(AD5:AD8)+SUM(AE5:AE8)-60*INT((60*SUM(AD5:AD8)+SUM(AE5:AE8))/60))","v":0},{"$f":"INT((60*SUM(AF5:AF8)+SUM(AG5:AG8)-AG9)/60)","v":0},{"$f":"INT(60*SUM(AF5:AF8)+SUM(AG5:AG8)-60*INT((60*SUM(AF5:AF8)+SUM(AG5:AG8))/60))","v":0},{"$f":"INT((60*SUM(AH5:AH8)+SUM(AI5:AI8)-AI9)/60)","v":0},{"$f":"INT(60*SUM(AH5:AH8)+SUM(AI5:AI8)-60*INT((60*SUM(AH5:AH8)+SUM(AI5:AI8))/60))","v":0},null,{"$f":"INT((60*SUM(AK5:AK8)+SUM(AL5:AL8)-AL9)/60)","v":0},{"$f":"INT(60*SUM(AK5:AK8)+SUM(AL5:AL8)-60*INT((60*SUM(AK5:AK8)+SUM(AL5:AL8))/60))","v":0},null,{"$f":"INT((60*SUM(AN5:AN8)+SUM(AO5:AO8)-AO9)/60)","v":0},{"$f":"INT(60*SUM(AN5:AN8)+SUM(AO5:AO8)-60*INT((60*SUM(AN5:AN8)+SUM(AO5:AO8))/60))","v":0},null,{"$f":"INT((60*SUM(AQ5:AQ8)+SUM(AR5:AR8)-AR9)/60)","v":0},{"$f":"INT(60*SUM(AQ5:AQ8)+SUM(AR5:AR8)-60*INT((60*SUM(AQ5:AQ8)+SUM(AR5:AR8))/60))","v":0},{"$f":"INT((60*SUM(AS5:AS8)+SUM(AT5:AT8)-AT9)/60)","v":0},{"$f":"INT(60*SUM(AS5:AS8)+SUM(AT5:AT8)-60*INT((60*SUM(AS5:AS8)+SUM(AT5:AT8))/60))","v":0},{"$f":"INT((60*SUM(AU5:AU8)+SUM(AV5:AV8)-AV9)/60)","v":0},{"$f":"INT(60*SUM(AU5:AU8)+SUM(AV5:AV8)-60*INT((60*SUM(AU5:AU8)+SUM(AV5:AV8))/60))","v":0},{"$f":"INT((60*SUM(AW5:AW8)+SUM(AX5:AX8)-AX9)/60)","v":0},{"$f":"INT(60*SUM(AW5:AW8)+SUM(AX5:AX8)-60*INT((60*SUM(AW5:AW8)+SUM(AX5:AX8))/60))","v":0},{"$f":"INT((60*SUM(AY5:AY8)+SUM(AZ5:AZ8)-AZ9)/60)","v":0},{"$f":"INT(60*SUM(AY5:AY8)+SUM(AZ5:AZ8)-60*INT((60*SUM(AY5:AY8)+SUM(AZ5:AZ8))/60))","v":0},{"$f":"INT((60*SUM(BA5:BA8)+SUM(BB5:BB8)-BB9)/60)","v":0},{"$f":"INT(60*SUM(BA5:BA8)+SUM(BB5:BB8)-60*INT((60*SUM(BA5:BA8)+SUM(BB5:BB8))/60))","v":0},{"$f":"INT((60*SUM(BC5:BC8)+SUM(BD5:BD8)-BD9)/60)","v":0},{"$f":"INT(60*SUM(BC5:BC8)+SUM(BD5:BD8)-60*INT((60*SUM(BC5:BC8)+SUM(BD5:BD8))/60))","v":0},{"$f":"INT((60*SUM(BE5:BE8)+SUM(BF5:BF8)-BF9)/60)","v":0},{"$f":"INT(60*SUM(BE5:BE8)+SUM(BF5:BF8)-60*INT((60*SUM(BE5:BE8)+SUM(BF5:BF8))/60))","v":0},{"$f":"INT((60*SUM(BG5:BG8)+SUM(BH5:BH8)-BH9)/60)","v":0},{"$f":"INT(60*SUM(BG5:BG8)+SUM(BH5:BH8)-60*INT((60*SUM(BG5:BG8)+SUM(BH5:BH8))/60))","v":0}]
[null,null,null,null,{"$f":"5-COUNTIF(E11:E15,0)","v":5},{"$f":"(SUM(C11:C15)*60+SUM(D11:D15))/E10","v":474}]
["Mo",{"$f":"IF(E11=0,\"frei\",\"\")","v":""},{"$f":"SUM(Einstellungen!C19)","v":7},{"$f":"SUM(Einstellungen!D19)","v":54},{"$f":"C11*60+D11","v":474},{"$f":"E11/$F$10","v":1},{"$f":"IF(AND(E11>0,I11<>\"\",U11<>\"f\"),F11,0)","v":0},{"$f":"IF(AND(I11<>\"\",U11<>\"f\"),1,0)","v":0},{"$f":"IF(I8<>\"\",I8+1,IF(CHOOSE(WEEKDAY(Einstellungen!$A$11,2),\"Mo\",\"Di\",\"Mi\",\"Do\",\"Fr\",\"Sa\",\"So\")=J11,Einstellungen!$A$11,\"\"))","v":""},"Mo",null,null,null,null,{"$f":"HOUR(N11-K11-(M11-L11))","v":0},{"$f":"MINUTE(N11-K11-(M11-L11))","v":0},null,null,null,null,null,{"$f":"IF(OR(U11=\"U\",U11=\"k\",U11=\"B\"),$C$11,IF(S11>P11,O11-1-R11,O11-R11))","v":0},{"$f":"IF(OR(U11=\"U\",U11=\"k\",U11=\"B\"),$D$11,IF(S11>P11,P11+60-S11,P11-S11))","v":0},{"$f":"IF(OR(U11=\"U\",U11=\"K\",U11=\"B\"),0,V11)","v":0},{"$f":"IF(OR(U11=\"U\",U11=\"K\",U11=\"B\"),0,W11)","v":0},{"$f":"INT(((SUM(AB11,AH11,AK11,AN11,AQ11,AS11,AU11,AW11,AY11,BA11,BC11,BE11,BG11)*100)+(SUM(AC11,AI11,AL11,AO11,AR11,AT11,AV11,AX11,AZ11,BB11,BD11,BF11,BH11)/60*100))/100)","v":0},{"$f":"MOD(((SUM(AC11,AI11,AL11,AO11,AR11,AT11,AV11,AX11,AZ11,BB11,BD11,BF11,BH11)*100)+(SUM(AC11,AI11,AL11,AO11,AR11,AT11,AV11,AX11,AZ11,BB11,BD11,BF11,BH11)/60*100))/100,1)*60","v":0},null,null,{"$f":"INT(((SUM(AH11,AK11,AN11)*100)+SUM(AI11,AL11,AO11)/60*100)/100)","v":0},{"$f":"MOD(((SUM(AI11,AL11,AO11)*100)+(SUM(AI11,AL11,AO11)/60*100))/100,1)*60","v":0},{"$f":"INT(((SUM(AQ11+AS11+AU11+AW11+AY11+BA11+BC11+BE11+BG11)*100)+SUM(AR11+AT11+AV11+AX11+AZ11+BB11+BD11+BF11+BH11)/60*100)/100)","v":0},{"$f":"MOD(((SUM(AR11+AT11+AV11+AX11+AZ11+BB11+BD11+BF11+BH11)*100)+(SUM(AR11+AT11+AV11+AX11+AZ11+BB11+BD11+BF11+BH11)/60*100))/100,1)*60","v":0},null,null,"",null,null,"",null,null,""]
["Di",{"$f":"IF(E12=0,\"frei\",\"\")","v":""},{"$f":"SUM(Einstellungen!C20)","v":7},{"$f":"SUM(Einstellungen!D20)","v":54},{"$f":"C12*60+D12","v":474},{"$f":"E12/$F$10","v":1},{"$f":"IF(AND(E12>0,I12<>\"\",U12<>\"f\"),F12,0)","v":1},{"$f":"IF(AND(I12<>\"\",U12<>\"f\"),1,0)","v":1},{"$f":"IF(I11<>\"\",I11+1,IF(CHOOSE(WEEKDAY(Einstellungen!$A$11,2),\"Mo\",\"Di\",\"Mi\",\"Do\",\"Fr\",\"Sa\",\"So\")=J12,Einstellungen!$A$11,\"\"))","v":"2026-09-01"},"Di",null,null,null,null,{"$f":"HOUR(N12-K12-(M12-L12))","v":0},{"$f":"MINUTE(N12-K12-(M12-L12))","v":0},null,null,null,null,null,{"$f":"IF(OR(U12=\"U\",U12=\"k\",U12=\"B\"),$C$12,IF(S12>P12,O12-1-R12,O12-R12))","v":0},{"$f":"IF(OR(U12=\"U\",U12=\"k\",U12=\"B\"),$D$12,IF(S12>P12,P12+60-S12,P12-S12))","v":0},0,0,0,0,null,null,0,0,0,0,null,null,"",null,null,"",null,null,""]
["Mi",{"$f":"IF(E13=0,\"frei\",\"\")","v":""},{"$f":"SUM(Einstellungen!C21)","v":7},{"$f":"SUM(Einstellungen!D21)","v":54},{"$f":"C13*60+D13","v":474},{"$f":"E13/$F$10","v":1},{"$f":"IF(AND(E13>0,I13<>\"\",U13<>\"f\"),F13,0)","v":1},{"$f":"IF(AND(I13<>\"\",U13<>\"f\"),1,0)","v":1},{"$f":"IF(I12<>\"\",I12+1,IF(CHOOSE(WEEKDAY(Einstellungen!$A$11,2),\"Mo\",\"Di\",\"Mi\",\"Do\",\"Fr\",\"Sa\",\"So\")=J13,Einstellungen!$A$11,\"\"))","v":"2026-09-02"},"Mi",null,null,null,null,0,0,null,null,null,null,null,{"$f":"IF(OR(U13=\"U\",U13=\"k\",U13=\"B\"),$C$13,IF(S13>P13,O13-1-R13,O13-R13))","v":0},{"$f":"IF(OR(U13=\"U\",U13=\"k\",U13=\"B\"),$D$13,IF(S13>P13,P13+60-S13,P13-S13))","v":0},0,0,0,0,null,null,0,0,0,0,null,null,"",null,null,"",null,null,""]
["Do",{"$f":"IF(E14=0,\"frei\",\"\")","v":""},{"$f":"SUM(Einstellungen!C22)","v":7},{"$f":"SUM(Einstellungen!D22)","v":54},{"$f":"C14*60+D14","v":474},{"$f":"E14/$F$10","v":1},{"$f":"IF(AND(E14>0,I14<>\"\",U14<>\"f\"),F14,0)","v":1},{"$f":"IF(AND(I14<>\"\",U14<>\"f\"),1,0)","v":1},{"$f":"IF(I13<>\"\",I13+1,IF(CHOOSE(WEEKDAY(Einstellungen!$A$11,2),\"Mo\",\"Di\",\"Mi\",\"Do\",\"Fr\",\"Sa\",\"So\")=J14,Einstellungen!$A$11,\"\"))","v":"2026-09-03"},"Do",null,null,null,null,0,0,null,null,null,null,null,{"$f":"IF(OR(U14=\"U\",U14=\"k\",U14=\"B\"),$C$14,IF(S14>P14,O14-1-R14,O14-R14))","v":0},{"$f":"IF(OR(U14=\"U\",U14=\"k\",U14=\"B\"),$D$14,IF(S14>P14,P14+60-S14,P14-S14))","v":0},0,0,0,0,null,null,0,0,0,0,null,null,"",null,null,"",null,null,""]
["Fr",{"$f":"IF(E15=0,\"frei\",\"\")","v":""},{"$f":"SUM(Einstellungen!C23)","v":7},{"$f":"SUM(Einstellungen!D23)","v":54},{"$f":"C15*60+D15","v":474},{"$f":"E15/$F$10","v":1},{"$f":"IF(AND(E15>0,I15<>\"\",U15<>\"f\"),F15,0)","v":1},{"$f":"IF(AND(I15<>\"\",U15<>\"f\"),1,0)","v":1},{"$f":"I14+1","v":"2026-09-04"},"Fr",null,null,null,null,0,0,null,null,null,null,null,{"$f":"IF(OR(U15=\"U\",U15=\"k\",U15=\"B\"),$C$15,IF(S15>P15,O15-1-R15,O15-R15))","v":0},{"$f":"IF(OR(U15=\"U\",U15=\"k\",U15=\"B\"),$D$15,IF(S15>P15,P15+60-S15,P15-S15))","v":0},0,0,0,0,null,null,0,0,0,0,null,null,"",null,null,"",null,null,""]
[{"$f":"Einstellungen!$L$1","v":"Hinweise:"},null,null,null,null,null,null,null,{"$f":"I15+1","v":"2026-09-05"},"Sa",null,null,null,null,0,0,null,null,null,"nur dienstl. Sonderfälle!*",null,{"$f":"IF(S16>P16,O16-1-R16,O16-R16)","v":0},{"$f":"IF(S16>P16,P16+60-S16,P16-S16)","v":0},0,0,0,0,null,null,0,0,0,0,null,null,"",null,null,"",null,null,""]
[{"$f":"Einstellungen!$L$2","v":"I Beschäftigte mit 39,5 Std-Woche"},null,null,null,null,null,null,null,{"$f":"I16+1","v":"2026-09-06"},"So",null,null,null,null,0,0,null,null,null,"nur dienstl. Sonderfälle!*",null,{"$f":"IF(S17>P17,O17-1-R17,O17-R17)","v":0},{"$f":"IF(S17>P17,P17+60-S17,P17-S17)","v":0},0,0,0,0,null,null,0,0,0,0,null,null,"",null,null,"",null,null,""]
[{"$f":"Einstellungen!$L$3","v":""},null,{"$f":"Einstellungen!$N$3","v":"Beschäftigungsumfang"},null,null,null,null,null,null,null,null,null,null,null,null,null,null,null,null,null,null,{"$f":"INT((60*SUM(V11:V17)+SUM(W11:W17)-W18)/60)","v":0},{"$f":"INT(60*SUM(V11:V17)+SUM(W11:W17)-60*INT((60*SUM(V11:V17)+SUM(W11:W17))/60))","v":0},{"$f":"INT((60*SUM(X11:X17)+SUM(Y11:Y17)-Y18)/60)","v":0},{"$f":"INT(60*SUM(X11:X17)+SUM(Y11:Y17)-60*INT((60*SUM(X11:X17)+SUM(Y11:Y17))/60))","v":0},{"$f":"INT((60*SUM(Z11:Z17)+SUM(AA11:AA17)-AA18)/60)","v":0},{"$f":"INT(60*SUM(Z11:Z17)+SUM(AA11:AA17)-60*INT((60*SUM(Z11:Z17)+SUM(AA11:AA17))/60))","v":0},{"$f":"INT((60*SUM(AB11:AB17)+SUM(AC11:AC17)-AC18)/60)","v":0},{"$f":"INT(60*SUM(AB11:AB17)+SUM(AC11:AC17)-60*INT((60*SUM(AB11:AB17)+SUM(AC11:AC17))/60))","v":0},{"$f":"INT((60*SUM(AD11:AD17)+SUM(AE11:AE17)-AE18)/60)","v":0},{"$f":"INT(60*SUM(AD11:AD17)+SUM(AE11:AE17)-60*INT((60*SUM(AD11:AD17)+SUM(AE11:AE17))/60))","v":0},{"$f":"INT((60*SUM(AF11:AF17)+SUM(AG11:AG17)-AG18)/60)","v":0},{"$f":"INT(60*SUM(AF11:AF17)+SUM(AG11:AG17)-60*INT((60*SUM(AF11:AF17)+SUM(AG11:AG17))/60))","v":0},{"$f":"INT((60*SUM(AH11:AH17)+SUM(AI11:AI17)-AI18)/60)","v":0},{"$f":"INT(60*SUM(AH11:AH17)+SUM(AI11:AI17)-60*INT((60*SUM(AH11:AH17)+SUM(AI11:AI17))/60))","v":0},null,{"$f":"INT((60*SUM(AK11:AK17)+SUM(AL11:AL17)-AL18)/60)","v":0},{"$f":"INT(60*SUM(AK11:AK17)+SUM(AL11:AL17)-60*INT((60*SUM(AK11:AK17)+SUM(AL11:AL17))/60))","v":0},null,{"$f":"INT((60*SUM(AN11:AN17)+SUM(AO11:AO17)-AO18)/60)","v":0},{"$f":"INT(60*SUM(AN11:AN17)+SUM(AO11:AO17)-60*INT((60*SUM(AN11:AN17)+SUM(AO11:AO17))/60))","v":0},null,{"$f":"INT((60*SUM(AQ11:AQ17)+SUM(AR11:AR17)-AR18)/60)","v":0},{"$f":"INT(60*SUM(AQ11:AQ17)+SUM(AR11:AR17)-60*INT((60*SUM(AQ11:AQ17)+SUM(AR11:AR17))/60))","v":0},{"$f":"INT((60*SUM(AS11:AS17)+SUM(AT11:AT17)-AT18)/60)","v":0},{"$f":"INT(60*SUM(AS11:AS17)+SUM(AT11:AT17)-60*INT((60*SUM(AS11:AS17)+SUM(AT11:AT17))/60))","v":0},{"$f":"INT((60*SUM(AU11:AU17)+SUM(AV11:AV17)-AV18)/60)","v":0},{"$f":"INT(60*SUM(AU11:AU17)+SUM(AV11:AV17)-60*INT((60*SUM(AU11:AU17)+SUM(AV11:AV17))/60))","v":0},{"$f":"INT((60*SUM(AW11:AW17)+SUM(AX11:AX17)-AX18)/60)","v":0},{"$f":"INT(60*SUM(AW11:AW17)+SUM(AX11:AX17)-60*INT((60*SUM(AW11:AW17)+SUM(AX11:AX17))/60))","v":0},{"$f":"INT((60*SUM(AY11:AY17)+SUM(AZ11:AZ17)-AZ18)/60)","v":0},{"$f":"INT(60*SUM(AY11:AY17)+SUM(AZ11:AZ17)-60*INT((60*SUM(AY11:AY17)+SUM(AZ11:AZ17))/60))","v":0},{"$f":"INT((60*SUM(BA11:BA17)+SUM(BB11:BB17)-BB18)/60)","v":0},{"$f":"INT(60*SUM(BA11:BA17)+SUM(BB11:BB17)-60*INT((60*SUM(BA11:BA17)+SUM(BB11:BB17))/60))","v":0},{"$f":"INT((60*SUM(BC11:BC17)+SUM(BD11:BD17)-BD18)/60)","v":0},{"$f":"INT(60*SUM(BC11:BC17)+SUM(BD11:BD17)-60*INT((60*SUM(BC11:BC17)+SUM(BD11:BD17))/60))","v":0},{"$f":"INT((60*SUM(BE11:BE17)+SUM(BF11:BF17)-BF18)/60)","v":0},{"$f":"INT(60*SUM(BE11:BE17)+SUM(BF11:BF17)-60*INT((60*SUM(BE11:BE17)+SUM(BF11:BF17))/60))","v":0},{"$f":"INT((60*SUM(BG11:BG17)+SUM(BH11:BH17)-BH18)/60)","v":0},{"$f":"INT(60*SUM(BG11:BG17)+SUM(BH11:BH17)-60*INT((60*SUM(BG11:BG17)+SUM(BH11:BH17))/60))","v":0}]
[]
[{"$f":"Einstellungen!$L$4","v":"5 Tage-Woche"},null,{"$f":"Einstellungen!$N$4","v":1},{"$f":"Einstellungen!$O$4","v":0.75},null,{"$f":"Einstellungen!$Q$4","v":0.5},{"$f":"IF(AND(E11>0,I20<>\"\",U20<>\"f\"),F11,0)","v":1},{"$f":"IF(AND(I20<>\"\",U20<>\"f\"),1,0)","v":1},{"$f":"I17+1","v":"2026-09-07"},"Mo",null,null,null,null,{"$f":"HOUR(N20-K20-(M20-L20))","v":0},{"$f":"MINUTE(N20-K20-(M20-L20))","v":0},null,null,null,null,null,{"$f":"IF(OR(U20=\"U\",U20=\"k\",U20=\"B\"),$C$11,IF(S20>P20,O20-1-R20,O20-R20))","v":0},{"$f":"IF(OR(U20=\"U\",U20=\"k\",U20=\"B\"),$D$11,IF(S20>P20,P20+60-S20,P20-S20))","v":0},{"$f":"IF(OR(U20=\"U\",U20=\"K\",U20=\"B\"),0,V20)","v":0},{"$f":"IF(OR(U20=\"U\",U20=\"K\",U20=\"B\"),0,W20)","v":0},{"$f":"INT(((SUM(AB20,AH20,AK20,AN20,AQ20,AS20,AU20,AW20,AY20,BA20,BC20,BE20,BG20)*100)+(SUM(AC20,AI20,AL20,AO20,AR20,AT20,AV20,AX20,AZ20,BB20,BD20,BF20,BH20)/60*100))/100)","v":0},{"$f":"MOD(((SUM(AC20,AI20,AL20,AO20,AR20,AT20,AV20,AX20,AZ20,BB20,BD20,BF20,BH20)*100)+(SUM(AC20,AI20,AL20,AO20,AR20,AT20,AV20,AX20,AZ20,BB20,BD20,BF20,BH20)/60*100))/100,1)*60","v":0},null,null,{"$f":"INT(((SUM(AH20,AK20,AN20)*100)+SUM(AI20,AL20,AO20)/60*100)/100)","v":0},{"$f":"MOD(((SUM(AI20,AL20,AO20)*100)+(SUM(AI20,AL20,AO20)/60*100))/100,1)*60","v":0},{"$f":"INT(((SUM(AQ20+AS20+AU20+AW20+AY20+BA20+BC20+BE20+BG20)*100)+SUM(AR20+AT20+AV20+AX20+AZ20+BB20+BD20+BF20+BH20)/60*100)/100)","v":0},{"$f":"MOD(((SUM(AR20+AT20+AV20+AX20+AZ20+BB20+BD20+BF20+BH20)*100)+(SUM(AR20+AT20+AV20+AX20+AZ20+BB20+BD20+BF20+BH20)/60*100))/100,1)*60","v":0},null,null,"",null,null,"",null,null,""]
[{"$f":"Einstellungen!$L$5","v":""},null," "," ",null," ",{"$f":"IF(AND(E12>0,I21<>\"\",U21<>\"f\"),F12,0)","v":1},{"$f":"IF(AND(I21<>\"\",U21<>\"f\"),1,0)","v":1},{"$f":"I20+1","v":"2026-09-08"},"Di",null,null,null,null,0,0,null,null,null,null,null,{"$f":"IF(OR(U21=\"U\",U21=\"k\",U21=\"B\"),$C$12,IF(S21>P21,O21-1-R21,O21-R21))","v":0},{"$f":"IF(OR(U21=\"U\",U21=\"k\",U21=\"B\"),$D$12,IF(S21>P21,P21+60-S21,P21-S21))","v":0},0,0,0,0,null,null,0,0,0,0,null,null,"",null,null,"",null,null,""]
[{"$f":"Einstellungen!$L$6","v":"tägliche Regel-"},null," "," ",null," ",{"$f":"IF(AND(E13>0,I22<>\"\",U22<>\"f\"),F13,0)","v":1},{"$f":"IF(AND(I22<>\"\",U22<>\"f\"),1,0)","v":1},{"$f":"I21+1","v":"2026-09-09"},"Mi",null,null,null,null,0,0,null,null,null,null,null,{"$f":"IF(OR(U22=\"U\",U22=\"k\",U22=\"B\"),$C$13,IF(S22>P22,O22-1-R22,O22-R22))","v":0},{"$f":"IF(OR(U22=\"U\",U22=\"k\",U22=\"B\"),$D$13,IF(S22>P22,P22+60-S22,P22-S22))","v":0},0,0,0,0,null,null,0,0,0,0,null,null,"",null,null,"",null,null,""]
[{"$f":"Einstellungen!$L$7","v":"arbeitszeit für"},null,null,null,null,null,{"$f":"IF(AND(E14>0,I23<>\"\",U23<>\"f\"),F14,0)","v":1},{"$f":"IF(AND(I23<>\"\",U23<>\"f\"),1,0)","v":1},"2026-09-10","Do",null,null,null,null,0,0,null,null,null,null,null,{"$f":"IF(OR(U23=\"U\",U23=\"k\",U23=\"B\"),$C$14,IF(S23>P23,O23-1-R23,O23-R23))","v":0},{"$f":"IF(OR(U23=\"U\",U23=\"k\",U23=\"B\"),$D$14,IF(S23>P23,P23+60-S23,P23-S23))","v":0},0,0,0,0,null,null,0,0,0,0,null,null,"",null,null,"",null,null,""]
[{"$f":"Einstellungen!$L$8","v":"Wochenfeier-"},null,null,null,null,null,{"$f":"IF(AND(E15>0,I24<>\"\",U24<>\"f\"),F15,0)","v":1},{"$f":"IF(AND(I24<>\"\",U24<>\"f\"),1,0)","v":1},"2026-09-11","Fr",null,null,null,null,0,0,null,null,null,null,null,{"$f":"IF(OR(U24=\"U\",U24=\"k\",U24=\"B\"),$C$15,IF(S24>P24,O24-1-R24,O24-R24))","v":0},{"$f":"IF(OR(U24=\"U\",U24=\"k\",U24=\"B\"),$D$15,IF(S24>P24,P24+60-S24,P24-S24))","v":0},0,0,0,0,null,null,0,0,0,0,null,null,"",null,null,"",null,null,""]
[{"$f":"Einstellungen!$L$9","v":"tage, bei Urlaub"},null,null,null,null,null,null,null,"2026-09-12","Sa",null,null,null,null,0,0,null,null,null,"nur dienstl. Sonderfälle!*",null,{"$f":"IF(S25>P25,O25-1-R25,O25-R25)","v":0},{"$f":"IF(S25>P25,P25+60-S25,P25-S25)","v":0},0,0,0,0,null,null,0,0,0,0,null,null,"",null,null,"",null,null,""]
[{"$f":"Einstellungen!$L$10","v":"oder Krankheit"},null,null,null,null,null,null,null,"2026-09-13","So",null,null,null,null,0,0,null,null,null,"nur dienstl. Sonderfälle!*",null,{"$f":"IF(S26>P26,O26-1-R26,O26-R26)","v":0},{"$f":"IF(S26>P26,P26+60-S26,P26-S26)","v":0},0,0,0,0,null,null,0,0,0,0,null,null,"",null,null,"",null,null,""]
[{"$f":"Einstellungen!$L$11","v":"Mo-Fr  "},{"$f":"Einstellungen!$M$11","v":"Std.Min"},{"$f":"Einstellungen!$N$11","v":" 7.54"},{"$f":"Einstellungen!$O$11","v":" 5.56"},null,{"$f":"Einstellungen!$Q$11","v":" 3.57"},null,null,null,null,null,null,null,null,null,null,null,null,null,null,null,{"$f":"INT((60*SUM(V20:V26)+SUM(W20:W26)-W27)/60)","v":0},{"$f":"INT(60*SUM(V20:V26)+SUM(W20:W26)-60*INT((60*SUM(V20:V26)+SUM(W20:W26))/60))","v":0},{"$f":"INT((60*SUM(X20:X26)+SUM(Y20:Y26)-Y27)/60)","v":0},{"$f":"INT(60*SUM(X20:X26)+SUM(Y20:Y26)-60*INT((60*SUM(X20:X26)+SUM(Y20:Y26))/60))","v":0},{"$f":"INT((60*SUM(Z20:Z26)+SUM(AA20:AA26)-AA27)/60)","v":0},{"$f":"INT(60*SUM(Z20:Z26)+SUM(AA20:AA26)-60*INT((60*SUM(Z20:Z26)+SUM(AA20:AA26))/60))","v":0},{"$f":"INT((60*SUM(AB20:AB26)+SUM(AC20:AC26)-AC27)/60)","v":0},{"$f":"INT(60*SUM(AB20:AB26)+SUM(AC20:AC26)-60*INT((60*SUM(AB20:AB26)+SUM(AC20:AC26))/60))","v":0},{"$f":"INT((60*SUM(AD20:AD26)+SUM(AE20:AE26)-AE27)/60)","v":0},{"$f":"INT(60*SUM(AD20:AD26)+SUM(AE20:AE26)-60*INT((60*SUM(AD20:AD26)+SUM(AE20:AE26))/60))","v":0},{"$f":"INT((60*SUM(AF20:AF26)+SUM(AG20:AG26)-AG27)/60)","v":0},{"$f":"INT(60*SUM(AF20:AF26)+SUM(AG20:AG26)-60*INT((60*SUM(AF20:AF26)+SUM(AG20:AG26))/60))","v":0},{"$f":"INT((60*SUM(AH20:AH26)+SUM(AI20:AI26)-AI27)/60)","v":0},{"$f":"INT(60*SUM(AH20:AH26)+SUM(AI20:AI26)-60*INT((60*SUM(AH20:AH26)+SUM(AI20:AI26))/60))","v":0},null,{"$f":"INT((60*SUM(AK20:AK26)+SUM(AL20:AL26)-AL27)/60)","v":0},{"$f":"INT(60*SUM(AK20:AK26)+SUM(AL20:AL26)-60*INT((60*SUM(AK20:AK26)+SUM(AL20:AL26))/60))","v":0},null,{"$f":"INT((60*SUM(AN20:AN26)+SUM(AO20:AO26)-AO27)/60)","v":0},{"$f":"INT(60*SUM(AN20:AN26)+SUM(AO20:AO26)-60*INT((60*SUM(AN20:AN26)+SUM(AO20:AO26))/60))","v":0},null,{"$f":"INT((60*SUM(AQ20:AQ26)+SUM(AR20:AR26)-AR27)/60)","v":0},{"$f":"INT(60*SUM(AQ20:AQ26)+SUM(AR20:AR26)-60*INT((60*SUM(AQ20:AQ26)+SUM(AR20:AR26))/60))","v":0},{"$f":"INT((60*SUM(AS20:AS26)+SUM(AT20:AT26)-AT27)/60)","v":0},{"$f":"INT(60*SUM(AS20:AS26)+SUM(AT20:AT26)-60*INT((60*SUM(AS20:AS26)+SUM(AT20:AT26))/60))","v":0},{"$f":"INT((60*SUM(AU20:AU26)+SUM(AV20:AV26)-AV27)/60)","v":0},{"$f":"INT(60*SUM(AU20:AU26)+SUM(AV20:AV26)-60*INT((60*SUM(AU20:AU26)+SUM(AV20:AV26))/60))","v":0},{"$f":"INT((60*SUM(AW20:AW26)+SUM(AX20:AX26)-AX27)/60)","v":0},{"$f":"INT(60*SUM(AW20:AW26)+SUM(AX20:AX26)-60*INT((60*SUM(AW20:AW26)+SUM(AX20:AX26))/60))","v":0},{"$f":"INT((60*SUM(AY20:AY26)+SUM(AZ20:AZ26)-AZ27)/60)","v":0},{"$f":"INT(60*SUM(AY20:AY26)+SUM(AZ20:AZ26)-60*INT((60*SUM(AY20:AY26)+SUM(AZ20:AZ26))/60))","v":0},{"$f":"INT((60*SUM(BA20:BA26)+SUM(BB20:BB26)-BB27)/60)","v":0},{"$f":"INT(60*SUM(BA20:BA26)+SUM(BB20:BB26)-60*INT((60*SUM(BA20:BA26)+SUM(BB20:BB26))/60))","v":0},{"$f":"INT((60*SUM(BC20:BC26)+SUM(BD20:BD26)-BD27)/60)","v":0},{"$f":"INT(60*SUM(BC20:BC26)+SUM(BD20:BD26)-60*INT((60*SUM(BC20:BC26)+SUM(BD20:BD26))/60))","v":0},{"$f":"INT((60*SUM(BE20:BE26)+SUM(BF20:BF26)-BF27)/60)","v":0},{"$f":"INT(60*SUM(BE20:BE26)+SUM(BF20:BF26)-60*INT((60*SUM(BE20:BE26)+SUM(BF20:BF26))/60))","v":0},{"$f":"INT((60*SUM(BG20:BG26)+SUM(BH20:BH26)-BH27)/60)","v":0},{"$f":"INT(60*SUM(BG20:BG26)+SUM(BH20:BH26)-60*INT((60*SUM(BG20:BG26)+SUM(BH20:BH26))/60))","v":0}]
[" "," "," "," ",null," "]
[{"$f":"Einstellungen!$L$13","v":"Wochen"},null," "," ",null," ",{"$f":"IF(AND(E11>0,I29<>\"\",U29<>\"f\"),F11,0)","v":1},{"$f":"IF(AND(I29<>\"\",U29<>\"f\"),1,0)","v":1},{"$f":"I26+1","v":"2026-09-14"},"Mo",null,null,null,null,{"$f":"HOUR(N29-K29-(M29-L29))","v":0},{"$f":"MINUTE(N29-K29-(M29-L29))","v":0},null,null,null,null,null,{"$f":"IF(OR(U29=\"U\",U29=\"k\",U29=\"B\"),$C$11,IF(S29>P29,O29-1-R29,O29-R29))","v":0},{"$f":"IF(OR(U29=\"U\",U29=\"k\",U29=\"B\"),$D$11,IF(S29>P29,P29+60-S29,P29-S29))","v":0},{"$f":"IF(OR(U29=\"U\",U29=\"K\",U29=\"B\"),0,V29)","v":0},{"$f":"IF(OR(U29=\"U\",U29=\"K\",U29=\"B\"),0,W29)","v":0},{"$f":"INT(((SUM(AB29,AH29,AK29,AN29,AQ29,AS29,AU29,AW29,AY29,BA29,BC29,BE29,BG29)*100)+(SUM(AC29,AI29,AL29,AO29,AR29,AT29,AV29,AX29,AZ29,BB29,BD29,BF29,BH29)/60*100))/100)","v":0},{"$f":"MOD(((SUM(AC29,AI29,AL29,AO29,AR29,AT29,AV29,AX29,AZ29,BB29,BD29,BF29,BH29)*100)+(SUM(AC29,AI29,AL29,AO29,AR29,AT29,AV29,AX29,AZ29,BB29,BD29,BF29,BH29)/60*100))/100,1)*60","v":0},null,null,{"$f":"INT(((SUM(AH29,AK29,AN29)*100)+SUM(AI29,AL29,AO29)/60*100)/100)","v":0},{"$f":"MOD(((SUM(AI29,AL29,AO29)*100)+(SUM(AI29,AL29,AO29)/60*100))/100,1)*60","v":0},{"$f":"INT(((SUM(AQ29+AS29+AU29+AW29+AY29+BA29+BC29+BE29+BG29)*100)+SUM(AR29+AT29+AV29+AX29+AZ29+BB29+BD29+BF29+BH29)/60*100)/100)","v":0},{"$f":"MOD(((SUM(AR29+AT29+AV29+AX29+AZ29+BB29+BD29+BF29+BH29)*100)+(SUM(AR29+AT29+AV29+AX29+AZ29+BB29+BD29+BF29+BH29)/60*100))/100,1)*60","v":0},null,null,"",null,null,"",null,null,""]
[{"$f":"CONCATENATE(Einstellungen!$L$14,\" \",Einstellungen!$M$14)","v":"Arbeitzeit Std.Min"},null,{"$f":"Einstellungen!$N$14","v":"39.30"},{"$f":"Einstellungen!$O$14","v":"29.38"},null,{"$f":"Einstellungen!$Q$14","v":"19.45"},{"$f":"IF(AND(E12>0,I30<>\"\",U30<>\"f\"),F12,0)","v":1},{"$f":"IF(AND(I30<>\"\",U30<>\"f\"),1,0)","v":1},{"$f":"I29+1","v":"2026-09-15"},"Di",null,null,null,null,0,0,null,null,null,null,null,{"$f":"IF(OR(U30=\"U\",U30=\"k\",U30=\"B\"),$C$12,IF(S30>P30,O30-1-R30,O30-R30))","v":0},{"$f":"IF(OR(U30=\"U\",U30=\"k\",U30=\"B\"),$D$12,IF(S30>P30,P30+60-S30,P30-S30))","v":0},0,0,0,0,null,null,0,0,0,0,null,null,"",null,null,"",null,null,""]
[{"$f":"Einstellungen!$L$15","v":"max.Übertrag auf das"},null,null," ",null," ",{"$f":"IF(AND(E13>0,I31<>\"\",U31<>\"f\"),F13,0)","v":1},{"$f":"IF(AND(I31<>\"\",U31<>\"f\"),1,0)","v":1},{"$f":"I30+1","v":"2026-09-16"},"Mi",null,null,null,null,0,0,null,null,null,null,null,{"$f":"IF(OR(U31=\"U\",U31=\"k\",U31=\"B\"),$C$13,IF(S31>P31,O31-1-R31,O31-R31))","v":0},{"$f":"IF(OR(U31=\"U\",U31=\"k\",U31=\"B\"),$D$13,IF(S31>P31,P31+60-S31,P31-S31))","v":0},0,0,0,0,null,null,0,0,0,0,null,null,"",null,null,"",null,null,""]
[{"$f":"Einstellungen!$L$16","v":"Folgejahr Std.Min"},null,{"$f":"Einstellungen!$N$16","v":"39.30"},{"$f":"Einstellungen!$O$16","v":"39.30"},null,{"$f":"Einstellungen!$Q$16","v":"39.30"},{"$f":"IF(AND(E14>0,I32<>\"\",U32<>\"f\"),F14,0)","v":1},{"$f":"IF(AND(I32<>\"\",U32<>\"f\"),1,0)","v":1},"2026-09-17","Do",null,null,null,null,0,0,null,null,null,null,null,{"$f":"IF(OR(U32=\"U\",U32=\"k\",U32=\"B\"),$C$14,IF(S32>P32,O32-1-R32,O32-R32))","v":0},{"$f":"IF(OR(U32=\"U\",U32=\"k\",U32=\"B\"),$D$14,IF(S32>P32,P32+60-S32,P32-S32))","v":0},0,0,0,0,null,null,0,0,0,0,null,null,"",null,null,"",null,null,""]
[{"$f":"Einstellungen!$L$17","v":"II Beschäftigte mit 41 Std-Woche"},null,null,null,null,null,{"$f":"IF(AND(E15>0,I33<>\"\",U33<>\"f\"),F15,0)","v":1},{"$f":"IF(AND(I33<>\"\",U33<>\"f\"),1,0)","v":1},"2026-09-18","Fr",null,null,null,null,0,0,null,null,null,null,null,{"$f":"IF(OR(U33=\"U\",U33=\"k\",U33=\"B\"),$C$15,IF(S33>P33,O33-1-R33,O33-R33))","v":0},{"$f":"IF(OR(U33=\"U\",U33=\"k\",U33=\"B\"),$D$15,IF(S33>P33,P33+60-S33,P33-S33))","v":0},0,0,0,0,null,null,0,0,0,0,null,null,"",null,null,"",null,null,""]
[{"$f":"Einstellungen!$L$18","v":"tägliche Arbeitszeit"},null,null,null,null,null,null,null,"2026-09-19","Sa",null,null,null,null,0,0,null,null,null,"nur dienstl. Sonderfälle!*",null,{"$f":"IF(S34>P34,O34-1-R34,O34-R34)","v":0},{"$f":"IF(S34>P34,P34+60-S34,P34-S34)","v":0},0,0,0,0,null,null,0,0,0,0,null,null,"",null,null,"",null,null,""]
[{"$f":"Einstellungen!$L$19","v":"Mo-Fr  "},{"$f":"Einstellungen!$M$19","v":"Std.Min"},{"$f":"Einstellungen!$N$19","v":"8.12"},{"$f":"Einstellungen!$O$19","v":"6.09"},null,{"$f":"Einstellungen!$Q$19","v":"4.06"},null,null,"2026-09-20","So",null,null,null,null,0,0,null,null,null,"nur dienstl. Sonderfälle!*",null,{"$f":"IF(S35>P35,O35-1-R35,O35-R35)","v":0},{"$f":"IF(S35>P35,P35+60-S35,P35-S35)","v":0},0,0,0,0,null,null,0,0,0,0,null,null,"",null,null,"",null,null,""]
[{"$f":"Einstellungen!$L$20","v":"Wochen"},null," "," ",null," ",null,null,null,null,null,null,null,null,null,null,null,null,null,null,null,{"$f":"INT((60*SUM(V29:V35)+SUM(W29:W35)-W36)/60)","v":0},{"$f":"INT(60*SUM(V29:V35)+SUM(W29:W35)-60*INT((60*SUM(V29:V35)+SUM(W29:W35))/60))","v":0},{"$f":"INT((60*SUM(X29:X35)+SUM(Y29:Y35)-Y36)/60)","v":0},{"$f":"INT(60*SUM(X29:X35)+SUM(Y29:Y35)-60*INT((60*SUM(X29:X35)+SUM(Y29:Y35))/60))","v":0},{"$f":"INT((60*SUM(Z29:Z35)+SUM(AA29:AA35)-AA36)/60)","v":0},{"$f":"INT(60*SUM(Z29:Z35)+SUM(AA29:AA35)-60*INT((60*SUM(Z29:Z35)+SUM(AA29:AA35))/60))","v":0},{"$f":"INT((60*SUM(AB29:AB35)+SUM(AC29:AC35)-AC36)/60)","v":0},{"$f":"INT(60*SUM(AB29:AB35)+SUM(AC29:AC35)-60*INT((60*SUM(AB29:AB35)+SUM(AC29:AC35))/60))","v":0},{"$f":"INT((60*SUM(AD29:AD35)+SUM(AE29:AE35)-AE36)/60)","v":0},{"$f":"INT(60*SUM(AD29:AD35)+SUM(AE29:AE35)-60*INT((60*SUM(AD29:AD35)+SUM(AE29:AE35))/60))","v":0},{"$f":"INT((60*SUM(AF29:AF35)+SUM(AG29:AG35)-AG36)/60)","v":0},{"$f":"INT(60*SUM(AF29:AF35)+SUM(AG29:AG35)-60*INT((60*SUM(AF29:AF35)+SUM(AG29:AG35))/60))","v":0},{"$f":"INT((60*SUM(AH29:AH35)+SUM(AI29:AI35)-AI36)/60)","v":0},{"$f":"INT(60*SUM(AH29:AH35)+SUM(AI29:AI35)-60*INT((60*SUM(AH29:AH35)+SUM(AI29:AI35))/60))","v":0},null,{"$f":"INT((60*SUM(AK29:AK35)+SUM(AL29:AL35)-AL36)/60)","v":0},{"$f":"INT(60*SUM(AK29:AK35)+SUM(AL29:AL35)-60*INT((60*SUM(AK29:AK35)+SUM(AL29:AL35))/60))","v":0},null,{"$f":"INT((60*SUM(AN29:AN35)+SUM(AO29:AO35)-AO36)/60)","v":0},{"$f":"INT(60*SUM(AN29:AN35)+SUM(AO29:AO35)-60*INT((60*SUM(AN29:AN35)+SUM(AO29:AO35))/60))","v":0},null,{"$f":"INT((60*SUM(AQ29:AQ35)+SUM(AR29:AR35)-AR36)/60)","v":0},{"$f":"INT(60*SUM(AQ29:AQ35)+SUM(AR29:AR35)-60*INT((60*SUM(AQ29:AQ35)+SUM(AR29:AR35))/60))","v":0},{"$f":"INT((60*SUM(AS29:AS35)+SUM(AT29:AT35)-AT36)/60)","v":0},{"$f":"INT(60*SUM(AS29:AS35)+SUM(AT29:AT35)-60*INT((60*SUM(AS29:AS35)+SUM(AT29:AT35))/60))","v":0},{"$f":"INT((60*SUM(AU29:AU35)+SUM(AV29:AV35)-AV36)/60)","v":0},{"$f":"INT(60*SUM(AU29:AU35)+SUM(AV29:AV35)-60*INT((60*SUM(AU29:AU35)+SUM(AV29:AV35))/60))","v":0},{"$f":"INT((60*SUM(AW29:AW35)+SUM(AX29:AX35)-AX36)/60)","v":0},{"$f":"INT(60*SUM(AW29:AW35)+SUM(AX29:AX35)-60*INT((60*SUM(AW29:AW35)+SUM(AX29:AX35))/60))","v":0},{"$f":"INT((60*SUM(AY29:AY35)+SUM(AZ29:AZ35)-AZ36)/60)","v":0},{"$f":"INT(60*SUM(AY29:AY35)+SUM(AZ29:AZ35)-60*INT((60*SUM(AY29:AY35)+SUM(AZ29:AZ35))/60))","v":0},{"$f":"INT((60*SUM(BA29:BA35)+SUM(BB29:BB35)-BB36)/60)","v":0},{"$f":"INT(60*SUM(BA29:BA35)+SUM(BB29:BB35)-60*INT((60*SUM(BA29:BA35)+SUM(BB29:BB35))/60))","v":0},{"$f":"INT((60*SUM(BC29:BC35)+SUM(BD29:BD35)-BD36)/60)","v":0},{"$f":"INT(60*SUM(BC29:BC35)+SUM(BD29:BD35)-60*INT((60*SUM(BC29:BC35)+SUM(BD29:BD35))/60))","v":0},{"$f":"INT((60*SUM(BE29:BE35)+SUM(BF29:BF35)-BF36)/60)","v":0},{"$f":"INT(60*SUM(BE29:BE35)+SUM(BF29:BF35)-60*INT((60*SUM(BE29:BE35)+SUM(BF29:BF35))/60))","v":0},{"$f":"INT((60*SUM(BG29:BG35)+SUM(BH29:BH35)-BH36)/60)","v":0},{"$f":"INT(60*SUM(BG29:BG35)+SUM(BH29:BH35)-60*INT((60*SUM(BG29:BG35)+SUM(BH29:BH35))/60))","v":0}]
[]
[{"$f":"CONCATENATE(Einstellungen!$L$21,\" \",Einstellungen!$M$21)","v":"Arbeitzeit Std.Min"},null,{"$f":"Einstellungen!$N$21","v":"41.00"},{"$f":"Einstellungen!$O$21","v":"30.45"},null,{"$f":"Einstellungen!$Q$21","v":"20.30"},{"$f":"IF(AND(E11>0,I38<>\"\",U38<>\"f\"),F11,0)","v":1},{"$f":"IF(AND(I38<>\"\",U38<>\"f\"),1,0)","v":1},{"$f":"IF(I35<>\"\",IF(MONTH(I35)=MONTH(I35+1),I35+1,\"\"),\"\")","v":"2026-09-21"},"Mo",null,null,null,null,{"$f":"HOUR(N38-K38-(M38-L38))","v":0},{"$f":"MINUTE(N38-K38-(M38-L38))","v":0},null,null,null,null,null,{"$f":"IF(OR(U38=\"U\",U38=\"k\",U38=\"B\"),$C$11,IF(S38>P38,O38-1-R38,O38-R38))","v":0},{"$f":"IF(OR(U38=\"U\",U38=\"k\",U38=\"B\"),$D$11,IF(S38>P38,P38+60-S38,P38-S38))","v":0},{"$f":"IF(OR(U38=\"U\",U38=\"K\",U38=\"B\"),0,V38)","v":0},{"$f":"IF(OR(U38=\"U\",U38=\"K\",U38=\"B\"),0,W38)","v":0},{"$f":"INT(((SUM(AB38,AH38,AK38,AN38,AQ38,AS38,AU38,AW38,AY38,BA38,BC38,BE38,BG38)*100)+(SUM(AC38,AI38,AL38,AO38,AR38,AT38,AV38,AX38,AZ38,BB38,BD38,BF38,BH38)/60*100))/100)","v":0},{"$f":"MOD(((SUM(AC38,AI38,AL38,AO38,AR38,AT38,AV38,AX38,AZ38,BB38,BD38,BF38,BH38)*100)+(SUM(AC38,AI38,AL38,AO38,AR38,AT38,AV38,AX38,AZ38,BB38,BD38,BF38,BH38)/60*100))/100,1)*60","v":0},null,null,{"$f":"INT(((SUM(AH38,AK38,AN38)*100)+SUM(AI38,AL38,AO38)/60*100)/100)","v":0},{"$f":"MOD(((SUM(AI38,AL38,AO38)*100)+(SUM(AI38,AL38,AO38)/60*100))/100,1)*60","v":0},{"$f":"INT(((SUM(AQ38+AS38+AU38+AW38+AY38+BA38+BC38+BE38+BG38)*100)+SUM(AR38+AT38+AV38+AX38+AZ38+BB38+BD38+BF38+BH38)/60*100)/100)","v":0},{"$f":"MOD(((SUM(AR38+AT38+AV38+AX38+AZ38+BB38+BD38+BF38+BH38)*100)+(SUM(AR38+AT38+AV38+AX38+AZ38+BB38+BD38+BF38+BH38)/60*100))/100,1)*60","v":0},null,null,"",null,null,"",null,null,""]
[{"$f":"Einstellungen!$L$22","v":"max.Übertrag auf das"},null,null," "," "," ",{"$f":"IF(AND(E12>0,I39<>\"\",U39<>\"f\"),F12,0)","v":1},{"$f":"IF(AND(I39<>\"\",U39<>\"f\"),1,0)","v":1},{"$f":"IF(I38<>\"\",IF(MONTH(I38)=MONTH(I38+1),I38+1,\"\"),\"\")","v":"2026-09-22"},"Di",null,null,null,null,0,0,null,null,null,null,null,{"$f":"IF(OR(U39=\"U\",U39=\"k\",U39=\"B\"),$C$12,IF(S39>P39,O39-1-R39,O39-R39))","v":0},{"$f":"IF(OR(U39=\"U\",U39=\"k\",U39=\"B\"),$D$12,IF(S39>P39,P39+60-S39,P39-S39))","v":0},0,0,0,0,null,null,0,0,0,0,null,null,"",null,null,"",null,null,""]
[{"$f":"Einstellungen!$L$23","v":"Folgejahr Std.Min"},null,{"$f":"Einstellungen!$N$23","v":"41.00"},{"$f":"Einstellungen!$O$23","v":"41.00"}," ",{"$f":"Einstellungen!$Q$23","v":"41.00"},{"$f":"IF(AND(E13>0,I40<>\"\",U40<>\"f\"),F13,0)","v":1},{"$f":"IF(AND(I40<>\"\",U40<>\"f\"),1,0)","v":1},{"$f":"IF(I39<>\"\",IF(MONTH(I39)=MONTH(I39+1),I39+1,\"\"),\"\")","v":"2026-09-23"},"Mi",null,null,null,null,0,0,null,null,null,null,null,{"$f":"IF(OR(U40=\"U\",U40=\"k\",U40=\"B\"),$C$13,IF(S40>P40,O40-1-R40,O40-R40))","v":0},{"$f":"IF(OR(U40=\"U\",U40=\"k\",U40=\"B\"),$D$13,IF(S40>P40,P40+60-S40,P40-S40))","v":0},0,0,0,0,null,null,0,0,0,0,null,null,"",null,null,"",null,null,""]
[{"$f":"Einstellungen!$L$24","v":"Kernarbeitszeit:"},null,{"$f":"Einstellungen!$N$24","v":"Mo-Do"},{"$f":"Einstellungen!$O$24","v":"9:00 - 14:30 Uhr"},null,null,{"$f":"IF(AND(E14>0,I41<>\"\",U41<>\"f\"),F14,0)","v":1},{"$f":"IF(AND(I41<>\"\",U41<>\"f\"),1,0)","v":1},"2026-09-24","Do",null,null,null,null,0,0,null,null,null,null,null,{"$f":"IF(OR(U41=\"U\",U41=\"k\",U41=\"B\"),$C$14,IF(S41>P41,O41-1-R41,O41-R41))","v":0},{"$f":"IF(OR(U41=\"U\",U41=\"k\",U41=\"B\"),$D$14,IF(S41>P41,P41+60-S41,P41-S41))","v":0},0,0,0,0,null,null,0,0,0,0,null,null,"",null,null,"",null,null,""]
[{"$f":"Einstellungen!$L$25","v":""},{"$f":"Einstellungen!$M$25","v":""},{"$f":"Einstellungen!$N$25","v":"Fr"},{"$f":"Einstellungen!$O$25","v":"9:00 - 12:00 Uhr"},null,null,{"$f":"IF(AND(E15>0,I42<>\"\",U42<>\"f\"),F15,0)","v":1},{"$f":"IF(AND(I42<>\"\",U42<>\"f\"),1,0)","v":1},"2026-09-25","Fr",null,null,null,null,0,0,null,null,null,null,null,{"$f":"IF(OR(U42=\"U\",U42=\"k\",U42=\"B\"),$C$15,IF(S42>P42,O42-1-R42,O42-R42))","v":0},{"$f":"IF(OR(U42=\"U\",U42=\"k\",U42=\"B\"),$D$15,IF(S42>P42,P42+60-S42,P42-S42))","v":0},0,0,0,0,null,null,0,0,0,0,null,null,"",null,null,"",null,null,""]
[{"$f":"Einstellungen!$L$26","v":"Gleitzeit:"},{"$f":"Einstellungen!$M$26","v":"frühester Beginn"},null,null,null,{"$f":"Einstellungen!$P$26","v":"6:00 Uhr"},null,null,"2026-09-26","Sa",null,null,null,null,0,0,null,null,null,"nur dienstl. Sonderfälle!*",null,{"$f":"IF(S43>P43,O43-1-R43,O43-R43)","v":0},{"$f":"IF(S43>P43,P43+60-S43,P43-S43)","v":0},0,0,0,0,null,null,0,0,0,0,null,null,"",null,null,"",null,null,""]
[{"$f":"Einstellungen!$L$27","v":""},{"$f":"Einstellungen!$M$27","v":"spätestes Ende"},null,null,null,{"$f":"Einstellungen!$P$27","v":"21:00 Uhr"},null,null,"2026-09-27","So",null,null,null,null,0,0,null,null,null,"nur dienstl. Sonderfälle!*",null,{"$f":"IF(S44>P44,O44-1-R44,O44-R44)","v":0},{"$f":"IF(S44>P44,P44+60-S44,P44-S44)","v":0},0,0,0,0,null,null,0,0,0,0,null,null,"",null,null,"",null,null,""]
[{"$f":"Einstellungen!$L$29","v":"Mittagspause zw."},null,null,{"$f":"Einstellungen!$O$29","v":"11:15 - 14:00 Uhr"},null,null,null,null,null,null,null,null,null,null,null,null,null,null,null,null,null,{"$f":"INT((60*SUM(V38:V44)+SUM(W38:W44)-W45)/60)","v":0},{"$f":"INT(60*SUM(V38:V44)+SUM(W38:W44)-60*INT((60*SUM(V38:V44)+SUM(W38:W44))/60))","v":0},{"$f":"INT((60*SUM(X38:X44)+SUM(Y38:Y44)-Y45)/60)","v":0},{"$f":"INT(60*SUM(X38:X44)+SUM(Y38:Y44)-60*INT((60*SUM(X38:X44)+SUM(Y38:Y44))/60))","v":0},{"$f":"INT((60*SUM(Z38:Z44)+SUM(AA38:AA44)-AA45)/60)","v":0},{"$f":"INT(60*SUM(Z38:Z44)+SUM(AA38:AA44)-60*INT((60*SUM(Z38:Z44)+SUM(AA38:AA44))/60))","v":0},{"$f":"INT((60*SUM(AB38:AB44)+SUM(AC38:AC44)-AC45)/60)","v":0},{"$f":"INT(60*SUM(AB38:AB44)+SUM(AC38:AC44)-60*INT((60*SUM(AB38:AB44)+SUM(AC38:AC44))/60))","v":0},{"$f":"INT((60*SUM(AD38:AD44)+SUM(AE38:AE44)-AE45)/60)","v":0},{"$f":"INT(60*SUM(AD38:AD44)+SUM(AE38:AE44)-60*INT((60*SUM(AD38:AD44)+SUM(AE38:AE44))/60))","v":0},{"$f":"INT((60*SUM(AF38:AF44)+SUM(AG38:AG44)-AG45)/60)","v":0},{"$f":"INT(60*SUM(AF38:AF44)+SUM(AG38:AG44)-60*INT((60*SUM(AF38:AF44)+SUM(AG38:AG44))/60))","v":0},{"$f":"INT((60*SUM(AH38:AH44)+SUM(AI38:AI44)-AI45)/60)","v":0},{"$f":"INT(60*SUM(AH38:AH44)+SUM(AI38:AI44)-60*INT((60*SUM(AH38:AH44)+SUM(AI38:AI44))/60))","v":0},null,{"$f":"INT((60*SUM(AK38:AK44)+SUM(AL38:AL44)-AL45)/60)","v":0},{"$f":"INT(60*SUM(AK38:AK44)+SUM(AL38:AL44)-60*INT((60*SUM(AK38:AK44)+SUM(AL38:AL44))/60))","v":0},null,{"$f":"INT((60*SUM(AN38:AN44)+SUM(AO38:AO44)-AO45)/60)","v":0},{"$f":"INT(60*SUM(AN38:AN44)+SUM(AO38:AO44)-60*INT((60*SUM(AN38:AN44)+SUM(AO38:AO44))/60))","v":0},null,{"$f":"INT((60*SUM(AQ38:AQ44)+SUM(AR38:AR44)-AR45)/60)","v":0},{"$f":"INT(60*SUM(AQ38:AQ44)+SUM(AR38:AR44)-60*INT((60*SUM(AQ38:AQ44)+SUM(AR38:AR44))/60))","v":0},{"$f":"INT((60*SUM(AS38:AS44)+SUM(AT38:AT44)-AT45)/60)","v":0},{"$f":"INT(60*SUM(AS38:AS44)+SUM(AT38:AT44)-60*INT((60*SUM(AS38:AS44)+SUM(AT38:AT44))/60))","v":0},{"$f":"INT((60*SUM(AU38:AU44)+SUM(AV38:AV44)-AV45)/60)","v":0},{"$f":"INT(60*SUM(AU38:AU44)+SUM(AV38:AV44)-60*INT((60*SUM(AU38:AU44)+SUM(AV38:AV44))/60))","v":0},{"$f":"INT((60*SUM(AW38:AW44)+SUM(AX38:AX44)-AX45)/60)","v":0},{"$f":"INT(60*SUM(AW38:AW44)+SUM(AX38:AX44)-60*INT((60*SUM(AW38:AW44)+SUM(AX38:AX44))/60))","v":0},{"$f":"INT((60*SUM(AY38:AY44)+SUM(AZ38:AZ44)-AZ45)/60)","v":0},{"$f":"INT(60*SUM(AY38:AY44)+SUM(AZ38:AZ44)-60*INT((60*SUM(AY38:AY44)+SUM(AZ38:AZ44))/60))","v":0},{"$f":"INT((60*SUM(BA38:BA44)+SUM(BB38:BB44)-BB45)/60)","v":0},{"$f":"INT(60*SUM(BA38:BA44)+SUM(BB38:BB44)-60*INT((60*SUM(BA38:BA44)+SUM(BB38:BB44))/60))","v":0},{"$f":"INT((60*SUM(BC38:BC44)+SUM(BD38:BD44)-BD45)/60)","v":0},{"$f":"INT(60*SUM(BC38:BC44)+SUM(BD38:BD44)-60*INT((60*SUM(BC38:BC44)+SUM(BD38:BD44))/60))","v":0},{"$f":"INT((60*SUM(BE38:BE44)+SUM(BF38:BF44)-BF45)/60)","v":0},{"$f":"INT(60*SUM(BE38:BE44)+SUM(BF38:BF44)-60*INT((60*SUM(BE38:BE44)+SUM(BF38:BF44))/60))","v":0},{"$f":"INT((60*SUM(BG38:BG44)+SUM(BH38:BH44)-BH45)/60)","v":0},{"$f":"INT(60*SUM(BG38:BG44)+SUM(BH38:BH44)-60*INT((60*SUM(BG38:BG44)+SUM(BH38:BH44))/60))","v":0}]
[]
[{"$f":"Einstellungen!$L$30","v":"ab 6 Std. Arbeitszeit: Dauer min."},null,null,null,null,{"$f":"Einstellungen!$Q$30","v":"30 Min"},{"$f":"IF(AND(E11>0,I47<>\"\",U47<>\"f\"),F11,0)","v":1},{"$f":"IF(AND(I47<>\"\",U47<>\"f\"),1,0)","v":1},{"$f":"IF(I44<>\"\",IF(MONTH(I44)=MONTH(I44+1),I44+1,\"\"),\"\")","v":"2026-09-28"},"Mo",null,null,null,null,{"$f":"HOUR(N47-K47-(M47-L47))","v":0},{"$f":"MINUTE(N47-K47-(M47-L47))","v":0},null,null,null,null,null,{"$f":"IF(OR(U47=\"U\",U47=\"k\",U47=\"B\"),$C$11,IF(S47>P47,O47-1-R47,O47-R47))","v":0},{"$f":"IF(OR(U47=\"U\",U47=\"k\",U47=\"B\"),$D$11,IF(S47>P47,P47+60-S47,P47-S47))","v":0},{"$f":"IF(OR(U47=\"U\",U47=\"K\",U47=\"B\"),0,V47)","v":0},{"$f":"IF(OR(U47=\"U\",U47=\"K\",U47=\"B\"),0,W47)","v":0},{"$f":"INT(((SUM(AB47,AH47,AK47,AN47,AQ47,AS47,AU47,AW47,AY47,BA47,BC47,BE47,BG47)*100)+(SUM(AC47,AI47,AL47,AO47,AR47,AT47,AV47,AX47,AZ47,BB47,BD47,BF47,BH47)/60*100))/100)","v":0},{"$f":"MOD(((SUM(AC47,AI47,AL47,AO47,AR47,AT47,AV47,AX47,AZ47,BB47,BD47,BF47,BH47)*100)+(SUM(AC47,AI47,AL47,AO47,AR47,AT47,AV47,AX47,AZ47,BB47,BD47,BF47,BH47)/60*100))/100,1)*60","v":0},null,null,{"$f":"INT(((SUM(AH47,AK47,AN47)*100)+SUM(AI47,AL47,AO47)/60*100)/100)","v":0},{"$f":"MOD(((SUM(AI47,AL47,AO47)*100)+(SUM(AI47,AL47,AO47)/60*100))/100,1)*60","v":0},{"$f":"INT(((SUM(AQ47+AS47+AU47+AW47+AY47+BA47+BC47+BE47+BG47)*100)+SUM(AR47+AT47+AV47+AX47+AZ47+BB47+BD47+BF47+BH47)/60*100)/100)","v":0},{"$f":"MOD(((SUM(AR47+AT47+AV47+AX47+AZ47+BB47+BD47+BF47+BH47)*100)+(SUM(AR47+AT47+AV47+AX47+AZ47+BB47+BD47+BF47+BH47)/60*100))/100,1)*60","v":0},null,null,"",null,null,"",null,null,""]
[{"$f":"Einstellungen!$L$31","v":"ab 9 Std. (exklusiv Beamte) min."},null,null,null,null,{"$f":"Einstellungen!$Q$31","v":"45 Min"},{"$f":"IF(AND(E12>0,I48<>\"\",U48<>\"f\"),F12,0)","v":1},{"$f":"IF(AND(I48<>\"\",U48<>\"f\"),1,0)","v":1},{"$f":"IF(I47<>\"\",IF(MONTH(I47)=MONTH(I47+1),I47+1,\"\"),\"\")","v":"2026-09-29"},"Di",null,null,null,null,{"$f":"HOUR(N48-K48-(M48-L48))","v":0},{"$f":"MINUTE(N48-K48-(M48-L48))","v":0},null,null,null,null,null,{"$f":"IF(OR(U48=\"U\",U48=\"k\",U48=\"B\"),$C$12,IF(S48>P48,O48-1-R48,O48-R48))","v":0},{"$f":"IF(OR(U48=\"U\",U48=\"k\",U48=\"B\"),$D$12,IF(S48>P48,P48+60-S48,P48-S48))","v":0},0,0,0,0,null,null,0,0,0,0,null,null,"",null,null,"",null,null,""]
[{"$f":"Einstellungen!$L$32","v":""},null," ",{"$f":"Einstellungen!$O$32","v":"max."},null,{"$f":"Einstellungen!$Q$32","v":"120 Min"},{"$f":"IF(AND(E13>0,I49<>\"\",U49<>\"f\"),F13,0)","v":1},{"$f":"IF(AND(I49<>\"\",U49<>\"f\"),1,0)","v":1},{"$f":"IF(I48<>\"\",IF(MONTH(I48)=MONTH(I48+1),I48+1,\"\"),\"\")","v":"2026-09-30"},"Mi",null,null,null,null,0,0,null,null,null,null,null,{"$f":"IF(OR(U49=\"U\",U49=\"k\",U49=\"B\"),$C$13,IF(S49>P49,O49-1-R49,O49-R49))","v":0},{"$f":"IF(OR(U49=\"U\",U49=\"k\",U49=\"B\"),$D$13,IF(S49>P49,P49+60-S49,P49-S49))","v":0},0,0,0,0,null,null,0,0,0,0,null,null,"",null,null,"",null,null,""]
[{"$f":"Einstellungen!$L$33","v":"tägliche Arbeitszeit  "},null,null,null,null,{"$f":"Einstellungen!$Q$33","v":" 10 Std"},{"$f":"IF(AND(E14>0,I50<>\"\",U50<>\"f\"),F14,0)","v":0},{"$f":"IF(AND(I50<>\"\",U50<>\"f\"),1,0)","v":0},"","Do",null,null,null,null,0,0,null,null,null,null,null,{"$f":"IF(OR(U50=\"U\",U50=\"k\",U50=\"B\"),$C$14,IF(S50>P50,O50-1-R50,O50-R50))","v":0},{"$f":"IF(OR(U50=\"U\",U50=\"k\",U50=\"B\"),$D$14,IF(S50>P50,P50+60-S50,P50-S50))","v":0},0,0,0,0,null,null,0,0,0,0,null,null,"",null,null,"",null,null,""]
[{"$f":"Einstellungen!$L$34","v":"*) beachte § 5 der Dienstvereinbarung vom 17.04.2024 über die Arbeitszeit der Beschäftigten der Universität Hohenheim"},null,null,null,null,null,{"$f":"IF(AND(E15>0,I51<>\"\",U51<>\"f\"),F15,0)","v":0},{"$f":"IF(AND(I51<>\"\",U51<>\"f\"),1,0)","v":0},"","Fr",null,null,null,null,0,0,null,null,null,null,null,{"$f":"IF(OR(U51=\"U\",U51=\"k\",U51=\"B\"),$C$15,IF(S51>P51,O51-1-R51,O51-R51))","v":0},{"$f":"IF(OR(U51=\"U\",U51=\"k\",U51=\"B\"),$D$15,IF(S51>P51,P51+60-S51,P51-S51))","v":0},0,0,0,0,null,null,0,0,0,0,null,null,"",null,null,"",null,null,""]
[null,null,null,null,null,null,null,null,"","Sa",null,null,null,null,0,0,null,null,null,"nur dienstl. Sonderfälle!*",null,{"$f":"IF(S52>P52,O52-1-R52,O52-R52)","v":0},{"$f":"IF(S52>P52,P52+60-S52,P52-S52)","v":0},0,0,0,0,null,null,0,0,0,0,null,null,"",null,null,"",null,null,""]
[null,null,null,null,null,null,null,null,"","So",null,null,null,null,0,0,null,null,null,"nur dienstl. Sonderfälle!*",null,{"$f":"IF(S53>P53,O53-1-R53,O53-R53)","v":0},{"$f":"IF(S53>P53,P53+60-S53,P53-S53)","v":0},0,0,0,0,null,null,0,0,0,0,null,null,"",null,null,"",null,null,""]
[null,null,null,null,null,null,null,null,null,null,null,null,null,null,null,null,null,null,null,null,null,{"$f":"INT((60*SUM(V47:V53)+SUM(W47:W53)-W54)/60)","v":0},{"$f":"INT(60*SUM(V47:V53)+SUM(W47:W53)-60*INT((60*SUM(V47:V53)+SUM(W47:W53))/60))","v":0},{"$f":"INT((60*SUM(X47:X53)+SUM(Y47:Y53)-Y54)/60)","v":0},{"$f":"INT(60*SUM(X47:X53)+SUM(Y47:Y53)-60*INT((60*SUM(X47:X53)+SUM(Y47:Y53))/60))","v":0},{"$f":"INT((60*SUM(Z47:Z53)+SUM(AA47:AA53)-AA54)/60)","v":0},{"$f":"INT(60*SUM(Z47:Z53)+SUM(AA47:AA53)-60*INT((60*SUM(Z47:Z53)+SUM(AA47:AA53))/60))","v":0},{"$f":"INT((60*SUM(AB47:AB53)+SUM(AC47:AC53)-AC54)/60)","v":0},{"$f":"INT(60*SUM(AB47:AB53)+SUM(AC47:AC53)-60*INT((60*SUM(AB47:AB53)+SUM(AC47:AC53))/60))","v":0},{"$f":"INT((60*SUM(AD47:AD53)+SUM(AE47:AE53)-AE54)/60)","v":0},{"$f":"INT(60*SUM(AD47:AD53)+SUM(AE47:AE53)-60*INT((60*SUM(AD47:AD53)+SUM(AE47:AE53))/60))","v":0},{"$f":"INT((60*SUM(AF47:AF53)+SUM(AG47:AG53)-AG54)/60)","v":0},{"$f":"INT(60*SUM(AF47:AF53)+SUM(AG47:AG53)-60*INT((60*SUM(AF47:AF53)+SUM(AG47:AG53))/60))","v":0},{"$f":"INT((60*SUM(AH47:AH53)+SUM(AI47:AI53)-AI54)/60)","v":0},{"$f":"INT(60*SUM(AH47:AH53)+SUM(AI47:AI53)-60*INT((60*SUM(AH47:AH53)+SUM(AI47:AI53))/60))","v":0},null,{"$f":"INT((60*SUM(AK47:AK53)+SUM(AL47:AL53)-AL54)/60)","v":0},{"$f":"INT(60*SUM(AK47:AK53)+SUM(AL47:AL53)-60*INT((60*SUM(AK47:AK53)+SUM(AL47:AL53))/60))","v":0},null,{"$f":"INT((60*SUM(AN47:AN53)+SUM(AO47:AO53)-AO54)/60)","v":0},{"$f":"INT(60*SUM(AN47:AN53)+SUM(AO47:AO53)-60*INT((60*SUM(AN47:AN53)+SUM(AO47:AO53))/60))","v":0},null,{"$f":"INT((60*SUM(AQ47:AQ53)+SUM(AR47:AR53)-AR54)/60)","v":0},{"$f":"INT(60*SUM(AQ47:AQ53)+SUM(AR47:AR53)-60*INT((60*SUM(AQ47:AQ53)+SUM(AR47:AR53))/60))","v":0},{"$f":"INT((60*SUM(AS47:AS53)+SUM(AT47:AT53)-AT54)/60)","v":0},{"$f":"INT(60*SUM(AS47:AS53)+SUM(AT47:AT53)-60*INT((60*SUM(AS47:AS53)+SUM(AT47:AT53))/60))","v":0},{"$f":"INT((60*SUM(AU47:AU53)+SUM(AV47:AV53)-AV54)/60)","v":0},{"$f":"INT(60*SUM(AU47:AU53)+SUM(AV47:AV53)-60*INT((60*SUM(AU47:AU53)+SUM(AV47:AV53))/60))","v":0},{"$f":"INT((60*SUM(AW47:AW53)+SUM(AX47:AX53)-AX54)/60)","v":0},{"$f":"INT(60*SUM(AW47:AW53)+SUM(AX47:AX53)-60*INT((60*SUM(AW47:AW53)+SUM(AX47:AX53))/60))","v":0},{"$f":"INT((60*SUM(AY47:AY53)+SUM(AZ47:AZ53)-AZ54)/60)","v":0},{"$f":"INT(60*SUM(AY47:AY53)+SUM(AZ47:AZ53)-60*INT((60*SUM(AY47:AY53)+SUM(AZ47:AZ53))/60))","v":0},{"$f":"INT((60*SUM(BA47:BA53)+SUM(BB47:BB53)-BB54)/60)","v":0},{"$f":"INT(60*SUM(BA47:BA53)+SUM(BB47:BB53)-60*INT((60*SUM(BA47:BA53)+SUM(BB47:BB53))/60))","v":0},{"$f":"INT((60*SUM(BC47:BC53)+SUM(BD47:BD53)-BD54)/60)","v":0},{"$f":"INT(60*SUM(BC47:BC53)+SUM(BD47:BD53)-60*INT((60*SUM(BC47:BC53)+SUM(BD47:BD53))/60))","v":0},{"$f":"INT((60*SUM(BE47:BE53)+SUM(BF47:BF53)-BF54)/60)","v":0},{"$f":"INT(60*SUM(BE47:BE53)+SUM(BF47:BF53)-60*INT((60*SUM(BE47:BE53)+SUM(BF47:BF53))/60))","v":0},{"$f":"INT((60*SUM(BG47:BG53)+SUM(BH47:BH53)-BH54)/60)","v":0},{"$f":"INT(60*SUM(BG47:BG53)+SUM(BH47:BH53)-60*INT((60*SUM(BG47:BG53)+SUM(BH47:BH53))/60))","v":0}]
[null,null,null,null,null,null,{"$f":"SUM(G5:G53)","v":22},{"$f":"SUM(H5:H53)","v":22},"September",null,null,null,null,null,null,{"$f":"Einstellungen!A1","v":2026},null,null,null,null,null,null,null,"Summe:",null,"Summe:",null,"Summe:",null,"Summe:",null,"Summe:",null,{"$f":"INT(((SUM(AH9,AH18,AH27,AH36,AH45,AH54)*100)+(SUM(AI9,AI18,AI27,AI36,AI45,AI54)/60*100))/100)","v":0},{"$f":"MOD(((SUM(AH9,AH18,AH27,AH36,AH45,AH54)*100)+(SUM(AI9,AI18,AI27,AI36,AI45,AI54)/60*100))/100,1)*60","v":0},null,{"$f":"INT(((SUM(AK9,AK18,AK27,AK36,AK45,AK54)*100)+(SUM(AL9,AL18,AL27,AL36,AL45,AL54)/60*100))/100)","v":0},{"$f":"MOD(((SUM(AK9,AK18,AK27,AK36,AK45,AK54)*100)+(SUM(AL9,AL18,AL27,AL36,AL45,AL54)/60*100))/100,1)*60","v":0},null,{"$f":"INT(((SUM(AN9,AN18,AN27,AN36,AN45,AN54)*100)+(SUM(AO9,AO18,AO27,AO36,AO45,AO54)/60*100))/100)","v":0},{"$f":"MOD(((SUM(AN9,AN18,AN27,AN36,AN45,AN54)*100)+(SUM(AO9,AO18,AO27,AO36,AO45,AO54)/60*100))/100,1)*60","v":0},null,{"$f":"INT(((SUM(AQ9,AQ18,AQ27,AQ36,AQ45,AQ54)*100)+(SUM(AR9,AR18,AR27,AR36,AR45,AR54)/60*100))/100)","v":0},{"$f":"MOD(((SUM(AQ9,AQ18,AQ27,AQ36,AQ45,AQ54)*100)+(SUM(AR9,AR18,AR27,AR36,AR45,AR54)/60*100))/100,1)*60","v":0},{"$f":"INT(((SUM(AS9,AS18,AS27,AS36,AS45,AS54)*100)+(SUM(AT9,AT18,AT27,AT36,AT45,AT54)/60*100))/100)","v":0},{"$f":"MOD(((SUM(AS9,AS18,AS27,AS36,AS45,AS54)*100)+(SUM(AT9,AT18,AT27,AT36,AT45,AT54)/60*100))/100,1)*60","v":0},{"$f":"INT(((SUM(AU9,AU18,AU27,AU36,AU45,AU54)*100)+(SUM(AV9,AV18,AV27,AV36,AV45,AV54)/60*100))/100)","v":0},{"$f":"MOD(((SUM(AU9,AU18,AU27,AU36,AU45,AU54)*100)+(SUM(AV9,AV18,AV27,AV36,AV45,AV54)/60*100))/100,1)*60","v":0},{"$f":"INT(((SUM(AW9,AW18,AW27,AW36,AW45,AW54)*100)+(SUM(AX9,AX18,AX27,AX36,AX45,AX54)/60*100))/100)","v":0},{"$f":"MOD(((SUM(AW9,AW18,AW27,AW36,AW45,AW54)*100)+(SUM(AX9,AX18,AX27,AX36,AX45,AX54)/60*100))/100,1)*60","v":0},{"$f":"INT(((SUM(AY9,AY18,AY27,AY36,AY45,AY54)*100)+(SUM(AZ9,AZ18,AZ27,AZ36,AZ45,AZ54)/60*100))/100)","v":0},{"$f":"MOD(((SUM(AY9,AY18,AY27,AY36,AY45,AY54)*100)+(SUM(AZ9,AZ18,AZ27,AZ36,AZ45,AZ54)/60*100))/100,1)*60","v":0},{"$f":"INT(((SUM(BA9,BA18,BA27,BA36,BA45,BA54)*100)+(SUM(BB9,BB18,BB27,BB36,BB45,BB54)/60*100))/100)","v":0},{"$f":"MOD(((SUM(BA9,BA18,BA27,BA36,BA45,BA54)*100)+(SUM(BB9,BB18,BB27,BB36,BB45,BB54)/60*100))/100,1)*60","v":0},{"$f":"INT(((SUM(BC9,BC18,BC27,BC36,BC45,BC54)*100)+(SUM(BD9,BD18,BD27,BD36,BD45,BD54)/60*100))/100)","v":0},{"$f":"MOD(((SUM(BC9,BC18,BC27,BC36,BC45,BC54)*100)+(SUM(BD9,BD18,BD27,BD36,BD45,BD54)/60*100))/100,1)*60","v":0},{"$f":"INT(((SUM(BE9,BE18,BE27,BE36,BE45,BE54)*100)+(SUM(BF9,BF18,BF27,BF36,BF45,BF54)/60*100))/100)","v":0},{"$f":"MOD(((SUM(BE9,BE18,BE27,BE36,BE45,BE54)*100)+(SUM(BF9,BF18,BF27,BF36,BF45,BF54)/60*100))/100,1)*60","v":0},{"$f":"INT(((SUM(BG9,BG18,BG27,BG36,BG45,BG54)*100)+(SUM(BH9,BH18,BH27,BH36,BH45,BH54)/60*100))/100)","v":0},{"$f":"MOD(((SUM(BG9,BG18,BG27,BG36,BG45,BG54)*100)+(SUM(BH9,BH18,BH27,BH36,BH45,BH54)/60*100))/100,1)*60","v":0}]
[null,null,null,null,null,null,null,null,"Abrechnungsmonat",null,null,null,null,null,null,"Jahr",null,null,null,"Monatsarbeitszeit IST",null,{"$f":"INT((60*SUM(V54,V45,V36,V27,V18,V9)+SUM(W54,W45,W36,W27,W18,W9)-W56)/60)","v":0},{"$f":"INT(60*SUM(V54,V45,V36,V27,V18,V9)+SUM(W54,W45,W36,W27,W18,W9)-60*INT((60*SUM(V54,V45,V36,V27,V18,V9)+SUM(W54,W45,W36,W27,W18,W9))/60))","v":0},{"$f":"INT((60*SUM(X54,X45,X36,X27,X18,X9)+SUM(Y54,Y45,Y36,Y27,Y18,Y9)-Y56)/60)","v":0},{"$f":"INT(60*SUM(X54,X45,X36,X27,X18,X9)+SUM(Y54,Y45,Y36,Y27,Y18,Y9)-60*INT((60*SUM(X54,X45,X36,X27,X18,X9)+SUM(Y54,Y45,Y36,Y27,Y18,Y9))/60))","v":0},{"$f":"INT((60*SUM(Z54,Z45,Z36,Z27,Z18,Z9)+SUM(AA54,AA45,AA36,AA27,AA18,AA9)-AA56)/60)","v":0},{"$f":"INT(60*SUM(Z54,Z45,Z36,Z27,Z18,Z9)+SUM(AA54,AA45,AA36,AA27,AA18,AA9)-60*INT((60*SUM(Z54,Z45,Z36,Z27,Z18,Z9)+SUM(AA54,AA45,AA36,AA27,AA18,AA9))/60))","v":0},{"$f":"INT((60*SUM(AB54,AB45,AB36,AB27,AB18,AB9)+SUM(AC54,AC45,AC36,AC27,AC18,AC9)-AC56)/60)","v":0},{"$f":"INT(60*SUM(AB54,AB45,AB36,AB27,AB18,AB9)+SUM(AC54,AC45,AC36,AC27,AC18,AC9)-60*INT((60*SUM(AB54,AB45,AB36,AB27,AB18,AB9)+SUM(AC54,AC45,AC36,AC27,AC18,AC9))/60))","v":0},{"$f":"INT((60*SUM(AD54,AD45,AD36,AD27,AD18,AD9)+SUM(AE54,AE45,AE36,AE27,AE18,AE9)-AE56)/60)","v":0},{"$f":"INT(60*SUM(AD54,AD45,AD36,AD27,AD18,AD9)+SUM(AE54,AE45,AE36,AE27,AE18,AE9)-60*INT((60*SUM(AD54,AD45,AD36,AD27,AD18,AD9)+SUM(AE54,AE45,AE36,AE27,AE18,AE9))/60))","v":0},{"$f":"INT((60*SUM(AF54,AF45,AF36,AF27,AF18,AF9)+SUM(AG54,AG45,AG36,AG27,AG18,AG9)-AG56)/60)","v":0},{"$f":"INT(60*SUM(AF54,AF45,AF36,AF27,AF18,AF9)+SUM(AG54,AG45,AG36,AG27,AG18,AG9)-60*INT((60*SUM(AF54,AF45,AF36,AF27,AF18,AF9)+SUM(AG54,AG45,AG36,AG27,AG18,AG9))/60))","v":0}]
[null,null,null,null,null,null,null,null,{"$f":"Einstellungen!K23","v":"Franziska von Hohenheim"},null,null,null,null,null,null,null,null,null,null,"Übertrag aus Vormonat (+/-)",{"$f":"IF(V57*W57<0,\"!\",\"\")","v":""},{"$f":"ROUND(Aug!V60,0)","v":-1303},{"$f":"ROUND(Aug!W60,0)","v":-30}]
[null,null,null,null,null,null,null,null,"Name, Vorname",null,null,null,null,null,null,null,"Datum",null,null,"Summe",null,{"$f":"ROUND(SIGN(V56+V57+(W56+W57)/60)*ROUNDDOWN(ABS(V56+V57+(W56+W57)/60),0),0)","v":-1303},{"$f":"ROUND(SIGN(V56+V57+(W56+W57)/60)*(ABS(V56+V57+(W56+W57)/60)-ABS(V58))*60,0)","v":-30}]
[null,null,null,null,null,null,null,null,{"$f":"Einstellungen!$K$25","v":"630"},null,{"$f":"Einstellungen!K24","v":"KIM"},null,null,null,null,null,null,null,null,"Monatsarbeitszeit SOLL",null,{"$f":"SUM(Einstellungen!B11)","v":173},{"$f":"SUM(Einstellungen!C11)","v":48}]
[null,null,null,null,null,null,null,null,"Einr.-Nr.",null,"Abt. / FG",null,null,null,null,null,"Name Leiter/in",null,null,"Zeitübertrag auf Folgemonat",{"$f":"IF(V60*W60<0,\"!\",\"\")","v":""},{"$f":"ROUND(SIGN(V58-V59+(W58-W59)/60)*ROUNDDOWN(ABS(V58-V59+(W58-W59)/60),0),0)","v":-1477},{"$f":"ROUND(SIGN(V58-V59+(W58-W59)/60)*(ABS(V58-V59+(W58-W59)/60)-ABS(V60))*60,0)","v":-18}]
[]
[null,null,null,null,null,null,null,null,null,null,null,null,null,null,null,null,null,null,null,"Summe Urlaubstage",{"$f":"IF(AND(V63-V62>SUM(Einstellungen!K27:K29),Einstellungen!K31=\"ja\"),\"!\",\"\")","v":""},{"$f":"SUMPRODUCT((U5:U6=\"U\")*(E14:E15>0))+SUMPRODUCT((U11:U15=\"U\")*(E11:E15>0))+SUMPRODUCT((U20:U24=\"U\")*(E11:E15>0))+SUMPRODUCT((U29:U33=\"U\")*(E11:E15>0))+SUMPRODUCT((U38:U42=\"U\")*(E11:E15>0))+SUMPRODUCT((U47:U51=\"U\")*(E11:E15>0))","v":0}]
[null,null,null,null,null,null,null,null,"Datum",null,"Unterschrift Mitarbeiter/in",null,null,null,null,null,"Unterschrift Leiter/in",null,null,"alter / neuer Übertrag",null,{"$f":"IF(SUM(Einstellungen!K27:K30)>0,Aug!W63,\"--- \")","v":30},{"$f":"IF(SUM(Einstellungen!K27:K30)>0,IF(AND(V63-V62>SUM(Einstellungen!K27:K29),Einstellungen!K31=\"ja\"),SUM(Einstellungen!K27:K29),V63-V62),\"--- \")","v":30}]

{"sheet":"Okt","index":9,"n_rows":63,"n_cols":60,"rows_kept":63,"cut":false,"hidden":true,"merged":[[0,31,0,32],[0,23,0,24],[0,25,0,26],[0,27,0,28],[0,29,0,30],[1,23,1,24],[1,25,1,26],[37,0,37,1],[38,0,38,2],[2,23,2,24],[2,25,2,26],[28,0,28,1],[29,0,29,1],[30,0,30,2],[35,0,35,1],[7,0,7,3],[39,0,39,1],[46,0,46,3],[47,0,47,3],[49,0,49,3],[54,23,54,24],[50,0,52,5],[40,3,40,5],[41,3,41,5],[44,3,44,5],[61,21,61,22],[63,25,63,26],[54,27,54,28],[54,29,54,30],[54,31,54,32],[54,25,54,26],[0,42,2,43],[0,44,2,45],[0,46,2,47],[0,33,2,35],[0,36,2,38],[0,39,2,41],[0,58,2,59],[0,48,2,49],[0,50,2,51],[0,52,2,53],[0,54,2,55],[0,56,2,57]]}
[{"$f":"Einstellungen!A27","v":"Universität Hohenheim KIM © 2026"},null,null,null,null,null,null,null,"Datum",null,"Arbeits-",null,null,"Arbeits-","Arb.Zeit ohne",null,"Sonstige Unterbrechungen",null,null,"Erläuterungen, Hinweise,","U,K","Reine Arb.-",null,"Productive",null,"Productive",null,"Sonstiges",null,"Summe ",null,"Summe",null,{"$f":"Projektdaten!D4","v":"EU Projekt 1"},null,null,{"$f":"Projektdaten!D6","v":"EU Projekt 2"},null,null,{"$f":"Projektdaten!D8","v":"EU Projekt 3"},null,null,{"$f":"Projektdaten!D13","v":"Projekt 1"},null,{"$f":"Projektdaten!D15","v":"Projekt 2"},null,{"$f":"Projektdaten!D17","v":"Projekt 3"},null,{"$f":"Projektdaten!D19","v":"Projekt 4"},null,{"$f":"Projektdaten!D21","v":"Projekt 5"},null,{"$f":"Projektdaten!D23","v":"Projekt 6"},null,{"$f":"Projektdaten!D25","v":"Projekt 7"},null,{"$f":"Projektdaten!D27","v":"Projekt 8"},null,{"$f":"Projektdaten!D29","v":"Projekt 9"}]
["Arbeitszeitblatt",null,null,{"$f":"Einstellungen!A28","v":"Version 5.12"},null,null,null,null,"Tag","Wo-","beginn","Mittagspause",null,"ende","Mittagspause",null,"von - bis","Gesamtdauer",null,"Vermerke, z.B. Dienstreise","F,X","Zeit","IST","Hours",null,"Hours",null,null,null,"EU-",null,"andere"]
[null,null,null,null,null,null,null,null,null,"tag",null,"von","bis",null,"Std.","Min.",null,"Std.","Min.","  - non eligible -","A,B","Std.","Min.","i.S.d. EU",null,"verteilt",null,null," ","Projekte",null,"Projekte"]
[null,null,null,null,null,null,null,null,null,null,null,null,null,null,null,null,null,null,null,null,null,null,null,"Std.","Min.","Std.","Min.","Std.","Min.","Std.","Min.","Std.","Min.","Std.","Min.","Geleistete Arbeitspakete nach Annex 1","Std.","Min.","Geleistete Arbeitspakete nach Annex 1","Std.","Min.","Geleistete Arbeitspakete nach Annex 1","Std.","Min.","Std.","Min.","Std.","Min.","Std.","Min.","Std.","Min.","Std.","Min.","Std.","Min.","Std.","Min.","Std.","Min."]
[null,null,null,null,null,"U",{"$f":"IF(AND(E14>0,I5<>\"\",U5<>\"f\"),1,0)","v":1},{"$f":"IF(AND(I5<>\"\",U5<>\"f\"),1,0)","v":1},{"$f":"IF(CHOOSE(WEEKDAY(Einstellungen!$A$12,2),\"Mo\",\"Di\",\"Mi\",\"Do\",\"Fr\",\"Sa\",\"So\")=J5,Einstellungen!$A$12,\"\")","v":"2026-10-01"},"Do",null,null,null,null,{"$f":"HOUR(N5-K5-(M5-L5))","v":0},{"$f":"MINUTE(N5-K5-(M5-L5))","v":0},null,null,null,null,null,{"$f":"IF(OR(U5=\"U\",U5=\"k\",U5=\"B\"),$C$14,IF(S5>P5,O5-1-R5,O5-R5))","v":0},{"$f":"IF(OR(U5=\"U\",U5=\"k\",U5=\"B\"),$D$14,IF(S5>P5,P5+60-S5,P5-S5))","v":0},{"$f":"IF(OR(U5=\"U\",U5=\"K\",U5=\"B\"),0,V5)","v":0},{"$f":"IF(OR(U5=\"U\",U5=\"K\",U5=\"B\"),0,W5)","v":0},{"$f":"INT(((SUM(AB5,AH5,AK5,AN5,AQ5,AS5,AU5,AW5,AY5,BA5,BC5,BE5,BG5)*100)+(SUM(AC5,AI5,AL5,AO5,AR5,AT5,AV5,AX5,AZ5,BB5,BD5,BF5,BH5)/60*100))/100)","v":0},{"$f":"MOD(((SUM(AC5,AI5,AL5,AO5,AR5,AT5,AV5,AX5,AZ5,BB5,BD5,BF5,BH5)*100)+(SUM(AC5,AI5,AL5,AO5,AR5,AT5,AV5,AX5,AZ5,BB5,BD5,BF5,BH5)/60*100))/100,1)*60","v":0},null,null,{"$f":"INT(((SUM(AH5,AK5,AN5)*100)+SUM(AI5,AL5,AO5)/60*100)/100)","v":0},{"$f":"MOD(((SUM(AI5,AL5,AO5)*100)+(SUM(AI5,AL5,AO5)/60*100))/100,1)*60","v":0},{"$f":"INT(((SUM(AQ5+AS5+AU5+AW5+AY5+BA5+BC5+BE5+BG5)*100)+SUM(AR5+AT5+AV5+AX5+AZ5+BB5+BD5+BF5+BH5)/60*100)/100)","v":0},{"$f":"MOD(((SUM(AR5+AT5+AV5+AX5+AZ5+BB5+BD5+BF5+BH5)*100)+(SUM(AR5+AT5+AV5+AX5+AZ5+BB5+BD5+BF5+BH5)/60*100))/100,1)*60","v":0},null,null,"",null,null,"",null,null,""]
[null,null,null,null,null,"K",{"$f":"IF(AND(E15>0,I6<>\"\",U6<>\"f\"),F14,0)","v":1},{"$f":"IF(AND(I6<>\"\",U6<>\"f\"),1,0)","v":1},{"$f":"IF(I5<>\"\",I5+1,IF(CHOOSE(WEEKDAY(Einstellungen!$A$12,2),\"Mo\",\"Di\",\"Mi\",\"Do\",\"Fr\",\"Sa\",\"So\")=J6,Einstellungen!$A$12,\"\"))","v":"2026-10-02"},"Fr",null,null,null,null,{"$f":"HOUR(N6-K6-(M6-L6))","v":0},{"$f":"MINUTE(N6-K6-(M6-L6))","v":0},null,null,null,null,null,{"$f":"IF(OR(U6=\"U\",U6=\"k\",U6=\"B\"),$C$15,IF(S6>P6,O6-1-R6,O6-R6))","v":0},{"$f":"IF(OR(U6=\"U\",U6=\"k\",U6=\"B\"),$D$15,IF(S6>P6,P6+60-S6,P6-S6))","v":0},{"$f":"IF(OR(U6=\"U\",U6=\"K\",U6=\"B\"),0,V6)","v":0},{"$f":"IF(OR(U6=\"U\",U6=\"K\",U6=\"B\"),0,W6)","v":0},{"$f":"INT(((SUM(AB6,AH6,AK6,AN6,AQ6,AS6,AU6,AW6,AY6,BA6,BC6,BE6,BG6)*100)+(SUM(AC6,AI6,AL6,AO6,AR6,AT6,AV6,AX6,AZ6,BB6,BD6,BF6,BH6)/60*100))/100)","v":0},{"$f":"MOD(((SUM(AC6,AI6,AL6,AO6,AR6,AT6,AV6,AX6,AZ6,BB6,BD6,BF6,BH6)*100)+(SUM(AC6,AI6,AL6,AO6,AR6,AT6,AV6,AX6,AZ6,BB6,BD6,BF6,BH6)/60*100))/100,1)*60","v":0},null,null,{"$f":"INT(((SUM(AH6,AK6,AN6)*100)+SUM(AI6,AL6,AO6)/60*100)/100)","v":0},{"$f":"MOD(((SUM(AI6,AL6,AO6)*100)+(SUM(AI6,AL6,AO6)/60*100))/100,1)*60","v":0},{"$f":"INT(((SUM(AQ6+AS6+AU6+AW6+AY6+BA6+BC6+BE6+BG6)*100)+SUM(AR6+AT6+AV6+AX6+AZ6+BB6+BD6+BF6+BH6)/60*100)/100)","v":0},{"$f":"MOD(((SUM(AR6+AT6+AV6+AX6+AZ6+BB6+BD6+BF6+BH6)*100)+(SUM(AR6+AT6+AV6+AX6+AZ6+BB6+BD6+BF6+BH6)/60*100))/100,1)*60","v":0},null,null,"",null,null,"",null,null,""]
[null,null,null,null,null,"A",{"$f":"IF(AND(E16>0,I7<>\"\",U7<>\"f\"),F15,0)","v":0},null,{"$f":"IF(I6<>\"\",I6+1,IF(CHOOSE(WEEKDAY(Einstellungen!$A$12,2),\"Mo\",\"Di\",\"Mi\",\"Do\",\"Fr\",\"Sa\",\"So\")=J7,Einstellungen!$A$12,\"\"))","v":"2026-10-03"},"Sa",null,null,null,null,{"$f":"HOUR(N7-K7-(M7-L7))","v":0},{"$f":"MINUTE(N7-K7-(M7-L7))","v":0},null,null,null,"nur dienstl. Sonderfälle!*",null,{"$f":"IF(S7>P7,O7-1-R7,O7-R7)","v":0},{"$f":"IF(S7>P7,P7+60-S7,P7-S7)","v":0},0,0,{"$f":"INT(((SUM(AB7,AH7,AK7,AN7,AQ7,AS7,AU7,AW7,AY7,BA7,BC7,BE7,BG7)*100)+(SUM(AC7,AI7,AL7,AO7,AR7,AT7,AV7,AX7,AZ7,BB7,BD7,BF7,BH7)/60*100))/100)","v":0},{"$f":"MOD(((SUM(AC7,AI7,AL7,AO7,AR7,AT7,AV7,AX7,AZ7,BB7,BD7,BF7,BH7)*100)+(SUM(AC7,AI7,AL7,AO7,AR7,AT7,AV7,AX7,AZ7,BB7,BD7,BF7,BH7)/60*100))/100,1)*60","v":0},null,null,{"$f":"INT(((SUM(AH7,AK7,AN7)*100)+SUM(AI7,AL7,AO7)/60*100)/100)","v":0},{"$f":"MOD(((SUM(AI7,AL7,AO7)*100)+(SUM(AI7,AL7,AO7)/60*100))/100,1)*60","v":0},{"$f":"INT(((SUM(AQ7+AS7+AU7+AW7+AY7+BA7+BC7+BE7+BG7)*100)+SUM(AR7+AT7+AV7+AX7+AZ7+BB7+BD7+BF7+BH7)/60*100)/100)","v":0},{"$f":"MOD(((SUM(AR7+AT7+AV7+AX7+AZ7+BB7+BD7+BF7+BH7)*100)+(SUM(AR7+AT7+AV7+AX7+AZ7+BB7+BD7+BF7+BH7)/60*100))/100,1)*60","v":0},null,null,"",null,null,"",null,null,""]
[{"$f":"IF(Einstellungen!D25>0.0005,\"Bitte Werte prüfen\",\"\")","v":""},null,null,null,null,"B",null,null,{"$f":"IF(I7<>\"\",I7+1,IF(CHOOSE(WEEKDAY(Einstellungen!$A$12,2),\"Mo\",\"Di\",\"Mi\",\"Do\",\"Fr\",\"Sa\",\"So\")=J8,Einstellungen!$A$12,\"\"))","v":"2026-10-04"},"So",null,null,null,null,{"$f":"HOUR(N8-K8-(M8-L8))","v":0},{"$f":"MINUTE(N8-K8-(M8-L8))","v":0},null,null,null,"nur dienstl. Sonderfälle!*",null,{"$f":"IF(S8>P8,O8-1-R8,O8-R8)","v":0},{"$f":"IF(S8>P8,P8+60-S8,P8-S8)","v":0},0,0,{"$f":"INT(((SUM(AB8,AH8,AK8,AN8,AQ8,AS8,AU8,AW8,AY8,BA8,BC8,BE8,BG8)*100)+(SUM(AC8,AI8,AL8,AO8,AR8,AT8,AV8,AX8,AZ8,BB8,BD8,BF8,BH8)/60*100))/100)","v":0},{"$f":"MOD(((SUM(AC8,AI8,AL8,AO8,AR8,AT8,AV8,AX8,AZ8,BB8,BD8,BF8,BH8)*100)+(SUM(AC8,AI8,AL8,AO8,AR8,AT8,AV8,AX8,AZ8,BB8,BD8,BF8,BH8)/60*100))/100,1)*60","v":0},null,null,{"$f":"INT(((SUM(AH8,AK8,AN8)*100)+SUM(AI8,AL8,AO8)/60*100)/100)","v":0},{"$f":"MOD(((SUM(AI8,AL8,AO8)*100)+(SUM(AI8,AL8,AO8)/60*100))/100,1)*60","v":0},{"$f":"INT(((SUM(AQ8+AS8+AU8+AW8+AY8+BA8+BC8+BE8+BG8)*100)+SUM(AR8+AT8+AV8+AX8+AZ8+BB8+BD8+BF8+BH8)/60*100)/100)","v":0},{"$f":"MOD(((SUM(AR8+AT8+AV8+AX8+AZ8+BB8+BD8+BF8+BH8)*100)+(SUM(AR8+AT8+AV8+AX8+AZ8+BB8+BD8+BF8+BH8)/60*100))/100,1)*60","v":0},null,null,"",null,null,"",null,null,""]
["Meine tägl. Regelarbeitszeit:",null,null,null,null,"X",null,null,null,null,null,null,null,null,null,null,null,null,null,null,null,{"$f":"INT((60*SUM(V5:V8)+SUM(W5:W8)-W9)/60)","v":0},{"$f":"INT(60*SUM(V5:V8)+SUM(W5:W8)-60*INT((60*SUM(V5:V8)+SUM(W5:W8))/60))","v":0},{"$f":"INT((60*SUM(X5:X8)+SUM(Y5:Y8)-Y9)/60)","v":0},{"$f":"INT(60*SUM(X5:X8)+SUM(Y5:Y8)-60*INT((60*SUM(X5:X8)+SUM(Y5:Y8))/60))","v":0},{"$f":"INT((60*SUM(Z5:Z8)+SUM(AA5:AA8)-AA9)/60)","v":0},{"$f":"INT(60*SUM(Z5:Z8)+SUM(AA5:AA8)-60*INT((60*SUM(Z5:Z8)+SUM(AA5:AA8))/60))","v":0},{"$f":"INT((60*SUM(AB5:AB8)+SUM(AC5:AC8)-AC9)/60)","v":0},{"$f":"INT(60*SUM(AB5:AB8)+SUM(AC5:AC8)-60*INT((60*SUM(AB5:AB8)+SUM(AC5:AC8))/60))","v":0},{"$f":"INT((60*SUM(AD5:AD8)+SUM(AE5:AE8)-AE9)/60)","v":0},{"$f":"INT(60*SUM(AD5:AD8)+SUM(AE5:AE8)-60*INT((60*SUM(AD5:AD8)+SUM(AE5:AE8))/60))","v":0},{"$f":"INT((60*SUM(AF5:AF8)+SUM(AG5:AG8)-AG9)/60)","v":0},{"$f":"INT(60*SUM(AF5:AF8)+SUM(AG5:AG8)-60*INT((60*SUM(AF5:AF8)+SUM(AG5:AG8))/60))","v":0},{"$f":"INT((60*SUM(AH5:AH8)+SUM(AI5:AI8)-AI9)/60)","v":0},{"$f":"INT(60*SUM(AH5:AH8)+SUM(AI5:AI8)-60*INT((60*SUM(AH5:AH8)+SUM(AI5:AI8))/60))","v":0},null,{"$f":"INT((60*SUM(AK5:AK8)+SUM(AL5:AL8)-AL9)/60)","v":0},{"$f":"INT(60*SUM(AK5:AK8)+SUM(AL5:AL8)-60*INT((60*SUM(AK5:AK8)+SUM(AL5:AL8))/60))","v":0},null,{"$f":"INT((60*SUM(AN5:AN8)+SUM(AO5:AO8)-AO9)/60)","v":0},{"$f":"INT(60*SUM(AN5:AN8)+SUM(AO5:AO8)-60*INT((60*SUM(AN5:AN8)+SUM(AO5:AO8))/60))","v":0},null,{"$f":"INT((60*SUM(AQ5:AQ8)+SUM(AR5:AR8)-AR9)/60)","v":0},{"$f":"INT(60*SUM(AQ5:AQ8)+SUM(AR5:AR8)-60*INT((60*SUM(AQ5:AQ8)+SUM(AR5:AR8))/60))","v":0},{"$f":"INT((60*SUM(AS5:AS8)+SUM(AT5:AT8)-AT9)/60)","v":0},{"$f":"INT(60*SUM(AS5:AS8)+SUM(AT5:AT8)-60*INT((60*SUM(AS5:AS8)+SUM(AT5:AT8))/60))","v":0},{"$f":"INT((60*SUM(AU5:AU8)+SUM(AV5:AV8)-AV9)/60)","v":0},{"$f":"INT(60*SUM(AU5:AU8)+SUM(AV5:AV8)-60*INT((60*SUM(AU5:AU8)+SUM(AV5:AV8))/60))","v":0},{"$f":"INT((60*SUM(AW5:AW8)+SUM(AX5:AX8)-AX9)/60)","v":0},{"$f":"INT(60*SUM(AW5:AW8)+SUM(AX5:AX8)-60*INT((60*SUM(AW5:AW8)+SUM(AX5:AX8))/60))","v":0},{"$f":"INT((60*SUM(AY5:AY8)+SUM(AZ5:AZ8)-AZ9)/60)","v":0},{"$f":"INT(60*SUM(AY5:AY8)+SUM(AZ5:AZ8)-60*INT((60*SUM(AY5:AY8)+SUM(AZ5:AZ8))/60))","v":0},{"$f":"INT((60*SUM(BA5:BA8)+SUM(BB5:BB8)-BB9)/60)","v":0},{"$f":"INT(60*SUM(BA5:BA8)+SUM(BB5:BB8)-60*INT((60*SUM(BA5:BA8)+SUM(BB5:BB8))/60))","v":0},{"$f":"INT((60*SUM(BC5:BC8)+SUM(BD5:BD8)-BD9)/60)","v":0},{"$f":"INT(60*SUM(BC5:BC8)+SUM(BD5:BD8)-60*INT((60*SUM(BC5:BC8)+SUM(BD5:BD8))/60))","v":0},{"$f":"INT((60*SUM(BE5:BE8)+SUM(BF5:BF8)-BF9)/60)","v":0},{"$f":"INT(60*SUM(BE5:BE8)+SUM(BF5:BF8)-60*INT((60*SUM(BE5:BE8)+SUM(BF5:BF8))/60))","v":0},{"$f":"INT((60*SUM(BG5:BG8)+SUM(BH5:BH8)-BH9)/60)","v":0},{"$f":"INT(60*SUM(BG5:BG8)+SUM(BH5:BH8)-60*INT((60*SUM(BG5:BG8)+SUM(BH5:BH8))/60))","v":0}]
[null,null,null,null,{"$f":"5-COUNTIF(E11:E15,0)","v":5},{"$f":"(SUM(C11:C15)*60+SUM(D11:D15))/E10","v":474}]
["Mo",{"$f":"IF(E11=0,\"frei\",\"\")","v":""},{"$f":"SUM(Einstellungen!C19)","v":7},{"$f":"SUM(Einstellungen!D19)","v":54},{"$f":"C11*60+D11","v":474},{"$f":"E11/$F$10","v":1},{"$f":"IF(AND(E11>0,I11<>\"\",U11<>\"f\"),F11,0)","v":1},{"$f":"IF(AND(I11<>\"\",U11<>\"f\"),1,0)","v":1},{"$f":"IF(I8<>\"\",I8+1,IF(CHOOSE(WEEKDAY(Einstellungen!$A$12,2),\"Mo\",\"Di\",\"Mi\",\"Do\",\"Fr\",\"Sa\",\"So\")=J11,Einstellungen!$A$12,\"\"))","v":"2026-10-05"},"Mo",null,null,null,null,{"$f":"HOUR(N11-K11-(M11-L11))","v":0},{"$f":"MINUTE(N11-K11-(M11-L11))","v":0},null,null,null,null,null,{"$f":"IF(OR(U11=\"U\",U11=\"k\",U11=\"B\"),$C$11,IF(S11>P11,O11-1-R11,O11-R11))","v":0},{"$f":"IF(OR(U11=\"U\",U11=\"k\",U11=\"B\"),$D$11,IF(S11>P11,P11+60-S11,P11-S11))","v":0},{"$f":"IF(OR(U11=\"U\",U11=\"K\",U11=\"B\"),0,V11)","v":0},{"$f":"IF(OR(U11=\"U\",U11=\"K\",U11=\"B\"),0,W11)","v":0},{"$f":"INT(((SUM(AB11,AH11,AK11,AN11,AQ11,AS11,AU11,AW11,AY11,BA11,BC11,BE11,BG11)*100)+(SUM(AC11,AI11,AL11,AO11,AR11,AT11,AV11,AX11,AZ11,BB11,BD11,BF11,BH11)/60*100))/100)","v":0},{"$f":"MOD(((SUM(AC11,AI11,AL11,AO11,AR11,AT11,AV11,AX11,AZ11,BB11,BD11,BF11,BH11)*100)+(SUM(AC11,AI11,AL11,AO11,AR11,AT11,AV11,AX11,AZ11,BB11,BD11,BF11,BH11)/60*100))/100,1)*60","v":0},null,null,{"$f":"INT(((SUM(AH11,AK11,AN11)*100)+SUM(AI11,AL11,AO11)/60*100)/100)","v":0},{"$f":"MOD(((SUM(AI11,AL11,AO11)*100)+(SUM(AI11,AL11,AO11)/60*100))/100,1)*60","v":0},{"$f":"INT(((SUM(AQ11+AS11+AU11+AW11+AY11+BA11+BC11+BE11+BG11)*100)+SUM(AR11+AT11+AV11+AX11+AZ11+BB11+BD11+BF11+BH11)/60*100)/100)","v":0},{"$f":"MOD(((SUM(AR11+AT11+AV11+AX11+AZ11+BB11+BD11+BF11+BH11)*100)+(SUM(AR11+AT11+AV11+AX11+AZ11+BB11+BD11+BF11+BH11)/60*100))/100,1)*60","v":0},null,null,"",null,null,"",null,null,""]
["Di",{"$f":"IF(E12=0,\"frei\",\"\")","v":""},{"$f":"SUM(Einstellungen!C20)","v":7},{"$f":"SUM(Einstellungen!D20)","v":54},{"$f":"C12*60+D12","v":474},{"$f":"E12/$F$10","v":1},{"$f":"IF(AND(E12>0,I12<>\"\",U12<>\"f\"),F12,0)","v":1},{"$f":"IF(AND(I12<>\"\",U12<>\"f\"),1,0)","v":1},{"$f":"IF(I11<>\"\",I11+1,IF(CHOOSE(WEEKDAY(Einstellungen!$A$12,2),\"Mo\",\"Di\",\"Mi\",\"Do\",\"Fr\",\"Sa\",\"So\")=J12,Einstellungen!$A$12,\"\"))","v":"2026-10-06"},"Di",null,null,null,null,{"$f":"HOUR(N12-K12-(M12-L12))","v":0},{"$f":"MINUTE(N12-K12-(M12-L12))","v":0},null,null,null,null,null,{"$f":"IF(OR(U12=\"U\",U12=\"k\",U12=\"B\"),$C$12,IF(S12>P12,O12-1-R12,O12-R12))","v":0},{"$f":"IF(OR(U12=\"U\",U12=\"k\",U12=\"B\"),$D$12,IF(S12>P12,P12+60-S12,P12-S12))","v":0},0,0,0,0,null,null,0,0,0,0,null,null,"",null,null,"",null,null,""]
["Mi",{"$f":"IF(E13=0,\"frei\",\"\")","v":""},{"$f":"SUM(Einstellungen!C21)","v":7},{"$f":"SUM(Einstellungen!D21)","v":54},{"$f":"C13*60+D13","v":474},{"$f":"E13/$F$10","v":1},{"$f":"IF(AND(E13>0,I13<>\"\",U13<>\"f\"),F13,0)","v":1},{"$f":"IF(AND(I13<>\"\",U13<>\"f\"),1,0)","v":1},{"$f":"IF(I12<>\"\",I12+1,IF(CHOOSE(WEEKDAY(Einstellungen!$A$12,2),\"Mo\",\"Di\",\"Mi\",\"Do\",\"Fr\",\"Sa\",\"So\")=J13,Einstellungen!$A$12,\"\"))","v":"2026-10-07"},"Mi",null,null,null,null,0,0,null,null,null,null,null,{"$f":"IF(OR(U13=\"U\",U13=\"k\",U13=\"B\"),$C$13,IF(S13>P13,O13-1-R13,O13-R13))","v":0},{"$f":"IF(OR(U13=\"U\",U13=\"k\",U13=\"B\"),$D$13,IF(S13>P13,P13+60-S13,P13-S13))","v":0},0,0,0,0,null,null,0,0,0,0,null,null,"",null,null,"",null,null,""]
["Do",{"$f":"IF(E14=0,\"frei\",\"\")","v":""},{"$f":"SUM(Einstellungen!C22)","v":7},{"$f":"SUM(Einstellungen!D22)","v":54},{"$f":"C14*60+D14","v":474},{"$f":"E14/$F$10","v":1},{"$f":"IF(AND(E14>0,I14<>\"\",U14<>\"f\"),F14,0)","v":1},{"$f":"IF(AND(I14<>\"\",U14<>\"f\"),1,0)","v":1},{"$f":"IF(I13<>\"\",I13+1,IF(CHOOSE(WEEKDAY(Einstellungen!$A$12,2),\"Mo\",\"Di\",\"Mi\",\"Do\",\"Fr\",\"Sa\",\"So\")=J14,Einstellungen!$A$12,\"\"))","v":"2026-10-08"},"Do",null,null,null,null,0,0,null,null,null,null,null,{"$f":"IF(OR(U14=\"U\",U14=\"k\",U14=\"B\"),$C$14,IF(S14>P14,O14-1-R14,O14-R14))","v":0},{"$f":"IF(OR(U14=\"U\",U14=\"k\",U14=\"B\"),$D$14,IF(S14>P14,P14+60-S14,P14-S14))","v":0},0,0,0,0,null,null,0,0,0,0,null,null,"",null,null,"",null,null,""]
["Fr",{"$f":"IF(E15=0,\"frei\",\"\")","v":""},{"$f":"SUM(Einstellungen!C23)","v":7},{"$f":"SUM(Einstellungen!D23)","v":54},{"$f":"C15*60+D15","v":474},{"$f":"E15/$F$10","v":1},{"$f":"IF(AND(E15>0,I15<>\"\",U15<>\"f\"),F15,0)","v":1},{"$f":"IF(AND(I15<>\"\",U15<>\"f\"),1,0)","v":1},{"$f":"I14+1","v":"2026-10-09"},"Fr",null,null,null,null,0,0,null,null,null,null,null,{"$f":"IF(OR(U15=\"U\",U15=\"k\",U15=\"B\"),$C$15,IF(S15>P15,O15-1-R15,O15-R15))","v":0},{"$f":"IF(OR(U15=\"U\",U15=\"k\",U15=\"B\"),$D$15,IF(S15>P15,P15+60-S15,P15-S15))","v":0},0,0,0,0,null,null,0,0,0,0,null,null,"",null,null,"",null,null,""]
[{"$f":"Einstellungen!$L$1","v":"Hinweise:"},null,null,null,null,null,null,null,{"$f":"I15+1","v":"2026-10-10"},"Sa",null,null,null,null,0,0,null,null,null,"nur dienstl. Sonderfälle!*",null,{"$f":"IF(S16>P16,O16-1-R16,O16-R16)","v":0},{"$f":"IF(S16>P16,P16+60-S16,P16-S16)","v":0},0,0,0,0,null,null,0,0,0,0,null,null,"",null,null,"",null,null,""]
[{"$f":"Einstellungen!$L$2","v":"I Beschäftigte mit 39,5 Std-Woche"},null,null,null,null,null,null,null,{"$f":"I16+1","v":"2026-10-11"},"So",null,null,null,null,0,0,null,null,null,"nur dienstl. Sonderfälle!*",null,{"$f":"IF(S17>P17,O17-1-R17,O17-R17)","v":0},{"$f":"IF(S17>P17,P17+60-S17,P17-S17)","v":0},0,0,0,0,null,null,0,0,0,0,null,null,"",null,null,"",null,null,""]
[{"$f":"Einstellungen!$L$3","v":""},null,{"$f":"Einstellungen!$N$3","v":"Beschäftigungsumfang"},null,null,null,null,null,null,null,null,null,null,null,null,null,null,null,null,null,null,{"$f":"INT((60*SUM(V11:V17)+SUM(W11:W17)-W18)/60)","v":0},{"$f":"INT(60*SUM(V11:V17)+SUM(W11:W17)-60*INT((60*SUM(V11:V17)+SUM(W11:W17))/60))","v":0},{"$f":"INT((60*SUM(X11:X17)+SUM(Y11:Y17)-Y18)/60)","v":0},{"$f":"INT(60*SUM(X11:X17)+SUM(Y11:Y17)-60*INT((60*SUM(X11:X17)+SUM(Y11:Y17))/60))","v":0},{"$f":"INT((60*SUM(Z11:Z17)+SUM(AA11:AA17)-AA18)/60)","v":0},{"$f":"INT(60*SUM(Z11:Z17)+SUM(AA11:AA17)-60*INT((60*SUM(Z11:Z17)+SUM(AA11:AA17))/60))","v":0},{"$f":"INT((60*SUM(AB11:AB17)+SUM(AC11:AC17)-AC18)/60)","v":0},{"$f":"INT(60*SUM(AB11:AB17)+SUM(AC11:AC17)-60*INT((60*SUM(AB11:AB17)+SUM(AC11:AC17))/60))","v":0},{"$f":"INT((60*SUM(AD11:AD17)+SUM(AE11:AE17)-AE18)/60)","v":0},{"$f":"INT(60*SUM(AD11:AD17)+SUM(AE11:AE17)-60*INT((60*SUM(AD11:AD17)+SUM(AE11:AE17))/60))","v":0},{"$f":"INT((60*SUM(AF11:AF17)+SUM(AG11:AG17)-AG18)/60)","v":0},{"$f":"INT(60*SUM(AF11:AF17)+SUM(AG11:AG17)-60*INT((60*SUM(AF11:AF17)+SUM(AG11:AG17))/60))","v":0},{"$f":"INT((60*SUM(AH11:AH17)+SUM(AI11:AI17)-AI18)/60)","v":0},{"$f":"INT(60*SUM(AH11:AH17)+SUM(AI11:AI17)-60*INT((60*SUM(AH11:AH17)+SUM(AI11:AI17))/60))","v":0},null,{"$f":"INT((60*SUM(AK11:AK17)+SUM(AL11:AL17)-AL18)/60)","v":0},{"$f":"INT(60*SUM(AK11:AK17)+SUM(AL11:AL17)-60*INT((60*SUM(AK11:AK17)+SUM(AL11:AL17))/60))","v":0},null,{"$f":"INT((60*SUM(AN11:AN17)+SUM(AO11:AO17)-AO18)/60)","v":0},{"$f":"INT(60*SUM(AN11:AN17)+SUM(AO11:AO17)-60*INT((60*SUM(AN11:AN17)+SUM(AO11:AO17))/60))","v":0},null,{"$f":"INT((60*SUM(AQ11:AQ17)+SUM(AR11:AR17)-AR18)/60)","v":0},{"$f":"INT(60*SUM(AQ11:AQ17)+SUM(AR11:AR17)-60*INT((60*SUM(AQ11:AQ17)+SUM(AR11:AR17))/60))","v":0},{"$f":"INT((60*SUM(AS11:AS17)+SUM(AT11:AT17)-AT18)/60)","v":0},{"$f":"INT(60*SUM(AS11:AS17)+SUM(AT11:AT17)-60*INT((60*SUM(AS11:AS17)+SUM(AT11:AT17))/60))","v":0},{"$f":"INT((60*SUM(AU11:AU17)+SUM(AV11:AV17)-AV18)/60)","v":0},{"$f":"INT(60*SUM(AU11:AU17)+SUM(AV11:AV17)-60*INT((60*SUM(AU11:AU17)+SUM(AV11:AV17))/60))","v":0},{"$f":"INT((60*SUM(AW11:AW17)+SUM(AX11:AX17)-AX18)/60)","v":0},{"$f":"INT(60*SUM(AW11:AW17)+SUM(AX11:AX17)-60*INT((60*SUM(AW11:AW17)+SUM(AX11:AX17))/60))","v":0},{"$f":"INT((60*SUM(AY11:AY17)+SUM(AZ11:AZ17)-AZ18)/60)","v":0},{"$f":"INT(60*SUM(AY11:AY17)+SUM(AZ11:AZ17)-60*INT((60*SUM(AY11:AY17)+SUM(AZ11:AZ17))/60))","v":0},{"$f":"INT((60*SUM(BA11:BA17)+SUM(BB11:BB17)-BB18)/60)","v":0},{"$f":"INT(60*SUM(BA11:BA17)+SUM(BB11:BB17)-60*INT((60*SUM(BA11:BA17)+SUM(BB11:BB17))/60))","v":0},{"$f":"INT((60*SUM(BC11:BC17)+SUM(BD11:BD17)-BD18)/60)","v":0},{"$f":"INT(60*SUM(BC11:BC17)+SUM(BD11:BD17)-60*INT((60*SUM(BC11:BC17)+SUM(BD11:BD17))/60))","v":0},{"$f":"INT((60*SUM(BE11:BE17)+SUM(BF11:BF17)-BF18)/60)","v":0},{"$f":"INT(60*SUM(BE11:BE17)+SUM(BF11:BF17)-60*INT((60*SUM(BE11:BE17)+SUM(BF11:BF17))/60))","v":0},{"$f":"INT((60*SUM(BG11:BG17)+SUM(BH11:BH17)-BH18)/60)","v":0},{"$f":"INT(60*SUM(BG11:BG17)+SUM(BH11:BH17)-60*INT((60*SUM(BG11:BG17)+SUM(BH11:BH17))/60))","v":0}]
[]
[{"$f":"Einstellungen!$L$4","v":"5 Tage-Woche"},null,{"$f":"Einstellungen!$N$4","v":1},{"$f":"Einstellungen!$O$4","v":0.75},null,{"$f":"Einstellungen!$Q$4","v":0.5},{"$f":"IF(AND(E11>0,I20<>\"\",U20<>\"f\"),F11,0)","v":1},{"$f":"IF(AND(I20<>\"\",U20<>\"f\"),1,0)","v":1},{"$f":"I17+1","v":"2026-10-12"},"Mo",null,null,null,null,{"$f":"HOUR(N20-K20-(M20-L20))","v":0},{"$f":"MINUTE(N20-K20-(M20-L20))","v":0},null,null,null,null,null,{"$f":"IF(OR(U20=\"U\",U20=\"k\",U20=\"B\"),$C$11,IF(S20>P20,O20-1-R20,O20-R20))","v":0},{"$f":"IF(OR(U20=\"U\",U20=\"k\",U20=\"B\"),$D$11,IF(S20>P20,P20+60-S20,P20-S20))","v":0},{"$f":"IF(OR(U20=\"U\",U20=\"K\",U20=\"B\"),0,V20)","v":0},{"$f":"IF(OR(U20=\"U\",U20=\"K\",U20=\"B\"),0,W20)","v":0},{"$f":"INT(((SUM(AB20,AH20,AK20,AN20,AQ20,AS20,AU20,AW20,AY20,BA20,BC20,BE20,BG20)*100)+(SUM(AC20,AI20,AL20,AO20,AR20,AT20,AV20,AX20,AZ20,BB20,BD20,BF20,BH20)/60*100))/100)","v":0},{"$f":"MOD(((SUM(AC20,AI20,AL20,AO20,AR20,AT20,AV20,AX20,AZ20,BB20,BD20,BF20,BH20)*100)+(SUM(AC20,AI20,AL20,AO20,AR20,AT20,AV20,AX20,AZ20,BB20,BD20,BF20,BH20)/60*100))/100,1)*60","v":0},null,null,{"$f":"INT(((SUM(AH20,AK20,AN20)*100)+SUM(AI20,AL20,AO20)/60*100)/100)","v":0},{"$f":"MOD(((SUM(AI20,AL20,AO20)*100)+(SUM(AI20,AL20,AO20)/60*100))/100,1)*60","v":0},{"$f":"INT(((SUM(AQ20+AS20+AU20+AW20+AY20+BA20+BC20+BE20+BG20)*100)+SUM(AR20+AT20+AV20+AX20+AZ20+BB20+BD20+BF20+BH20)/60*100)/100)","v":0},{"$f":"MOD(((SUM(AR20+AT20+AV20+AX20+AZ20+BB20+BD20+BF20+BH20)*100)+(SUM(AR20+AT20+AV20+AX20+AZ20+BB20+BD20+BF20+BH20)/60*100))/100,1)*60","v":0},null,null,"",null,null,"",null,null,""]
[{"$f":"Einstellungen!$L$5","v":""},null," "," ",null," ",{"$f":"IF(AND(E12>0,I21<>\"\",U21<>\"f\"),F12,0)","v":1},{"$f":"IF(AND(I21<>\"\",U21<>\"f\"),1,0)","v":1},{"$f":"I20+1","v":"2026-10-13"},"Di",null,null,null,null,0,0,null,null,null,null,null,{"$f":"IF(OR(U21=\"U\",U21=\"k\",U21=\"B\"),$C$12,IF(S21>P21,O21-1-R21,O21-R21))","v":0},{"$f":"IF(OR(U21=\"U\",U21=\"k\",U21=\"B\"),$D$12,IF(S21>P21,P21+60-S21,P21-S21))","v":0},0,0,0,0,null,null,0,0,0,0,null,null,"",null,null,"",null,null,""]
[{"$f":"Einstellungen!$L$6","v":"tägliche Regel-"},null," "," ",null," ",{"$f":"IF(AND(E13>0,I22<>\"\",U22<>\"f\"),F13,0)","v":1},{"$f":"IF(AND(I22<>\"\",U22<>\"f\"),1,0)","v":1},{"$f":"I21+1","v":"2026-10-14"},"Mi",null,null,null,null,0,0,null,null,null,null,null,{"$f":"IF(OR(U22=\"U\",U22=\"k\",U22=\"B\"),$C$13,IF(S22>P22,O22-1-R22,O22-R22))","v":0},{"$f":"IF(OR(U22=\"U\",U22=\"k\",U22=\"B\"),$D$13,IF(S22>P22,P22+60-S22,P22-S22))","v":0},0,0,0,0,null,null,0,0,0,0,null,null,"",null,null,"",null,null,""]
[{"$f":"Einstellungen!$L$7","v":"arbeitszeit für"},null,null,null,null,null,{"$f":"IF(AND(E14>0,I23<>\"\",U23<>\"f\"),F14,0)","v":1},{"$f":"IF(AND(I23<>\"\",U23<>\"f\"),1,0)","v":1},"2026-10-15","Do",null,null,null,null,0,0,null,null,null,null,null,{"$f":"IF(OR(U23=\"U\",U23=\"k\",U23=\"B\"),$C$14,IF(S23>P23,O23-1-R23,O23-R23))","v":0},{"$f":"IF(OR(U23=\"U\",U23=\"k\",U23=\"B\"),$D$14,IF(S23>P23,P23+60-S23,P23-S23))","v":0},0,0,0,0,null,null,0,0,0,0,null,null,"",null,null,"",null,null,""]
[{"$f":"Einstellungen!$L$8","v":"Wochenfeier-"},null,null,null,null,null,{"$f":"IF(AND(E15>0,I24<>\"\",U24<>\"f\"),F15,0)","v":1},{"$f":"IF(AND(I24<>\"\",U24<>\"f\"),1,0)","v":1},"2026-10-16","Fr",null,null,null,null,0,0,null,null,null,null,null,{"$f":"IF(OR(U24=\"U\",U24=\"k\",U24=\"B\"),$C$15,IF(S24>P24,O24-1-R24,O24-R24))","v":0},{"$f":"IF(OR(U24=\"U\",U24=\"k\",U24=\"B\"),$D$15,IF(S24>P24,P24+60-S24,P24-S24))","v":0},0,0,0,0,null,null,0,0,0,0,null,null,"",null,null,"",null,null,""]
[{"$f":"Einstellungen!$L$9","v":"tage, bei Urlaub"},null,null,null,null,null,null,null,"2026-10-17","Sa",null,null,null,null,0,0,null,null,null,"nur dienstl. Sonderfälle!*",null,{"$f":"IF(S25>P25,O25-1-R25,O25-R25)","v":0},{"$f":"IF(S25>P25,P25+60-S25,P25-S25)","v":0},0,0,0,0,null,null,0,0,0,0,null,null,"",null,null,"",null,null,""]
[{"$f":"Einstellungen!$L$10","v":"oder Krankheit"},null,null,null,null,null,null,null,"2026-10-18","So",null,null,null,null,0,0,null,null,null,"nur dienstl. Sonderfälle!*",null,{"$f":"IF(S26>P26,O26-1-R26,O26-R26)","v":0},{"$f":"IF(S26>P26,P26+60-S26,P26-S26)","v":0},0,0,0,0,null,null,0,0,0,0,null,null,"",null,null,"",null,null,""]
[{"$f":"Einstellungen!$L$11","v":"Mo-Fr  "},{"$f":"Einstellungen!$M$11","v":"Std.Min"},{"$f":"Einstellungen!$N$11","v":" 7.54"},{"$f":"Einstellungen!$O$11","v":" 5.56"},null,{"$f":"Einstellungen!$Q$11","v":" 3.57"},null,null,null,null,null,null,null,null,null,null,null,null,null,null,null,{"$f":"INT((60*SUM(V20:V26)+SUM(W20:W26)-W27)/60)","v":0},{"$f":"INT(60*SUM(V20:V26)+SUM(W20:W26)-60*INT((60*SUM(V20:V26)+SUM(W20:W26))/60))","v":0},{"$f":"INT((60*SUM(X20:X26)+SUM(Y20:Y26)-Y27)/60)","v":0},{"$f":"INT(60*SUM(X20:X26)+SUM(Y20:Y26)-60*INT((60*SUM(X20:X26)+SUM(Y20:Y26))/60))","v":0},{"$f":"INT((60*SUM(Z20:Z26)+SUM(AA20:AA26)-AA27)/60)","v":0},{"$f":"INT(60*SUM(Z20:Z26)+SUM(AA20:AA26)-60*INT((60*SUM(Z20:Z26)+SUM(AA20:AA26))/60))","v":0},{"$f":"INT((60*SUM(AB20:AB26)+SUM(AC20:AC26)-AC27)/60)","v":0},{"$f":"INT(60*SUM(AB20:AB26)+SUM(AC20:AC26)-60*INT((60*SUM(AB20:AB26)+SUM(AC20:AC26))/60))","v":0},{"$f":"INT((60*SUM(AD20:AD26)+SUM(AE20:AE26)-AE27)/60)","v":0},{"$f":"INT(60*SUM(AD20:AD26)+SUM(AE20:AE26)-60*INT((60*SUM(AD20:AD26)+SUM(AE20:AE26))/60))","v":0},{"$f":"INT((60*SUM(AF20:AF26)+SUM(AG20:AG26)-AG27)/60)","v":0},{"$f":"INT(60*SUM(AF20:AF26)+SUM(AG20:AG26)-60*INT((60*SUM(AF20:AF26)+SUM(AG20:AG26))/60))","v":0},{"$f":"INT((60*SUM(AH20:AH26)+SUM(AI20:AI26)-AI27)/60)","v":0},{"$f":"INT(60*SUM(AH20:AH26)+SUM(AI20:AI26)-60*INT((60*SUM(AH20:AH26)+SUM(AI20:AI26))/60))","v":0},null,{"$f":"INT((60*SUM(AK20:AK26)+SUM(AL20:AL26)-AL27)/60)","v":0},{"$f":"INT(60*SUM(AK20:AK26)+SUM(AL20:AL26)-60*INT((60*SUM(AK20:AK26)+SUM(AL20:AL26))/60))","v":0},null,{"$f":"INT((60*SUM(AN20:AN26)+SUM(AO20:AO26)-AO27)/60)","v":0},{"$f":"INT(60*SUM(AN20:AN26)+SUM(AO20:AO26)-60*INT((60*SUM(AN20:AN26)+SUM(AO20:AO26))/60))","v":0},null,{"$f":"INT((60*SUM(AQ20:AQ26)+SUM(AR20:AR26)-AR27)/60)","v":0},{"$f":"INT(60*SUM(AQ20:AQ26)+SUM(AR20:AR26)-60*INT((60*SUM(AQ20:AQ26)+SUM(AR20:AR26))/60))","v":0},{"$f":"INT((60*SUM(AS20:AS26)+SUM(AT20:AT26)-AT27)/60)","v":0},{"$f":"INT(60*SUM(AS20:AS26)+SUM(AT20:AT26)-60*INT((60*SUM(AS20:AS26)+SUM(AT20:AT26))/60))","v":0},{"$f":"INT((60*SUM(AU20:AU26)+SUM(AV20:AV26)-AV27)/60)","v":0},{"$f":"INT(60*SUM(AU20:AU26)+SUM(AV20:AV26)-60*INT((60*SUM(AU20:AU26)+SUM(AV20:AV26))/60))","v":0},{"$f":"INT((60*SUM(AW20:AW26)+SUM(AX20:AX26)-AX27)/60)","v":0},{"$f":"INT(60*SUM(AW20:AW26)+SUM(AX20:AX26)-60*INT((60*SUM(AW20:AW26)+SUM(AX20:AX26))/60))","v":0},{"$f":"INT((60*SUM(AY20:AY26)+SUM(AZ20:AZ26)-AZ27)/60)","v":0},{"$f":"INT(60*SUM(AY20:AY26)+SUM(AZ20:AZ26)-60*INT((60*SUM(AY20:AY26)+SUM(AZ20:AZ26))/60))","v":0},{"$f":"INT((60*SUM(BA20:BA26)+SUM(BB20:BB26)-BB27)/60)","v":0},{"$f":"INT(60*SUM(BA20:BA26)+SUM(BB20:BB26)-60*INT((60*SUM(BA20:BA26)+SUM(BB20:BB26))/60))","v":0},{"$f":"INT((60*SUM(BC20:BC26)+SUM(BD20:BD26)-BD27)/60)","v":0},{"$f":"INT(60*SUM(BC20:BC26)+SUM(BD20:BD26)-60*INT((60*SUM(BC20:BC26)+SUM(BD20:BD26))/60))","v":0},{"$f":"INT((60*SUM(BE20:BE26)+SUM(BF20:BF26)-BF27)/60)","v":0},{"$f":"INT(60*SUM(BE20:BE26)+SUM(BF20:BF26)-60*INT((60*SUM(BE20:BE26)+SUM(BF20:BF26))/60))","v":0},{"$f":"INT((60*SUM(BG20:BG26)+SUM(BH20:BH26)-BH27)/60)","v":0},{"$f":"INT(60*SUM(BG20:BG26)+SUM(BH20:BH26)-60*INT((60*SUM(BG20:BG26)+SUM(BH20:BH26))/60))","v":0}]
[" "," "," "," ",null," "]
[{"$f":"Einstellungen!$L$13","v":"Wochen"},null," "," ",null," ",{"$f":"IF(AND(E11>0,I29<>\"\",U29<>\"f\"),F11,0)","v":1},{"$f":"IF(AND(I29<>\"\",U29<>\"f\"),1,0)","v":1},{"$f":"I26+1","v":"2026-10-19"},"Mo",null,null,null,null,{"$f":"HOUR(N29-K29-(M29-L29))","v":0},{"$f":"MINUTE(N29-K29-(M29-L29))","v":0},null,null,null,null,null,{"$f":"IF(OR(U29=\"U\",U29=\"k\",U29=\"B\"),$C$11,IF(S29>P29,O29-1-R29,O29-R29))","v":0},{"$f":"IF(OR(U29=\"U\",U29=\"k\",U29=\"B\"),$D$11,IF(S29>P29,P29+60-S29,P29-S29))","v":0},{"$f":"IF(OR(U29=\"U\",U29=\"K\",U29=\"B\"),0,V29)","v":0},{"$f":"IF(OR(U29=\"U\",U29=\"K\",U29=\"B\"),0,W29)","v":0},{"$f":"INT(((SUM(AB29,AH29,AK29,AN29,AQ29,AS29,AU29,AW29,AY29,BA29,BC29,BE29,BG29)*100)+(SUM(AC29,AI29,AL29,AO29,AR29,AT29,AV29,AX29,AZ29,BB29,BD29,BF29,BH29)/60*100))/100)","v":0},{"$f":"MOD(((SUM(AC29,AI29,AL29,AO29,AR29,AT29,AV29,AX29,AZ29,BB29,BD29,BF29,BH29)*100)+(SUM(AC29,AI29,AL29,AO29,AR29,AT29,AV29,AX29,AZ29,BB29,BD29,BF29,BH29)/60*100))/100,1)*60","v":0},null,null,{"$f":"INT(((SUM(AH29,AK29,AN29)*100)+SUM(AI29,AL29,AO29)/60*100)/100)","v":0},{"$f":"MOD(((SUM(AI29,AL29,AO29)*100)+(SUM(AI29,AL29,AO29)/60*100))/100,1)*60","v":0},{"$f":"INT(((SUM(AQ29+AS29+AU29+AW29+AY29+BA29+BC29+BE29+BG29)*100)+SUM(AR29+AT29+AV29+AX29+AZ29+BB29+BD29+BF29+BH29)/60*100)/100)","v":0},{"$f":"MOD(((SUM(AR29+AT29+AV29+AX29+AZ29+BB29+BD29+BF29+BH29)*100)+(SUM(AR29+AT29+AV29+AX29+AZ29+BB29+BD29+BF29+BH29)/60*100))/100,1)*60","v":0},null,null,"",null,null,"",null,null,""]
[{"$f":"CONCATENATE(Einstellungen!$L$14,\" \",Einstellungen!$M$14)","v":"Arbeitzeit Std.Min"},null,{"$f":"Einstellungen!$N$14","v":"39.30"},{"$f":"Einstellungen!$O$14","v":"29.38"},null,{"$f":"Einstellungen!$Q$14","v":"19.45"},{"$f":"IF(AND(E12>0,I30<>\"\",U30<>\"f\"),F12,0)","v":1},{"$f":"IF(AND(I30<>\"\",U30<>\"f\"),1,0)","v":1},{"$f":"I29+1","v":"2026-10-20"},"Di",null,null,null,null,0,0,null,null,null,null,null,{"$f":"IF(OR(U30=\"U\",U30=\"k\",U30=\"B\"),$C$12,IF(S30>P30,O30-1-R30,O30-R30))","v":0},{"$f":"IF(OR(U30=\"U\",U30=\"k\",U30=\"B\"),$D$12,IF(S30>P30,P30+60-S30,P30-S30))","v":0},0,0,0,0,null,null,0,0,0,0,null,null,"",null,null,"",null,null,""]
[{"$f":"Einstellungen!$L$15","v":"max.Übertrag auf das"},null,null," ",null," ",{"$f":"IF(AND(E13>0,I31<>\"\",U31<>\"f\"),F13,0)","v":1},{"$f":"IF(AND(I31<>\"\",U31<>\"f\"),1,0)","v":1},{"$f":"I30+1","v":"2026-10-21"},"Mi",null,null,null,null,0,0,null,null,null,null,null,{"$f":"IF(OR(U31=\"U\",U31=\"k\",U31=\"B\"),$C$13,IF(S31>P31,O31-1-R31,O31-R31))","v":0},{"$f":"IF(OR(U31=\"U\",U31=\"k\",U31=\"B\"),$D$13,IF(S31>P31,P31+60-S31,P31-S31))","v":0},0,0,0,0,null,null,0,0,0,0,null,null,"",null,null,"",null,null,""]
[{"$f":"Einstellungen!$L$16","v":"Folgejahr Std.Min"},null,{"$f":"Einstellungen!$N$16","v":"39.30"},{"$f":"Einstellungen!$O$16","v":"39.30"},null,{"$f":"Einstellungen!$Q$16","v":"39.30"},{"$f":"IF(AND(E14>0,I32<>\"\",U32<>\"f\"),F14,0)","v":1},{"$f":"IF(AND(I32<>\"\",U32<>\"f\"),1,0)","v":1},"2026-10-22","Do",null,null,null,null,0,0,null,null,null,null,null,{"$f":"IF(OR(U32=\"U\",U32=\"k\",U32=\"B\"),$C$14,IF(S32>P32,O32-1-R32,O32-R32))","v":0},{"$f":"IF(OR(U32=\"U\",U32=\"k\",U32=\"B\"),$D$14,IF(S32>P32,P32+60-S32,P32-S32))","v":0},0,0,0,0,null,null,0,0,0,0,null,null,"",null,null,"",null,null,""]
[{"$f":"Einstellungen!$L$17","v":"II Beschäftigte mit 41 Std-Woche"},null,null,null,null,null,{"$f":"IF(AND(E15>0,I33<>\"\",U33<>\"f\"),F15,0)","v":1},{"$f":"IF(AND(I33<>\"\",U33<>\"f\"),1,0)","v":1},"2026-10-23","Fr",null,null,null,null,0,0,null,null,null,null,null,{"$f":"IF(OR(U33=\"U\",U33=\"k\",U33=\"B\"),$C$15,IF(S33>P33,O33-1-R33,O33-R33))","v":0},{"$f":"IF(OR(U33=\"U\",U33=\"k\",U33=\"B\"),$D$15,IF(S33>P33,P33+60-S33,P33-S33))","v":0},0,0,0,0,null,null,0,0,0,0,null,null,"",null,null,"",null,null,""]
[{"$f":"Einstellungen!$L$18","v":"tägliche Arbeitszeit"},null,null,null,null,null,null,null,"2026-10-24","Sa",null,null,null,null,0,0,null,null,null,"nur dienstl. Sonderfälle!*",null,{"$f":"IF(S34>P34,O34-1-R34,O34-R34)","v":0},{"$f":"IF(S34>P34,P34+60-S34,P34-S34)","v":0},0,0,0,0,null,null,0,0,0,0,null,null,"",null,null,"",null,null,""]
[{"$f":"Einstellungen!$L$19","v":"Mo-Fr  "},{"$f":"Einstellungen!$M$19","v":"Std.Min"},{"$f":"Einstellungen!$N$19","v":"8.12"},{"$f":"Einstellungen!$O$19","v":"6.09"},null,{"$f":"Einstellungen!$Q$19","v":"4.06"},null,null,"2026-10-25","So",null,null,null,null,0,0,null,null,null,"nur dienstl. Sonderfälle!*",null,{"$f":"IF(S35>P35,O35-1-R35,O35-R35)","v":0},{"$f":"IF(S35>P35,P35+60-S35,P35-S35)","v":0},0,0,0,0,null,null,0,0,0,0,null,null,"",null,null,"",null,null,""]
[{"$f":"Einstellungen!$L$20","v":"Wochen"},null," "," ",null," ",null,null,null,null,null,null,null,null,null,null,null,null,null,null,null,{"$f":"INT((60*SUM(V29:V35)+SUM(W29:W35)-W36)/60)","v":0},{"$f":"INT(60*SUM(V29:V35)+SUM(W29:W35)-60*INT((60*SUM(V29:V35)+SUM(W29:W35))/60))","v":0},{"$f":"INT((60*SUM(X29:X35)+SUM(Y29:Y35)-Y36)/60)","v":0},{"$f":"INT(60*SUM(X29:X35)+SUM(Y29:Y35)-60*INT((60*SUM(X29:X35)+SUM(Y29:Y35))/60))","v":0},{"$f":"INT((60*SUM(Z29:Z35)+SUM(AA29:AA35)-AA36)/60)","v":0},{"$f":"INT(60*SUM(Z29:Z35)+SUM(AA29:AA35)-60*INT((60*SUM(Z29:Z35)+SUM(AA29:AA35))/60))","v":0},{"$f":"INT((60*SUM(AB29:AB35)+SUM(AC29:AC35)-AC36)/60)","v":0},{"$f":"INT(60*SUM(AB29:AB35)+SUM(AC29:AC35)-60*INT((60*SUM(AB29:AB35)+SUM(AC29:AC35))/60))","v":0},{"$f":"INT((60*SUM(AD29:AD35)+SUM(AE29:AE35)-AE36)/60)","v":0},{"$f":"INT(60*SUM(AD29:AD35)+SUM(AE29:AE35)-60*INT((60*SUM(AD29:AD35)+SUM(AE29:AE35))/60))","v":0},{"$f":"INT((60*SUM(AF29:AF35)+SUM(AG29:AG35)-AG36)/60)","v":0},{"$f":"INT(60*SUM(AF29:AF35)+SUM(AG29:AG35)-60*INT((60*SUM(AF29:AF35)+SUM(AG29:AG35))/60))","v":0},{"$f":"INT((60*SUM(AH29:AH35)+SUM(AI29:AI35)-AI36)/60)","v":0},{"$f":"INT(60*SUM(AH29:AH35)+SUM(AI29:AI35)-60*INT((60*SUM(AH29:AH35)+SUM(AI29:AI35))/60))","v":0},null,{"$f":"INT((60*SUM(AK29:AK35)+SUM(AL29:AL35)-AL36)/60)","v":0},{"$f":"INT(60*SUM(AK29:AK35)+SUM(AL29:AL35)-60*INT((60*SUM(AK29:AK35)+SUM(AL29:AL35))/60))","v":0},null,{"$f":"INT((60*SUM(AN29:AN35)+SUM(AO29:AO35)-AO36)/60)","v":0},{"$f":"INT(60*SUM(AN29:AN35)+SUM(AO29:AO35)-60*INT((60*SUM(AN29:AN35)+SUM(AO29:AO35))/60))","v":0},null,{"$f":"INT((60*SUM(AQ29:AQ35)+SUM(AR29:AR35)-AR36)/60)","v":0},{"$f":"INT(60*SUM(AQ29:AQ35)+SUM(AR29:AR35)-60*INT((60*SUM(AQ29:AQ35)+SUM(AR29:AR35))/60))","v":0},{"$f":"INT((60*SUM(AS29:AS35)+SUM(AT29:AT35)-AT36)/60)","v":0},{"$f":"INT(60*SUM(AS29:AS35)+SUM(AT29:AT35)-60*INT((60*SUM(AS29:AS35)+SUM(AT29:AT35))/60))","v":0},{"$f":"INT((60*SUM(AU29:AU35)+SUM(AV29:AV35)-AV36)/60)","v":0},{"$f":"INT(60*SUM(AU29:AU35)+SUM(AV29:AV35)-60*INT((60*SUM(AU29:AU35)+SUM(AV29:AV35))/60))","v":0},{"$f":"INT((60*SUM(AW29:AW35)+SUM(AX29:AX35)-AX36)/60)","v":0},{"$f":"INT(60*SUM(AW29:AW35)+SUM(AX29:AX35)-60*INT((60*SUM(AW29:AW35)+SUM(AX29:AX35))/60))","v":0},{"$f":"INT((60*SUM(AY29:AY35)+SUM(AZ29:AZ35)-AZ36)/60)","v":0},{"$f":"INT(60*SUM(AY29:AY35)+SUM(AZ29:AZ35)-60*INT((60*SUM(AY29:AY35)+SUM(AZ29:AZ35))/60))","v":0},{"$f":"INT((60*SUM(BA29:BA35)+SUM(BB29:BB35)-BB36)/60)","v":0},{"$f":"INT(60*SUM(BA29:BA35)+SUM(BB29:BB35)-60*INT((60*SUM(BA29:BA35)+SUM(BB29:BB35))/60))","v":0},{"$f":"INT((60*SUM(BC29:BC35)+SUM(BD29:BD35)-BD36)/60)","v":0},{"$f":"INT(60*SUM(BC29:BC35)+SUM(BD29:BD35)-60*INT((60*SUM(BC29:BC35)+SUM(BD29:BD35))/60))","v":0},{"$f":"INT((60*SUM(BE29:BE35)+SUM(BF29:BF35)-BF36)/60)","v":0},{"$f":"INT(60*SUM(BE29:BE35)+SUM(BF29:BF35)-60*INT((60*SUM(BE29:BE35)+SUM(BF29:BF35))/60))","v":0},{"$f":"INT((60*SUM(BG29:BG35)+SUM(BH29:BH35)-BH36)/60)","v":0},{"$f":"INT(60*SUM(BG29:BG35)+SUM(BH29:BH35)-60*INT((60*SUM(BG29:BG35)+SUM(BH29:BH35))/60))","v":0}]
[]
[{"$f":"CONCATENATE(Einstellungen!$L$21,\" \",Einstellungen!$M$21)","v":"Arbeitzeit Std.Min"},null,{"$f":"Einstellungen!$N$21","v":"41.00"},{"$f":"Einstellungen!$O$21","v":"30.45"},null,{"$f":"Einstellungen!$Q$21","v":"20.30"},{"$f":"IF(AND(E11>0,I38<>\"\",U38<>\"f\"),F11,0)","v":1},{"$f":"IF(AND(I38<>\"\",U38<>\"f\"),1,0)","v":1},{"$f":"IF(I35<>\"\",IF(MONTH(I35)=MONTH(I35+1),I35+1,\"\"),\"\")","v":"2026-10-26"},"Mo",null,null,null,null,{"$f":"HOUR(N38-K38-(M38-L38))","v":0},{"$f":"MINUTE(N38-K38-(M38-L38))","v":0},null,null,null,null,null,{"$f":"IF(OR(U38=\"U\",U38=\"k\",U38=\"B\"),$C$11,IF(S38>P38,O38-1-R38,O38-R38))","v":0},{"$f":"IF(OR(U38=\"U\",U38=\"k\",U38=\"B\"),$D$11,IF(S38>P38,P38+60-S38,P38-S38))","v":0},{"$f":"IF(OR(U38=\"U\",U38=\"K\",U38=\"B\"),0,V38)","v":0},{"$f":"IF(OR(U38=\"U\",U38=\"K\",U38=\"B\"),0,W38)","v":0},{"$f":"INT(((SUM(AB38,AH38,AK38,AN38,AQ38,AS38,AU38,AW38,AY38,BA38,BC38,BE38,BG38)*100)+(SUM(AC38,AI38,AL38,AO38,AR38,AT38,AV38,AX38,AZ38,BB38,BD38,BF38,BH38)/60*100))/100)","v":0},{"$f":"MOD(((SUM(AC38,AI38,AL38,AO38,AR38,AT38,AV38,AX38,AZ38,BB38,BD38,BF38,BH38)*100)+(SUM(AC38,AI38,AL38,AO38,AR38,AT38,AV38,AX38,AZ38,BB38,BD38,BF38,BH38)/60*100))/100,1)*60","v":0},null,null,{"$f":"INT(((SUM(AH38,AK38,AN38)*100)+SUM(AI38,AL38,AO38)/60*100)/100)","v":0},{"$f":"MOD(((SUM(AI38,AL38,AO38)*100)+(SUM(AI38,AL38,AO38)/60*100))/100,1)*60","v":0},{"$f":"INT(((SUM(AQ38+AS38+AU38+AW38+AY38+BA38+BC38+BE38+BG38)*100)+SUM(AR38+AT38+AV38+AX38+AZ38+BB38+BD38+BF38+BH38)/60*100)/100)","v":0},{"$f":"MOD(((SUM(AR38+AT38+AV38+AX38+AZ38+BB38+BD38+BF38+BH38)*100)+(SUM(AR38+AT38+AV38+AX38+AZ38+BB38+BD38+BF38+BH38)/60*100))/100,1)*60","v":0},null,null,"",null,null,"",null,null,""]
[{"$f":"Einstellungen!$L$22","v":"max.Übertrag auf das"},null,null," "," "," ",{"$f":"IF(AND(E12>0,I39<>\"\",U39<>\"f\"),F12,0)","v":1},{"$f":"IF(AND(I39<>\"\",U39<>\"f\"),1,0)","v":1},{"$f":"IF(I38<>\"\",IF(MONTH(I38)=MONTH(I38+1),I38+1,\"\"),\"\")","v":"2026-10-27"},"Di",null,null,null,null,0,0,null,null,null,null,null,{"$f":"IF(OR(U39=\"U\",U39=\"k\",U39=\"B\"),$C$12,IF(S39>P39,O39-1-R39,O39-R39))","v":0},{"$f":"IF(OR(U39=\"U\",U39=\"k\",U39=\"B\"),$D$12,IF(S39>P39,P39+60-S39,P39-S39))","v":0},0,0,0,0,null,null,0,0,0,0,null,null,"",null,null,"",null,null,""]
[{"$f":"Einstellungen!$L$23","v":"Folgejahr Std.Min"},null,{"$f":"Einstellungen!$N$23","v":"41.00"},{"$f":"Einstellungen!$O$23","v":"41.00"}," ",{"$f":"Einstellungen!$Q$23","v":"41.00"},{"$f":"IF(AND(E13>0,I40<>\"\",U40<>\"f\"),F13,0)","v":1},{"$f":"IF(AND(I40<>\"\",U40<>\"f\"),1,0)","v":1},{"$f":"IF(I39<>\"\",IF(MONTH(I39)=MONTH(I39+1),I39+1,\"\"),\"\")","v":"2026-10-28"},"Mi",null,null,null,null,0,0,null,null,null,null,null,{"$f":"IF(OR(U40=\"U\",U40=\"k\",U40=\"B\"),$C$13,IF(S40>P40,O40-1-R40,O40-R40))","v":0},{"$f":"IF(OR(U40=\"U\",U40=\"k\",U40=\"B\"),$D$13,IF(S40>P40,P40+60-S40,P40-S40))","v":0},0,0,0,0,null,null,0,0,0,0,null,null,"",null,null,"",null,null,""]
[{"$f":"Einstellungen!$L$24","v":"Kernarbeitszeit:"},null,{"$f":"Einstellungen!$N$24","v":"Mo-Do"},{"$f":"Einstellungen!$O$24","v":"9:00 - 14:30 Uhr"},null,null,{"$f":"IF(AND(E14>0,I41<>\"\",U41<>\"f\"),F14,0)","v":1},{"$f":"IF(AND(I41<>\"\",U41<>\"f\"),1,0)","v":1},"2026-10-29","Do",null,null,null,null,0,0,null,null,null,null,null,{"$f":"IF(OR(U41=\"U\",U41=\"k\",U41=\"B\"),$C$14,IF(S41>P41,O41-1-R41,O41-R41))","v":0},{"$f":"IF(OR(U41=\"U\",U41=\"k\",U41=\"B\"),$D$14,IF(S41>P41,P41+60-S41,P41-S41))","v":0},0,0,0,0,null,null,0,0,0,0,null,null,"",null,null,"",null,null,""]
[{"$f":"Einstellungen!$L$25","v":""},{"$f":"Einstellungen!$M$25","v":""},{"$f":"Einstellungen!$N$25","v":"Fr"},{"$f":"Einstellungen!$O$25","v":"9:00 - 12:00 Uhr"},null,null,{"$f":"IF(AND(E15>0,I42<>\"\",U42<>\"f\"),F15,0)","v":1},{"$f":"IF(AND(I42<>\"\",U42<>\"f\"),1,0)","v":1},"2026-10-30","Fr",null,null,null,null,0,0,null,null,null,null,null,{"$f":"IF(OR(U42=\"U\",U42=\"k\",U42=\"B\"),$C$15,IF(S42>P42,O42-1-R42,O42-R42))","v":0},{"$f":"IF(OR(U42=\"U\",U42=\"k\",U42=\"B\"),$D$15,IF(S42>P42,P42+60-S42,P42-S42))","v":0},0,0,0,0,null,null,0,0,0,0,null,null,"",null,null,"",null,null,""]
[{"$f":"Einstellungen!$L$26","v":"Gleitzeit:"},{"$f":"Einstellungen!$M$26","v":"frühester Beginn"},null,null,null,{"$f":"Einstellungen!$P$26","v":"6:00 Uhr"},null,null,"2026-10-31","Sa",null,null,null,null,0,0,null,null,null,"nur dienstl. Sonderfälle!*",null,{"$f":"IF(S43>P43,O43-1-R43,O43-R43)","v":0},{"$f":"IF(S43>P43,P43+60-S43,P43-S43)","v":0},0,0,0,0,null,null,0,0,0,0,null,null,"",null,null,"",null,null,""]
[{"$f":"Einstellungen!$L$27","v":""},{"$f":"Einstellungen!$M$27","v":"spätestes Ende"},null,null,null,{"$f":"Einstellungen!$P$27","v":"21:00 Uhr"},null,null,"","So",null,null,null,null,0,0,null,null,null,"nur dienstl. Sonderfälle!*",null,{"$f":"IF(S44>P44,O44-1-R44,O44-R44)","v":0},{"$f":"IF(S44>P44,P44+60-S44,P44-S44)","v":0},0,0,0,0,null,null,0,0,0,0,null,null,"",null,null,"",null,null,""]
[{"$f":"Einstellungen!$L$29","v":"Mittagspause zw."},null,null,{"$f":"Einstellungen!$O$29","v":"11:15 - 14:00 Uhr"},null,null,null,null,null,null,null,null,null,null,null,null,null,null,null,null,null,{"$f":"INT((60*SUM(V38:V44)+SUM(W38:W44)-W45)/60)","v":0},{"$f":"INT(60*SUM(V38:V44)+SUM(W38:W44)-60*INT((60*SUM(V38:V44)+SUM(W38:W44))/60))","v":0},{"$f":"INT((60*SUM(X38:X44)+SUM(Y38:Y44)-Y45)/60)","v":0},{"$f":"INT(60*SUM(X38:X44)+SUM(Y38:Y44)-60*INT((60*SUM(X38:X44)+SUM(Y38:Y44))/60))","v":0},{"$f":"INT((60*SUM(Z38:Z44)+SUM(AA38:AA44)-AA45)/60)","v":0},{"$f":"INT(60*SUM(Z38:Z44)+SUM(AA38:AA44)-60*INT((60*SUM(Z38:Z44)+SUM(AA38:AA44))/60))","v":0},{"$f":"INT((60*SUM(AB38:AB44)+SUM(AC38:AC44)-AC45)/60)","v":0},{"$f":"INT(60*SUM(AB38:AB44)+SUM(AC38:AC44)-60*INT((60*SUM(AB38:AB44)+SUM(AC38:AC44))/60))","v":0},{"$f":"INT((60*SUM(AD38:AD44)+SUM(AE38:AE44)-AE45)/60)","v":0},{"$f":"INT(60*SUM(AD38:AD44)+SUM(AE38:AE44)-60*INT((60*SUM(AD38:AD44)+SUM(AE38:AE44))/60))","v":0},{"$f":"INT((60*SUM(AF38:AF44)+SUM(AG38:AG44)-AG45)/60)","v":0},{"$f":"INT(60*SUM(AF38:AF44)+SUM(AG38:AG44)-60*INT((60*SUM(AF38:AF44)+SUM(AG38:AG44))/60))","v":0},{"$f":"INT((60*SUM(AH38:AH44)+SUM(AI38:AI44)-AI45)/60)","v":0},{"$f":"INT(60*SUM(AH38:AH44)+SUM(AI38:AI44)-60*INT((60*SUM(AH38:AH44)+SUM(AI38:AI44))/60))","v":0},null,{"$f":"INT((60*SUM(AK38:AK44)+SUM(AL38:AL44)-AL45)/60)","v":0},{"$f":"INT(60*SUM(AK38:AK44)+SUM(AL38:AL44)-60*INT((60*SUM(AK38:AK44)+SUM(AL38:AL44))/60))","v":0},null,{"$f":"INT((60*SUM(AN38:AN44)+SUM(AO38:AO44)-AO45)/60)","v":0},{"$f":"INT(60*SUM(AN38:AN44)+SUM(AO38:AO44)-60*INT((60*SUM(AN38:AN44)+SUM(AO38:AO44))/60))","v":0},null,{"$f":"INT((60*SUM(AQ38:AQ44)+SUM(AR38:AR44)-AR45)/60)","v":0},{"$f":"INT(60*SUM(AQ38:AQ44)+SUM(AR38:AR44)-60*INT((60*SUM(AQ38:AQ44)+SUM(AR38:AR44))/60))","v":0},{"$f":"INT((60*SUM(AS38:AS44)+SUM(AT38:AT44)-AT45)/60)","v":0},{"$f":"INT(60*SUM(AS38:AS44)+SUM(AT38:AT44)-60*INT((60*SUM(AS38:AS44)+SUM(AT38:AT44))/60))","v":0},{"$f":"INT((60*SUM(AU38:AU44)+SUM(AV38:AV44)-AV45)/60)","v":0},{"$f":"INT(60*SUM(AU38:AU44)+SUM(AV38:AV44)-60*INT((60*SUM(AU38:AU44)+SUM(AV38:AV44))/60))","v":0},{"$f":"INT((60*SUM(AW38:AW44)+SUM(AX38:AX44)-AX45)/60)","v":0},{"$f":"INT(60*SUM(AW38:AW44)+SUM(AX38:AX44)-60*INT((60*SUM(AW38:AW44)+SUM(AX38:AX44))/60))","v":0},{"$f":"INT((60*SUM(AY38:AY44)+SUM(AZ38:AZ44)-AZ45)/60)","v":0},{"$f":"INT(60*SUM(AY38:AY44)+SUM(AZ38:AZ44)-60*INT((60*SUM(AY38:AY44)+SUM(AZ38:AZ44))/60))","v":0},{"$f":"INT((60*SUM(BA38:BA44)+SUM(BB38:BB44)-BB45)/60)","v":0},{"$f":"INT(60*SUM(BA38:BA44)+SUM(BB38:BB44)-60*INT((60*SUM(BA38:BA44)+SUM(BB38:BB44))/60))","v":0},{"$f":"INT((60*SUM(BC38:BC44)+SUM(BD38:BD44)-BD45)/60)","v":0},{"$f":"INT(60*SUM(BC38:BC44)+SUM(BD38:BD44)-60*INT((60*SUM(BC38:BC44)+SUM(BD38:BD44))/60))","v":0},{"$f":"INT((60*SUM(BE38:BE44)+SUM(BF38:BF44)-BF45)/60)","v":0},{"$f":"INT(60*SUM(BE38:BE44)+SUM(BF38:BF44)-60*INT((60*SUM(BE38:BE44)+SUM(BF38:BF44))/60))","v":0},{"$f":"INT((60*SUM(BG38:BG44)+SUM(BH38:BH44)-BH45)/60)","v":0},{"$f":"INT(60*SUM(BG38:BG44)+SUM(BH38:BH44)-60*INT((60*SUM(BG38:BG44)+SUM(BH38:BH44))/60))","v":0}]
[]
[{"$f":"Einstellungen!$L$30","v":"ab 6 Std. Arbeitszeit: Dauer min."},null,null,null,null,{"$f":"Einstellungen!$Q$30","v":"30 Min"},{"$f":"IF(AND(E11>0,I47<>\"\",U47<>\"f\"),F11,0)","v":0},{"$f":"IF(AND(I47<>\"\",U47<>\"f\"),1,0)","v":0},{"$f":"IF(I44<>\"\",IF(MONTH(I44)=MONTH(I44+1),I44+1,\"\"),\"\")","v":""},"Mo",null,null,null,null,{"$f":"HOUR(N47-K47-(M47-L47))","v":0},{"$f":"MINUTE(N47-K47-(M47-L47))","v":0},null,null,null,null,null,{"$f":"IF(OR(U47=\"U\",U47=\"k\",U47=\"B\"),$C$11,IF(S47>P47,O47-1-R47,O47-R47))","v":0},{"$f":"IF(OR(U47=\"U\",U47=\"k\",U47=\"B\"),$D$11,IF(S47>P47,P47+60-S47,P47-S47))","v":0},{"$f":"IF(OR(U47=\"U\",U47=\"K\",U47=\"B\"),0,V47)","v":0},{"$f":"IF(OR(U47=\"U\",U47=\"K\",U47=\"B\"),0,W47)","v":0},{"$f":"INT(((SUM(AB47,AH47,AK47,AN47,AQ47,AS47,AU47,AW47,AY47,BA47,BC47,BE47,BG47)*100)+(SUM(AC47,AI47,AL47,AO47,AR47,AT47,AV47,AX47,AZ47,BB47,BD47,BF47,BH47)/60*100))/100)","v":0},{"$f":"MOD(((SUM(AC47,AI47,AL47,AO47,AR47,AT47,AV47,AX47,AZ47,BB47,BD47,BF47,BH47)*100)+(SUM(AC47,AI47,AL47,AO47,AR47,AT47,AV47,AX47,AZ47,BB47,BD47,BF47,BH47)/60*100))/100,1)*60","v":0},null,null,{"$f":"INT(((SUM(AH47,AK47,AN47)*100)+SUM(AI47,AL47,AO47)/60*100)/100)","v":0},{"$f":"MOD(((SUM(AI47,AL47,AO47)*100)+(SUM(AI47,AL47,AO47)/60*100))/100,1)*60","v":0},{"$f":"INT(((SUM(AQ47+AS47+AU47+AW47+AY47+BA47+BC47+BE47+BG47)*100)+SUM(AR47+AT47+AV47+AX47+AZ47+BB47+BD47+BF47+BH47)/60*100)/100)","v":0},{"$f":"MOD(((SUM(AR47+AT47+AV47+AX47+AZ47+BB47+BD47+BF47+BH47)*100)+(SUM(AR47+AT47+AV47+AX47+AZ47+BB47+BD47+BF47+BH47)/60*100))/100,1)*60","v":0},null,null,"",null,null,"",null,null,""]
[{"$f":"Einstellungen!$L$31","v":"ab 9 Std. (exklusiv Beamte) min."},null,null,null,null,{"$f":"Einstellungen!$Q$31","v":"45 Min"},{"$f":"IF(AND(E12>0,I48<>\"\",U48<>\"f\"),F12,0)","v":0},{"$f":"IF(AND(I48<>\"\",U48<>\"f\"),1,0)","v":0},{"$f":"IF(I47<>\"\",IF(MONTH(I47)=MONTH(I47+1),I47+1,\"\"),\"\")","v":""},"Di",null,null,null,null,0,0,null,null,null,null,null,{"$f":"IF(OR(U48=\"U\",U48=\"k\",U48=\"B\"),$C$12,IF(S48>P48,O48-1-R48,O48-R48))","v":0},{"$f":"IF(OR(U48=\"U\",U48=\"k\",U48=\"B\"),$D$12,IF(S48>P48,P48+60-S48,P48-S48))","v":0},0,0,0,0,null,null,0,0,0,0,null,null,"",null,null,"",null,null,""]
[{"$f":"Einstellungen!$L$32","v":""},null," ",{"$f":"Einstellungen!$O$32","v":"max."},null,{"$f":"Einstellungen!$Q$32","v":"120 Min"},{"$f":"IF(AND(E13>0,I49<>\"\",U49<>\"f\"),F13,0)","v":0},{"$f":"IF(AND(I49<>\"\",U49<>\"f\"),1,0)","v":0},{"$f":"IF(I48<>\"\",IF(MONTH(I48)=MONTH(I48+1),I48+1,\"\"),\"\")","v":""},"Mi",null,null,null,null,0,0,null,null,null,null,null,{"$f":"IF(OR(U49=\"U\",U49=\"k\",U49=\"B\"),$C$13,IF(S49>P49,O49-1-R49,O49-R49))","v":0},{"$f":"IF(OR(U49=\"U\",U49=\"k\",U49=\"B\"),$D$13,IF(S49>P49,P49+60-S49,P49-S49))","v":0},0,0,0,0,null,null,0,0,0,0,null,null,"",null,null,"",null,null,""]
[{"$f":"Einstellungen!$L$33","v":"tägliche Arbeitszeit  "},null,null,null,null,{"$f":"Einstellungen!$Q$33","v":" 10 Std"},{"$f":"IF(AND(E14>0,I50<>\"\",U50<>\"f\"),F14,0)","v":0},{"$f":"IF(AND(I50<>\"\",U50<>\"f\"),1,0)","v":0},"","Do",null,null,null,null,0,0,null,null,null,null,null,{"$f":"IF(OR(U50=\"U\",U50=\"k\",U50=\"B\"),$C$14,IF(S50>P50,O50-1-R50,O50-R50))","v":0},{"$f":"IF(OR(U50=\"U\",U50=\"k\",U50=\"B\"),$D$14,IF(S50>P50,P50+60-S50,P50-S50))","v":0},0,0,0,0,null,null,0,0,0,0,null,null,"",null,null,"",null,null,""]
[{"$f":"Einstellungen!$L$34","v":"*) beachte § 5 der Dienstvereinbarung vom 17.04.2024 über die Arbeitszeit der Beschäftigten der Universität Hohenheim"},null,null,null,null,null,{"$f":"IF(AND(E15>0,I51<>\"\",U51<>\"f\"),F15,0)","v":0},{"$f":"IF(AND(I51<>\"\",U51<>\"f\"),1,0)","v":0},"","Fr",null,null,null,null,0,0,null,null,null,null,null,{"$f":"IF(OR(U51=\"U\",U51=\"k\",U51=\"B\"),$C$15,IF(S51>P51,O51-1-R51,O51-R51))","v":0},{"$f":"IF(OR(U51=\"U\",U51=\"k\",U51=\"B\"),$D$15,IF(S51>P51,P51+60-S51,P51-S51))","v":0},0,0,0,0,null,null,0,0,0,0,null,null,"",null,null,"",null,null,""]
[null,null,null,null,null,null,null,null,"","Sa",null,null,null,null,0,0,null,null,null,"nur dienstl. Sonderfälle!*",null,{"$f":"IF(S52>P52,O52-1-R52,O52-R52)","v":0},{"$f":"IF(S52>P52,P52+60-S52,P52-S52)","v":0},0,0,0,0,null,null,0,0,0,0,null,null,"",null,null,"",null,null,""]
[null,null,null,null,null,null,null,null,"","So",null,null,null,null,0,0,null,null,null,"nur dienstl. Sonderfälle!*",null,{"$f":"IF(S53>P53,O53-1-R53,O53-R53)","v":0},{"$f":"IF(S53>P53,P53+60-S53,P53-S53)","v":0},0,0,0,0,null,null,0,0,0,0,null,null,"",null,null,"",null,null,""]
[null,null,null,null,null,null,null,null,null,null,null,null,null,null,null,null,null,null,null,null,null,{"$f":"INT((60*SUM(V47:V53)+SUM(W47:W53)-W54)/60)","v":0},{"$f":"INT(60*SUM(V47:V53)+SUM(W47:W53)-60*INT((60*SUM(V47:V53)+SUM(W47:W53))/60))","v":0},{"$f":"INT((60*SUM(X47:X53)+SUM(Y47:Y53)-Y54)/60)","v":0},{"$f":"INT(60*SUM(X47:X53)+SUM(Y47:Y53)-60*INT((60*SUM(X47:X53)+SUM(Y47:Y53))/60))","v":0},{"$f":"INT((60*SUM(Z47:Z53)+SUM(AA47:AA53)-AA54)/60)","v":0},{"$f":"INT(60*SUM(Z47:Z53)+SUM(AA47:AA53)-60*INT((60*SUM(Z47:Z53)+SUM(AA47:AA53))/60))","v":0},{"$f":"INT((60*SUM(AB47:AB53)+SUM(AC47:AC53)-AC54)/60)","v":0},{"$f":"INT(60*SUM(AB47:AB53)+SUM(AC47:AC53)-60*INT((60*SUM(AB47:AB53)+SUM(AC47:AC53))/60))","v":0},{"$f":"INT((60*SUM(AD47:AD53)+SUM(AE47:AE53)-AE54)/60)","v":0},{"$f":"INT(60*SUM(AD47:AD53)+SUM(AE47:AE53)-60*INT((60*SUM(AD47:AD53)+SUM(AE47:AE53))/60))","v":0},{"$f":"INT((60*SUM(AF47:AF53)+SUM(AG47:AG53)-AG54)/60)","v":0},{"$f":"INT(60*SUM(AF47:AF53)+SUM(AG47:AG53)-60*INT((60*SUM(AF47:AF53)+SUM(AG47:AG53))/60))","v":0},{"$f":"INT((60*SUM(AH47:AH53)+SUM(AI47:AI53)-AI54)/60)","v":0},{"$f":"INT(60*SUM(AH47:AH53)+SUM(AI47:AI53)-60*INT((60*SUM(AH47:AH53)+SUM(AI47:AI53))/60))","v":0},null,{"$f":"INT((60*SUM(AK47:AK53)+SUM(AL47:AL53)-AL54)/60)","v":0},{"$f":"INT(60*SUM(AK47:AK53)+SUM(AL47:AL53)-60*INT((60*SUM(AK47:AK53)+SUM(AL47:AL53))/60))","v":0},null,{"$f":"INT((60*SUM(AN47:AN53)+SUM(AO47:AO53)-AO54)/60)","v":0},{"$f":"INT(60*SUM(AN47:AN53)+SUM(AO47:AO53)-60*INT((60*SUM(AN47:AN53)+SUM(AO47:AO53))/60))","v":0},null,{"$f":"INT((60*SUM(AQ47:AQ53)+SUM(AR47:AR53)-AR54)/60)","v":0},{"$f":"INT(60*SUM(AQ47:AQ53)+SUM(AR47:AR53)-60*INT((60*SUM(AQ47:AQ53)+SUM(AR47:AR53))/60))","v":0},{"$f":"INT((60*SUM(AS47:AS53)+SUM(AT47:AT53)-AT54)/60)","v":0},{"$f":"INT(60*SUM(AS47:AS53)+SUM(AT47:AT53)-60*INT((60*SUM(AS47:AS53)+SUM(AT47:AT53))/60))","v":0},{"$f":"INT((60*SUM(AU47:AU53)+SUM(AV47:AV53)-AV54)/60)","v":0},{"$f":"INT(60*SUM(AU47:AU53)+SUM(AV47:AV53)-60*INT((60*SUM(AU47:AU53)+SUM(AV47:AV53))/60))","v":0},{"$f":"INT((60*SUM(AW47:AW53)+SUM(AX47:AX53)-AX54)/60)","v":0},{"$f":"INT(60*SUM(AW47:AW53)+SUM(AX47:AX53)-60*INT((60*SUM(AW47:AW53)+SUM(AX47:AX53))/60))","v":0},{"$f":"INT((60*SUM(AY47:AY53)+SUM(AZ47:AZ53)-AZ54)/60)","v":0},{"$f":"INT(60*SUM(AY47:AY53)+SUM(AZ47:AZ53)-60*INT((60*SUM(AY47:AY53)+SUM(AZ47:AZ53))/60))","v":0},{"$f":"INT((60*SUM(BA47:BA53)+SUM(BB47:BB53)-BB54)/60)","v":0},{"$f":"INT(60*SUM(BA47:BA53)+SUM(BB47:BB53)-60*INT((60*SUM(BA47:BA53)+SUM(BB47:BB53))/60))","v":0},{"$f":"INT((60*SUM(BC47:BC53)+SUM(BD47:BD53)-BD54)/60)","v":0},{"$f":"INT(60*SUM(BC47:BC53)+SUM(BD47:BD53)-60*INT((60*SUM(BC47:BC53)+SUM(BD47:BD53))/60))","v":0},{"$f":"INT((60*SUM(BE47:BE53)+SUM(BF47:BF53)-BF54)/60)","v":0},{"$f":"INT(60*SUM(BE47:BE53)+SUM(BF47:BF53)-60*INT((60*SUM(BE47:BE53)+SUM(BF47:BF53))/60))","v":0},{"$f":"INT((60*SUM(BG47:BG53)+SUM(BH47:BH53)-BH54)/60)","v":0},{"$f":"INT(60*SUM(BG47:BG53)+SUM(BH47:BH53)-60*INT((60*SUM(BG47:BG53)+SUM(BH47:BH53))/60))","v":0}]
[null,null,null,null,null,null,{"$f":"SUM(G5:G53)","v":22},{"$f":"SUM(H5:H53)","v":22},"Oktober",null,null,null,null,null,null,{"$f":"Einstellungen!A1","v":2026},null,null,null,null,null,null,null,"Summe:",null,"Summe:",null,"Summe:",null,"Summe:",null,"Summe:",null,{"$f":"INT(((SUM(AH9,AH18,AH27,AH36,AH45,AH54)*100)+(SUM(AI9,AI18,AI27,AI36,AI45,AI54)/60*100))/100)","v":0},{"$f":"MOD(((SUM(AH9,AH18,AH27,AH36,AH45,AH54)*100)+(SUM(AI9,AI18,AI27,AI36,AI45,AI54)/60*100))/100,1)*60","v":0},null,{"$f":"INT(((SUM(AK9,AK18,AK27,AK36,AK45,AK54)*100)+(SUM(AL9,AL18,AL27,AL36,AL45,AL54)/60*100))/100)","v":0},{"$f":"MOD(((SUM(AK9,AK18,AK27,AK36,AK45,AK54)*100)+(SUM(AL9,AL18,AL27,AL36,AL45,AL54)/60*100))/100,1)*60","v":0},null,{"$f":"INT(((SUM(AN9,AN18,AN27,AN36,AN45,AN54)*100)+(SUM(AO9,AO18,AO27,AO36,AO45,AO54)/60*100))/100)","v":0},{"$f":"MOD(((SUM(AN9,AN18,AN27,AN36,AN45,AN54)*100)+(SUM(AO9,AO18,AO27,AO36,AO45,AO54)/60*100))/100,1)*60","v":0},null,{"$f":"INT(((SUM(AQ9,AQ18,AQ27,AQ36,AQ45,AQ54)*100)+(SUM(AR9,AR18,AR27,AR36,AR45,AR54)/60*100))/100)","v":0},{"$f":"MOD(((SUM(AQ9,AQ18,AQ27,AQ36,AQ45,AQ54)*100)+(SUM(AR9,AR18,AR27,AR36,AR45,AR54)/60*100))/100,1)*60","v":0},{"$f":"INT(((SUM(AS9,AS18,AS27,AS36,AS45,AS54)*100)+(SUM(AT9,AT18,AT27,AT36,AT45,AT54)/60*100))/100)","v":0},{"$f":"MOD(((SUM(AS9,AS18,AS27,AS36,AS45,AS54)*100)+(SUM(AT9,AT18,AT27,AT36,AT45,AT54)/60*100))/100,1)*60","v":0},{"$f":"INT(((SUM(AU9,AU18,AU27,AU36,AU45,AU54)*100)+(SUM(AV9,AV18,AV27,AV36,AV45,AV54)/60*100))/100)","v":0},{"$f":"MOD(((SUM(AU9,AU18,AU27,AU36,AU45,AU54)*100)+(SUM(AV9,AV18,AV27,AV36,AV45,AV54)/60*100))/100,1)*60","v":0},{"$f":"INT(((SUM(AW9,AW18,AW27,AW36,AW45,AW54)*100)+(SUM(AX9,AX18,AX27,AX36,AX45,AX54)/60*100))/100)","v":0},{"$f":"MOD(((SUM(AW9,AW18,AW27,AW36,AW45,AW54)*100)+(SUM(AX9,AX18,AX27,AX36,AX45,AX54)/60*100))/100,1)*60","v":0},{"$f":"INT(((SUM(AY9,AY18,AY27,AY36,AY45,AY54)*100)+(SUM(AZ9,AZ18,AZ27,AZ36,AZ45,AZ54)/60*100))/100)","v":0},{"$f":"MOD(((SUM(AY9,AY18,AY27,AY36,AY45,AY54)*100)+(SUM(AZ9,AZ18,AZ27,AZ36,AZ45,AZ54)/60*100))/100,1)*60","v":0},{"$f":"INT(((SUM(BA9,BA18,BA27,BA36,BA45,BA54)*100)+(SUM(BB9,BB18,BB27,BB36,BB45,BB54)/60*100))/100)","v":0},{"$f":"MOD(((SUM(BA9,BA18,BA27,BA36,BA45,BA54)*100)+(SUM(BB9,BB18,BB27,BB36,BB45,BB54)/60*100))/100,1)*60","v":0},{"$f":"INT(((SUM(BC9,BC18,BC27,BC36,BC45,BC54)*100)+(SUM(BD9,BD18,BD27,BD36,BD45,BD54)/60*100))/100)","v":0},{"$f":"MOD(((SUM(BC9,BC18,BC27,BC36,BC45,BC54)*100)+(SUM(BD9,BD18,BD27,BD36,BD45,BD54)/60*100))/100,1)*60","v":0},{"$f":"INT(((SUM(BE9,BE18,BE27,BE36,BE45,BE54)*100)+(SUM(BF9,BF18,BF27,BF36,BF45,BF54)/60*100))/100)","v":0},{"$f":"MOD(((SUM(BE9,BE18,BE27,BE36,BE45,BE54)*100)+(SUM(BF9,BF18,BF27,BF36,BF45,BF54)/60*100))/100,1)*60","v":0},{"$f":"INT(((SUM(BG9,BG18,BG27,BG36,BG45,BG54)*100)+(SUM(BH9,BH18,BH27,BH36,BH45,BH54)/60*100))/100)","v":0},{"$f":"MOD(((SUM(BG9,BG18,BG27,BG36,BG45,BG54)*100)+(SUM(BH9,BH18,BH27,BH36,BH45,BH54)/60*100))/100,1)*60","v":0}]
[null,null,null,null,null,null,null,null,"Abrechnungsmonat",null,null,null,null,null,null,"Jahr",null,null,null,"Monatsarbeitszeit IST",null,{"$f":"INT((60*SUM(V54,V45,V36,V27,V18,V9)+SUM(W54,W45,W36,W27,W18,W9)-W56)/60)","v":0},{"$f":"INT(60*SUM(V54,V45,V36,V27,V18,V9)+SUM(W54,W45,W36,W27,W18,W9)-60*INT((60*SUM(V54,V45,V36,V27,V18,V9)+SUM(W54,W45,W36,W27,W18,W9))/60))","v":0},{"$f":"INT((60*SUM(X54,X45,X36,X27,X18,X9)+SUM(Y54,Y45,Y36,Y27,Y18,Y9)-Y56)/60)","v":0},{"$f":"INT(60*SUM(X54,X45,X36,X27,X18,X9)+SUM(Y54,Y45,Y36,Y27,Y18,Y9)-60*INT((60*SUM(X54,X45,X36,X27,X18,X9)+SUM(Y54,Y45,Y36,Y27,Y18,Y9))/60))","v":0},{"$f":"INT((60*SUM(Z54,Z45,Z36,Z27,Z18,Z9)+SUM(AA54,AA45,AA36,AA27,AA18,AA9)-AA56)/60)","v":0},{"$f":"INT(60*SUM(Z54,Z45,Z36,Z27,Z18,Z9)+SUM(AA54,AA45,AA36,AA27,AA18,AA9)-60*INT((60*SUM(Z54,Z45,Z36,Z27,Z18,Z9)+SUM(AA54,AA45,AA36,AA27,AA18,AA9))/60))","v":0},{"$f":"INT((60*SUM(AB54,AB45,AB36,AB27,AB18,AB9)+SUM(AC54,AC45,AC36,AC27,AC18,AC9)-AC56)/60)","v":0},{"$f":"INT(60*SUM(AB54,AB45,AB36,AB27,AB18,AB9)+SUM(AC54,AC45,AC36,AC27,AC18,AC9)-60*INT((60*SUM(AB54,AB45,AB36,AB27,AB18,AB9)+SUM(AC54,AC45,AC36,AC27,AC18,AC9))/60))","v":0},{"$f":"INT((60*SUM(AD54,AD45,AD36,AD27,AD18,AD9)+SUM(AE54,AE45,AE36,AE27,AE18,AE9)-AE56)/60)","v":0},{"$f":"INT(60*SUM(AD54,AD45,AD36,AD27,AD18,AD9)+SUM(AE54,AE45,AE36,AE27,AE18,AE9)-60*INT((60*SUM(AD54,AD45,AD36,AD27,AD18,AD9)+SUM(AE54,AE45,AE36,AE27,AE18,AE9))/60))","v":0},{"$f":"INT((60*SUM(AF54,AF45,AF36,AF27,AF18,AF9)+SUM(AG54,AG45,AG36,AG27,AG18,AG9)-AG56)/60)","v":0},{"$f":"INT(60*SUM(AF54,AF45,AF36,AF27,AF18,AF9)+SUM(AG54,AG45,AG36,AG27,AG18,AG9)-60*INT((60*SUM(AF54,AF45,AF36,AF27,AF18,AF9)+SUM(AG54,AG45,AG36,AG27,AG18,AG9))/60))","v":0}]
[null,null,null,null,null,null,null,null,{"$f":"Einstellungen!K23","v":"Franziska von Hohenheim"},null,null,null,null,null,null,null,null,null,null,"Übertrag aus Vormonat (+/-)",{"$f":"IF(V57*W57<0,\"!\",\"\")","v":""},{"$f":"ROUND(Sept!V60,0)","v":-1477},{"$f":"ROUND(Sept!W60,0)","v":-18}]
[null,null,null,null,null,null,null,null,"Name, Vorname",null,null,null,null,null,null,null,"Datum",null,null,"Summe",null,{"$f":"ROUND(SIGN(V56+V57+(W56+W57)/60)*ROUNDDOWN(ABS(V56+V57+(W56+W57)/60),0),0)","v":-1477},{"$f":"ROUND(SIGN(V56+V57+(W56+W57)/60)*(ABS(V56+V57+(W56+W57)/60)-ABS(V58))*60,0)","v":-18}]
[null,null,null,null,null,null,null,null,{"$f":"Einstellungen!$K$25","v":"630"},null,{"$f":"Einstellungen!K24","v":"KIM"},null,null,null,null,null,null,null,null,"Monatsarbeitszeit SOLL",null,{"$f":"SUM(Einstellungen!B12)","v":173},{"$f":"SUM(Einstellungen!C12)","v":48}]
[null,null,null,null,null,null,null,null,"Einr.-Nr.",null,"Abt. / FG",null,null,null,null,null,"Name Leiter/in",null,null,"Zeitübertrag auf Folgemonat",{"$f":"IF(V60*W60<0,\"!\",\"\")","v":""},{"$f":"ROUND(SIGN(V58-V59+(W58-W59)/60)*ROUNDDOWN(ABS(V58-V59+(W58-W59)/60),0),0)","v":-1651},{"$f":"ROUND(SIGN(V58-V59+(W58-W59)/60)*(ABS(V58-V59+(W58-W59)/60)-ABS(V60))*60,0)","v":-6}]
[]
[null,null,null,null,null,null,null,null,null,null,null,null,null,null,null,null,null,null,null,"Summe Urlaubstage",null,{"$f":"SUMPRODUCT((U5:U6=\"U\")*(E14:E15>0))+SUMPRODUCT((U11:U15=\"U\")*(E11:E15>0))+SUMPRODUCT((U20:U24=\"U\")*(E11:E15>0))+SUMPRODUCT((U29:U33=\"U\")*(E11:E15>0))+SUMPRODUCT((U38:U42=\"U\")*(E11:E15>0))+SUMPRODUCT((U47:U51=\"U\")*(E11:E15>0))","v":0}]
[null,null,null,null,null,null,null,null,"Datum",null,"Unterschrift Mitarbeiter/in",null,null,null,null,null,"Unterschrift Leiter/in",null,null,"alter / neuer Übertrag",null,{"$f":"IF(SUM(Einstellungen!K27:K30)>0,Sept!W63,\"--- \")","v":30},{"$f":"IF(SUM(Einstellungen!K27:K30)>0,V63-V62,\"--- \")","v":30}]

{"sheet":"Nov","index":10,"n_rows":63,"n_cols":60,"rows_kept":63,"cut":false,"hidden":true,"merged":[[0,31,0,32],[0,23,0,24],[0,25,0,26],[0,27,0,28],[0,29,0,30],[1,23,1,24],[1,25,1,26],[37,0,37,1],[38,0,38,2],[2,23,2,24],[2,25,2,26],[28,0,28,1],[29,0,29,1],[30,0,30,2],[35,0,35,1],[7,0,7,3],[39,0,39,1],[46,0,46,3],[47,0,47,3],[49,0,49,3],[54,23,54,24],[50,0,52,5],[40,3,40,5],[41,3,41,5],[44,3,44,5],[61,21,61,22],[63,25,63,26],[54,27,54,28],[54,29,54,30],[54,31,54,32],[54,25,54,26],[0,42,2,43],[0,44,2,45],[0,46,2,47],[0,33,2,35],[0,36,2,38],[0,39,2,41],[0,58,2,59],[0,48,2,49],[0,50,2,51],[0,52,2,53],[0,54,2,55],[0,56,2,57]]}
[{"$f":"Einstellungen!A27","v":"Universität Hohenheim KIM © 2026"},null,null,null,null,null,null,null,"Datum",null,"Arbeits-",null,null,"Arbeits-","Arb.Zeit ohne",null,"Sonstige Unterbrechungen",null,null,"Erläuterungen, Hinweise,","U,K","Reine Arb.-",null,"Productive",null,"Productive",null,"Sonstiges",null,"Summe ",null,"Summe",null,{"$f":"Projektdaten!D4","v":"EU Projekt 1"},null,null,{"$f":"Projektdaten!D6","v":"EU Projekt 2"},null,null,{"$f":"Projektdaten!D8","v":"EU Projekt 3"},null,null,{"$f":"Projektdaten!D13","v":"Projekt 1"},null,{"$f":"Projektdaten!D15","v":"Projekt 2"},null,{"$f":"Projektdaten!D17","v":"Projekt 3"},null,{"$f":"Projektdaten!D19","v":"Projekt 4"},null,{"$f":"Projektdaten!D21","v":"Projekt 5"},null,{"$f":"Projektdaten!D23","v":"Projekt 6"},null,{"$f":"Projektdaten!D25","v":"Projekt 7"},null,{"$f":"Projektdaten!D27","v":"Projekt 8"},null,{"$f":"Projektdaten!D29","v":"Projekt 9"}]
["Arbeitszeitblatt",null,null,{"$f":"Einstellungen!A28","v":"Version 5.12"},null,null,null,null,"Tag","Wo-","beginn","Mittagspause",null,"ende","Mittagspause",null,"von - bis","Gesamtdauer",null,"Vermerke, z.B. Dienstreise","F,X","Zeit","IST","Hours",null,"Hours",null,null,null,"EU-",null,"andere"]
[null,null,null,null,null,null,null,null,null,"tag",null,"von","bis",null,"Std.","Min.",null,"Std.","Min.","  - non eligible -","A,B","Std.","Min.","i.S.d. EU",null,"verteilt",null,null," ","Projekte",null,"Projekte"]
[null,null,null,null,null,null,null,null,null,null,null,null,null,null,null,null,null,null,null,null,null,null,null,"Std.","Min.","Std.","Min.","Std.","Min.","Std.","Min.","Std.","Min.","Std.","Min.","Geleistete Arbeitspakete nach Annex 1","Std.","Min.","Geleistete Arbeitspakete nach Annex 1","Std.","Min.","Geleistete Arbeitspakete nach Annex 1","Std.","Min.","Std.","Min.","Std.","Min.","Std.","Min.","Std.","Min.","Std.","Min.","Std.","Min.","Std.","Min.","Std.","Min."]
[null,null,null,null,null,"U",{"$f":"IF(AND(E14>0,I5<>\"\",U5<>\"f\"),1,0)","v":0},{"$f":"IF(AND(I5<>\"\",U5<>\"f\"),1,0)","v":0},{"$f":"IF(CHOOSE(WEEKDAY(Einstellungen!$A$13,2),\"Mo\",\"Di\",\"Mi\",\"Do\",\"Fr\",\"Sa\",\"So\")=J5,Einstellungen!$A$13,\"\")","v":""},"Do",null,null,null,null,{"$f":"HOUR(N5-K5-(M5-L5))","v":0},{"$f":"MINUTE(N5-K5-(M5-L5))","v":0},null,null,null,null,null,{"$f":"IF(OR(U5=\"U\",U5=\"k\",U5=\"B\"),$C$14,IF(S5>P5,O5-1-R5,O5-R5))","v":0},{"$f":"IF(OR(U5=\"U\",U5=\"k\",U5=\"B\"),$D$14,IF(S5>P5,P5+60-S5,P5-S5))","v":0},{"$f":"IF(OR(U5=\"U\",U5=\"K\",U5=\"B\"),0,V5)","v":0},{"$f":"IF(OR(U5=\"U\",U5=\"K\",U5=\"B\"),0,W5)","v":0},{"$f":"INT(((SUM(AB5,AH5,AK5,AN5,AQ5,AS5,AU5,AW5,AY5,BA5,BC5,BE5,BG5)*100)+(SUM(AC5,AI5,AL5,AO5,AR5,AT5,AV5,AX5,AZ5,BB5,BD5,BF5,BH5)/60*100))/100)","v":0},{"$f":"MOD(((SUM(AC5,AI5,AL5,AO5,AR5,AT5,AV5,AX5,AZ5,BB5,BD5,BF5,BH5)*100)+(SUM(AC5,AI5,AL5,AO5,AR5,AT5,AV5,AX5,AZ5,BB5,BD5,BF5,BH5)/60*100))/100,1)*60","v":0},null,null,{"$f":"INT(((SUM(AH5,AK5,AN5)*100)+SUM(AI5,AL5,AO5)/60*100)/100)","v":0},{"$f":"MOD(((SUM(AI5,AL5,AO5)*100)+(SUM(AI5,AL5,AO5)/60*100))/100,1)*60","v":0},{"$f":"INT(((SUM(AQ5+AS5+AU5+AW5+AY5+BA5+BC5+BE5+BG5)*100)+SUM(AR5+AT5+AV5+AX5+AZ5+BB5+BD5+BF5+BH5)/60*100)/100)","v":0},{"$f":"MOD(((SUM(AR5+AT5+AV5+AX5+AZ5+BB5+BD5+BF5+BH5)*100)+(SUM(AR5+AT5+AV5+AX5+AZ5+BB5+BD5+BF5+BH5)/60*100))/100,1)*60","v":0},null,null,"",null,null,"",null,null,""]
[null,null,null,null,null,"K",{"$f":"IF(AND(E15>0,I6<>\"\",U6<>\"f\"),F14,0)","v":0},{"$f":"IF(AND(I6<>\"\",U6<>\"f\"),1,0)","v":0},{"$f":"IF(I5<>\"\",I5+1,IF(CHOOSE(WEEKDAY(Einstellungen!$A$13,2),\"Mo\",\"Di\",\"Mi\",\"Do\",\"Fr\",\"Sa\",\"So\")=J6,Einstellungen!$A$13,\"\"))","v":""},"Fr",null,null,null,null,{"$f":"HOUR(N6-K6-(M6-L6))","v":0},{"$f":"MINUTE(N6-K6-(M6-L6))","v":0},null,null,null,null,null,{"$f":"IF(OR(U6=\"U\",U6=\"k\",U6=\"B\"),$C$15,IF(S6>P6,O6-1-R6,O6-R6))","v":0},{"$f":"IF(OR(U6=\"U\",U6=\"k\",U6=\"B\"),$D$15,IF(S6>P6,P6+60-S6,P6-S6))","v":0},{"$f":"IF(OR(U6=\"U\",U6=\"K\",U6=\"B\"),0,V6)","v":0},{"$f":"IF(OR(U6=\"U\",U6=\"K\",U6=\"B\"),0,W6)","v":0},{"$f":"INT(((SUM(AB6,AH6,AK6,AN6,AQ6,AS6,AU6,AW6,AY6,BA6,BC6,BE6,BG6)*100)+(SUM(AC6,AI6,AL6,AO6,AR6,AT6,AV6,AX6,AZ6,BB6,BD6,BF6,BH6)/60*100))/100)","v":0},{"$f":"MOD(((SUM(AC6,AI6,AL6,AO6,AR6,AT6,AV6,AX6,AZ6,BB6,BD6,BF6,BH6)*100)+(SUM(AC6,AI6,AL6,AO6,AR6,AT6,AV6,AX6,AZ6,BB6,BD6,BF6,BH6)/60*100))/100,1)*60","v":0},null,null,{"$f":"INT(((SUM(AH6,AK6,AN6)*100)+SUM(AI6,AL6,AO6)/60*100)/100)","v":0},{"$f":"MOD(((SUM(AI6,AL6,AO6)*100)+(SUM(AI6,AL6,AO6)/60*100))/100,1)*60","v":0},{"$f":"INT(((SUM(AQ6+AS6+AU6+AW6+AY6+BA6+BC6+BE6+BG6)*100)+SUM(AR6+AT6+AV6+AX6+AZ6+BB6+BD6+BF6+BH6)/60*100)/100)","v":0},{"$f":"MOD(((SUM(AR6+AT6+AV6+AX6+AZ6+BB6+BD6+BF6+BH6)*100)+(SUM(AR6+AT6+AV6+AX6+AZ6+BB6+BD6+BF6+BH6)/60*100))/100,1)*60","v":0},null,null,"",null,null,"",null,null,""]
[null,null,null,null,null,"A",{"$f":"IF(AND(E16>0,I7<>\"\",U7<>\"f\"),F15,0)","v":0},null,{"$f":"IF(I6<>\"\",I6+1,IF(CHOOSE(WEEKDAY(Einstellungen!$A$13,2),\"Mo\",\"Di\",\"Mi\",\"Do\",\"Fr\",\"Sa\",\"So\")=J7,Einstellungen!$A$13,\"\"))","v":""},"Sa",null,null,null,null,{"$f":"HOUR(N7-K7-(M7-L7))","v":0},{"$f":"MINUTE(N7-K7-(M7-L7))","v":0},null,null,null,"nur dienstl. Sonderfälle!*",null,{"$f":"IF(S7>P7,O7-1-R7,O7-R7)","v":0},{"$f":"IF(S7>P7,P7+60-S7,P7-S7)","v":0},0,0,{"$f":"INT(((SUM(AB7,AH7,AK7,AN7,AQ7,AS7,AU7,AW7,AY7,BA7,BC7,BE7,BG7)*100)+(SUM(AC7,AI7,AL7,AO7,AR7,AT7,AV7,AX7,AZ7,BB7,BD7,BF7,BH7)/60*100))/100)","v":0},{"$f":"MOD(((SUM(AC7,AI7,AL7,AO7,AR7,AT7,AV7,AX7,AZ7,BB7,BD7,BF7,BH7)*100)+(SUM(AC7,AI7,AL7,AO7,AR7,AT7,AV7,AX7,AZ7,BB7,BD7,BF7,BH7)/60*100))/100,1)*60","v":0},null,null,{"$f":"INT(((SUM(AH7,AK7,AN7)*100)+SUM(AI7,AL7,AO7)/60*100)/100)","v":0},{"$f":"MOD(((SUM(AI7,AL7,AO7)*100)+(SUM(AI7,AL7,AO7)/60*100))/100,1)*60","v":0},{"$f":"INT(((SUM(AQ7+AS7+AU7+AW7+AY7+BA7+BC7+BE7+BG7)*100)+SUM(AR7+AT7+AV7+AX7+AZ7+BB7+BD7+BF7+BH7)/60*100)/100)","v":0},{"$f":"MOD(((SUM(AR7+AT7+AV7+AX7+AZ7+BB7+BD7+BF7+BH7)*100)+(SUM(AR7+AT7+AV7+AX7+AZ7+BB7+BD7+BF7+BH7)/60*100))/100,1)*60","v":0},null,null,"",null,null,"",null,null,""]
[{"$f":"IF(Einstellungen!D25>0.0005,\"Bitte Werte prüfen\",\"\")","v":""},null,null,null,null,"B",null,null,{"$f":"IF(I7<>\"\",I7+1,IF(CHOOSE(WEEKDAY(Einstellungen!$A$13,2),\"Mo\",\"Di\",\"Mi\",\"Do\",\"Fr\",\"Sa\",\"So\")=J8,Einstellungen!$A$13,\"\"))","v":"2026-11-01"},"So",null,null,null,null,{"$f":"HOUR(N8-K8-(M8-L8))","v":0},{"$f":"MINUTE(N8-K8-(M8-L8))","v":0},null,null,null,"nur dienstl. Sonderfälle!*",null,{"$f":"IF(S8>P8,O8-1-R8,O8-R8)","v":0},{"$f":"IF(S8>P8,P8+60-S8,P8-S8)","v":0},0,0,{"$f":"INT(((SUM(AB8,AH8,AK8,AN8,AQ8,AS8,AU8,AW8,AY8,BA8,BC8,BE8,BG8)*100)+(SUM(AC8,AI8,AL8,AO8,AR8,AT8,AV8,AX8,AZ8,BB8,BD8,BF8,BH8)/60*100))/100)","v":0},{"$f":"MOD(((SUM(AC8,AI8,AL8,AO8,AR8,AT8,AV8,AX8,AZ8,BB8,BD8,BF8,BH8)*100)+(SUM(AC8,AI8,AL8,AO8,AR8,AT8,AV8,AX8,AZ8,BB8,BD8,BF8,BH8)/60*100))/100,1)*60","v":0},null,null,{"$f":"INT(((SUM(AH8,AK8,AN8)*100)+SUM(AI8,AL8,AO8)/60*100)/100)","v":0},{"$f":"MOD(((SUM(AI8,AL8,AO8)*100)+(SUM(AI8,AL8,AO8)/60*100))/100,1)*60","v":0},{"$f":"INT(((SUM(AQ8+AS8+AU8+AW8+AY8+BA8+BC8+BE8+BG8)*100)+SUM(AR8+AT8+AV8+AX8+AZ8+BB8+BD8+BF8+BH8)/60*100)/100)","v":0},{"$f":"MOD(((SUM(AR8+AT8+AV8+AX8+AZ8+BB8+BD8+BF8+BH8)*100)+(SUM(AR8+AT8+AV8+AX8+AZ8+BB8+BD8+BF8+BH8)/60*100))/100,1)*60","v":0},null,null,"",null,null,"",null,null,""]
["Meine tägl. Regelarbeitszeit:",null,null,null,null,"X",null,null,null,null,null,null,null,null,null,null,null,null,null,null,null,{"$f":"INT((60*SUM(V5:V8)+SUM(W5:W8)-W9)/60)","v":0},{"$f":"INT(60*SUM(V5:V8)+SUM(W5:W8)-60*INT((60*SUM(V5:V8)+SUM(W5:W8))/60))","v":0},{"$f":"INT((60*SUM(X5:X8)+SUM(Y5:Y8)-Y9)/60)","v":0},{"$f":"INT(60*SUM(X5:X8)+SUM(Y5:Y8)-60*INT((60*SUM(X5:X8)+SUM(Y5:Y8))/60))","v":0},{"$f":"INT((60*SUM(Z5:Z8)+SUM(AA5:AA8)-AA9)/60)","v":0},{"$f":"INT(60*SUM(Z5:Z8)+SUM(AA5:AA8)-60*INT((60*SUM(Z5:Z8)+SUM(AA5:AA8))/60))","v":0},{"$f":"INT((60*SUM(AB5:AB8)+SUM(AC5:AC8)-AC9)/60)","v":0},{"$f":"INT(60*SUM(AB5:AB8)+SUM(AC5:AC8)-60*INT((60*SUM(AB5:AB8)+SUM(AC5:AC8))/60))","v":0},{"$f":"INT((60*SUM(AD5:AD8)+SUM(AE5:AE8)-AE9)/60)","v":0},{"$f":"INT(60*SUM(AD5:AD8)+SUM(AE5:AE8)-60*INT((60*SUM(AD5:AD8)+SUM(AE5:AE8))/60))","v":0},{"$f":"INT((60*SUM(AF5:AF8)+SUM(AG5:AG8)-AG9)/60)","v":0},{"$f":"INT(60*SUM(AF5:AF8)+SUM(AG5:AG8)-60*INT((60*SUM(AF5:AF8)+SUM(AG5:AG8))/60))","v":0},{"$f":"INT((60*SUM(AH5:AH8)+SUM(AI5:AI8)-AI9)/60)","v":0},{"$f":"INT(60*SUM(AH5:AH8)+SUM(AI5:AI8)-60*INT((60*SUM(AH5:AH8)+SUM(AI5:AI8))/60))","v":0},null,{"$f":"INT((60*SUM(AK5:AK8)+SUM(AL5:AL8)-AL9)/60)","v":0},{"$f":"INT(60*SUM(AK5:AK8)+SUM(AL5:AL8)-60*INT((60*SUM(AK5:AK8)+SUM(AL5:AL8))/60))","v":0},null,{"$f":"INT((60*SUM(AN5:AN8)+SUM(AO5:AO8)-AO9)/60)","v":0},{"$f":"INT(60*SUM(AN5:AN8)+SUM(AO5:AO8)-60*INT((60*SUM(AN5:AN8)+SUM(AO5:AO8))/60))","v":0},null,{"$f":"INT((60*SUM(AQ5:AQ8)+SUM(AR5:AR8)-AR9)/60)","v":0},{"$f":"INT(60*SUM(AQ5:AQ8)+SUM(AR5:AR8)-60*INT((60*SUM(AQ5:AQ8)+SUM(AR5:AR8))/60))","v":0},{"$f":"INT((60*SUM(AS5:AS8)+SUM(AT5:AT8)-AT9)/60)","v":0},{"$f":"INT(60*SUM(AS5:AS8)+SUM(AT5:AT8)-60*INT((60*SUM(AS5:AS8)+SUM(AT5:AT8))/60))","v":0},{"$f":"INT((60*SUM(AU5:AU8)+SUM(AV5:AV8)-AV9)/60)","v":0},{"$f":"INT(60*SUM(AU5:AU8)+SUM(AV5:AV8)-60*INT((60*SUM(AU5:AU8)+SUM(AV5:AV8))/60))","v":0},{"$f":"INT((60*SUM(AW5:AW8)+SUM(AX5:AX8)-AX9)/60)","v":0},{"$f":"INT(60*SUM(AW5:AW8)+SUM(AX5:AX8)-60*INT((60*SUM(AW5:AW8)+SUM(AX5:AX8))/60))","v":0},{"$f":"INT((60*SUM(AY5:AY8)+SUM(AZ5:AZ8)-AZ9)/60)","v":0},{"$f":"INT(60*SUM(AY5:AY8)+SUM(AZ5:AZ8)-60*INT((60*SUM(AY5:AY8)+SUM(AZ5:AZ8))/60))","v":0},{"$f":"INT((60*SUM(BA5:BA8)+SUM(BB5:BB8)-BB9)/60)","v":0},{"$f":"INT(60*SUM(BA5:BA8)+SUM(BB5:BB8)-60*INT((60*SUM(BA5:BA8)+SUM(BB5:BB8))/60))","v":0},{"$f":"INT((60*SUM(BC5:BC8)+SUM(BD5:BD8)-BD9)/60)","v":0},{"$f":"INT(60*SUM(BC5:BC8)+SUM(BD5:BD8)-60*INT((60*SUM(BC5:BC8)+SUM(BD5:BD8))/60))","v":0},{"$f":"INT((60*SUM(BE5:BE8)+SUM(BF5:BF8)-BF9)/60)","v":0},{"$f":"INT(60*SUM(BE5:BE8)+SUM(BF5:BF8)-60*INT((60*SUM(BE5:BE8)+SUM(BF5:BF8))/60))","v":0},{"$f":"INT((60*SUM(BG5:BG8)+SUM(BH5:BH8)-BH9)/60)","v":0},{"$f":"INT(60*SUM(BG5:BG8)+SUM(BH5:BH8)-60*INT((60*SUM(BG5:BG8)+SUM(BH5:BH8))/60))","v":0}]
[null,null,null,null,{"$f":"5-COUNTIF(E11:E15,0)","v":5},{"$f":"(SUM(C11:C15)*60+SUM(D11:D15))/E10","v":474}]
["Mo",{"$f":"IF(E11=0,\"frei\",\"\")","v":""},{"$f":"SUM(Einstellungen!C19)","v":7},{"$f":"SUM(Einstellungen!D19)","v":54},{"$f":"C11*60+D11","v":474},{"$f":"E11/$F$10","v":1},{"$f":"IF(AND(E11>0,I11<>\"\",U11<>\"f\"),F11,0)","v":1},{"$f":"IF(AND(I11<>\"\",U11<>\"f\"),1,0)","v":1},{"$f":"IF(I8<>\"\",I8+1,IF(CHOOSE(WEEKDAY(Einstellungen!$A$13,2),\"Mo\",\"Di\",\"Mi\",\"Do\",\"Fr\",\"Sa\",\"So\")=J11,Einstellungen!$A$13,\"\"))","v":"2026-11-02"},"Mo",null,null,null,null,{"$f":"HOUR(N11-K11-(M11-L11))","v":0},{"$f":"MINUTE(N11-K11-(M11-L11))","v":0},null,null,null,null,null,{"$f":"IF(OR(U11=\"U\",U11=\"k\",U11=\"B\"),$C$11,IF(S11>P11,O11-1-R11,O11-R11))","v":0},{"$f":"IF(OR(U11=\"U\",U11=\"k\",U11=\"B\"),$D$11,IF(S11>P11,P11+60-S11,P11-S11))","v":0},{"$f":"IF(OR(U11=\"U\",U11=\"K\",U11=\"B\"),0,V11)","v":0},{"$f":"IF(OR(U11=\"U\",U11=\"K\",U11=\"B\"),0,W11)","v":0},{"$f":"INT(((SUM(AB11,AH11,AK11,AN11,AQ11,AS11,AU11,AW11,AY11,BA11,BC11,BE11,BG11)*100)+(SUM(AC11,AI11,AL11,AO11,AR11,AT11,AV11,AX11,AZ11,BB11,BD11,BF11,BH11)/60*100))/100)","v":0},{"$f":"MOD(((SUM(AC11,AI11,AL11,AO11,AR11,AT11,AV11,AX11,AZ11,BB11,BD11,BF11,BH11)*100)+(SUM(AC11,AI11,AL11,AO11,AR11,AT11,AV11,AX11,AZ11,BB11,BD11,BF11,BH11)/60*100))/100,1)*60","v":0},null,null,{"$f":"INT(((SUM(AH11,AK11,AN11)*100)+SUM(AI11,AL11,AO11)/60*100)/100)","v":0},{"$f":"MOD(((SUM(AI11,AL11,AO11)*100)+(SUM(AI11,AL11,AO11)/60*100))/100,1)*60","v":0},{"$f":"INT(((SUM(AQ11+AS11+AU11+AW11+AY11+BA11+BC11+BE11+BG11)*100)+SUM(AR11+AT11+AV11+AX11+AZ11+BB11+BD11+BF11+BH11)/60*100)/100)","v":0},{"$f":"MOD(((SUM(AR11+AT11+AV11+AX11+AZ11+BB11+BD11+BF11+BH11)*100)+(SUM(AR11+AT11+AV11+AX11+AZ11+BB11+BD11+BF11+BH11)/60*100))/100,1)*60","v":0},null,null,"",null,null,"",null,null,""]
["Di",{"$f":"IF(E12=0,\"frei\",\"\")","v":""},{"$f":"SUM(Einstellungen!C20)","v":7},{"$f":"SUM(Einstellungen!D20)","v":54},{"$f":"C12*60+D12","v":474},{"$f":"E12/$F$10","v":1},{"$f":"IF(AND(E12>0,I12<>\"\",U12<>\"f\"),F12,0)","v":1},{"$f":"IF(AND(I12<>\"\",U12<>\"f\"),1,0)","v":1},{"$f":"IF(I11<>\"\",I11+1,IF(CHOOSE(WEEKDAY(Einstellungen!$A$13,2),\"Mo\",\"Di\",\"Mi\",\"Do\",\"Fr\",\"Sa\",\"So\")=J12,Einstellungen!$A$13,\"\"))","v":"2026-11-03"},"Di",null,null,null,null,0,0,null,null,null,null,null,{"$f":"IF(OR(U12=\"U\",U12=\"k\",U12=\"B\"),$C$12,IF(S12>P12,O12-1-R12,O12-R12))","v":0},{"$f":"IF(OR(U12=\"U\",U12=\"k\",U12=\"B\"),$D$12,IF(S12>P12,P12+60-S12,P12-S12))","v":0},0,0,0,0,null,null,0,0,0,0,null,null,"",null,null,"",null,null,""]
["Mi",{"$f":"IF(E13=0,\"frei\",\"\")","v":""},{"$f":"SUM(Einstellungen!C21)","v":7},{"$f":"SUM(Einstellungen!D21)","v":54},{"$f":"C13*60+D13","v":474},{"$f":"E13/$F$10","v":1},{"$f":"IF(AND(E13>0,I13<>\"\",U13<>\"f\"),F13,0)","v":1},{"$f":"IF(AND(I13<>\"\",U13<>\"f\"),1,0)","v":1},{"$f":"IF(I12<>\"\",I12+1,IF(CHOOSE(WEEKDAY(Einstellungen!$A$13,2),\"Mo\",\"Di\",\"Mi\",\"Do\",\"Fr\",\"Sa\",\"So\")=J13,Einstellungen!$A$13,\"\"))","v":"2026-11-04"},"Mi",null,null,null,null,0,0,null,null,null,null,null,{"$f":"IF(OR(U13=\"U\",U13=\"k\",U13=\"B\"),$C$13,IF(S13>P13,O13-1-R13,O13-R13))","v":0},{"$f":"IF(OR(U13=\"U\",U13=\"k\",U13=\"B\"),$D$13,IF(S13>P13,P13+60-S13,P13-S13))","v":0},0,0,0,0,null,null,0,0,0,0,null,null,"",null,null,"",null,null,""]
["Do",{"$f":"IF(E14=0,\"frei\",\"\")","v":""},{"$f":"SUM(Einstellungen!C22)","v":7},{"$f":"SUM(Einstellungen!D22)","v":54},{"$f":"C14*60+D14","v":474},{"$f":"E14/$F$10","v":1},{"$f":"IF(AND(E14>0,I14<>\"\",U14<>\"f\"),F14,0)","v":1},{"$f":"IF(AND(I14<>\"\",U14<>\"f\"),1,0)","v":1},{"$f":"IF(I13<>\"\",I13+1,IF(CHOOSE(WEEKDAY(Einstellungen!$A$13,2),\"Mo\",\"Di\",\"Mi\",\"Do\",\"Fr\",\"Sa\",\"So\")=J14,Einstellungen!$A$13,\"\"))","v":"2026-11-05"},"Do",null,null,null,null,0,0,null,null,null,null,null,{"$f":"IF(OR(U14=\"U\",U14=\"k\",U14=\"B\"),$C$14,IF(S14>P14,O14-1-R14,O14-R14))","v":0},{"$f":"IF(OR(U14=\"U\",U14=\"k\",U14=\"B\"),$D$14,IF(S14>P14,P14+60-S14,P14-S14))","v":0},0,0,0,0,null,null,0,0,0,0,null,null,"",null,null,"",null,null,""]
["Fr",{"$f":"IF(E15=0,\"frei\",\"\")","v":""},{"$f":"SUM(Einstellungen!C23)","v":7},{"$f":"SUM(Einstellungen!D23)","v":54},{"$f":"C15*60+D15","v":474},{"$f":"E15/$F$10","v":1},{"$f":"IF(AND(E15>0,I15<>\"\",U15<>\"f\"),F15,0)","v":1},{"$f":"IF(AND(I15<>\"\",U15<>\"f\"),1,0)","v":1},{"$f":"I14+1","v":"2026-11-06"},"Fr",null,null,null,null,0,0,null,null,null,null,null,{"$f":"IF(OR(U15=\"U\",U15=\"k\",U15=\"B\"),$C$15,IF(S15>P15,O15-1-R15,O15-R15))","v":0},{"$f":"IF(OR(U15=\"U\",U15=\"k\",U15=\"B\"),$D$15,IF(S15>P15,P15+60-S15,P15-S15))","v":0},0,0,0,0,null,null,0,0,0,0,null,null,"",null,null,"",null,null,""]
[{"$f":"Einstellungen!$L$1","v":"Hinweise:"},null,null,null,null,null,null,null,{"$f":"I15+1","v":"2026-11-07"},"Sa",null,null,null,null,0,0,null,null,null,"nur dienstl. Sonderfälle!*",null,{"$f":"IF(S16>P16,O16-1-R16,O16-R16)","v":0},{"$f":"IF(S16>P16,P16+60-S16,P16-S16)","v":0},0,0,0,0,null,null,0,0,0,0,null,null,"",null,null,"",null,null,""]
[{"$f":"Einstellungen!$L$2","v":"I Beschäftigte mit 39,5 Std-Woche"},null,null,null,null,null,null,null,{"$f":"I16+1","v":"2026-11-08"},"So",null,null,null,null,0,0,null,null,null,"nur dienstl. Sonderfälle!*",null,{"$f":"IF(S17>P17,O17-1-R17,O17-R17)","v":0},{"$f":"IF(S17>P17,P17+60-S17,P17-S17)","v":0},0,0,0,0,null,null,0,0,0,0,null,null,"",null,null,"",null,null,""]
[{"$f":"Einstellungen!$L$3","v":""},null,{"$f":"Einstellungen!$N$3","v":"Beschäftigungsumfang"},null,null,null,null,null,null,null,null,null,null,null,null,null,null,null,null,null,null,{"$f":"INT((60*SUM(V11:V17)+SUM(W11:W17)-W18)/60)","v":0},{"$f":"INT(60*SUM(V11:V17)+SUM(W11:W17)-60*INT((60*SUM(V11:V17)+SUM(W11:W17))/60))","v":0},{"$f":"INT((60*SUM(X11:X17)+SUM(Y11:Y17)-Y18)/60)","v":0},{"$f":"INT(60*SUM(X11:X17)+SUM(Y11:Y17)-60*INT((60*SUM(X11:X17)+SUM(Y11:Y17))/60))","v":0},{"$f":"INT((60*SUM(Z11:Z17)+SUM(AA11:AA17)-AA18)/60)","v":0},{"$f":"INT(60*SUM(Z11:Z17)+SUM(AA11:AA17)-60*INT((60*SUM(Z11:Z17)+SUM(AA11:AA17))/60))","v":0},{"$f":"INT((60*SUM(AB11:AB17)+SUM(AC11:AC17)-AC18)/60)","v":0},{"$f":"INT(60*SUM(AB11:AB17)+SUM(AC11:AC17)-60*INT((60*SUM(AB11:AB17)+SUM(AC11:AC17))/60))","v":0},{"$f":"INT((60*SUM(AD11:AD17)+SUM(AE11:AE17)-AE18)/60)","v":0},{"$f":"INT(60*SUM(AD11:AD17)+SUM(AE11:AE17)-60*INT((60*SUM(AD11:AD17)+SUM(AE11:AE17))/60))","v":0},{"$f":"INT((60*SUM(AF11:AF17)+SUM(AG11:AG17)-AG18)/60)","v":0},{"$f":"INT(60*SUM(AF11:AF17)+SUM(AG11:AG17)-60*INT((60*SUM(AF11:AF17)+SUM(AG11:AG17))/60))","v":0},{"$f":"INT((60*SUM(AH11:AH17)+SUM(AI11:AI17)-AI18)/60)","v":0},{"$f":"INT(60*SUM(AH11:AH17)+SUM(AI11:AI17)-60*INT((60*SUM(AH11:AH17)+SUM(AI11:AI17))/60))","v":0},null,{"$f":"INT((60*SUM(AK11:AK17)+SUM(AL11:AL17)-AL18)/60)","v":0},{"$f":"INT(60*SUM(AK11:AK17)+SUM(AL11:AL17)-60*INT((60*SUM(AK11:AK17)+SUM(AL11:AL17))/60))","v":0},null,{"$f":"INT((60*SUM(AN11:AN17)+SUM(AO11:AO17)-AO18)/60)","v":0},{"$f":"INT(60*SUM(AN11:AN17)+SUM(AO11:AO17)-60*INT((60*SUM(AN11:AN17)+SUM(AO11:AO17))/60))","v":0},null,{"$f":"INT((60*SUM(AQ11:AQ17)+SUM(AR11:AR17)-AR18)/60)","v":0},{"$f":"INT(60*SUM(AQ11:AQ17)+SUM(AR11:AR17)-60*INT((60*SUM(AQ11:AQ17)+SUM(AR11:AR17))/60))","v":0},{"$f":"INT((60*SUM(AS11:AS17)+SUM(AT11:AT17)-AT18)/60)","v":0},{"$f":"INT(60*SUM(AS11:AS17)+SUM(AT11:AT17)-60*INT((60*SUM(AS11:AS17)+SUM(AT11:AT17))/60))","v":0},{"$f":"INT((60*SUM(AU11:AU17)+SUM(AV11:AV17)-AV18)/60)","v":0},{"$f":"INT(60*SUM(AU11:AU17)+SUM(AV11:AV17)-60*INT((60*SUM(AU11:AU17)+SUM(AV11:AV17))/60))","v":0},{"$f":"INT((60*SUM(AW11:AW17)+SUM(AX11:AX17)-AX18)/60)","v":0},{"$f":"INT(60*SUM(AW11:AW17)+SUM(AX11:AX17)-60*INT((60*SUM(AW11:AW17)+SUM(AX11:AX17))/60))","v":0},{"$f":"INT((60*SUM(AY11:AY17)+SUM(AZ11:AZ17)-AZ18)/60)","v":0},{"$f":"INT(60*SUM(AY11:AY17)+SUM(AZ11:AZ17)-60*INT((60*SUM(AY11:AY17)+SUM(AZ11:AZ17))/60))","v":0},{"$f":"INT((60*SUM(BA11:BA17)+SUM(BB11:BB17)-BB18)/60)","v":0},{"$f":"INT(60*SUM(BA11:BA17)+SUM(BB11:BB17)-60*INT((60*SUM(BA11:BA17)+SUM(BB11:BB17))/60))","v":0},{"$f":"INT((60*SUM(BC11:BC17)+SUM(BD11:BD17)-BD18)/60)","v":0},{"$f":"INT(60*SUM(BC11:BC17)+SUM(BD11:BD17)-60*INT((60*SUM(BC11:BC17)+SUM(BD11:BD17))/60))","v":0},{"$f":"INT((60*SUM(BE11:BE17)+SUM(BF11:BF17)-BF18)/60)","v":0},{"$f":"INT(60*SUM(BE11:BE17)+SUM(BF11:BF17)-60*INT((60*SUM(BE11:BE17)+SUM(BF11:BF17))/60))","v":0},{"$f":"INT((60*SUM(BG11:BG17)+SUM(BH11:BH17)-BH18)/60)","v":0},{"$f":"INT(60*SUM(BG11:BG17)+SUM(BH11:BH17)-60*INT((60*SUM(BG11:BG17)+SUM(BH11:BH17))/60))","v":0}]
[]
[{"$f":"Einstellungen!$L$4","v":"5 Tage-Woche"},null,{"$f":"Einstellungen!$N$4","v":1},{"$f":"Einstellungen!$O$4","v":0.75},null,{"$f":"Einstellungen!$Q$4","v":0.5},{"$f":"IF(AND(E11>0,I20<>\"\",U20<>\"f\"),F11,0)","v":1},{"$f":"IF(AND(I20<>\"\",U20<>\"f\"),1,0)","v":1},{"$f":"I17+1","v":"2026-11-09"},"Mo",null,null,null,null,{"$f":"HOUR(N20-K20-(M20-L20))","v":0},{"$f":"MINUTE(N20-K20-(M20-L20))","v":0},null,null,null,null,null,{"$f":"IF(OR(U20=\"U\",U20=\"k\",U20=\"B\"),$C$11,IF(S20>P20,O20-1-R20,O20-R20))","v":0},{"$f":"IF(OR(U20=\"U\",U20=\"k\",U20=\"B\"),$D$11,IF(S20>P20,P20+60-S20,P20-S20))","v":0},{"$f":"IF(OR(U20=\"U\",U20=\"K\",U20=\"B\"),0,V20)","v":0},{"$f":"IF(OR(U20=\"U\",U20=\"K\",U20=\"B\"),0,W20)","v":0},{"$f":"INT(((SUM(AB20,AH20,AK20,AN20,AQ20,AS20,AU20,AW20,AY20,BA20,BC20,BE20,BG20)*100)+(SUM(AC20,AI20,AL20,AO20,AR20,AT20,AV20,AX20,AZ20,BB20,BD20,BF20,BH20)/60*100))/100)","v":0},{"$f":"MOD(((SUM(AC20,AI20,AL20,AO20,AR20,AT20,AV20,AX20,AZ20,BB20,BD20,BF20,BH20)*100)+(SUM(AC20,AI20,AL20,AO20,AR20,AT20,AV20,AX20,AZ20,BB20,BD20,BF20,BH20)/60*100))/100,1)*60","v":0},null,null,{"$f":"INT(((SUM(AH20,AK20,AN20)*100)+SUM(AI20,AL20,AO20)/60*100)/100)","v":0},{"$f":"MOD(((SUM(AI20,AL20,AO20)*100)+(SUM(AI20,AL20,AO20)/60*100))/100,1)*60","v":0},{"$f":"INT(((SUM(AQ20+AS20+AU20+AW20+AY20+BA20+BC20+BE20+BG20)*100)+SUM(AR20+AT20+AV20+AX20+AZ20+BB20+BD20+BF20+BH20)/60*100)/100)","v":0},{"$f":"MOD(((SUM(AR20+AT20+AV20+AX20+AZ20+BB20+BD20+BF20+BH20)*100)+(SUM(AR20+AT20+AV20+AX20+AZ20+BB20+BD20+BF20+BH20)/60*100))/100,1)*60","v":0},null,null,"",null,null,"",null,null,""]
[{"$f":"Einstellungen!$L$5","v":""},null," "," ",null," ",{"$f":"IF(AND(E12>0,I21<>\"\",U21<>\"f\"),F12,0)","v":1},{"$f":"IF(AND(I21<>\"\",U21<>\"f\"),1,0)","v":1},{"$f":"I20+1","v":"2026-11-10"},"Di",null,null,null,null,0,0,null,null,null,null,null,{"$f":"IF(OR(U21=\"U\",U21=\"k\",U21=\"B\"),$C$12,IF(S21>P21,O21-1-R21,O21-R21))","v":0},{"$f":"IF(OR(U21=\"U\",U21=\"k\",U21=\"B\"),$D$12,IF(S21>P21,P21+60-S21,P21-S21))","v":0},0,0,0,0,null,null,0,0,0,0,null,null,"",null,null,"",null,null,""]
[{"$f":"Einstellungen!$L$6","v":"tägliche Regel-"},null," "," ",null," ",{"$f":"IF(AND(E13>0,I22<>\"\",U22<>\"f\"),F13,0)","v":1},{"$f":"IF(AND(I22<>\"\",U22<>\"f\"),1,0)","v":1},{"$f":"I21+1","v":"2026-11-11"},"Mi",null,null,null,null,0,0,null,null,null,null,null,{"$f":"IF(OR(U22=\"U\",U22=\"k\",U22=\"B\"),$C$13,IF(S22>P22,O22-1-R22,O22-R22))","v":0},{"$f":"IF(OR(U22=\"U\",U22=\"k\",U22=\"B\"),$D$13,IF(S22>P22,P22+60-S22,P22-S22))","v":0},0,0,0,0,null,null,0,0,0,0,null,null,"",null,null,"",null,null,""]
[{"$f":"Einstellungen!$L$7","v":"arbeitszeit für"},null,null,null,null,null,{"$f":"IF(AND(E14>0,I23<>\"\",U23<>\"f\"),F14,0)","v":1},{"$f":"IF(AND(I23<>\"\",U23<>\"f\"),1,0)","v":1},"2026-11-12","Do",null,null,null,null,0,0,null,null,null,null,null,{"$f":"IF(OR(U23=\"U\",U23=\"k\",U23=\"B\"),$C$14,IF(S23>P23,O23-1-R23,O23-R23))","v":0},{"$f":"IF(OR(U23=\"U\",U23=\"k\",U23=\"B\"),$D$14,IF(S23>P23,P23+60-S23,P23-S23))","v":0},0,0,0,0,null,null,0,0,0,0,null,null,"",null,null,"",null,null,""]
[{"$f":"Einstellungen!$L$8","v":"Wochenfeier-"},null,null,null,null,null,{"$f":"IF(AND(E15>0,I24<>\"\",U24<>\"f\"),F15,0)","v":1},{"$f":"IF(AND(I24<>\"\",U24<>\"f\"),1,0)","v":1},"2026-11-13","Fr",null,null,null,null,0,0,null,null,null,null,null,{"$f":"IF(OR(U24=\"U\",U24=\"k\",U24=\"B\"),$C$15,IF(S24>P24,O24-1-R24,O24-R24))","v":0},{"$f":"IF(OR(U24=\"U\",U24=\"k\",U24=\"B\"),$D$15,IF(S24>P24,P24+60-S24,P24-S24))","v":0},0,0,0,0,null,null,0,0,0,0,null,null,"",null,null,"",null,null,""]
[{"$f":"Einstellungen!$L$9","v":"tage, bei Urlaub"},null,null,null,null,null,null,null,"2026-11-14","Sa",null,null,null,null,0,0,null,null,null,"nur dienstl. Sonderfälle!*",null,{"$f":"IF(S25>P25,O25-1-R25,O25-R25)","v":0},{"$f":"IF(S25>P25,P25+60-S25,P25-S25)","v":0},0,0,0,0,null,null,0,0,0,0,null,null,"",null,null,"",null,null,""]
[{"$f":"Einstellungen!$L$10","v":"oder Krankheit"},null,null,null,null,null,null,null,"2026-11-15","So",null,null,null,null,0,0,null,null,null,"nur dienstl. Sonderfälle!*",null,{"$f":"IF(S26>P26,O26-1-R26,O26-R26)","v":0},{"$f":"IF(S26>P26,P26+60-S26,P26-S26)","v":0},0,0,0,0,null,null,0,0,0,0,null,null,"",null,null,"",null,null,""]
[{"$f":"Einstellungen!$L$11","v":"Mo-Fr  "},{"$f":"Einstellungen!$M$11","v":"Std.Min"},{"$f":"Einstellungen!$N$11","v":" 7.54"},{"$f":"Einstellungen!$O$11","v":" 5.56"},null,{"$f":"Einstellungen!$Q$11","v":" 3.57"},null,null,null,null,null,null,null,null,null,null,null,null,null,null,null,{"$f":"INT((60*SUM(V20:V26)+SUM(W20:W26)-W27)/60)","v":0},{"$f":"INT(60*SUM(V20:V26)+SUM(W20:W26)-60*INT((60*SUM(V20:V26)+SUM(W20:W26))/60))","v":0},{"$f":"INT((60*SUM(X20:X26)+SUM(Y20:Y26)-Y27)/60)","v":0},{"$f":"INT(60*SUM(X20:X26)+SUM(Y20:Y26)-60*INT((60*SUM(X20:X26)+SUM(Y20:Y26))/60))","v":0},{"$f":"INT((60*SUM(Z20:Z26)+SUM(AA20:AA26)-AA27)/60)","v":0},{"$f":"INT(60*SUM(Z20:Z26)+SUM(AA20:AA26)-60*INT((60*SUM(Z20:Z26)+SUM(AA20:AA26))/60))","v":0},{"$f":"INT((60*SUM(AB20:AB26)+SUM(AC20:AC26)-AC27)/60)","v":0},{"$f":"INT(60*SUM(AB20:AB26)+SUM(AC20:AC26)-60*INT((60*SUM(AB20:AB26)+SUM(AC20:AC26))/60))","v":0},{"$f":"INT((60*SUM(AD20:AD26)+SUM(AE20:AE26)-AE27)/60)","v":0},{"$f":"INT(60*SUM(AD20:AD26)+SUM(AE20:AE26)-60*INT((60*SUM(AD20:AD26)+SUM(AE20:AE26))/60))","v":0},{"$f":"INT((60*SUM(AF20:AF26)+SUM(AG20:AG26)-AG27)/60)","v":0},{"$f":"INT(60*SUM(AF20:AF26)+SUM(AG20:AG26)-60*INT((60*SUM(AF20:AF26)+SUM(AG20:AG26))/60))","v":0},{"$f":"INT((60*SUM(AH20:AH26)+SUM(AI20:AI26)-AI27)/60)","v":0},{"$f":"INT(60*SUM(AH20:AH26)+SUM(AI20:AI26)-60*INT((60*SUM(AH20:AH26)+SUM(AI20:AI26))/60))","v":0},null,{"$f":"INT((60*SUM(AK20:AK26)+SUM(AL20:AL26)-AL27)/60)","v":0},{"$f":"INT(60*SUM(AK20:AK26)+SUM(AL20:AL26)-60*INT((60*SUM(AK20:AK26)+SUM(AL20:AL26))/60))","v":0},null,{"$f":"INT((60*SUM(AN20:AN26)+SUM(AO20:AO26)-AO27)/60)","v":0},{"$f":"INT(60*SUM(AN20:AN26)+SUM(AO20:AO26)-60*INT((60*SUM(AN20:AN26)+SUM(AO20:AO26))/60))","v":0},null,{"$f":"INT((60*SUM(AQ20:AQ26)+SUM(AR20:AR26)-AR27)/60)","v":0},{"$f":"INT(60*SUM(AQ20:AQ26)+SUM(AR20:AR26)-60*INT((60*SUM(AQ20:AQ26)+SUM(AR20:AR26))/60))","v":0},{"$f":"INT((60*SUM(AS20:AS26)+SUM(AT20:AT26)-AT27)/60)","v":0},{"$f":"INT(60*SUM(AS20:AS26)+SUM(AT20:AT26)-60*INT((60*SUM(AS20:AS26)+SUM(AT20:AT26))/60))","v":0},{"$f":"INT((60*SUM(AU20:AU26)+SUM(AV20:AV26)-AV27)/60)","v":0},{"$f":"INT(60*SUM(AU20:AU26)+SUM(AV20:AV26)-60*INT((60*SUM(AU20:AU26)+SUM(AV20:AV26))/60))","v":0},{"$f":"INT((60*SUM(AW20:AW26)+SUM(AX20:AX26)-AX27)/60)","v":0},{"$f":"INT(60*SUM(AW20:AW26)+SUM(AX20:AX26)-60*INT((60*SUM(AW20:AW26)+SUM(AX20:AX26))/60))","v":0},{"$f":"INT((60*SUM(AY20:AY26)+SUM(AZ20:AZ26)-AZ27)/60)","v":0},{"$f":"INT(60*SUM(AY20:AY26)+SUM(AZ20:AZ26)-60*INT((60*SUM(AY20:AY26)+SUM(AZ20:AZ26))/60))","v":0},{"$f":"INT((60*SUM(BA20:BA26)+SUM(BB20:BB26)-BB27)/60)","v":0},{"$f":"INT(60*SUM(BA20:BA26)+SUM(BB20:BB26)-60*INT((60*SUM(BA20:BA26)+SUM(BB20:BB26))/60))","v":0},{"$f":"INT((60*SUM(BC20:BC26)+SUM(BD20:BD26)-BD27)/60)","v":0},{"$f":"INT(60*SUM(BC20:BC26)+SUM(BD20:BD26)-60*INT((60*SUM(BC20:BC26)+SUM(BD20:BD26))/60))","v":0},{"$f":"INT((60*SUM(BE20:BE26)+SUM(BF20:BF26)-BF27)/60)","v":0},{"$f":"INT(60*SUM(BE20:BE26)+SUM(BF20:BF26)-60*INT((60*SUM(BE20:BE26)+SUM(BF20:BF26))/60))","v":0},{"$f":"INT((60*SUM(BG20:BG26)+SUM(BH20:BH26)-BH27)/60)","v":0},{"$f":"INT(60*SUM(BG20:BG26)+SUM(BH20:BH26)-60*INT((60*SUM(BG20:BG26)+SUM(BH20:BH26))/60))","v":0}]
[" "," "," "," ",null," "]
[{"$f":"Einstellungen!$L$13","v":"Wochen"},null," "," ",null," ",{"$f":"IF(AND(E11>0,I29<>\"\",U29<>\"f\"),F11,0)","v":1},{"$f":"IF(AND(I29<>\"\",U29<>\"f\"),1,0)","v":1},{"$f":"I26+1","v":"2026-11-16"},"Mo",null,null,null,null,{"$f":"HOUR(N29-K29-(M29-L29))","v":0},{"$f":"MINUTE(N29-K29-(M29-L29))","v":0},null,null,null,null,null,{"$f":"IF(OR(U29=\"U\",U29=\"k\",U29=\"B\"),$C$11,IF(S29>P29,O29-1-R29,O29-R29))","v":0},{"$f":"IF(OR(U29=\"U\",U29=\"k\",U29=\"B\"),$D$11,IF(S29>P29,P29+60-S29,P29-S29))","v":0},{"$f":"IF(OR(U29=\"U\",U29=\"K\",U29=\"B\"),0,V29)","v":0},{"$f":"IF(OR(U29=\"U\",U29=\"K\",U29=\"B\"),0,W29)","v":0},{"$f":"INT(((SUM(AB29,AH29,AK29,AN29,AQ29,AS29,AU29,AW29,AY29,BA29,BC29,BE29,BG29)*100)+(SUM(AC29,AI29,AL29,AO29,AR29,AT29,AV29,AX29,AZ29,BB29,BD29,BF29,BH29)/60*100))/100)","v":0},{"$f":"MOD(((SUM(AC29,AI29,AL29,AO29,AR29,AT29,AV29,AX29,AZ29,BB29,BD29,BF29,BH29)*100)+(SUM(AC29,AI29,AL29,AO29,AR29,AT29,AV29,AX29,AZ29,BB29,BD29,BF29,BH29)/60*100))/100,1)*60","v":0},null,null,{"$f":"INT(((SUM(AH29,AK29,AN29)*100)+SUM(AI29,AL29,AO29)/60*100)/100)","v":0},{"$f":"MOD(((SUM(AI29,AL29,AO29)*100)+(SUM(AI29,AL29,AO29)/60*100))/100,1)*60","v":0},{"$f":"INT(((SUM(AQ29+AS29+AU29+AW29+AY29+BA29+BC29+BE29+BG29)*100)+SUM(AR29+AT29+AV29+AX29+AZ29+BB29+BD29+BF29+BH29)/60*100)/100)","v":0},{"$f":"MOD(((SUM(AR29+AT29+AV29+AX29+AZ29+BB29+BD29+BF29+BH29)*100)+(SUM(AR29+AT29+AV29+AX29+AZ29+BB29+BD29+BF29+BH29)/60*100))/100,1)*60","v":0},null,null,"",null,null,"",null,null,""]
[{"$f":"CONCATENATE(Einstellungen!$L$14,\" \",Einstellungen!$M$14)","v":"Arbeitzeit Std.Min"},null,{"$f":"Einstellungen!$N$14","v":"39.30"},{"$f":"Einstellungen!$O$14","v":"29.38"},null,{"$f":"Einstellungen!$Q$14","v":"19.45"},{"$f":"IF(AND(E12>0,I30<>\"\",U30<>\"f\"),F12,0)","v":1},{"$f":"IF(AND(I30<>\"\",U30<>\"f\"),1,0)","v":1},{"$f":"I29+1","v":"2026-11-17"},"Di",null,null,null,null,0,0,null,null,null,null,null,{"$f":"IF(OR(U30=\"U\",U30=\"k\",U30=\"B\"),$C$12,IF(S30>P30,O30-1-R30,O30-R30))","v":0},{"$f":"IF(OR(U30=\"U\",U30=\"k\",U30=\"B\"),$D$12,IF(S30>P30,P30+60-S30,P30-S30))","v":0},0,0,0,0,null,null,0,0,0,0,null,null,"",null,null,"",null,null,""]
[{"$f":"Einstellungen!$L$15","v":"max.Übertrag auf das"},null,null," ",null," ",{"$f":"IF(AND(E13>0,I31<>\"\",U31<>\"f\"),F13,0)","v":1},{"$f":"IF(AND(I31<>\"\",U31<>\"f\"),1,0)","v":1},{"$f":"I30+1","v":"2026-11-18"},"Mi",null,null,null,null,0,0,null,null,null,null,null,{"$f":"IF(OR(U31=\"U\",U31=\"k\",U31=\"B\"),$C$13,IF(S31>P31,O31-1-R31,O31-R31))","v":0},{"$f":"IF(OR(U31=\"U\",U31=\"k\",U31=\"B\"),$D$13,IF(S31>P31,P31+60-S31,P31-S31))","v":0},0,0,0,0,null,null,0,0,0,0,null,null,"",null,null,"",null,null,""]
[{"$f":"Einstellungen!$L$16","v":"Folgejahr Std.Min"},null,{"$f":"Einstellungen!$N$16","v":"39.30"},{"$f":"Einstellungen!$O$16","v":"39.30"},null,{"$f":"Einstellungen!$Q$16","v":"39.30"},{"$f":"IF(AND(E14>0,I32<>\"\",U32<>\"f\"),F14,0)","v":1},{"$f":"IF(AND(I32<>\"\",U32<>\"f\"),1,0)","v":1},"2026-11-19","Do",null,null,null,null,0,0,null,null,null,null,null,{"$f":"IF(OR(U32=\"U\",U32=\"k\",U32=\"B\"),$C$14,IF(S32>P32,O32-1-R32,O32-R32))","v":0},{"$f":"IF(OR(U32=\"U\",U32=\"k\",U32=\"B\"),$D$14,IF(S32>P32,P32+60-S32,P32-S32))","v":0},0,0,0,0,null,null,0,0,0,0,null,null,"",null,null,"",null,null,""]
[{"$f":"Einstellungen!$L$17","v":"II Beschäftigte mit 41 Std-Woche"},null,null,null,null,null,{"$f":"IF(AND(E15>0,I33<>\"\",U33<>\"f\"),F15,0)","v":1},{"$f":"IF(AND(I33<>\"\",U33<>\"f\"),1,0)","v":1},"2026-11-20","Fr",null,null,null,null,0,0,null,null,null,null,null,{"$f":"IF(OR(U33=\"U\",U33=\"k\",U33=\"B\"),$C$15,IF(S33>P33,O33-1-R33,O33-R33))","v":0},{"$f":"IF(OR(U33=\"U\",U33=\"k\",U33=\"B\"),$D$15,IF(S33>P33,P33+60-S33,P33-S33))","v":0},0,0,0,0,null,null,0,0,0,0,null,null,"",null,null,"",null,null,""]
[{"$f":"Einstellungen!$L$18","v":"tägliche Arbeitszeit"},null,null,null,null,null,null,null,"2026-11-21","Sa",null,null,null,null,0,0,null,null,null,"nur dienstl. Sonderfälle!*",null,{"$f":"IF(S34>P34,O34-1-R34,O34-R34)","v":0},{"$f":"IF(S34>P34,P34+60-S34,P34-S34)","v":0},0,0,0,0,null,null,0,0,0,0,null,null,"",null,null,"",null,null,""]
[{"$f":"Einstellungen!$L$19","v":"Mo-Fr  "},{"$f":"Einstellungen!$M$19","v":"Std.Min"},{"$f":"Einstellungen!$N$19","v":"8.12"},{"$f":"Einstellungen!$O$19","v":"6.09"},null,{"$f":"Einstellungen!$Q$19","v":"4.06"},null,null,"2026-11-22","So",null,null,null,null,0,0,null,null,null,"nur dienstl. Sonderfälle!*",null,{"$f":"IF(S35>P35,O35-1-R35,O35-R35)","v":0},{"$f":"IF(S35>P35,P35+60-S35,P35-S35)","v":0},0,0,0,0,null,null,0,0,0,0,null,null,"",null,null,"",null,null,""]
[{"$f":"Einstellungen!$L$20","v":"Wochen"},null," "," ",null," ",null,null,null,null,null,null,null,null,null,null,null,null,null,null,null,{"$f":"INT((60*SUM(V29:V35)+SUM(W29:W35)-W36)/60)","v":0},{"$f":"INT(60*SUM(V29:V35)+SUM(W29:W35)-60*INT((60*SUM(V29:V35)+SUM(W29:W35))/60))","v":0},{"$f":"INT((60*SUM(X29:X35)+SUM(Y29:Y35)-Y36)/60)","v":0},{"$f":"INT(60*SUM(X29:X35)+SUM(Y29:Y35)-60*INT((60*SUM(X29:X35)+SUM(Y29:Y35))/60))","v":0},{"$f":"INT((60*SUM(Z29:Z35)+SUM(AA29:AA35)-AA36)/60)","v":0},{"$f":"INT(60*SUM(Z29:Z35)+SUM(AA29:AA35)-60*INT((60*SUM(Z29:Z35)+SUM(AA29:AA35))/60))","v":0},{"$f":"INT((60*SUM(AB29:AB35)+SUM(AC29:AC35)-AC36)/60)","v":0},{"$f":"INT(60*SUM(AB29:AB35)+SUM(AC29:AC35)-60*INT((60*SUM(AB29:AB35)+SUM(AC29:AC35))/60))","v":0},{"$f":"INT((60*SUM(AD29:AD35)+SUM(AE29:AE35)-AE36)/60)","v":0},{"$f":"INT(60*SUM(AD29:AD35)+SUM(AE29:AE35)-60*INT((60*SUM(AD29:AD35)+SUM(AE29:AE35))/60))","v":0},{"$f":"INT((60*SUM(AF29:AF35)+SUM(AG29:AG35)-AG36)/60)","v":0},{"$f":"INT(60*SUM(AF29:AF35)+SUM(AG29:AG35)-60*INT((60*SUM(AF29:AF35)+SUM(AG29:AG35))/60))","v":0},{"$f":"INT((60*SUM(AH29:AH35)+SUM(AI29:AI35)-AI36)/60)","v":0},{"$f":"INT(60*SUM(AH29:AH35)+SUM(AI29:AI35)-60*INT((60*SUM(AH29:AH35)+SUM(AI29:AI35))/60))","v":0},null,{"$f":"INT((60*SUM(AK29:AK35)+SUM(AL29:AL35)-AL36)/60)","v":0},{"$f":"INT(60*SUM(AK29:AK35)+SUM(AL29:AL35)-60*INT((60*SUM(AK29:AK35)+SUM(AL29:AL35))/60))","v":0},null,{"$f":"INT((60*SUM(AN29:AN35)+SUM(AO29:AO35)-AO36)/60)","v":0},{"$f":"INT(60*SUM(AN29:AN35)+SUM(AO29:AO35)-60*INT((60*SUM(AN29:AN35)+SUM(AO29:AO35))/60))","v":0},null,{"$f":"INT((60*SUM(AQ29:AQ35)+SUM(AR29:AR35)-AR36)/60)","v":0},{"$f":"INT(60*SUM(AQ29:AQ35)+SUM(AR29:AR35)-60*INT((60*SUM(AQ29:AQ35)+SUM(AR29:AR35))/60))","v":0},{"$f":"INT((60*SUM(AS29:AS35)+SUM(AT29:AT35)-AT36)/60)","v":0},{"$f":"INT(60*SUM(AS29:AS35)+SUM(AT29:AT35)-60*INT((60*SUM(AS29:AS35)+SUM(AT29:AT35))/60))","v":0},{"$f":"INT((60*SUM(AU29:AU35)+SUM(AV29:AV35)-AV36)/60)","v":0},{"$f":"INT(60*SUM(AU29:AU35)+SUM(AV29:AV35)-60*INT((60*SUM(AU29:AU35)+SUM(AV29:AV35))/60))","v":0},{"$f":"INT((60*SUM(AW29:AW35)+SUM(AX29:AX35)-AX36)/60)","v":0},{"$f":"INT(60*SUM(AW29:AW35)+SUM(AX29:AX35)-60*INT((60*SUM(AW29:AW35)+SUM(AX29:AX35))/60))","v":0},{"$f":"INT((60*SUM(AY29:AY35)+SUM(AZ29:AZ35)-AZ36)/60)","v":0},{"$f":"INT(60*SUM(AY29:AY35)+SUM(AZ29:AZ35)-60*INT((60*SUM(AY29:AY35)+SUM(AZ29:AZ35))/60))","v":0},{"$f":"INT((60*SUM(BA29:BA35)+SUM(BB29:BB35)-BB36)/60)","v":0},{"$f":"INT(60*SUM(BA29:BA35)+SUM(BB29:BB35)-60*INT((60*SUM(BA29:BA35)+SUM(BB29:BB35))/60))","v":0},{"$f":"INT((60*SUM(BC29:BC35)+SUM(BD29:BD35)-BD36)/60)","v":0},{"$f":"INT(60*SUM(BC29:BC35)+SUM(BD29:BD35)-60*INT((60*SUM(BC29:BC35)+SUM(BD29:BD35))/60))","v":0},{"$f":"INT((60*SUM(BE29:BE35)+SUM(BF29:BF35)-BF36)/60)","v":0},{"$f":"INT(60*SUM(BE29:BE35)+SUM(BF29:BF35)-60*INT((60*SUM(BE29:BE35)+SUM(BF29:BF35))/60))","v":0},{"$f":"INT((60*SUM(BG29:BG35)+SUM(BH29:BH35)-BH36)/60)","v":0},{"$f":"INT(60*SUM(BG29:BG35)+SUM(BH29:BH35)-60*INT((60*SUM(BG29:BG35)+SUM(BH29:BH35))/60))","v":0}]
[]
[{"$f":"CONCATENATE(Einstellungen!$L$21,\" \",Einstellungen!$M$21)","v":"Arbeitzeit Std.Min"},null,{"$f":"Einstellungen!$N$21","v":"41.00"},{"$f":"Einstellungen!$O$21","v":"30.45"},null,{"$f":"Einstellungen!$Q$21","v":"20.30"},{"$f":"IF(AND(E11>0,I38<>\"\",U38<>\"f\"),F11,0)","v":1},{"$f":"IF(AND(I38<>\"\",U38<>\"f\"),1,0)","v":1},{"$f":"IF(I35<>\"\",IF(MONTH(I35)=MONTH(I35+1),I35+1,\"\"),\"\")","v":"2026-11-23"},"Mo",null,null,null,null,{"$f":"HOUR(N38-K38-(M38-L38))","v":0},{"$f":"MINUTE(N38-K38-(M38-L38))","v":0},null,null,null,null,null,{"$f":"IF(OR(U38=\"U\",U38=\"k\",U38=\"B\"),$C$11,IF(S38>P38,O38-1-R38,O38-R38))","v":0},{"$f":"IF(OR(U38=\"U\",U38=\"k\",U38=\"B\"),$D$11,IF(S38>P38,P38+60-S38,P38-S38))","v":0},{"$f":"IF(OR(U38=\"U\",U38=\"K\",U38=\"B\"),0,V38)","v":0},{"$f":"IF(OR(U38=\"U\",U38=\"K\",U38=\"B\"),0,W38)","v":0},{"$f":"INT(((SUM(AB38,AH38,AK38,AN38,AQ38,AS38,AU38,AW38,AY38,BA38,BC38,BE38,BG38)*100)+(SUM(AC38,AI38,AL38,AO38,AR38,AT38,AV38,AX38,AZ38,BB38,BD38,BF38,BH38)/60*100))/100)","v":0},{"$f":"MOD(((SUM(AC38,AI38,AL38,AO38,AR38,AT38,AV38,AX38,AZ38,BB38,BD38,BF38,BH38)*100)+(SUM(AC38,AI38,AL38,AO38,AR38,AT38,AV38,AX38,AZ38,BB38,BD38,BF38,BH38)/60*100))/100,1)*60","v":0},null,null,{"$f":"INT(((SUM(AH38,AK38,AN38)*100)+SUM(AI38,AL38,AO38)/60*100)/100)","v":0},{"$f":"MOD(((SUM(AI38,AL38,AO38)*100)+(SUM(AI38,AL38,AO38)/60*100))/100,1)*60","v":0},{"$f":"INT(((SUM(AQ38+AS38+AU38+AW38+AY38+BA38+BC38+BE38+BG38)*100)+SUM(AR38+AT38+AV38+AX38+AZ38+BB38+BD38+BF38+BH38)/60*100)/100)","v":0},{"$f":"MOD(((SUM(AR38+AT38+AV38+AX38+AZ38+BB38+BD38+BF38+BH38)*100)+(SUM(AR38+AT38+AV38+AX38+AZ38+BB38+BD38+BF38+BH38)/60*100))/100,1)*60","v":0},null,null,"",null,null,"",null,null,""]
[{"$f":"Einstellungen!$L$22","v":"max.Übertrag auf das"},null,null," "," "," ",{"$f":"IF(AND(E12>0,I39<>\"\",U39<>\"f\"),F12,0)","v":1},{"$f":"IF(AND(I39<>\"\",U39<>\"f\"),1,0)","v":1},{"$f":"IF(I38<>\"\",IF(MONTH(I38)=MONTH(I38+1),I38+1,\"\"),\"\")","v":"2026-11-24"},"Di",null,null,null,null,0,0,null,null,null,null,null,{"$f":"IF(OR(U39=\"U\",U39=\"k\",U39=\"B\"),$C$12,IF(S39>P39,O39-1-R39,O39-R39))","v":0},{"$f":"IF(OR(U39=\"U\",U39=\"k\",U39=\"B\"),$D$12,IF(S39>P39,P39+60-S39,P39-S39))","v":0},0,0,0,0,null,null,0,0,0,0,null,null,"",null,null,"",null,null,""]
[{"$f":"Einstellungen!$L$23","v":"Folgejahr Std.Min"},null,{"$f":"Einstellungen!$N$23","v":"41.00"},{"$f":"Einstellungen!$O$23","v":"41.00"}," ",{"$f":"Einstellungen!$Q$23","v":"41.00"},{"$f":"IF(AND(E13>0,I40<>\"\",U40<>\"f\"),F13,0)","v":1},{"$f":"IF(AND(I40<>\"\",U40<>\"f\"),1,0)","v":1},{"$f":"IF(I39<>\"\",IF(MONTH(I39)=MONTH(I39+1),I39+1,\"\"),\"\")","v":"2026-11-25"},"Mi",null,null,null,null,0,0,null,null,null,null,null,{"$f":"IF(OR(U40=\"U\",U40=\"k\",U40=\"B\"),$C$13,IF(S40>P40,O40-1-R40,O40-R40))","v":0},{"$f":"IF(OR(U40=\"U\",U40=\"k\",U40=\"B\"),$D$13,IF(S40>P40,P40+60-S40,P40-S40))","v":0},0,0,0,0,null,null,0,0,0,0,null,null,"",null,null,"",null,null,""]
[{"$f":"Einstellungen!$L$24","v":"Kernarbeitszeit:"},null,{"$f":"Einstellungen!$N$24","v":"Mo-Do"},{"$f":"Einstellungen!$O$24","v":"9:00 - 14:30 Uhr"},null,null,{"$f":"IF(AND(E14>0,I41<>\"\",U41<>\"f\"),F14,0)","v":1},{"$f":"IF(AND(I41<>\"\",U41<>\"f\"),1,0)","v":1},"2026-11-26","Do",null,null,null,null,0,0,null,null,null,null,null,{"$f":"IF(OR(U41=\"U\",U41=\"k\",U41=\"B\"),$C$14,IF(S41>P41,O41-1-R41,O41-R41))","v":0},{"$f":"IF(OR(U41=\"U\",U41=\"k\",U41=\"B\"),$D$14,IF(S41>P41,P41+60-S41,P41-S41))","v":0},0,0,0,0,null,null,0,0,0,0,null,null,"",null,null,"",null,null,""]
[{"$f":"Einstellungen!$L$25","v":""},{"$f":"Einstellungen!$M$25","v":""},{"$f":"Einstellungen!$N$25","v":"Fr"},{"$f":"Einstellungen!$O$25","v":"9:00 - 12:00 Uhr"},null,null,{"$f":"IF(AND(E15>0,I42<>\"\",U42<>\"f\"),F15,0)","v":1},{"$f":"IF(AND(I42<>\"\",U42<>\"f\"),1,0)","v":1},"2026-11-27","Fr",null,null,null,null,0,0,null,null,null,null,null,{"$f":"IF(OR(U42=\"U\",U42=\"k\",U42=\"B\"),$C$15,IF(S42>P42,O42-1-R42,O42-R42))","v":0},{"$f":"IF(OR(U42=\"U\",U42=\"k\",U42=\"B\"),$D$15,IF(S42>P42,P42+60-S42,P42-S42))","v":0},0,0,0,0,null,null,0,0,0,0,null,null,"",null,null,"",null,null,""]
[{"$f":"Einstellungen!$L$26","v":"Gleitzeit:"},{"$f":"Einstellungen!$M$26","v":"frühester Beginn"},null,null,null,{"$f":"Einstellungen!$P$26","v":"6:00 Uhr"},null,null,"2026-11-28","Sa",null,null,null,null,0,0,null,null,null,"nur dienstl. Sonderfälle!*",null,{"$f":"IF(S43>P43,O43-1-R43,O43-R43)","v":0},{"$f":"IF(S43>P43,P43+60-S43,P43-S43)","v":0},0,0,0,0,null,null,0,0,0,0,null,null,"",null,null,"",null,null,""]
[{"$f":"Einstellungen!$L$27","v":""},{"$f":"Einstellungen!$M$27","v":"spätestes Ende"},null,null,null,{"$f":"Einstellungen!$P$27","v":"21:00 Uhr"},null,null,"2026-11-29","So",null,null,null,null,0,0,null,null,null,"nur dienstl. Sonderfälle!*",null,{"$f":"IF(S44>P44,O44-1-R44,O44-R44)","v":0},{"$f":"IF(S44>P44,P44+60-S44,P44-S44)","v":0},0,0,0,0,null,null,0,0,0,0,null,null,"",null,null,"",null,null,""]
[{"$f":"Einstellungen!$L$29","v":"Mittagspause zw."},null,null,{"$f":"Einstellungen!$O$29","v":"11:15 - 14:00 Uhr"},null,null,null,null,null,null,null,null,null,null,null,null,null,null,null,null,null,{"$f":"INT((60*SUM(V38:V44)+SUM(W38:W44)-W45)/60)","v":0},{"$f":"INT(60*SUM(V38:V44)+SUM(W38:W44)-60*INT((60*SUM(V38:V44)+SUM(W38:W44))/60))","v":0},{"$f":"INT((60*SUM(X38:X44)+SUM(Y38:Y44)-Y45)/60)","v":0},{"$f":"INT(60*SUM(X38:X44)+SUM(Y38:Y44)-60*INT((60*SUM(X38:X44)+SUM(Y38:Y44))/60))","v":0},{"$f":"INT((60*SUM(Z38:Z44)+SUM(AA38:AA44)-AA45)/60)","v":0},{"$f":"INT(60*SUM(Z38:Z44)+SUM(AA38:AA44)-60*INT((60*SUM(Z38:Z44)+SUM(AA38:AA44))/60))","v":0},{"$f":"INT((60*SUM(AB38:AB44)+SUM(AC38:AC44)-AC45)/60)","v":0},{"$f":"INT(60*SUM(AB38:AB44)+SUM(AC38:AC44)-60*INT((60*SUM(AB38:AB44)+SUM(AC38:AC44))/60))","v":0},{"$f":"INT((60*SUM(AD38:AD44)+SUM(AE38:AE44)-AE45)/60)","v":0},{"$f":"INT(60*SUM(AD38:AD44)+SUM(AE38:AE44)-60*INT((60*SUM(AD38:AD44)+SUM(AE38:AE44))/60))","v":0},{"$f":"INT((60*SUM(AF38:AF44)+SUM(AG38:AG44)-AG45)/60)","v":0},{"$f":"INT(60*SUM(AF38:AF44)+SUM(AG38:AG44)-60*INT((60*SUM(AF38:AF44)+SUM(AG38:AG44))/60))","v":0},{"$f":"INT((60*SUM(AH38:AH44)+SUM(AI38:AI44)-AI45)/60)","v":0},{"$f":"INT(60*SUM(AH38:AH44)+SUM(AI38:AI44)-60*INT((60*SUM(AH38:AH44)+SUM(AI38:AI44))/60))","v":0},null,{"$f":"INT((60*SUM(AK38:AK44)+SUM(AL38:AL44)-AL45)/60)","v":0},{"$f":"INT(60*SUM(AK38:AK44)+SUM(AL38:AL44)-60*INT((60*SUM(AK38:AK44)+SUM(AL38:AL44))/60))","v":0},null,{"$f":"INT((60*SUM(AN38:AN44)+SUM(AO38:AO44)-AO45)/60)","v":0},{"$f":"INT(60*SUM(AN38:AN44)+SUM(AO38:AO44)-60*INT((60*SUM(AN38:AN44)+SUM(AO38:AO44))/60))","v":0},null,{"$f":"INT((60*SUM(AQ38:AQ44)+SUM(AR38:AR44)-AR45)/60)","v":0},{"$f":"INT(60*SUM(AQ38:AQ44)+SUM(AR38:AR44)-60*INT((60*SUM(AQ38:AQ44)+SUM(AR38:AR44))/60))","v":0},{"$f":"INT((60*SUM(AS38:AS44)+SUM(AT38:AT44)-AT45)/60)","v":0},{"$f":"INT(60*SUM(AS38:AS44)+SUM(AT38:AT44)-60*INT((60*SUM(AS38:AS44)+SUM(AT38:AT44))/60))","v":0},{"$f":"INT((60*SUM(AU38:AU44)+SUM(AV38:AV44)-AV45)/60)","v":0},{"$f":"INT(60*SUM(AU38:AU44)+SUM(AV38:AV44)-60*INT((60*SUM(AU38:AU44)+SUM(AV38:AV44))/60))","v":0},{"$f":"INT((60*SUM(AW38:AW44)+SUM(AX38:AX44)-AX45)/60)","v":0},{"$f":"INT(60*SUM(AW38:AW44)+SUM(AX38:AX44)-60*INT((60*SUM(AW38:AW44)+SUM(AX38:AX44))/60))","v":0},{"$f":"INT((60*SUM(AY38:AY44)+SUM(AZ38:AZ44)-AZ45)/60)","v":0},{"$f":"INT(60*SUM(AY38:AY44)+SUM(AZ38:AZ44)-60*INT((60*SUM(AY38:AY44)+SUM(AZ38:AZ44))/60))","v":0},{"$f":"INT((60*SUM(BA38:BA44)+SUM(BB38:BB44)-BB45)/60)","v":0},{"$f":"INT(60*SUM(BA38:BA44)+SUM(BB38:BB44)-60*INT((60*SUM(BA38:BA44)+SUM(BB38:BB44))/60))","v":0},{"$f":"INT((60*SUM(BC38:BC44)+SUM(BD38:BD44)-BD45)/60)","v":0},{"$f":"INT(60*SUM(BC38:BC44)+SUM(BD38:BD44)-60*INT((60*SUM(BC38:BC44)+SUM(BD38:BD44))/60))","v":0},{"$f":"INT((60*SUM(BE38:BE44)+SUM(BF38:BF44)-BF45)/60)","v":0},{"$f":"INT(60*SUM(BE38:BE44)+SUM(BF38:BF44)-60*INT((60*SUM(BE38:BE44)+SUM(BF38:BF44))/60))","v":0},{"$f":"INT((60*SUM(BG38:BG44)+SUM(BH38:BH44)-BH45)/60)","v":0},{"$f":"INT(60*SUM(BG38:BG44)+SUM(BH38:BH44)-60*INT((60*SUM(BG38:BG44)+SUM(BH38:BH44))/60))","v":0}]
[]
[{"$f":"Einstellungen!$L$30","v":"ab 6 Std. Arbeitszeit: Dauer min."},null,null,null,null,{"$f":"Einstellungen!$Q$30","v":"30 Min"},{"$f":"IF(AND(E11>0,I47<>\"\",U47<>\"f\"),F11,0)","v":1},{"$f":"IF(AND(I47<>\"\",U47<>\"f\"),1,0)","v":1},{"$f":"IF(I44<>\"\",IF(MONTH(I44)=MONTH(I44+1),I44+1,\"\"),\"\")","v":"2026-11-30"},"Mo",null,null,null,null,{"$f":"HOUR(N47-K47-(M47-L47))","v":0},{"$f":"MINUTE(N47-K47-(M47-L47))","v":0},null,null,null,null,null,{"$f":"IF(OR(U47=\"U\",U47=\"k\",U47=\"B\"),$C$11,IF(S47>P47,O47-1-R47,O47-R47))","v":0},{"$f":"IF(OR(U47=\"U\",U47=\"k\",U47=\"B\"),$D$11,IF(S47>P47,P47+60-S47,P47-S47))","v":0},{"$f":"IF(OR(U47=\"U\",U47=\"K\",U47=\"B\"),0,V47)","v":0},{"$f":"IF(OR(U47=\"U\",U47=\"K\",U47=\"B\"),0,W47)","v":0},{"$f":"INT(((SUM(AB47,AH47,AK47,AN47,AQ47,AS47,AU47,AW47,AY47,BA47,BC47,BE47,BG47)*100)+(SUM(AC47,AI47,AL47,AO47,AR47,AT47,AV47,AX47,AZ47,BB47,BD47,BF47,BH47)/60*100))/100)","v":0},{"$f":"MOD(((SUM(AC47,AI47,AL47,AO47,AR47,AT47,AV47,AX47,AZ47,BB47,BD47,BF47,BH47)*100)+(SUM(AC47,AI47,AL47,AO47,AR47,AT47,AV47,AX47,AZ47,BB47,BD47,BF47,BH47)/60*100))/100,1)*60","v":0},null,null,{"$f":"INT(((SUM(AH47,AK47,AN47)*100)+SUM(AI47,AL47,AO47)/60*100)/100)","v":0},{"$f":"MOD(((SUM(AI47,AL47,AO47)*100)+(SUM(AI47,AL47,AO47)/60*100))/100,1)*60","v":0},{"$f":"INT(((SUM(AQ47+AS47+AU47+AW47+AY47+BA47+BC47+BE47+BG47)*100)+SUM(AR47+AT47+AV47+AX47+AZ47+BB47+BD47+BF47+BH47)/60*100)/100)","v":0},{"$f":"MOD(((SUM(AR47+AT47+AV47+AX47+AZ47+BB47+BD47+BF47+BH47)*100)+(SUM(AR47+AT47+AV47+AX47+AZ47+BB47+BD47+BF47+BH47)/60*100))/100,1)*60","v":0},null,null,"",null,null,"",null,null,""]
[{"$f":"Einstellungen!$L$31","v":"ab 9 Std. (exklusiv Beamte) min."},null,null,null,null,{"$f":"Einstellungen!$Q$31","v":"45 Min"},{"$f":"IF(AND(E12>0,I48<>\"\",U48<>\"f\"),F12,0)","v":0},{"$f":"IF(AND(I48<>\"\",U48<>\"f\"),1,0)","v":0},{"$f":"IF(I47<>\"\",IF(MONTH(I47)=MONTH(I47+1),I47+1,\"\"),\"\")","v":""},"Di",null,null,null,null,0,0,null,null,null,null,null,{"$f":"IF(OR(U48=\"U\",U48=\"k\",U48=\"B\"),$C$12,IF(S48>P48,O48-1-R48,O48-R48))","v":0},{"$f":"IF(OR(U48=\"U\",U48=\"k\",U48=\"B\"),$D$12,IF(S48>P48,P48+60-S48,P48-S48))","v":0},0,0,0,0,null,null,0,0,0,0,null,null,"",null,null,"",null,null,""]
[{"$f":"Einstellungen!$L$32","v":""},null," ",{"$f":"Einstellungen!$O$32","v":"max."},null,{"$f":"Einstellungen!$Q$32","v":"120 Min"},{"$f":"IF(AND(E13>0,I49<>\"\",U49<>\"f\"),F13,0)","v":0},{"$f":"IF(AND(I49<>\"\",U49<>\"f\"),1,0)","v":0},{"$f":"IF(I48<>\"\",IF(MONTH(I48)=MONTH(I48+1),I48+1,\"\"),\"\")","v":""},"Mi",null,null,null,null,0,0,null,null,null,null,null,{"$f":"IF(OR(U49=\"U\",U49=\"k\",U49=\"B\"),$C$13,IF(S49>P49,O49-1-R49,O49-R49))","v":0},{"$f":"IF(OR(U49=\"U\",U49=\"k\",U49=\"B\"),$D$13,IF(S49>P49,P49+60-S49,P49-S49))","v":0},0,0,0,0,null,null,0,0,0,0,null,null,"",null,null,"",null,null,""]
[{"$f":"Einstellungen!$L$33","v":"tägliche Arbeitszeit  "},null,null,null,null,{"$f":"Einstellungen!$Q$33","v":" 10 Std"},{"$f":"IF(AND(E14>0,I50<>\"\",U50<>\"f\"),F14,0)","v":0},{"$f":"IF(AND(I50<>\"\",U50<>\"f\"),1,0)","v":0},"","Do",null,null,null,null,0,0,null,null,null,null,null,{"$f":"IF(OR(U50=\"U\",U50=\"k\",U50=\"B\"),$C$14,IF(S50>P50,O50-1-R50,O50-R50))","v":0},{"$f":"IF(OR(U50=\"U\",U50=\"k\",U50=\"B\"),$D$14,IF(S50>P50,P50+60-S50,P50-S50))","v":0},0,0,0,0,null,null,0,0,0,0,null,null,"",null,null,"",null,null,""]
[{"$f":"Einstellungen!$L$34","v":"*) beachte § 5 der Dienstvereinbarung vom 17.04.2024 über die Arbeitszeit der Beschäftigten der Universität Hohenheim"},null,null,null,null,null,{"$f":"IF(AND(E15>0,I51<>\"\",U51<>\"f\"),F15,0)","v":0},{"$f":"IF(AND(I51<>\"\",U51<>\"f\"),1,0)","v":0},"","Fr",null,null,null,null,0,0,null,null,null,null,null,{"$f":"IF(OR(U51=\"U\",U51=\"k\",U51=\"B\"),$C$15,IF(S51>P51,O51-1-R51,O51-R51))","v":0},{"$f":"IF(OR(U51=\"U\",U51=\"k\",U51=\"B\"),$D$15,IF(S51>P51,P51+60-S51,P51-S51))","v":0},0,0,0,0,null,null,0,0,0,0,null,null,"",null,null,"",null,null,""]
[null,null,null,null,null,null,null,null,"","Sa",null,null,null,null,0,0,null,null,null,"nur dienstl. Sonderfälle!*",null,{"$f":"IF(S52>P52,O52-1-R52,O52-R52)","v":0},{"$f":"IF(S52>P52,P52+60-S52,P52-S52)","v":0},0,0,0,0,null,null,0,0,0,0,null,null,"",null,null,"",null,null,""]
[null,null,null,null,null,null,null,null,"","So",null,null,null,null,0,0,null,null,null,"nur dienstl. Sonderfälle!*",null,{"$f":"IF(S53>P53,O53-1-R53,O53-R53)","v":0},{"$f":"IF(S53>P53,P53+60-S53,P53-S53)","v":0},0,0,0,0,null,null,0,0,0,0,null,null,"",null,null,"",null,null,""]
[null,null,null,null,null,null,null,null,null,null,null,null,null,null,null,null,null,null,null,null,null,{"$f":"INT((60*SUM(V47:V53)+SUM(W47:W53)-W54)/60)","v":0},{"$f":"INT(60*SUM(V47:V53)+SUM(W47:W53)-60*INT((60*SUM(V47:V53)+SUM(W47:W53))/60))","v":0},{"$f":"INT((60*SUM(X47:X53)+SUM(Y47:Y53)-Y54)/60)","v":0},{"$f":"INT(60*SUM(X47:X53)+SUM(Y47:Y53)-60*INT((60*SUM(X47:X53)+SUM(Y47:Y53))/60))","v":0},{"$f":"INT((60*SUM(Z47:Z53)+SUM(AA47:AA53)-AA54)/60)","v":0},{"$f":"INT(60*SUM(Z47:Z53)+SUM(AA47:AA53)-60*INT((60*SUM(Z47:Z53)+SUM(AA47:AA53))/60))","v":0},{"$f":"INT((60*SUM(AB47:AB53)+SUM(AC47:AC53)-AC54)/60)","v":0},{"$f":"INT(60*SUM(AB47:AB53)+SUM(AC47:AC53)-60*INT((60*SUM(AB47:AB53)+SUM(AC47:AC53))/60))","v":0},{"$f":"INT((60*SUM(AD47:AD53)+SUM(AE47:AE53)-AE54)/60)","v":0},{"$f":"INT(60*SUM(AD47:AD53)+SUM(AE47:AE53)-60*INT((60*SUM(AD47:AD53)+SUM(AE47:AE53))/60))","v":0},{"$f":"INT((60*SUM(AF47:AF53)+SUM(AG47:AG53)-AG54)/60)","v":0},{"$f":"INT(60*SUM(AF47:AF53)+SUM(AG47:AG53)-60*INT((60*SUM(AF47:AF53)+SUM(AG47:AG53))/60))","v":0},{"$f":"INT((60*SUM(AH47:AH53)+SUM(AI47:AI53)-AI54)/60)","v":0},{"$f":"INT(60*SUM(AH47:AH53)+SUM(AI47:AI53)-60*INT((60*SUM(AH47:AH53)+SUM(AI47:AI53))/60))","v":0},null,{"$f":"INT((60*SUM(AK47:AK53)+SUM(AL47:AL53)-AL54)/60)","v":0},{"$f":"INT(60*SUM(AK47:AK53)+SUM(AL47:AL53)-60*INT((60*SUM(AK47:AK53)+SUM(AL47:AL53))/60))","v":0},null,{"$f":"INT((60*SUM(AN47:AN53)+SUM(AO47:AO53)-AO54)/60)","v":0},{"$f":"INT(60*SUM(AN47:AN53)+SUM(AO47:AO53)-60*INT((60*SUM(AN47:AN53)+SUM(AO47:AO53))/60))","v":0},null,{"$f":"INT((60*SUM(AQ47:AQ53)+SUM(AR47:AR53)-AR54)/60)","v":0},{"$f":"INT(60*SUM(AQ47:AQ53)+SUM(AR47:AR53)-60*INT((60*SUM(AQ47:AQ53)+SUM(AR47:AR53))/60))","v":0},{"$f":"INT((60*SUM(AS47:AS53)+SUM(AT47:AT53)-AT54)/60)","v":0},{"$f":"INT(60*SUM(AS47:AS53)+SUM(AT47:AT53)-60*INT((60*SUM(AS47:AS53)+SUM(AT47:AT53))/60))","v":0},{"$f":"INT((60*SUM(AU47:AU53)+SUM(AV47:AV53)-AV54)/60)","v":0},{"$f":"INT(60*SUM(AU47:AU53)+SUM(AV47:AV53)-60*INT((60*SUM(AU47:AU53)+SUM(AV47:AV53))/60))","v":0},{"$f":"INT((60*SUM(AW47:AW53)+SUM(AX47:AX53)-AX54)/60)","v":0},{"$f":"INT(60*SUM(AW47:AW53)+SUM(AX47:AX53)-60*INT((60*SUM(AW47:AW53)+SUM(AX47:AX53))/60))","v":0},{"$f":"INT((60*SUM(AY47:AY53)+SUM(AZ47:AZ53)-AZ54)/60)","v":0},{"$f":"INT(60*SUM(AY47:AY53)+SUM(AZ47:AZ53)-60*INT((60*SUM(AY47:AY53)+SUM(AZ47:AZ53))/60))","v":0},{"$f":"INT((60*SUM(BA47:BA53)+SUM(BB47:BB53)-BB54)/60)","v":0},{"$f":"INT(60*SUM(BA47:BA53)+SUM(BB47:BB53)-60*INT((60*SUM(BA47:BA53)+SUM(BB47:BB53))/60))","v":0},{"$f":"INT((60*SUM(BC47:BC53)+SUM(BD47:BD53)-BD54)/60)","v":0},{"$f":"INT(60*SUM(BC47:BC53)+SUM(BD47:BD53)-60*INT((60*SUM(BC47:BC53)+SUM(BD47:BD53))/60))","v":0},{"$f":"INT((60*SUM(BE47:BE53)+SUM(BF47:BF53)-BF54)/60)","v":0},{"$f":"INT(60*SUM(BE47:BE53)+SUM(BF47:BF53)-60*INT((60*SUM(BE47:BE53)+SUM(BF47:BF53))/60))","v":0},{"$f":"INT((60*SUM(BG47:BG53)+SUM(BH47:BH53)-BH54)/60)","v":0},{"$f":"INT(60*SUM(BG47:BG53)+SUM(BH47:BH53)-60*INT((60*SUM(BG47:BG53)+SUM(BH47:BH53))/60))","v":0}]
[null,null,null,null,null,null,{"$f":"SUM(G5:G53)","v":21},{"$f":"SUM(H5:H53)","v":21},"November",null,null,null,null,null,null,{"$f":"Einstellungen!A1","v":2026},null,null,null,null,null,null,null,"Summe:",null,"Summe:",null,"Summe:",null,"Summe:",null,"Summe:",null,{"$f":"INT(((SUM(AH9,AH18,AH27,AH36,AH45,AH54)*100)+(SUM(AI9,AI18,AI27,AI36,AI45,AI54)/60*100))/100)","v":0},{"$f":"MOD(((SUM(AH9,AH18,AH27,AH36,AH45,AH54)*100)+(SUM(AI9,AI18,AI27,AI36,AI45,AI54)/60*100))/100,1)*60","v":0},null,{"$f":"INT(((SUM(AK9,AK18,AK27,AK36,AK45,AK54)*100)+(SUM(AL9,AL18,AL27,AL36,AL45,AL54)/60*100))/100)","v":0},{"$f":"MOD(((SUM(AK9,AK18,AK27,AK36,AK45,AK54)*100)+(SUM(AL9,AL18,AL27,AL36,AL45,AL54)/60*100))/100,1)*60","v":0},null,{"$f":"INT(((SUM(AN9,AN18,AN27,AN36,AN45,AN54)*100)+(SUM(AO9,AO18,AO27,AO36,AO45,AO54)/60*100))/100)","v":0},{"$f":"MOD(((SUM(AN9,AN18,AN27,AN36,AN45,AN54)*100)+(SUM(AO9,AO18,AO27,AO36,AO45,AO54)/60*100))/100,1)*60","v":0},null,{"$f":"INT(((SUM(AQ9,AQ18,AQ27,AQ36,AQ45,AQ54)*100)+(SUM(AR9,AR18,AR27,AR36,AR45,AR54)/60*100))/100)","v":0},{"$f":"MOD(((SUM(AQ9,AQ18,AQ27,AQ36,AQ45,AQ54)*100)+(SUM(AR9,AR18,AR27,AR36,AR45,AR54)/60*100))/100,1)*60","v":0},{"$f":"INT(((SUM(AS9,AS18,AS27,AS36,AS45,AS54)*100)+(SUM(AT9,AT18,AT27,AT36,AT45,AT54)/60*100))/100)","v":0},{"$f":"MOD(((SUM(AS9,AS18,AS27,AS36,AS45,AS54)*100)+(SUM(AT9,AT18,AT27,AT36,AT45,AT54)/60*100))/100,1)*60","v":0},{"$f":"INT(((SUM(AU9,AU18,AU27,AU36,AU45,AU54)*100)+(SUM(AV9,AV18,AV27,AV36,AV45,AV54)/60*100))/100)","v":0},{"$f":"MOD(((SUM(AU9,AU18,AU27,AU36,AU45,AU54)*100)+(SUM(AV9,AV18,AV27,AV36,AV45,AV54)/60*100))/100,1)*60","v":0},{"$f":"INT(((SUM(AW9,AW18,AW27,AW36,AW45,AW54)*100)+(SUM(AX9,AX18,AX27,AX36,AX45,AX54)/60*100))/100)","v":0},{"$f":"MOD(((SUM(AW9,AW18,AW27,AW36,AW45,AW54)*100)+(SUM(AX9,AX18,AX27,AX36,AX45,AX54)/60*100))/100,1)*60","v":0},{"$f":"INT(((SUM(AY9,AY18,AY27,AY36,AY45,AY54)*100)+(SUM(AZ9,AZ18,AZ27,AZ36,AZ45,AZ54)/60*100))/100)","v":0},{"$f":"MOD(((SUM(AY9,AY18,AY27,AY36,AY45,AY54)*100)+(SUM(AZ9,AZ18,AZ27,AZ36,AZ45,AZ54)/60*100))/100,1)*60","v":0},{"$f":"INT(((SUM(BA9,BA18,BA27,BA36,BA45,BA54)*100)+(SUM(BB9,BB18,BB27,BB36,BB45,BB54)/60*100))/100)","v":0},{"$f":"MOD(((SUM(BA9,BA18,BA27,BA36,BA45,BA54)*100)+(SUM(BB9,BB18,BB27,BB36,BB45,BB54)/60*100))/100,1)*60","v":0},{"$f":"INT(((SUM(BC9,BC18,BC27,BC36,BC45,BC54)*100)+(SUM(BD9,BD18,BD27,BD36,BD45,BD54)/60*100))/100)","v":0},{"$f":"MOD(((SUM(BC9,BC18,BC27,BC36,BC45,BC54)*100)+(SUM(BD9,BD18,BD27,BD36,BD45,BD54)/60*100))/100,1)*60","v":0},{"$f":"INT(((SUM(BE9,BE18,BE27,BE36,BE45,BE54)*100)+(SUM(BF9,BF18,BF27,BF36,BF45,BF54)/60*100))/100)","v":0},{"$f":"MOD(((SUM(BE9,BE18,BE27,BE36,BE45,BE54)*100)+(SUM(BF9,BF18,BF27,BF36,BF45,BF54)/60*100))/100,1)*60","v":0},{"$f":"INT(((SUM(BG9,BG18,BG27,BG36,BG45,BG54)*100)+(SUM(BH9,BH18,BH27,BH36,BH45,BH54)/60*100))/100)","v":0},{"$f":"MOD(((SUM(BG9,BG18,BG27,BG36,BG45,BG54)*100)+(SUM(BH9,BH18,BH27,BH36,BH45,BH54)/60*100))/100,1)*60","v":0}]
[null,null,null,null,null,null,null,null,"Abrechnungsmonat",null,null,null,null,null,null,"Jahr",null,null,null,"Monatsarbeitszeit IST",null,{"$f":"INT((60*SUM(V54,V45,V36,V27,V18,V9)+SUM(W54,W45,W36,W27,W18,W9)-W56)/60)","v":0},{"$f":"INT(60*SUM(V54,V45,V36,V27,V18,V9)+SUM(W54,W45,W36,W27,W18,W9)-60*INT((60*SUM(V54,V45,V36,V27,V18,V9)+SUM(W54,W45,W36,W27,W18,W9))/60))","v":0},{"$f":"INT((60*SUM(X54,X45,X36,X27,X18,X9)+SUM(Y54,Y45,Y36,Y27,Y18,Y9)-Y56)/60)","v":0},{"$f":"INT(60*SUM(X54,X45,X36,X27,X18,X9)+SUM(Y54,Y45,Y36,Y27,Y18,Y9)-60*INT((60*SUM(X54,X45,X36,X27,X18,X9)+SUM(Y54,Y45,Y36,Y27,Y18,Y9))/60))","v":0},{"$f":"INT((60*SUM(Z54,Z45,Z36,Z27,Z18,Z9)+SUM(AA54,AA45,AA36,AA27,AA18,AA9)-AA56)/60)","v":0},{"$f":"INT(60*SUM(Z54,Z45,Z36,Z27,Z18,Z9)+SUM(AA54,AA45,AA36,AA27,AA18,AA9)-60*INT((60*SUM(Z54,Z45,Z36,Z27,Z18,Z9)+SUM(AA54,AA45,AA36,AA27,AA18,AA9))/60))","v":0},{"$f":"INT((60*SUM(AB54,AB45,AB36,AB27,AB18,AB9)+SUM(AC54,AC45,AC36,AC27,AC18,AC9)-AC56)/60)","v":0},{"$f":"INT(60*SUM(AB54,AB45,AB36,AB27,AB18,AB9)+SUM(AC54,AC45,AC36,AC27,AC18,AC9)-60*INT((60*SUM(AB54,AB45,AB36,AB27,AB18,AB9)+SUM(AC54,AC45,AC36,AC27,AC18,AC9))/60))","v":0},{"$f":"INT((60*SUM(AD54,AD45,AD36,AD27,AD18,AD9)+SUM(AE54,AE45,AE36,AE27,AE18,AE9)-AE56)/60)","v":0},{"$f":"INT(60*SUM(AD54,AD45,AD36,AD27,AD18,AD9)+SUM(AE54,AE45,AE36,AE27,AE18,AE9)-60*INT((60*SUM(AD54,AD45,AD36,AD27,AD18,AD9)+SUM(AE54,AE45,AE36,AE27,AE18,AE9))/60))","v":0},{"$f":"INT((60*SUM(AF54,AF45,AF36,AF27,AF18,AF9)+SUM(AG54,AG45,AG36,AG27,AG18,AG9)-AG56)/60)","v":0},{"$f":"INT(60*SUM(AF54,AF45,AF36,AF27,AF18,AF9)+SUM(AG54,AG45,AG36,AG27,AG18,AG9)-60*INT((60*SUM(AF54,AF45,AF36,AF27,AF18,AF9)+SUM(AG54,AG45,AG36,AG27,AG18,AG9))/60))","v":0}]
[null,null,null,null,null,null,null,null,{"$f":"Einstellungen!K23","v":"Franziska von Hohenheim"},null,null,null,null,null,null,null,null,null,null,"Übertrag aus Vormonat (+/-)",{"$f":"IF(V57*W57<0,\"!\",\"\")","v":""},{"$f":"ROUND(Okt!V60,0)","v":-1651},{"$f":"ROUND(Okt!W60,0)","v":-6}]
[null,null,null,null,null,null,null,null,"Name, Vorname",null,null,null,null,null,null,null,"Datum",null,null,"Summe",null,{"$f":"ROUND(SIGN(V56+V57+(W56+W57)/60)*ROUNDDOWN(ABS(V56+V57+(W56+W57)/60),0),0)","v":-1651},{"$f":"ROUND(SIGN(V56+V57+(W56+W57)/60)*(ABS(V56+V57+(W56+W57)/60)-ABS(V58))*60,0)","v":-6}]
[null,null,null,null,null,null,null,null,{"$f":"Einstellungen!$K$25","v":"630"},null,{"$f":"Einstellungen!K24","v":"KIM"},null,null,null,null,null,null,null,null,"Monatsarbeitszeit SOLL",null,{"$f":"SUM(Einstellungen!B13)","v":165},{"$f":"SUM(Einstellungen!C13)","v":54}]
[null,null,null,null,null,null,null,null,"Einr.-Nr.",null,"Abt. / FG",null,null,null,null,null,"Name Leiter/in",null,null,"Zeitübertrag auf Folgemonat",{"$f":"IF(V60*W60<0,\"!\",\"\")","v":""},{"$f":"ROUND(SIGN(V58-V59+(W58-W59)/60)*ROUNDDOWN(ABS(V58-V59+(W58-W59)/60),0),0)","v":-1817},{"$f":"ROUND(SIGN(V58-V59+(W58-W59)/60)*(ABS(V58-V59+(W58-W59)/60)-ABS(V60))*60,0)","v":0}]
[]
[null,null,null,null,null,null,null,null,null,null,null,null,null,null,null,null,null,null,null,"Summe Urlaubstage",null,{"$f":"SUMPRODUCT((U5:U6=\"U\")*(E14:E15>0))+SUMPRODUCT((U11:U15=\"U\")*(E11:E15>0))+SUMPRODUCT((U20:U24=\"U\")*(E11:E15>0))+SUMPRODUCT((U29:U33=\"U\")*(E11:E15>0))+SUMPRODUCT((U38:U42=\"U\")*(E11:E15>0))+SUMPRODUCT((U47:U51=\"U\")*(E11:E15>0))","v":0}]
[null,null,null,null,null,null,null,null,"Datum",null,"Unterschrift Mitarbeiter/in",null,null,null,null,null,"Unterschrift Leiter/in",null,null,"alter / neuer Übertrag",null,{"$f":"IF(SUM(Einstellungen!K27:K30)>0,Okt!W63,\"--- \")","v":30},{"$f":"IF(SUM(Einstellungen!K27:K30)>0,V63-V62,\"--- \")","v":30}]

{"sheet":"Dez","index":11,"n_rows":63,"n_cols":60,"rows_kept":63,"cut":false,"hidden":true,"merged":[[0,31,0,32],[0,23,0,24],[0,25,0,26],[0,27,0,28],[0,29,0,30],[1,23,1,24],[1,25,1,26],[37,0,37,1],[38,0,38,2],[2,23,2,24],[2,25,2,26],[28,0,28,1],[29,0,29,1],[30,0,30,2],[35,0,35,1],[7,0,7,3],[39,0,39,1],[46,0,46,3],[47,0,47,3],[49,0,49,3],[54,23,54,24],[50,0,52,5],[40,3,40,5],[41,3,41,5],[44,3,44,5],[61,21,61,22],[63,25,63,26],[54,27,54,28],[54,29,54,30],[54,31,54,32],[54,25,54,26],[0,42,2,43],[0,44,2,45],[0,46,2,47],[0,33,2,35],[0,36,2,38],[0,39,2,41],[0,58,2,59],[0,48,2,49],[0,50,2,51],[0,52,2,53],[0,54,2,55],[0,56,2,57]]}
[{"$f":"Einstellungen!A27","v":"Universität Hohenheim KIM © 2026"},null,null,null,null,null,null,null,"Datum",null,"Arbeits-",null,null,"Arbeits-","Arb.Zeit ohne",null,"Sonstige Unterbrechungen",null,null,"Erläuterungen, Hinweise,","U,K","Reine Arb.-",null,"Productive",null,"Productive",null,"Sonstiges",null,"Summe ",null,"Summe",null,{"$f":"Projektdaten!D4","v":"EU Projekt 1"},null,null,{"$f":"Projektdaten!D6","v":"EU Projekt 2"},null,null,{"$f":"Projektdaten!D8","v":"EU Projekt 3"},null,null,{"$f":"Projektdaten!D13","v":"Projekt 1"},null,{"$f":"Projektdaten!D15","v":"Projekt 2"},null,{"$f":"Projektdaten!D17","v":"Projekt 3"},null,{"$f":"Projektdaten!D19","v":"Projekt 4"},null,{"$f":"Projektdaten!D21","v":"Projekt 5"},null,{"$f":"Projektdaten!D23","v":"Projekt 6"},null,{"$f":"Projektdaten!D25","v":"Projekt 7"},null,{"$f":"Projektdaten!D27","v":"Projekt 8"},null,{"$f":"Projektdaten!D29","v":"Projekt 9"}]
["Arbeitszeitblatt",null,null,{"$f":"Einstellungen!A28","v":"Version 5.12"},null,null,null,null,"Tag","Wo-","beginn","Mittagspause",null,"ende","Mittagspause",null,"von - bis","Gesamtdauer",null,"Vermerke, z.B. Dienstreise","F,X","Zeit","IST","Hours",null,"Hours",null,null,null,"EU-",null,"andere"]
[null,null,null,null,null,null,null,null,null,"tag",null,"von","bis",null,"Std.","Min.",null,"Std.","Min.","  - non eligible -","A,B","Std.","Min.","i.S.d. EU",null,"verteilt",null,null," ","Projekte",null,"Projekte"]
[null,null,null,null,null,null,null,null,null,null,null,null,null,null,null,null,null,null,null,null,null,null,null,"Std.","Min.","Std.","Min.","Std.","Min.","Std.","Min.","Std.","Min.","Std.","Min.","Geleistete Arbeitspakete nach Annex 1","Std.","Min.","Geleistete Arbeitspakete nach Annex 1","Std.","Min.","Geleistete Arbeitspakete nach Annex 1","Std.","Min.","Std.","Min.","Std.","Min.","Std.","Min.","Std.","Min.","Std.","Min.","Std.","Min.","Std.","Min.","Std.","Min."]
[null,null,null,null,null,"U",{"$f":"IF(AND(E14>0,I5<>\"\",U5<>\"f\"),1,0)","v":0},{"$f":"IF(AND(I5<>\"\",U5<>\"f\"),1,0)","v":0},{"$f":"IF(CHOOSE(WEEKDAY(Einstellungen!$A$14,2),\"Mo\",\"Di\",\"Mi\",\"Do\",\"Fr\",\"Sa\",\"So\")=J5,Einstellungen!$A$14,\"\")","v":""},"Do",null,null,null,null,{"$f":"HOUR(N5-K5-(M5-L5))","v":0},{"$f":"MINUTE(N5-K5-(M5-L5))","v":0},null,null,null,null,null,{"$f":"IF(OR(U5=\"U\",U5=\"k\",U5=\"B\"),$C$14,IF(S5>P5,O5-1-R5,O5-R5))","v":0},{"$f":"IF(OR(U5=\"U\",U5=\"k\",U5=\"B\"),$D$14,IF(S5>P5,P5+60-S5,P5-S5))","v":0},{"$f":"IF(OR(U5=\"U\",U5=\"K\",U5=\"B\"),0,V5)","v":0},{"$f":"IF(OR(U5=\"U\",U5=\"K\",U5=\"B\"),0,W5)","v":0},{"$f":"INT(((SUM(AB5,AH5,AK5,AN5,AQ5,AS5,AU5,AW5,AY5,BA5,BC5,BE5,BG5)*100)+(SUM(AC5,AI5,AL5,AO5,AR5,AT5,AV5,AX5,AZ5,BB5,BD5,BF5,BH5)/60*100))/100)","v":0},{"$f":"MOD(((SUM(AC5,AI5,AL5,AO5,AR5,AT5,AV5,AX5,AZ5,BB5,BD5,BF5,BH5)*100)+(SUM(AC5,AI5,AL5,AO5,AR5,AT5,AV5,AX5,AZ5,BB5,BD5,BF5,BH5)/60*100))/100,1)*60","v":0},null,null,{"$f":"INT(((SUM(AH5,AK5,AN5)*100)+SUM(AI5,AL5,AO5)/60*100)/100)","v":0},{"$f":"MOD(((SUM(AI5,AL5,AO5)*100)+(SUM(AI5,AL5,AO5)/60*100))/100,1)*60","v":0},{"$f":"INT(((SUM(AQ5+AS5+AU5+AW5+AY5+BA5+BC5+BE5+BG5)*100)+SUM(AR5+AT5+AV5+AX5+AZ5+BB5+BD5+BF5+BH5)/60*100)/100)","v":0},{"$f":"MOD(((SUM(AR5+AT5+AV5+AX5+AZ5+BB5+BD5+BF5+BH5)*100)+(SUM(AR5+AT5+AV5+AX5+AZ5+BB5+BD5+BF5+BH5)/60*100))/100,1)*60","v":0},null,null,"",null,null,"",null,null,""]
[null,null,null,null,null,"K",{"$f":"IF(AND(E15>0,I6<>\"\",U6<>\"f\"),F14,0)","v":0},{"$f":"IF(AND(I6<>\"\",U6<>\"f\"),1,0)","v":0},{"$f":"IF(I5<>\"\",I5+1,IF(CHOOSE(WEEKDAY(Einstellungen!$A$14,2),\"Mo\",\"Di\",\"Mi\",\"Do\",\"Fr\",\"Sa\",\"So\")=J6,Einstellungen!$A$14,\"\"))","v":""},"Fr",null,null,null,null,{"$f":"HOUR(N6-K6-(M6-L6))","v":0},{"$f":"MINUTE(N6-K6-(M6-L6))","v":0},null,null,null,null,null,{"$f":"IF(OR(U6=\"U\",U6=\"k\",U6=\"B\"),$C$15,IF(S6>P6,O6-1-R6,O6-R6))","v":0},{"$f":"IF(OR(U6=\"U\",U6=\"k\",U6=\"B\"),$D$15,IF(S6>P6,P6+60-S6,P6-S6))","v":0},{"$f":"IF(OR(U6=\"U\",U6=\"K\",U6=\"B\"),0,V6)","v":0},{"$f":"IF(OR(U6=\"U\",U6=\"K\",U6=\"B\"),0,W6)","v":0},{"$f":"INT(((SUM(AB6,AH6,AK6,AN6,AQ6,AS6,AU6,AW6,AY6,BA6,BC6,BE6,BG6)*100)+(SUM(AC6,AI6,AL6,AO6,AR6,AT6,AV6,AX6,AZ6,BB6,BD6,BF6,BH6)/60*100))/100)","v":0},{"$f":"MOD(((SUM(AC6,AI6,AL6,AO6,AR6,AT6,AV6,AX6,AZ6,BB6,BD6,BF6,BH6)*100)+(SUM(AC6,AI6,AL6,AO6,AR6,AT6,AV6,AX6,AZ6,BB6,BD6,BF6,BH6)/60*100))/100,1)*60","v":0},null,null,{"$f":"INT(((SUM(AH6,AK6,AN6)*100)+SUM(AI6,AL6,AO6)/60*100)/100)","v":0},{"$f":"MOD(((SUM(AI6,AL6,AO6)*100)+(SUM(AI6,AL6,AO6)/60*100))/100,1)*60","v":0},{"$f":"INT(((SUM(AQ6+AS6+AU6+AW6+AY6+BA6+BC6+BE6+BG6)*100)+SUM(AR6+AT6+AV6+AX6+AZ6+BB6+BD6+BF6+BH6)/60*100)/100)","v":0},{"$f":"MOD(((SUM(AR6+AT6+AV6+AX6+AZ6+BB6+BD6+BF6+BH6)*100)+(SUM(AR6+AT6+AV6+AX6+AZ6+BB6+BD6+BF6+BH6)/60*100))/100,1)*60","v":0},null,null,"",null,null,"",null,null,""]
[null,null,null,null,null,"A",{"$f":"IF(AND(E16>0,I7<>\"\",U7<>\"f\"),F15,0)","v":0},null,{"$f":"IF(I6<>\"\",I6+1,IF(CHOOSE(WEEKDAY(Einstellungen!$A$14,2),\"Mo\",\"Di\",\"Mi\",\"Do\",\"Fr\",\"Sa\",\"So\")=J7,Einstellungen!$A$14,\"\"))","v":""},"Sa",null,null,null,null,{"$f":"HOUR(N7-K7-(M7-L7))","v":0},{"$f":"MINUTE(N7-K7-(M7-L7))","v":0},null,null,null,"nur dienstl. Sonderfälle!*",null,{"$f":"IF(S7>P7,O7-1-R7,O7-R7)","v":0},{"$f":"IF(S7>P7,P7+60-S7,P7-S7)","v":0},0,0,{"$f":"INT(((SUM(AB7,AH7,AK7,AN7,AQ7,AS7,AU7,AW7,AY7,BA7,BC7,BE7,BG7)*100)+(SUM(AC7,AI7,AL7,AO7,AR7,AT7,AV7,AX7,AZ7,BB7,BD7,BF7,BH7)/60*100))/100)","v":0},{"$f":"MOD(((SUM(AC7,AI7,AL7,AO7,AR7,AT7,AV7,AX7,AZ7,BB7,BD7,BF7,BH7)*100)+(SUM(AC7,AI7,AL7,AO7,AR7,AT7,AV7,AX7,AZ7,BB7,BD7,BF7,BH7)/60*100))/100,1)*60","v":0},null,null,{"$f":"INT(((SUM(AH7,AK7,AN7)*100)+SUM(AI7,AL7,AO7)/60*100)/100)","v":0},{"$f":"MOD(((SUM(AI7,AL7,AO7)*100)+(SUM(AI7,AL7,AO7)/60*100))/100,1)*60","v":0},{"$f":"INT(((SUM(AQ7+AS7+AU7+AW7+AY7+BA7+BC7+BE7+BG7)*100)+SUM(AR7+AT7+AV7+AX7+AZ7+BB7+BD7+BF7+BH7)/60*100)/100)","v":0},{"$f":"MOD(((SUM(AR7+AT7+AV7+AX7+AZ7+BB7+BD7+BF7+BH7)*100)+(SUM(AR7+AT7+AV7+AX7+AZ7+BB7+BD7+BF7+BH7)/60*100))/100,1)*60","v":0},null,null,"",null,null,"",null,null,""]
[{"$f":"IF(Einstellungen!D25>0.0005,\"Bitte Werte prüfen\",\"\")","v":""},null,null,null,null,"B",null,null,{"$f":"IF(I7<>\"\",I7+1,IF(CHOOSE(WEEKDAY(Einstellungen!$A$14,2),\"Mo\",\"Di\",\"Mi\",\"Do\",\"Fr\",\"Sa\",\"So\")=J8,Einstellungen!$A$14,\"\"))","v":""},"So",null,null,null,null,{"$f":"HOUR(N8-K8-(M8-L8))","v":0},{"$f":"MINUTE(N8-K8-(M8-L8))","v":0},null,null,null,"nur dienstl. Sonderfälle!*",null,{"$f":"IF(S8>P8,O8-1-R8,O8-R8)","v":0},{"$f":"IF(S8>P8,P8+60-S8,P8-S8)","v":0},0,0,{"$f":"INT(((SUM(AB8,AH8,AK8,AN8,AQ8,AS8,AU8,AW8,AY8,BA8,BC8,BE8,BG8)*100)+(SUM(AC8,AI8,AL8,AO8,AR8,AT8,AV8,AX8,AZ8,BB8,BD8,BF8,BH8)/60*100))/100)","v":0},{"$f":"MOD(((SUM(AC8,AI8,AL8,AO8,AR8,AT8,AV8,AX8,AZ8,BB8,BD8,BF8,BH8)*100)+(SUM(AC8,AI8,AL8,AO8,AR8,AT8,AV8,AX8,AZ8,BB8,BD8,BF8,BH8)/60*100))/100,1)*60","v":0},null,null,{"$f":"INT(((SUM(AH8,AK8,AN8)*100)+SUM(AI8,AL8,AO8)/60*100)/100)","v":0},{"$f":"MOD(((SUM(AI8,AL8,AO8)*100)+(SUM(AI8,AL8,AO8)/60*100))/100,1)*60","v":0},{"$f":"INT(((SUM(AQ8+AS8+AU8+AW8+AY8+BA8+BC8+BE8+BG8)*100)+SUM(AR8+AT8+AV8+AX8+AZ8+BB8+BD8+BF8+BH8)/60*100)/100)","v":0},{"$f":"MOD(((SUM(AR8+AT8+AV8+AX8+AZ8+BB8+BD8+BF8+BH8)*100)+(SUM(AR8+AT8+AV8+AX8+AZ8+BB8+BD8+BF8+BH8)/60*100))/100,1)*60","v":0},null,null,"",null,null,"",null,null,""]
["Meine tägl. Regelarbeitszeit:",null,null,null,null,"X",null,null,null,null,null,null,null,null,null,null,null,null,null,null,null,{"$f":"INT((60*SUM(V5:V8)+SUM(W5:W8)-W9)/60)","v":0},{"$f":"INT(60*SUM(V5:V8)+SUM(W5:W8)-60*INT((60*SUM(V5:V8)+SUM(W5:W8))/60))","v":0},{"$f":"INT((60*SUM(X5:X8)+SUM(Y5:Y8)-Y9)/60)","v":0},{"$f":"INT(60*SUM(X5:X8)+SUM(Y5:Y8)-60*INT((60*SUM(X5:X8)+SUM(Y5:Y8))/60))","v":0},{"$f":"INT((60*SUM(Z5:Z8)+SUM(AA5:AA8)-AA9)/60)","v":0},{"$f":"INT(60*SUM(Z5:Z8)+SUM(AA5:AA8)-60*INT((60*SUM(Z5:Z8)+SUM(AA5:AA8))/60))","v":0},{"$f":"INT((60*SUM(AB5:AB8)+SUM(AC5:AC8)-AC9)/60)","v":0},{"$f":"INT(60*SUM(AB5:AB8)+SUM(AC5:AC8)-60*INT((60*SUM(AB5:AB8)+SUM(AC5:AC8))/60))","v":0},{"$f":"INT((60*SUM(AD5:AD8)+SUM(AE5:AE8)-AE9)/60)","v":0},{"$f":"INT(60*SUM(AD5:AD8)+SUM(AE5:AE8)-60*INT((60*SUM(AD5:AD8)+SUM(AE5:AE8))/60))","v":0},{"$f":"INT((60*SUM(AF5:AF8)+SUM(AG5:AG8)-AG9)/60)","v":0},{"$f":"INT(60*SUM(AF5:AF8)+SUM(AG5:AG8)-60*INT((60*SUM(AF5:AF8)+SUM(AG5:AG8))/60))","v":0},{"$f":"INT((60*SUM(AH5:AH8)+SUM(AI5:AI8)-AI9)/60)","v":0},{"$f":"INT(60*SUM(AH5:AH8)+SUM(AI5:AI8)-60*INT((60*SUM(AH5:AH8)+SUM(AI5:AI8))/60))","v":0},null,{"$f":"INT((60*SUM(AK5:AK8)+SUM(AL5:AL8)-AL9)/60)","v":0},{"$f":"INT(60*SUM(AK5:AK8)+SUM(AL5:AL8)-60*INT((60*SUM(AK5:AK8)+SUM(AL5:AL8))/60))","v":0},null,{"$f":"INT((60*SUM(AN5:AN8)+SUM(AO5:AO8)-AO9)/60)","v":0},{"$f":"INT(60*SUM(AN5:AN8)+SUM(AO5:AO8)-60*INT((60*SUM(AN5:AN8)+SUM(AO5:AO8))/60))","v":0},null,{"$f":"INT((60*SUM(AQ5:AQ8)+SUM(AR5:AR8)-AR9)/60)","v":0},{"$f":"INT(60*SUM(AQ5:AQ8)+SUM(AR5:AR8)-60*INT((60*SUM(AQ5:AQ8)+SUM(AR5:AR8))/60))","v":0},{"$f":"INT((60*SUM(AS5:AS8)+SUM(AT5:AT8)-AT9)/60)","v":0},{"$f":"INT(60*SUM(AS5:AS8)+SUM(AT5:AT8)-60*INT((60*SUM(AS5:AS8)+SUM(AT5:AT8))/60))","v":0},{"$f":"INT((60*SUM(AU5:AU8)+SUM(AV5:AV8)-AV9)/60)","v":0},{"$f":"INT(60*SUM(AU5:AU8)+SUM(AV5:AV8)-60*INT((60*SUM(AU5:AU8)+SUM(AV5:AV8))/60))","v":0},{"$f":"INT((60*SUM(AW5:AW8)+SUM(AX5:AX8)-AX9)/60)","v":0},{"$f":"INT(60*SUM(AW5:AW8)+SUM(AX5:AX8)-60*INT((60*SUM(AW5:AW8)+SUM(AX5:AX8))/60))","v":0},{"$f":"INT((60*SUM(AY5:AY8)+SUM(AZ5:AZ8)-AZ9)/60)","v":0},{"$f":"INT(60*SUM(AY5:AY8)+SUM(AZ5:AZ8)-60*INT((60*SUM(AY5:AY8)+SUM(AZ5:AZ8))/60))","v":0},{"$f":"INT((60*SUM(BA5:BA8)+SUM(BB5:BB8)-BB9)/60)","v":0},{"$f":"INT(60*SUM(BA5:BA8)+SUM(BB5:BB8)-60*INT((60*SUM(BA5:BA8)+SUM(BB5:BB8))/60))","v":0},{"$f":"INT((60*SUM(BC5:BC8)+SUM(BD5:BD8)-BD9)/60)","v":0},{"$f":"INT(60*SUM(BC5:BC8)+SUM(BD5:BD8)-60*INT((60*SUM(BC5:BC8)+SUM(BD5:BD8))/60))","v":0},{"$f":"INT((60*SUM(BE5:BE8)+SUM(BF5:BF8)-BF9)/60)","v":0},{"$f":"INT(60*SUM(BE5:BE8)+SUM(BF5:BF8)-60*INT((60*SUM(BE5:BE8)+SUM(BF5:BF8))/60))","v":0},{"$f":"INT((60*SUM(BG5:BG8)+SUM(BH5:BH8)-BH9)/60)","v":0},{"$f":"INT(60*SUM(BG5:BG8)+SUM(BH5:BH8)-60*INT((60*SUM(BG5:BG8)+SUM(BH5:BH8))/60))","v":0}]
[null,null,null,null,{"$f":"5-COUNTIF(E11:E15,0)","v":5},{"$f":"(SUM(C11:C15)*60+SUM(D11:D15))/E10","v":474}]
["Mo",{"$f":"IF(E11=0,\"frei\",\"\")","v":""},{"$f":"SUM(Einstellungen!C19)","v":7},{"$f":"SUM(Einstellungen!D19)","v":54},{"$f":"C11*60+D11","v":474},{"$f":"E11/$F$10","v":1},{"$f":"IF(AND(E11>0,I11<>\"\",U11<>\"f\"),F11,0)","v":0},{"$f":"IF(AND(I11<>\"\",U11<>\"f\"),1,0)","v":0},{"$f":"IF(I8<>\"\",I8+1,IF(CHOOSE(WEEKDAY(Einstellungen!$A$14,2),\"Mo\",\"Di\",\"Mi\",\"Do\",\"Fr\",\"Sa\",\"So\")=J11,Einstellungen!$A$14,\"\"))","v":""},"Mo",null,null,null,null,{"$f":"HOUR(N11-K11-(M11-L11))","v":0},{"$f":"MINUTE(N11-K11-(M11-L11))","v":0},null,null,null,null,null,{"$f":"IF(OR(U11=\"U\",U11=\"k\",U11=\"B\"),$C$11,IF(S11>P11,O11-1-R11,O11-R11))","v":0},{"$f":"IF(OR(U11=\"U\",U11=\"k\",U11=\"B\"),$D$11,IF(S11>P11,P11+60-S11,P11-S11))","v":0},{"$f":"IF(OR(U11=\"U\",U11=\"K\",U11=\"B\"),0,V11)","v":0},{"$f":"IF(OR(U11=\"U\",U11=\"K\",U11=\"B\"),0,W11)","v":0},{"$f":"INT(((SUM(AB11,AH11,AK11,AN11,AQ11,AS11,AU11,AW11,AY11,BA11,BC11,BE11,BG11)*100)+(SUM(AC11,AI11,AL11,AO11,AR11,AT11,AV11,AX11,AZ11,BB11,BD11,BF11,BH11)/60*100))/100)","v":0},{"$f":"MOD(((SUM(AC11,AI11,AL11,AO11,AR11,AT11,AV11,AX11,AZ11,BB11,BD11,BF11,BH11)*100)+(SUM(AC11,AI11,AL11,AO11,AR11,AT11,AV11,AX11,AZ11,BB11,BD11,BF11,BH11)/60*100))/100,1)*60","v":0},null,null,{"$f":"INT(((SUM(AH11,AK11,AN11)*100)+SUM(AI11,AL11,AO11)/60*100)/100)","v":0},{"$f":"MOD(((SUM(AI11,AL11,AO11)*100)+(SUM(AI11,AL11,AO11)/60*100))/100,1)*60","v":0},{"$f":"INT(((SUM(AQ11+AS11+AU11+AW11+AY11+BA11+BC11+BE11+BG11)*100)+SUM(AR11+AT11+AV11+AX11+AZ11+BB11+BD11+BF11+BH11)/60*100)/100)","v":0},{"$f":"MOD(((SUM(AR11+AT11+AV11+AX11+AZ11+BB11+BD11+BF11+BH11)*100)+(SUM(AR11+AT11+AV11+AX11+AZ11+BB11+BD11+BF11+BH11)/60*100))/100,1)*60","v":0},null,null,"",null,null,"",null,null,""]
["Di",{"$f":"IF(E12=0,\"frei\",\"\")","v":""},{"$f":"SUM(Einstellungen!C20)","v":7},{"$f":"SUM(Einstellungen!D20)","v":54},{"$f":"C12*60+D12","v":474},{"$f":"E12/$F$10","v":1},{"$f":"IF(AND(E12>0,I12<>\"\",U12<>\"f\"),F12,0)","v":1},{"$f":"IF(AND(I12<>\"\",U12<>\"f\"),1,0)","v":1},{"$f":"IF(I11<>\"\",I11+1,IF(CHOOSE(WEEKDAY(Einstellungen!$A$14,2),\"Mo\",\"Di\",\"Mi\",\"Do\",\"Fr\",\"Sa\",\"So\")=J12,Einstellungen!$A$14,\"\"))","v":"2026-12-01"},"Di",null,null,null,null,{"$f":"HOUR(N12-K12-(M12-L12))","v":0},{"$f":"MINUTE(N12-K12-(M12-L12))","v":0},null,null,null,null,null,{"$f":"IF(OR(U12=\"U\",U12=\"k\",U12=\"B\"),$C$12,IF(S12>P12,O12-1-R12,O12-R12))","v":0},{"$f":"IF(OR(U12=\"U\",U12=\"k\",U12=\"B\"),$D$12,IF(S12>P12,P12+60-S12,P12-S12))","v":0},0,0,0,0,null,null,0,0,0,0,null,null,"",null,null,"",null,null,""]
["Mi",{"$f":"IF(E13=0,\"frei\",\"\")","v":""},{"$f":"SUM(Einstellungen!C21)","v":7},{"$f":"SUM(Einstellungen!D21)","v":54},{"$f":"C13*60+D13","v":474},{"$f":"E13/$F$10","v":1},{"$f":"IF(AND(E13>0,I13<>\"\",U13<>\"f\"),F13,0)","v":1},{"$f":"IF(AND(I13<>\"\",U13<>\"f\"),1,0)","v":1},{"$f":"IF(I12<>\"\",I12+1,IF(CHOOSE(WEEKDAY(Einstellungen!$A$14,2),\"Mo\",\"Di\",\"Mi\",\"Do\",\"Fr\",\"Sa\",\"So\")=J13,Einstellungen!$A$14,\"\"))","v":"2026-12-02"},"Mi",null,null,null,null,0,0,null,null,null,null,null,{"$f":"IF(OR(U13=\"U\",U13=\"k\",U13=\"B\"),$C$13,IF(S13>P13,O13-1-R13,O13-R13))","v":0},{"$f":"IF(OR(U13=\"U\",U13=\"k\",U13=\"B\"),$D$13,IF(S13>P13,P13+60-S13,P13-S13))","v":0},0,0,0,0,null,null,0,0,0,0,null,null,"",null,null,"",null,null,""]
["Do",{"$f":"IF(E14=0,\"frei\",\"\")","v":""},{"$f":"SUM(Einstellungen!C22)","v":7},{"$f":"SUM(Einstellungen!D22)","v":54},{"$f":"C14*60+D14","v":474},{"$f":"E14/$F$10","v":1},{"$f":"IF(AND(E14>0,I14<>\"\",U14<>\"f\"),F14,0)","v":1},{"$f":"IF(AND(I14<>\"\",U14<>\"f\"),1,0)","v":1},{"$f":"IF(I13<>\"\",I13+1,IF(CHOOSE(WEEKDAY(Einstellungen!$A$14,2),\"Mo\",\"Di\",\"Mi\",\"Do\",\"Fr\",\"Sa\",\"So\")=J14,Einstellungen!$A$14,\"\"))","v":"2026-12-03"},"Do",null,null,null,null,0,0,null,null,null,null,null,{"$f":"IF(OR(U14=\"U\",U14=\"k\",U14=\"B\"),$C$14,IF(S14>P14,O14-1-R14,O14-R14))","v":0},{"$f":"IF(OR(U14=\"U\",U14=\"k\",U14=\"B\"),$D$14,IF(S14>P14,P14+60-S14,P14-S14))","v":0},0,0,0,0,null,null,0,0,0,0,null,null,"",null,null,"",null,null,""]
["Fr",{"$f":"IF(E15=0,\"frei\",\"\")","v":""},{"$f":"SUM(Einstellungen!C23)","v":7},{"$f":"SUM(Einstellungen!D23)","v":54},{"$f":"C15*60+D15","v":474},{"$f":"E15/$F$10","v":1},{"$f":"IF(AND(E15>0,I15<>\"\",U15<>\"f\"),F15,0)","v":1},{"$f":"IF(AND(I15<>\"\",U15<>\"f\"),1,0)","v":1},{"$f":"I14+1","v":"2026-12-04"},"Fr",null,null,null,null,0,0,null,null,null,null,null,{"$f":"IF(OR(U15=\"U\",U15=\"k\",U15=\"B\"),$C$15,IF(S15>P15,O15-1-R15,O15-R15))","v":0},{"$f":"IF(OR(U15=\"U\",U15=\"k\",U15=\"B\"),$D$15,IF(S15>P15,P15+60-S15,P15-S15))","v":0},0,0,0,0,null,null,0,0,0,0,null,null,"",null,null,"",null,null,""]
[{"$f":"Einstellungen!$L$1","v":"Hinweise:"},null,null,null,null,null,null,null,{"$f":"I15+1","v":"2026-12-05"},"Sa",null,null,null,null,0,0,null,null,null,"nur dienstl. Sonderfälle!*",null,{"$f":"IF(S16>P16,O16-1-R16,O16-R16)","v":0},{"$f":"IF(S16>P16,P16+60-S16,P16-S16)","v":0},0,0,0,0,null,null,0,0,0,0,null,null,"",null,null,"",null,null,""]
[{"$f":"Einstellungen!$L$2","v":"I Beschäftigte mit 39,5 Std-Woche"},null,null,null,null,null,null,null,{"$f":"I16+1","v":"2026-12-06"},"So",null,null,null,null,0,0,null,null,null,"nur dienstl. Sonderfälle!*",null,{"$f":"IF(S17>P17,O17-1-R17,O17-R17)","v":0},{"$f":"IF(S17>P17,P17+60-S17,P17-S17)","v":0},0,0,0,0,null,null,0,0,0,0,null,null,"",null,null,"",null,null,""]
[{"$f":"Einstellungen!$L$3","v":""},null,{"$f":"Einstellungen!$N$3","v":"Beschäftigungsumfang"},null,null,null,null,null,null,null,null,null,null,null,null,null,null,null,null,null,null,{"$f":"INT((60*SUM(V11:V17)+SUM(W11:W17)-W18)/60)","v":0},{"$f":"INT(60*SUM(V11:V17)+SUM(W11:W17)-60*INT((60*SUM(V11:V17)+SUM(W11:W17))/60))","v":0},{"$f":"INT((60*SUM(X11:X17)+SUM(Y11:Y17)-Y18)/60)","v":0},{"$f":"INT(60*SUM(X11:X17)+SUM(Y11:Y17)-60*INT((60*SUM(X11:X17)+SUM(Y11:Y17))/60))","v":0},{"$f":"INT((60*SUM(Z11:Z17)+SUM(AA11:AA17)-AA18)/60)","v":0},{"$f":"INT(60*SUM(Z11:Z17)+SUM(AA11:AA17)-60*INT((60*SUM(Z11:Z17)+SUM(AA11:AA17))/60))","v":0},{"$f":"INT((60*SUM(AB11:AB17)+SUM(AC11:AC17)-AC18)/60)","v":0},{"$f":"INT(60*SUM(AB11:AB17)+SUM(AC11:AC17)-60*INT((60*SUM(AB11:AB17)+SUM(AC11:AC17))/60))","v":0},{"$f":"INT((60*SUM(AD11:AD17)+SUM(AE11:AE17)-AE18)/60)","v":0},{"$f":"INT(60*SUM(AD11:AD17)+SUM(AE11:AE17)-60*INT((60*SUM(AD11:AD17)+SUM(AE11:AE17))/60))","v":0},{"$f":"INT((60*SUM(AF11:AF17)+SUM(AG11:AG17)-AG18)/60)","v":0},{"$f":"INT(60*SUM(AF11:AF17)+SUM(AG11:AG17)-60*INT((60*SUM(AF11:AF17)+SUM(AG11:AG17))/60))","v":0},{"$f":"INT((60*SUM(AH11:AH17)+SUM(AI11:AI17)-AI18)/60)","v":0},{"$f":"INT(60*SUM(AH11:AH17)+SUM(AI11:AI17)-60*INT((60*SUM(AH11:AH17)+SUM(AI11:AI17))/60))","v":0},null,{"$f":"INT((60*SUM(AK11:AK17)+SUM(AL11:AL17)-AL18)/60)","v":0},{"$f":"INT(60*SUM(AK11:AK17)+SUM(AL11:AL17)-60*INT((60*SUM(AK11:AK17)+SUM(AL11:AL17))/60))","v":0},null,{"$f":"INT((60*SUM(AN11:AN17)+SUM(AO11:AO17)-AO18)/60)","v":0},{"$f":"INT(60*SUM(AN11:AN17)+SUM(AO11:AO17)-60*INT((60*SUM(AN11:AN17)+SUM(AO11:AO17))/60))","v":0},null,{"$f":"INT((60*SUM(AQ11:AQ17)+SUM(AR11:AR17)-AR18)/60)","v":0},{"$f":"INT(60*SUM(AQ11:AQ17)+SUM(AR11:AR17)-60*INT((60*SUM(AQ11:AQ17)+SUM(AR11:AR17))/60))","v":0},{"$f":"INT((60*SUM(AS11:AS17)+SUM(AT11:AT17)-AT18)/60)","v":0},{"$f":"INT(60*SUM(AS11:AS17)+SUM(AT11:AT17)-60*INT((60*SUM(AS11:AS17)+SUM(AT11:AT17))/60))","v":0},{"$f":"INT((60*SUM(AU11:AU17)+SUM(AV11:AV17)-AV18)/60)","v":0},{"$f":"INT(60*SUM(AU11:AU17)+SUM(AV11:AV17)-60*INT((60*SUM(AU11:AU17)+SUM(AV11:AV17))/60))","v":0},{"$f":"INT((60*SUM(AW11:AW17)+SUM(AX11:AX17)-AX18)/60)","v":0},{"$f":"INT(60*SUM(AW11:AW17)+SUM(AX11:AX17)-60*INT((60*SUM(AW11:AW17)+SUM(AX11:AX17))/60))","v":0},{"$f":"INT((60*SUM(AY11:AY17)+SUM(AZ11:AZ17)-AZ18)/60)","v":0},{"$f":"INT(60*SUM(AY11:AY17)+SUM(AZ11:AZ17)-60*INT((60*SUM(AY11:AY17)+SUM(AZ11:AZ17))/60))","v":0},{"$f":"INT((60*SUM(BA11:BA17)+SUM(BB11:BB17)-BB18)/60)","v":0},{"$f":"INT(60*SUM(BA11:BA17)+SUM(BB11:BB17)-60*INT((60*SUM(BA11:BA17)+SUM(BB11:BB17))/60))","v":0},{"$f":"INT((60*SUM(BC11:BC17)+SUM(BD11:BD17)-BD18)/60)","v":0},{"$f":"INT(60*SUM(BC11:BC17)+SUM(BD11:BD17)-60*INT((60*SUM(BC11:BC17)+SUM(BD11:BD17))/60))","v":0},{"$f":"INT((60*SUM(BE11:BE17)+SUM(BF11:BF17)-BF18)/60)","v":0},{"$f":"INT(60*SUM(BE11:BE17)+SUM(BF11:BF17)-60*INT((60*SUM(BE11:BE17)+SUM(BF11:BF17))/60))","v":0},{"$f":"INT((60*SUM(BG11:BG17)+SUM(BH11:BH17)-BH18)/60)","v":0},{"$f":"INT(60*SUM(BG11:BG17)+SUM(BH11:BH17)-60*INT((60*SUM(BG11:BG17)+SUM(BH11:BH17))/60))","v":0}]
[]
[{"$f":"Einstellungen!$L$4","v":"5 Tage-Woche"},null,{"$f":"Einstellungen!$N$4","v":1},{"$f":"Einstellungen!$O$4","v":0.75},null,{"$f":"Einstellungen!$Q$4","v":0.5},{"$f":"IF(AND(E11>0,I20<>\"\",U20<>\"f\"),F11,0)","v":1},{"$f":"IF(AND(I20<>\"\",U20<>\"f\"),1,0)","v":1},{"$f":"I17+1","v":"2026-12-07"},"Mo",null,null,null,null,{"$f":"HOUR(N20-K20-(M20-L20))","v":0},{"$f":"MINUTE(N20-K20-(M20-L20))","v":0},null,null,null,null,null,{"$f":"IF(OR(U20=\"U\",U20=\"k\",U20=\"B\"),$C$11,IF(S20>P20,O20-1-R20,O20-R20))","v":0},{"$f":"IF(OR(U20=\"U\",U20=\"k\",U20=\"B\"),$D$11,IF(S20>P20,P20+60-S20,P20-S20))","v":0},{"$f":"IF(OR(U20=\"U\",U20=\"K\",U20=\"B\"),0,V20)","v":0},{"$f":"IF(OR(U20=\"U\",U20=\"K\",U20=\"B\"),0,W20)","v":0},{"$f":"INT(((SUM(AB20,AH20,AK20,AN20,AQ20,AS20,AU20,AW20,AY20,BA20,BC20,BE20,BG20)*100)+(SUM(AC20,AI20,AL20,AO20,AR20,AT20,AV20,AX20,AZ20,BB20,BD20,BF20,BH20)/60*100))/100)","v":0},{"$f":"MOD(((SUM(AC20,AI20,AL20,AO20,AR20,AT20,AV20,AX20,AZ20,BB20,BD20,BF20,BH20)*100)+(SUM(AC20,AI20,AL20,AO20,AR20,AT20,AV20,AX20,AZ20,BB20,BD20,BF20,BH20)/60*100))/100,1)*60","v":0},null,null,{"$f":"INT(((SUM(AH20,AK20,AN20)*100)+SUM(AI20,AL20,AO20)/60*100)/100)","v":0},{"$f":"MOD(((SUM(AI20,AL20,AO20)*100)+(SUM(AI20,AL20,AO20)/60*100))/100,1)*60","v":0},{"$f":"INT(((SUM(AQ20+AS20+AU20+AW20+AY20+BA20+BC20+BE20+BG20)*100)+SUM(AR20+AT20+AV20+AX20+AZ20+BB20+BD20+BF20+BH20)/60*100)/100)","v":0},{"$f":"MOD(((SUM(AR20+AT20+AV20+AX20+AZ20+BB20+BD20+BF20+BH20)*100)+(SUM(AR20+AT20+AV20+AX20+AZ20+BB20+BD20+BF20+BH20)/60*100))/100,1)*60","v":0},null,null,"",null,null,"",null,null,""]
[{"$f":"Einstellungen!$L$5","v":""},null," "," ",null," ",{"$f":"IF(AND(E12>0,I21<>\"\",U21<>\"f\"),F12,0)","v":1},{"$f":"IF(AND(I21<>\"\",U21<>\"f\"),1,0)","v":1},{"$f":"I20+1","v":"2026-12-08"},"Di",null,null,null,null,0,0,null,null,null,null,null,{"$f":"IF(OR(U21=\"U\",U21=\"k\",U21=\"B\"),$C$12,IF(S21>P21,O21-1-R21,O21-R21))","v":0},{"$f":"IF(OR(U21=\"U\",U21=\"k\",U21=\"B\"),$D$12,IF(S21>P21,P21+60-S21,P21-S21))","v":0},0,0,0,0,null,null,0,0,0,0,null,null,"",null,null,"",null,null,""]
[{"$f":"Einstellungen!$L$6","v":"tägliche Regel-"},null," "," ",null," ",{"$f":"IF(AND(E13>0,I22<>\"\",U22<>\"f\"),F13,0)","v":1},{"$f":"IF(AND(I22<>\"\",U22<>\"f\"),1,0)","v":1},{"$f":"I21+1","v":"2026-12-09"},"Mi",null,null,null,null,0,0,null,null,null,null,null,{"$f":"IF(OR(U22=\"U\",U22=\"k\",U22=\"B\"),$C$13,IF(S22>P22,O22-1-R22,O22-R22))","v":0},{"$f":"IF(OR(U22=\"U\",U22=\"k\",U22=\"B\"),$D$13,IF(S22>P22,P22+60-S22,P22-S22))","v":0},0,0,0,0,null,null,0,0,0,0,null,null,"",null,null,"",null,null,""]
[{"$f":"Einstellungen!$L$7","v":"arbeitszeit für"},null,null,null,null,null,{"$f":"IF(AND(E14>0,I23<>\"\",U23<>\"f\"),F14,0)","v":1},{"$f":"IF(AND(I23<>\"\",U23<>\"f\"),1,0)","v":1},"2026-12-10","Do",null,null,null,null,0,0,null,null,null,null,null,{"$f":"IF(OR(U23=\"U\",U23=\"k\",U23=\"B\"),$C$14,IF(S23>P23,O23-1-R23,O23-R23))","v":0},{"$f":"IF(OR(U23=\"U\",U23=\"k\",U23=\"B\"),$D$14,IF(S23>P23,P23+60-S23,P23-S23))","v":0},0,0,0,0,null,null,0,0,0,0,null,null,"",null,null,"",null,null,""]
[{"$f":"Einstellungen!$L$8","v":"Wochenfeier-"},null,null,null,null,null,{"$f":"IF(AND(E15>0,I24<>\"\",U24<>\"f\"),F15,0)","v":1},{"$f":"IF(AND(I24<>\"\",U24<>\"f\"),1,0)","v":1},"2026-12-11","Fr",null,null,null,null,0,0,null,null,null,null,null,{"$f":"IF(OR(U24=\"U\",U24=\"k\",U24=\"B\"),$C$15,IF(S24>P24,O24-1-R24,O24-R24))","v":0},{"$f":"IF(OR(U24=\"U\",U24=\"k\",U24=\"B\"),$D$15,IF(S24>P24,P24+60-S24,P24-S24))","v":0},0,0,0,0,null,null,0,0,0,0,null,null,"",null,null,"",null,null,""]
[{"$f":"Einstellungen!$L$9","v":"tage, bei Urlaub"},null,null,null,null,null,null,null,"2026-12-12","Sa",null,null,null,null,0,0,null,null,null,"nur dienstl. Sonderfälle!*",null,{"$f":"IF(S25>P25,O25-1-R25,O25-R25)","v":0},{"$f":"IF(S25>P25,P25+60-S25,P25-S25)","v":0},0,0,0,0,null,null,0,0,0,0,null,null,"",null,null,"",null,null,""]
[{"$f":"Einstellungen!$L$10","v":"oder Krankheit"},null,null,null,null,null,null,null,"2026-12-13","So",null,null,null,null,0,0,null,null,null,"nur dienstl. Sonderfälle!*",null,{"$f":"IF(S26>P26,O26-1-R26,O26-R26)","v":0},{"$f":"IF(S26>P26,P26+60-S26,P26-S26)","v":0},0,0,0,0,null,null,0,0,0,0,null,null,"",null,null,"",null,null,""]
[{"$f":"Einstellungen!$L$11","v":"Mo-Fr  "},{"$f":"Einstellungen!$M$11","v":"Std.Min"},{"$f":"Einstellungen!$N$11","v":" 7.54"},{"$f":"Einstellungen!$O$11","v":" 5.56"},null,{"$f":"Einstellungen!$Q$11","v":" 3.57"},null,null,null,null,null,null,null,null,null,null,null,null,null,null,null,{"$f":"INT((60*SUM(V20:V26)+SUM(W20:W26)-W27)/60)","v":0},{"$f":"INT(60*SUM(V20:V26)+SUM(W20:W26)-60*INT((60*SUM(V20:V26)+SUM(W20:W26))/60))","v":0},{"$f":"INT((60*SUM(X20:X26)+SUM(Y20:Y26)-Y27)/60)","v":0},{"$f":"INT(60*SUM(X20:X26)+SUM(Y20:Y26)-60*INT((60*SUM(X20:X26)+SUM(Y20:Y26))/60))","v":0},{"$f":"INT((60*SUM(Z20:Z26)+SUM(AA20:AA26)-AA27)/60)","v":0},{"$f":"INT(60*SUM(Z20:Z26)+SUM(AA20:AA26)-60*INT((60*SUM(Z20:Z26)+SUM(AA20:AA26))/60))","v":0},{"$f":"INT((60*SUM(AB20:AB26)+SUM(AC20:AC26)-AC27)/60)","v":0},{"$f":"INT(60*SUM(AB20:AB26)+SUM(AC20:AC26)-60*INT((60*SUM(AB20:AB26)+SUM(AC20:AC26))/60))","v":0},{"$f":"INT((60*SUM(AD20:AD26)+SUM(AE20:AE26)-AE27)/60)","v":0},{"$f":"INT(60*SUM(AD20:AD26)+SUM(AE20:AE26)-60*INT((60*SUM(AD20:AD26)+SUM(AE20:AE26))/60))","v":0},{"$f":"INT((60*SUM(AF20:AF26)+SUM(AG20:AG26)-AG27)/60)","v":0},{"$f":"INT(60*SUM(AF20:AF26)+SUM(AG20:AG26)-60*INT((60*SUM(AF20:AF26)+SUM(AG20:AG26))/60))","v":0},{"$f":"INT((60*SUM(AH20:AH26)+SUM(AI20:AI26)-AI27)/60)","v":0},{"$f":"INT(60*SUM(AH20:AH26)+SUM(AI20:AI26)-60*INT((60*SUM(AH20:AH26)+SUM(AI20:AI26))/60))","v":0},null,{"$f":"INT((60*SUM(AK20:AK26)+SUM(AL20:AL26)-AL27)/60)","v":0},{"$f":"INT(60*SUM(AK20:AK26)+SUM(AL20:AL26)-60*INT((60*SUM(AK20:AK26)+SUM(AL20:AL26))/60))","v":0},null,{"$f":"INT((60*SUM(AN20:AN26)+SUM(AO20:AO26)-AO27)/60)","v":0},{"$f":"INT(60*SUM(AN20:AN26)+SUM(AO20:AO26)-60*INT((60*SUM(AN20:AN26)+SUM(AO20:AO26))/60))","v":0},null,{"$f":"INT((60*SUM(AQ20:AQ26)+SUM(AR20:AR26)-AR27)/60)","v":0},{"$f":"INT(60*SUM(AQ20:AQ26)+SUM(AR20:AR26)-60*INT((60*SUM(AQ20:AQ26)+SUM(AR20:AR26))/60))","v":0},{"$f":"INT((60*SUM(AS20:AS26)+SUM(AT20:AT26)-AT27)/60)","v":0},{"$f":"INT(60*SUM(AS20:AS26)+SUM(AT20:AT26)-60*INT((60*SUM(AS20:AS26)+SUM(AT20:AT26))/60))","v":0},{"$f":"INT((60*SUM(AU20:AU26)+SUM(AV20:AV26)-AV27)/60)","v":0},{"$f":"INT(60*SUM(AU20:AU26)+SUM(AV20:AV26)-60*INT((60*SUM(AU20:AU26)+SUM(AV20:AV26))/60))","v":0},{"$f":"INT((60*SUM(AW20:AW26)+SUM(AX20:AX26)-AX27)/60)","v":0},{"$f":"INT(60*SUM(AW20:AW26)+SUM(AX20:AX26)-60*INT((60*SUM(AW20:AW26)+SUM(AX20:AX26))/60))","v":0},{"$f":"INT((60*SUM(AY20:AY26)+SUM(AZ20:AZ26)-AZ27)/60)","v":0},{"$f":"INT(60*SUM(AY20:AY26)+SUM(AZ20:AZ26)-60*INT((60*SUM(AY20:AY26)+SUM(AZ20:AZ26))/60))","v":0},{"$f":"INT((60*SUM(BA20:BA26)+SUM(BB20:BB26)-BB27)/60)","v":0},{"$f":"INT(60*SUM(BA20:BA26)+SUM(BB20:BB26)-60*INT((60*SUM(BA20:BA26)+SUM(BB20:BB26))/60))","v":0},{"$f":"INT((60*SUM(BC20:BC26)+SUM(BD20:BD26)-BD27)/60)","v":0},{"$f":"INT(60*SUM(BC20:BC26)+SUM(BD20:BD26)-60*INT((60*SUM(BC20:BC26)+SUM(BD20:BD26))/60))","v":0},{"$f":"INT((60*SUM(BE20:BE26)+SUM(BF20:BF26)-BF27)/60)","v":0},{"$f":"INT(60*SUM(BE20:BE26)+SUM(BF20:BF26)-60*INT((60*SUM(BE20:BE26)+SUM(BF20:BF26))/60))","v":0},{"$f":"INT((60*SUM(BG20:BG26)+SUM(BH20:BH26)-BH27)/60)","v":0},{"$f":"INT(60*SUM(BG20:BG26)+SUM(BH20:BH26)-60*INT((60*SUM(BG20:BG26)+SUM(BH20:BH26))/60))","v":0}]
[" "," "," "," ",null," "]
[{"$f":"Einstellungen!$L$13","v":"Wochen"},null," "," ",null," ",{"$f":"IF(AND(E11>0,I29<>\"\",U29<>\"f\"),F11,0)","v":1},{"$f":"IF(AND(I29<>\"\",U29<>\"f\"),1,0)","v":1},{"$f":"I26+1","v":"2026-12-14"},"Mo",null,null,null,null,{"$f":"HOUR(N29-K29-(M29-L29))","v":0},{"$f":"MINUTE(N29-K29-(M29-L29))","v":0},null,null,null,null,null,{"$f":"IF(OR(U29=\"U\",U29=\"k\",U29=\"B\"),$C$11,IF(S29>P29,O29-1-R29,O29-R29))","v":0},{"$f":"IF(OR(U29=\"U\",U29=\"k\",U29=\"B\"),$D$11,IF(S29>P29,P29+60-S29,P29-S29))","v":0},{"$f":"IF(OR(U29=\"U\",U29=\"K\",U29=\"B\"),0,V29)","v":0},{"$f":"IF(OR(U29=\"U\",U29=\"K\",U29=\"B\"),0,W29)","v":0},{"$f":"INT(((SUM(AB29,AH29,AK29,AN29,AQ29,AS29,AU29,AW29,AY29,BA29,BC29,BE29,BG29)*100)+(SUM(AC29,AI29,AL29,AO29,AR29,AT29,AV29,AX29,AZ29,BB29,BD29,BF29,BH29)/60*100))/100)","v":0},{"$f":"MOD(((SUM(AC29,AI29,AL29,AO29,AR29,AT29,AV29,AX29,AZ29,BB29,BD29,BF29,BH29)*100)+(SUM(AC29,AI29,AL29,AO29,AR29,AT29,AV29,AX29,AZ29,BB29,BD29,BF29,BH29)/60*100))/100,1)*60","v":0},null,null,{"$f":"INT(((SUM(AH29,AK29,AN29)*100)+SUM(AI29,AL29,AO29)/60*100)/100)","v":0},{"$f":"MOD(((SUM(AI29,AL29,AO29)*100)+(SUM(AI29,AL29,AO29)/60*100))/100,1)*60","v":0},{"$f":"INT(((SUM(AQ29+AS29+AU29+AW29+AY29+BA29+BC29+BE29+BG29)*100)+SUM(AR29+AT29+AV29+AX29+AZ29+BB29+BD29+BF29+BH29)/60*100)/100)","v":0},{"$f":"MOD(((SUM(AR29+AT29+AV29+AX29+AZ29+BB29+BD29+BF29+BH29)*100)+(SUM(AR29+AT29+AV29+AX29+AZ29+BB29+BD29+BF29+BH29)/60*100))/100,1)*60","v":0},null,null,"",null,null,"",null,null,""]
[{"$f":"CONCATENATE(Einstellungen!$L$14,\" \",Einstellungen!$M$14)","v":"Arbeitzeit Std.Min"},null,{"$f":"Einstellungen!$N$14","v":"39.30"},{"$f":"Einstellungen!$O$14","v":"29.38"},null,{"$f":"Einstellungen!$Q$14","v":"19.45"},{"$f":"IF(AND(E12>0,I30<>\"\",U30<>\"f\"),F12,0)","v":1},{"$f":"IF(AND(I30<>\"\",U30<>\"f\"),1,0)","v":1},{"$f":"I29+1","v":"2026-12-15"},"Di",null,null,null,null,0,0,null,null,null,null,null,{"$f":"IF(OR(U30=\"U\",U30=\"k\",U30=\"B\"),$C$12,IF(S30>P30,O30-1-R30,O30-R30))","v":0},{"$f":"IF(OR(U30=\"U\",U30=\"k\",U30=\"B\"),$D$12,IF(S30>P30,P30+60-S30,P30-S30))","v":0},0,0,0,0,null,null,0,0,0,0,null,null,"",null,null,"",null,null,""]
[{"$f":"Einstellungen!$L$15","v":"max.Übertrag auf das"},null,null," ",null," ",{"$f":"IF(AND(E13>0,I31<>\"\",U31<>\"f\"),F13,0)","v":1},{"$f":"IF(AND(I31<>\"\",U31<>\"f\"),1,0)","v":1},{"$f":"I30+1","v":"2026-12-16"},"Mi",null,null,null,null,0,0,null,null,null,null,null,{"$f":"IF(OR(U31=\"U\",U31=\"k\",U31=\"B\"),$C$13,IF(S31>P31,O31-1-R31,O31-R31))","v":0},{"$f":"IF(OR(U31=\"U\",U31=\"k\",U31=\"B\"),$D$13,IF(S31>P31,P31+60-S31,P31-S31))","v":0},0,0,0,0,null,null,0,0,0,0,null,null,"",null,null,"",null,null,""]
[{"$f":"Einstellungen!$L$16","v":"Folgejahr Std.Min"},null,{"$f":"Einstellungen!$N$16","v":"39.30"},{"$f":"Einstellungen!$O$16","v":"39.30"},null,{"$f":"Einstellungen!$Q$16","v":"39.30"},{"$f":"IF(AND(E14>0,I32<>\"\",U32<>\"f\"),F14,0)","v":1},{"$f":"IF(AND(I32<>\"\",U32<>\"f\"),1,0)","v":1},"2026-12-17","Do",null,null,null,null,0,0,null,null,null,null,null,{"$f":"IF(OR(U32=\"U\",U32=\"k\",U32=\"B\"),$C$14,IF(S32>P32,O32-1-R32,O32-R32))","v":0},{"$f":"IF(OR(U32=\"U\",U32=\"k\",U32=\"B\"),$D$14,IF(S32>P32,P32+60-S32,P32-S32))","v":0},0,0,0,0,null,null,0,0,0,0,null,null,"",null,null,"",null,null,""]
[{"$f":"Einstellungen!$L$17","v":"II Beschäftigte mit 41 Std-Woche"},null,null,null,null,null,{"$f":"IF(AND(E15>0,I33<>\"\",U33<>\"f\"),F15,0)","v":1},{"$f":"IF(AND(I33<>\"\",U33<>\"f\"),1,0)","v":1},"2026-12-18","Fr",null,null,null,null,0,0,null,null,null,null,null,{"$f":"IF(OR(U33=\"U\",U33=\"k\",U33=\"B\"),$C$15,IF(S33>P33,O33-1-R33,O33-R33))","v":0},{"$f":"IF(OR(U33=\"U\",U33=\"k\",U33=\"B\"),$D$15,IF(S33>P33,P33+60-S33,P33-S33))","v":0},0,0,0,0,null,null,0,0,0,0,null,null,"",null,null,"",null,null,""]
[{"$f":"Einstellungen!$L$18","v":"tägliche Arbeitszeit"},null,null,null,null,null,null,null,"2026-12-19","Sa",null,null,null,null,0,0,null,null,null,"nur dienstl. Sonderfälle!*",null,{"$f":"IF(S34>P34,O34-1-R34,O34-R34)","v":0},{"$f":"IF(S34>P34,P34+60-S34,P34-S34)","v":0},0,0,0,0,null,null,0,0,0,0,null,null,"",null,null,"",null,null,""]
[{"$f":"Einstellungen!$L$19","v":"Mo-Fr  "},{"$f":"Einstellungen!$M$19","v":"Std.Min"},{"$f":"Einstellungen!$N$19","v":"8.12"},{"$f":"Einstellungen!$O$19","v":"6.09"},null,{"$f":"Einstellungen!$Q$19","v":"4.06"},null,null,"2026-12-20","So",null,null,null,null,0,0,null,null,null,"nur dienstl. Sonderfälle!*",null,{"$f":"IF(S35>P35,O35-1-R35,O35-R35)","v":0},{"$f":"IF(S35>P35,P35+60-S35,P35-S35)","v":0},0,0,0,0,null,null,0,0,0,0,null,null,"",null,null,"",null,null,""]
[{"$f":"Einstellungen!$L$20","v":"Wochen"},null," "," ",null," ",null,null,null,null,null,null,null,null,null,null,null,null,null,null,null,{"$f":"INT((60*SUM(V29:V35)+SUM(W29:W35)-W36)/60)","v":0},{"$f":"INT(60*SUM(V29:V35)+SUM(W29:W35)-60*INT((60*SUM(V29:V35)+SUM(W29:W35))/60))","v":0},{"$f":"INT((60*SUM(X29:X35)+SUM(Y29:Y35)-Y36)/60)","v":0},{"$f":"INT(60*SUM(X29:X35)+SUM(Y29:Y35)-60*INT((60*SUM(X29:X35)+SUM(Y29:Y35))/60))","v":0},{"$f":"INT((60*SUM(Z29:Z35)+SUM(AA29:AA35)-AA36)/60)","v":0},{"$f":"INT(60*SUM(Z29:Z35)+SUM(AA29:AA35)-60*INT((60*SUM(Z29:Z35)+SUM(AA29:AA35))/60))","v":0},{"$f":"INT((60*SUM(AB29:AB35)+SUM(AC29:AC35)-AC36)/60)","v":0},{"$f":"INT(60*SUM(AB29:AB35)+SUM(AC29:AC35)-60*INT((60*SUM(AB29:AB35)+SUM(AC29:AC35))/60))","v":0},{"$f":"INT((60*SUM(AD29:AD35)+SUM(AE29:AE35)-AE36)/60)","v":0},{"$f":"INT(60*SUM(AD29:AD35)+SUM(AE29:AE35)-60*INT((60*SUM(AD29:AD35)+SUM(AE29:AE35))/60))","v":0},{"$f":"INT((60*SUM(AF29:AF35)+SUM(AG29:AG35)-AG36)/60)","v":0},{"$f":"INT(60*SUM(AF29:AF35)+SUM(AG29:AG35)-60*INT((60*SUM(AF29:AF35)+SUM(AG29:AG35))/60))","v":0},{"$f":"INT((60*SUM(AH29:AH35)+SUM(AI29:AI35)-AI36)/60)","v":0},{"$f":"INT(60*SUM(AH29:AH35)+SUM(AI29:AI35)-60*INT((60*SUM(AH29:AH35)+SUM(AI29:AI35))/60))","v":0},null,{"$f":"INT((60*SUM(AK29:AK35)+SUM(AL29:AL35)-AL36)/60)","v":0},{"$f":"INT(60*SUM(AK29:AK35)+SUM(AL29:AL35)-60*INT((60*SUM(AK29:AK35)+SUM(AL29:AL35))/60))","v":0},null,{"$f":"INT((60*SUM(AN29:AN35)+SUM(AO29:AO35)-AO36)/60)","v":0},{"$f":"INT(60*SUM(AN29:AN35)+SUM(AO29:AO35)-60*INT((60*SUM(AN29:AN35)+SUM(AO29:AO35))/60))","v":0},null,{"$f":"INT((60*SUM(AQ29:AQ35)+SUM(AR29:AR35)-AR36)/60)","v":0},{"$f":"INT(60*SUM(AQ29:AQ35)+SUM(AR29:AR35)-60*INT((60*SUM(AQ29:AQ35)+SUM(AR29:AR35))/60))","v":0},{"$f":"INT((60*SUM(AS29:AS35)+SUM(AT29:AT35)-AT36)/60)","v":0},{"$f":"INT(60*SUM(AS29:AS35)+SUM(AT29:AT35)-60*INT((60*SUM(AS29:AS35)+SUM(AT29:AT35))/60))","v":0},{"$f":"INT((60*SUM(AU29:AU35)+SUM(AV29:AV35)-AV36)/60)","v":0},{"$f":"INT(60*SUM(AU29:AU35)+SUM(AV29:AV35)-60*INT((60*SUM(AU29:AU35)+SUM(AV29:AV35))/60))","v":0},{"$f":"INT((60*SUM(AW29:AW35)+SUM(AX29:AX35)-AX36)/60)","v":0},{"$f":"INT(60*SUM(AW29:AW35)+SUM(AX29:AX35)-60*INT((60*SUM(AW29:AW35)+SUM(AX29:AX35))/60))","v":0},{"$f":"INT((60*SUM(AY29:AY35)+SUM(AZ29:AZ35)-AZ36)/60)","v":0},{"$f":"INT(60*SUM(AY29:AY35)+SUM(AZ29:AZ35)-60*INT((60*SUM(AY29:AY35)+SUM(AZ29:AZ35))/60))","v":0},{"$f":"INT((60*SUM(BA29:BA35)+SUM(BB29:BB35)-BB36)/60)","v":0},{"$f":"INT(60*SUM(BA29:BA35)+SUM(BB29:BB35)-60*INT((60*SUM(BA29:BA35)+SUM(BB29:BB35))/60))","v":0},{"$f":"INT((60*SUM(BC29:BC35)+SUM(BD29:BD35)-BD36)/60)","v":0},{"$f":"INT(60*SUM(BC29:BC35)+SUM(BD29:BD35)-60*INT((60*SUM(BC29:BC35)+SUM(BD29:BD35))/60))","v":0},{"$f":"INT((60*SUM(BE29:BE35)+SUM(BF29:BF35)-BF36)/60)","v":0},{"$f":"INT(60*SUM(BE29:BE35)+SUM(BF29:BF35)-60*INT((60*SUM(BE29:BE35)+SUM(BF29:BF35))/60))","v":0},{"$f":"INT((60*SUM(BG29:BG35)+SUM(BH29:BH35)-BH36)/60)","v":0},{"$f":"INT(60*SUM(BG29:BG35)+SUM(BH29:BH35)-60*INT((60*SUM(BG29:BG35)+SUM(BH29:BH35))/60))","v":0}]
[]
[{"$f":"CONCATENATE(Einstellungen!$L$21,\" \",Einstellungen!$M$21)","v":"Arbeitzeit Std.Min"},null,{"$f":"Einstellungen!$N$21","v":"41.00"},{"$f":"Einstellungen!$O$21","v":"30.45"},null,{"$f":"Einstellungen!$Q$21","v":"20.30"},{"$f":"IF(AND(E11>0,I38<>\"\",U38<>\"f\"),F11,0)","v":1},{"$f":"IF(AND(I38<>\"\",U38<>\"f\"),1,0)","v":1},{"$f":"IF(I35<>\"\",IF(MONTH(I35)=MONTH(I35+1),I35+1,\"\"),\"\")","v":"2026-12-21"},"Mo",null,null,null,null,{"$f":"HOUR(N38-K38-(M38-L38))","v":0},{"$f":"MINUTE(N38-K38-(M38-L38))","v":0},null,null,null,null,null,{"$f":"IF(OR(U38=\"U\",U38=\"k\",U38=\"B\"),$C$11,IF(S38>P38,O38-1-R38,O38-R38))","v":0},{"$f":"IF(OR(U38=\"U\",U38=\"k\",U38=\"B\"),$D$11,IF(S38>P38,P38+60-S38,P38-S38))","v":0},{"$f":"IF(OR(U38=\"U\",U38=\"K\",U38=\"B\"),0,V38)","v":0},{"$f":"IF(OR(U38=\"U\",U38=\"K\",U38=\"B\"),0,W38)","v":0},{"$f":"INT(((SUM(AB38,AH38,AK38,AN38,AQ38,AS38,AU38,AW38,AY38,BA38,BC38,BE38,BG38)*100)+(SUM(AC38,AI38,AL38,AO38,AR38,AT38,AV38,AX38,AZ38,BB38,BD38,BF38,BH38)/60*100))/100)","v":0},{"$f":"MOD(((SUM(AC38,AI38,AL38,AO38,AR38,AT38,AV38,AX38,AZ38,BB38,BD38,BF38,BH38)*100)+(SUM(AC38,AI38,AL38,AO38,AR38,AT38,AV38,AX38,AZ38,BB38,BD38,BF38,BH38)/60*100))/100,1)*60","v":0},null,null,{"$f":"INT(((SUM(AH38,AK38,AN38)*100)+SUM(AI38,AL38,AO38)/60*100)/100)","v":0},{"$f":"MOD(((SUM(AI38,AL38,AO38)*100)+(SUM(AI38,AL38,AO38)/60*100))/100,1)*60","v":0},{"$f":"INT(((SUM(AQ38+AS38+AU38+AW38+AY38+BA38+BC38+BE38+BG38)*100)+SUM(AR38+AT38+AV38+AX38+AZ38+BB38+BD38+BF38+BH38)/60*100)/100)","v":0},{"$f":"MOD(((SUM(AR38+AT38+AV38+AX38+AZ38+BB38+BD38+BF38+BH38)*100)+(SUM(AR38+AT38+AV38+AX38+AZ38+BB38+BD38+BF38+BH38)/60*100))/100,1)*60","v":0},null,null,"",null,null,"",null,null,""]
[{"$f":"Einstellungen!$L$22","v":"max.Übertrag auf das"},null,null," "," "," ",{"$f":"IF(AND(E12>0,I39<>\"\",U39<>\"f\"),F12,0)","v":1},{"$f":"IF(AND(I39<>\"\",U39<>\"f\"),1,0)","v":1},{"$f":"IF(I38<>\"\",IF(MONTH(I38)=MONTH(I38+1),I38+1,\"\"),\"\")","v":"2026-12-22"},"Di",null,null,null,null,0,0,null,null,null,null,null,{"$f":"IF(OR(U39=\"U\",U39=\"k\",U39=\"B\"),$C$12,IF(S39>P39,O39-1-R39,O39-R39))","v":0},{"$f":"IF(OR(U39=\"U\",U39=\"k\",U39=\"B\"),$D$12,IF(S39>P39,P39+60-S39,P39-S39))","v":0},0,0,0,0,null,null,0,0,0,0,null,null,"",null,null,"",null,null,""]
[{"$f":"Einstellungen!$L$23","v":"Folgejahr Std.Min"},null,{"$f":"Einstellungen!$N$23","v":"41.00"},{"$f":"Einstellungen!$O$23","v":"41.00"}," ",{"$f":"Einstellungen!$Q$23","v":"41.00"},{"$f":"IF(AND(E13>0,I40<>\"\",U40<>\"f\"),F13,0)","v":1},{"$f":"IF(AND(I40<>\"\",U40<>\"f\"),1,0)","v":1},{"$f":"IF(I39<>\"\",IF(MONTH(I39)=MONTH(I39+1),I39+1,\"\"),\"\")","v":"2026-12-23"},"Mi",null,null,null,null,0,0,null,null,null,null,null,{"$f":"IF(OR(U40=\"U\",U40=\"k\",U40=\"B\"),$C$13,IF(S40>P40,O40-1-R40,O40-R40))","v":0},{"$f":"IF(OR(U40=\"U\",U40=\"k\",U40=\"B\"),$D$13,IF(S40>P40,P40+60-S40,P40-S40))","v":0},0,0,0,0,null,null,0,0,0,0,null,null,"",null,null,"",null,null,""]
[{"$f":"Einstellungen!$L$24","v":"Kernarbeitszeit:"},null,{"$f":"Einstellungen!$N$24","v":"Mo-Do"},{"$f":"Einstellungen!$O$24","v":"9:00 - 14:30 Uhr"},null,null,{"$f":"IF(AND(E14>0,I41<>\"\",U41<>\"f\"),F14,0)","v":0},{"$f":"IF(AND(I41<>\"\",U41<>\"f\"),1,0)","v":0},"2026-12-24","Do",null,null,null,null,0,0,null,null,null,"nur dienstl. Sonderfälle!*","F",{"$f":"IF(OR(U41=\"U\",U41=\"k\",U41=\"B\"),$C$14,IF(S41>P41,O41-1-R41,O41-R41))","v":0},{"$f":"IF(OR(U41=\"U\",U41=\"k\",U41=\"B\"),$D$14,IF(S41>P41,P41+60-S41,P41-S41))","v":0},0,0,0,0,null,null,0,0,0,0,null,null,"",null,null,"",null,null,""]
[{"$f":"Einstellungen!$L$25","v":""},{"$f":"Einstellungen!$M$25","v":""},{"$f":"Einstellungen!$N$25","v":"Fr"},{"$f":"Einstellungen!$O$25","v":"9:00 - 12:00 Uhr"},null,null,{"$f":"IF(AND(E15>0,I42<>\"\",U42<>\"f\"),F15,0)","v":0},{"$f":"IF(AND(I42<>\"\",U42<>\"f\"),1,0)","v":0},"2026-12-25","Fr",null,null,null,null,0,0,null,null,null,"nur dienstl. Sonderfälle!*","F",{"$f":"IF(OR(U42=\"U\",U42=\"k\",U42=\"B\"),$C$15,IF(S42>P42,O42-1-R42,O42-R42))","v":0},{"$f":"IF(OR(U42=\"U\",U42=\"k\",U42=\"B\"),$D$15,IF(S42>P42,P42+60-S42,P42-S42))","v":0},0,0,0,0,null,null,0,0,0,0,null,null,"",null,null,"",null,null,""]
[{"$f":"Einstellungen!$L$26","v":"Gleitzeit:"},{"$f":"Einstellungen!$M$26","v":"frühester Beginn"},null,null,null,{"$f":"Einstellungen!$P$26","v":"6:00 Uhr"},null,null,"2026-12-26","Sa",null,null,null,null,0,0,null,null,null,"nur dienstl. Sonderfälle!*",null,{"$f":"IF(S43>P43,O43-1-R43,O43-R43)","v":0},{"$f":"IF(S43>P43,P43+60-S43,P43-S43)","v":0},0,0,0,0,null,null,0,0,0,0,null,null,"",null,null,"",null,null,""]
[{"$f":"Einstellungen!$L$27","v":""},{"$f":"Einstellungen!$M$27","v":"spätestes Ende"},null,null,null,{"$f":"Einstellungen!$P$27","v":"21:00 Uhr"},null,null,"2026-12-27","So",null,null,null,null,0,0,null,null,null,"nur dienstl. Sonderfälle!*",null,{"$f":"IF(S44>P44,O44-1-R44,O44-R44)","v":0},{"$f":"IF(S44>P44,P44+60-S44,P44-S44)","v":0},0,0,0,0,null,null,0,0,0,0,null,null,"",null,null,"",null,null,""]
[{"$f":"Einstellungen!$L$29","v":"Mittagspause zw."},null,null,{"$f":"Einstellungen!$O$29","v":"11:15 - 14:00 Uhr"},null,null,null,null,null,null,null,null,null,null,null,null,null,null,null,null,null,{"$f":"INT((60*SUM(V38:V44)+SUM(W38:W44)-W45)/60)","v":0},{"$f":"INT(60*SUM(V38:V44)+SUM(W38:W44)-60*INT((60*SUM(V38:V44)+SUM(W38:W44))/60))","v":0},{"$f":"INT((60*SUM(X38:X44)+SUM(Y38:Y44)-Y45)/60)","v":0},{"$f":"INT(60*SUM(X38:X44)+SUM(Y38:Y44)-60*INT((60*SUM(X38:X44)+SUM(Y38:Y44))/60))","v":0},{"$f":"INT((60*SUM(Z38:Z44)+SUM(AA38:AA44)-AA45)/60)","v":0},{"$f":"INT(60*SUM(Z38:Z44)+SUM(AA38:AA44)-60*INT((60*SUM(Z38:Z44)+SUM(AA38:AA44))/60))","v":0},{"$f":"INT((60*SUM(AB38:AB44)+SUM(AC38:AC44)-AC45)/60)","v":0},{"$f":"INT(60*SUM(AB38:AB44)+SUM(AC38:AC44)-60*INT((60*SUM(AB38:AB44)+SUM(AC38:AC44))/60))","v":0},{"$f":"INT((60*SUM(AD38:AD44)+SUM(AE38:AE44)-AE45)/60)","v":0},{"$f":"INT(60*SUM(AD38:AD44)+SUM(AE38:AE44)-60*INT((60*SUM(AD38:AD44)+SUM(AE38:AE44))/60))","v":0},{"$f":"INT((60*SUM(AF38:AF44)+SUM(AG38:AG44)-AG45)/60)","v":0},{"$f":"INT(60*SUM(AF38:AF44)+SUM(AG38:AG44)-60*INT((60*SUM(AF38:AF44)+SUM(AG38:AG44))/60))","v":0},{"$f":"INT((60*SUM(AH38:AH44)+SUM(AI38:AI44)-AI45)/60)","v":0},{"$f":"INT(60*SUM(AH38:AH44)+SUM(AI38:AI44)-60*INT((60*SUM(AH38:AH44)+SUM(AI38:AI44))/60))","v":0},null,{"$f":"INT((60*SUM(AK38:AK44)+SUM(AL38:AL44)-AL45)/60)","v":0},{"$f":"INT(60*SUM(AK38:AK44)+SUM(AL38:AL44)-60*INT((60*SUM(AK38:AK44)+SUM(AL38:AL44))/60))","v":0},null,{"$f":"INT((60*SUM(AN38:AN44)+SUM(AO38:AO44)-AO45)/60)","v":0},{"$f":"INT(60*SUM(AN38:AN44)+SUM(AO38:AO44)-60*INT((60*SUM(AN38:AN44)+SUM(AO38:AO44))/60))","v":0},null,{"$f":"INT((60*SUM(AQ38:AQ44)+SUM(AR38:AR44)-AR45)/60)","v":0},{"$f":"INT(60*SUM(AQ38:AQ44)+SUM(AR38:AR44)-60*INT((60*SUM(AQ38:AQ44)+SUM(AR38:AR44))/60))","v":0},{"$f":"INT((60*SUM(AS38:AS44)+SUM(AT38:AT44)-AT45)/60)","v":0},{"$f":"INT(60*SUM(AS38:AS44)+SUM(AT38:AT44)-60*INT((60*SUM(AS38:AS44)+SUM(AT38:AT44))/60))","v":0},{"$f":"INT((60*SUM(AU38:AU44)+SUM(AV38:AV44)-AV45)/60)","v":0},{"$f":"INT(60*SUM(AU38:AU44)+SUM(AV38:AV44)-60*INT((60*SUM(AU38:AU44)+SUM(AV38:AV44))/60))","v":0},{"$f":"INT((60*SUM(AW38:AW44)+SUM(AX38:AX44)-AX45)/60)","v":0},{"$f":"INT(60*SUM(AW38:AW44)+SUM(AX38:AX44)-60*INT((60*SUM(AW38:AW44)+SUM(AX38:AX44))/60))","v":0},{"$f":"INT((60*SUM(AY38:AY44)+SUM(AZ38:AZ44)-AZ45)/60)","v":0},{"$f":"INT(60*SUM(AY38:AY44)+SUM(AZ38:AZ44)-60*INT((60*SUM(AY38:AY44)+SUM(AZ38:AZ44))/60))","v":0},{"$f":"INT((60*SUM(BA38:BA44)+SUM(BB38:BB44)-BB45)/60)","v":0},{"$f":"INT(60*SUM(BA38:BA44)+SUM(BB38:BB44)-60*INT((60*SUM(BA38:BA44)+SUM(BB38:BB44))/60))","v":0},{"$f":"INT((60*SUM(BC38:BC44)+SUM(BD38:BD44)-BD45)/60)","v":0},{"$f":"INT(60*SUM(BC38:BC44)+SUM(BD38:BD44)-60*INT((60*SUM(BC38:BC44)+SUM(BD38:BD44))/60))","v":0},{"$f":"INT((60*SUM(BE38:BE44)+SUM(BF38:BF44)-BF45)/60)","v":0},{"$f":"INT(60*SUM(BE38:BE44)+SUM(BF38:BF44)-60*INT((60*SUM(BE38:BE44)+SUM(BF38:BF44))/60))","v":0},{"$f":"INT((60*SUM(BG38:BG44)+SUM(BH38:BH44)-BH45)/60)","v":0},{"$f":"INT(60*SUM(BG38:BG44)+SUM(BH38:BH44)-60*INT((60*SUM(BG38:BG44)+SUM(BH38:BH44))/60))","v":0}]
[]
[{"$f":"Einstellungen!$L$30","v":"ab 6 Std. Arbeitszeit: Dauer min."},null,null,null,null,{"$f":"Einstellungen!$Q$30","v":"30 Min"},{"$f":"IF(AND(E11>0,I47<>\"\",U47<>\"f\"),F11,0)","v":1},{"$f":"IF(AND(I47<>\"\",U47<>\"f\"),1,0)","v":1},{"$f":"IF(I44<>\"\",IF(MONTH(I44)=MONTH(I44+1),I44+1,\"\"),\"\")","v":"2026-12-28"},"Mo",null,null,null,null,{"$f":"HOUR(N47-K47-(M47-L47))","v":0},{"$f":"MINUTE(N47-K47-(M47-L47))","v":0},null,null,null,null,null,{"$f":"IF(OR(U47=\"U\",U47=\"k\",U47=\"B\"),$C$11,IF(S47>P47,O47-1-R47,O47-R47))","v":0},{"$f":"IF(OR(U47=\"U\",U47=\"k\",U47=\"B\"),$D$11,IF(S47>P47,P47+60-S47,P47-S47))","v":0},{"$f":"IF(OR(U47=\"U\",U47=\"K\",U47=\"B\"),0,V47)","v":0},{"$f":"IF(OR(U47=\"U\",U47=\"K\",U47=\"B\"),0,W47)","v":0},{"$f":"INT(((SUM(AB47,AH47,AK47,AN47,AQ47,AS47,AU47,AW47,AY47,BA47,BC47,BE47,BG47)*100)+(SUM(AC47,AI47,AL47,AO47,AR47,AT47,AV47,AX47,AZ47,BB47,BD47,BF47,BH47)/60*100))/100)","v":0},{"$f":"MOD(((SUM(AC47,AI47,AL47,AO47,AR47,AT47,AV47,AX47,AZ47,BB47,BD47,BF47,BH47)*100)+(SUM(AC47,AI47,AL47,AO47,AR47,AT47,AV47,AX47,AZ47,BB47,BD47,BF47,BH47)/60*100))/100,1)*60","v":0},null,null,{"$f":"INT(((SUM(AH47,AK47,AN47)*100)+SUM(AI47,AL47,AO47)/60*100)/100)","v":0},{"$f":"MOD(((SUM(AI47,AL47,AO47)*100)+(SUM(AI47,AL47,AO47)/60*100))/100,1)*60","v":0},{"$f":"INT(((SUM(AQ47+AS47+AU47+AW47+AY47+BA47+BC47+BE47+BG47)*100)+SUM(AR47+AT47+AV47+AX47+AZ47+BB47+BD47+BF47+BH47)/60*100)/100)","v":0},{"$f":"MOD(((SUM(AR47+AT47+AV47+AX47+AZ47+BB47+BD47+BF47+BH47)*100)+(SUM(AR47+AT47+AV47+AX47+AZ47+BB47+BD47+BF47+BH47)/60*100))/100,1)*60","v":0},null,null,"",null,null,"",null,null,""]
[{"$f":"Einstellungen!$L$31","v":"ab 9 Std. (exklusiv Beamte) min."},null,null,null,null,{"$f":"Einstellungen!$Q$31","v":"45 Min"},{"$f":"IF(AND(E12>0,I48<>\"\",U48<>\"f\"),F12,0)","v":1},{"$f":"IF(AND(I48<>\"\",U48<>\"f\"),1,0)","v":1},{"$f":"IF(I47<>\"\",IF(MONTH(I47)=MONTH(I47+1),I47+1,\"\"),\"\")","v":"2026-12-29"},"Di",null,null,null,null,0,0,null,null,null,null,null,{"$f":"IF(OR(U48=\"U\",U48=\"k\",U48=\"B\"),$C$12,IF(S48>P48,O48-1-R48,O48-R48))","v":0},{"$f":"IF(OR(U48=\"U\",U48=\"k\",U48=\"B\"),$D$12,IF(S48>P48,P48+60-S48,P48-S48))","v":0},0,0,0,0,null,null,0,0,0,0,null,null,"",null,null,"",null,null,""]
[{"$f":"Einstellungen!$L$32","v":""},null," ",{"$f":"Einstellungen!$O$32","v":"max."},null,{"$f":"Einstellungen!$Q$32","v":"120 Min"},{"$f":"IF(AND(E13>0,I49<>\"\",U49<>\"f\"),F13,0)","v":1},{"$f":"IF(AND(I49<>\"\",U49<>\"f\"),1,0)","v":1},{"$f":"IF(I48<>\"\",IF(MONTH(I48)=MONTH(I48+1),I48+1,\"\"),\"\")","v":"2026-12-30"},"Mi",null,null,null,null,0,0,null,null,null,null,null,{"$f":"IF(OR(U49=\"U\",U49=\"k\",U49=\"B\"),$C$13,IF(S49>P49,O49-1-R49,O49-R49))","v":0},{"$f":"IF(OR(U49=\"U\",U49=\"k\",U49=\"B\"),$D$13,IF(S49>P49,P49+60-S49,P49-S49))","v":0},0,0,0,0,null,null,0,0,0,0,null,null,"",null,null,"",null,null,""]
[{"$f":"Einstellungen!$L$33","v":"tägliche Arbeitszeit  "},null,null,null,null,{"$f":"Einstellungen!$Q$33","v":" 10 Std"},{"$f":"IF(AND(E14>0,I50<>\"\",U50<>\"f\"),F14,0)","v":0},{"$f":"IF(AND(I50<>\"\",U50<>\"f\"),1,0)","v":0},"2026-12-31","Do",null,null,null,null,0,0,null,null,null,"nur dienstl. Sonderfälle!*","F",{"$f":"IF(OR(U50=\"U\",U50=\"k\",U50=\"B\"),$C$14,IF(S50>P50,O50-1-R50,O50-R50))","v":0},{"$f":"IF(OR(U50=\"U\",U50=\"k\",U50=\"B\"),$D$14,IF(S50>P50,P50+60-S50,P50-S50))","v":0},0,0,0,0,null,null,0,0,0,0,null,null,"",null,null,"",null,null,""]
[{"$f":"Einstellungen!$L$34","v":"*) beachte § 5 der Dienstvereinbarung vom 17.04.2024 über die Arbeitszeit der Beschäftigten der Universität Hohenheim"},null,null,null,null,null,{"$f":"IF(AND(E15>0,I51<>\"\",U51<>\"f\"),F15,0)","v":0},{"$f":"IF(AND(I51<>\"\",U51<>\"f\"),1,0)","v":0},"","Fr",null,null,null,null,0,0,null,null,null,null,null,{"$f":"IF(OR(U51=\"U\",U51=\"k\",U51=\"B\"),$C$15,IF(S51>P51,O51-1-R51,O51-R51))","v":0},{"$f":"IF(OR(U51=\"U\",U51=\"k\",U51=\"B\"),$D$15,IF(S51>P51,P51+60-S51,P51-S51))","v":0},0,0,0,0,null,null,0,0,0,0,null,null,"",null,null,"",null,null,""]
[null,null,null,null,null,null,null,null,"","Sa",null,null,null,null,0,0,null,null,null,"nur dienstl. Sonderfälle!*",null,{"$f":"IF(S52>P52,O52-1-R52,O52-R52)","v":0},{"$f":"IF(S52>P52,P52+60-S52,P52-S52)","v":0},0,0,0,0,null,null,0,0,0,0,null,null,"",null,null,"",null,null,""]
[null,null,null,null,null,null,null,null,"","So",null,null,null,null,0,0,null,null,null,"nur dienstl. Sonderfälle!*",null,{"$f":"IF(S53>P53,O53-1-R53,O53-R53)","v":0},{"$f":"IF(S53>P53,P53+60-S53,P53-S53)","v":0},0,0,0,0,null,null,0,0,0,0,null,null,"",null,null,"",null,null,""]
[null,null,null,null,null,null,null,null,null,null,null,null,null,null,null,null,null,null,null,null,null,{"$f":"INT((60*SUM(V47:V53)+SUM(W47:W53)-W54)/60)","v":0},{"$f":"INT(60*SUM(V47:V53)+SUM(W47:W53)-60*INT((60*SUM(V47:V53)+SUM(W47:W53))/60))","v":0},{"$f":"INT((60*SUM(X47:X53)+SUM(Y47:Y53)-Y54)/60)","v":0},{"$f":"INT(60*SUM(X47:X53)+SUM(Y47:Y53)-60*INT((60*SUM(X47:X53)+SUM(Y47:Y53))/60))","v":0},{"$f":"INT((60*SUM(Z47:Z53)+SUM(AA47:AA53)-AA54)/60)","v":0},{"$f":"INT(60*SUM(Z47:Z53)+SUM(AA47:AA53)-60*INT((60*SUM(Z47:Z53)+SUM(AA47:AA53))/60))","v":0},{"$f":"INT((60*SUM(AB47:AB53)+SUM(AC47:AC53)-AC54)/60)","v":0},{"$f":"INT(60*SUM(AB47:AB53)+SUM(AC47:AC53)-60*INT((60*SUM(AB47:AB53)+SUM(AC47:AC53))/60))","v":0},{"$f":"INT((60*SUM(AD47:AD53)+SUM(AE47:AE53)-AE54)/60)","v":0},{"$f":"INT(60*SUM(AD47:AD53)+SUM(AE47:AE53)-60*INT((60*SUM(AD47:AD53)+SUM(AE47:AE53))/60))","v":0},{"$f":"INT((60*SUM(AF47:AF53)+SUM(AG47:AG53)-AG54)/60)","v":0},{"$f":"INT(60*SUM(AF47:AF53)+SUM(AG47:AG53)-60*INT((60*SUM(AF47:AF53)+SUM(AG47:AG53))/60))","v":0},{"$f":"INT((60*SUM(AH47:AH53)+SUM(AI47:AI53)-AI54)/60)","v":0},{"$f":"INT(60*SUM(AH47:AH53)+SUM(AI47:AI53)-60*INT((60*SUM(AH47:AH53)+SUM(AI47:AI53))/60))","v":0},null,{"$f":"INT((60*SUM(AK47:AK53)+SUM(AL47:AL53)-AL54)/60)","v":0},{"$f":"INT(60*SUM(AK47:AK53)+SUM(AL47:AL53)-60*INT((60*SUM(AK47:AK53)+SUM(AL47:AL53))/60))","v":0},null,{"$f":"INT((60*SUM(AN47:AN53)+SUM(AO47:AO53)-AO54)/60)","v":0},{"$f":"INT(60*SUM(AN47:AN53)+SUM(AO47:AO53)-60*INT((60*SUM(AN47:AN53)+SUM(AO47:AO53))/60))","v":0},null,{"$f":"INT((60*SUM(AQ47:AQ53)+SUM(AR47:AR53)-AR54)/60)","v":0},{"$f":"INT(60*SUM(AQ47:AQ53)+SUM(AR47:AR53)-60*INT((60*SUM(AQ47:AQ53)+SUM(AR47:AR53))/60))","v":0},{"$f":"INT((60*SUM(AS47:AS53)+SUM(AT47:AT53)-AT54)/60)","v":0},{"$f":"INT(60*SUM(AS47:AS53)+SUM(AT47:AT53)-60*INT((60*SUM(AS47:AS53)+SUM(AT47:AT53))/60))","v":0},{"$f":"INT((60*SUM(AU47:AU53)+SUM(AV47:AV53)-AV54)/60)","v":0},{"$f":"INT(60*SUM(AU47:AU53)+SUM(AV47:AV53)-60*INT((60*SUM(AU47:AU53)+SUM(AV47:AV53))/60))","v":0},{"$f":"INT((60*SUM(AW47:AW53)+SUM(AX47:AX53)-AX54)/60)","v":0},{"$f":"INT(60*SUM(AW47:AW53)+SUM(AX47:AX53)-60*INT((60*SUM(AW47:AW53)+SUM(AX47:AX53))/60))","v":0},{"$f":"INT((60*SUM(AY47:AY53)+SUM(AZ47:AZ53)-AZ54)/60)","v":0},{"$f":"INT(60*SUM(AY47:AY53)+SUM(AZ47:AZ53)-60*INT((60*SUM(AY47:AY53)+SUM(AZ47:AZ53))/60))","v":0},{"$f":"INT((60*SUM(BA47:BA53)+SUM(BB47:BB53)-BB54)/60)","v":0},{"$f":"INT(60*SUM(BA47:BA53)+SUM(BB47:BB53)-60*INT((60*SUM(BA47:BA53)+SUM(BB47:BB53))/60))","v":0},{"$f":"INT((60*SUM(BC47:BC53)+SUM(BD47:BD53)-BD54)/60)","v":0},{"$f":"INT(60*SUM(BC47:BC53)+SUM(BD47:BD53)-60*INT((60*SUM(BC47:BC53)+SUM(BD47:BD53))/60))","v":0},{"$f":"INT((60*SUM(BE47:BE53)+SUM(BF47:BF53)-BF54)/60)","v":0},{"$f":"INT(60*SUM(BE47:BE53)+SUM(BF47:BF53)-60*INT((60*SUM(BE47:BE53)+SUM(BF47:BF53))/60))","v":0},{"$f":"INT((60*SUM(BG47:BG53)+SUM(BH47:BH53)-BH54)/60)","v":0},{"$f":"INT(60*SUM(BG47:BG53)+SUM(BH47:BH53)-60*INT((60*SUM(BG47:BG53)+SUM(BH47:BH53))/60))","v":0}]
[null,null,null,null,null,null,{"$f":"SUM(G5:G53)","v":20},{"$f":"SUM(H5:H53)","v":20},"Dezember",null,null,null,null,null,null,{"$f":"Einstellungen!A1","v":2026},null,null,null,null,null,null,null,"Summe:",null,"Summe:",null,"Summe:",null,"Summe:",null,"Summe:",null,{"$f":"INT(((SUM(AH9,AH18,AH27,AH36,AH45,AH54)*100)+(SUM(AI9,AI18,AI27,AI36,AI45,AI54)/60*100))/100)","v":0},{"$f":"MOD(((SUM(AH9,AH18,AH27,AH36,AH45,AH54)*100)+(SUM(AI9,AI18,AI27,AI36,AI45,AI54)/60*100))/100,1)*60","v":0},null,{"$f":"INT(((SUM(AK9,AK18,AK27,AK36,AK45,AK54)*100)+(SUM(AL9,AL18,AL27,AL36,AL45,AL54)/60*100))/100)","v":0},{"$f":"MOD(((SUM(AK9,AK18,AK27,AK36,AK45,AK54)*100)+(SUM(AL9,AL18,AL27,AL36,AL45,AL54)/60*100))/100,1)*60","v":0},null,{"$f":"INT(((SUM(AN9,AN18,AN27,AN36,AN45,AN54)*100)+(SUM(AO9,AO18,AO27,AO36,AO45,AO54)/60*100))/100)","v":0},{"$f":"MOD(((SUM(AN9,AN18,AN27,AN36,AN45,AN54)*100)+(SUM(AO9,AO18,AO27,AO36,AO45,AO54)/60*100))/100,1)*60","v":0},null,{"$f":"INT(((SUM(AQ9,AQ18,AQ27,AQ36,AQ45,AQ54)*100)+(SUM(AR9,AR18,AR27,AR36,AR45,AR54)/60*100))/100)","v":0},{"$f":"MOD(((SUM(AQ9,AQ18,AQ27,AQ36,AQ45,AQ54)*100)+(SUM(AR9,AR18,AR27,AR36,AR45,AR54)/60*100))/100,1)*60","v":0},{"$f":"INT(((SUM(AS9,AS18,AS27,AS36,AS45,AS54)*100)+(SUM(AT9,AT18,AT27,AT36,AT45,AT54)/60*100))/100)","v":0},{"$f":"MOD(((SUM(AS9,AS18,AS27,AS36,AS45,AS54)*100)+(SUM(AT9,AT18,AT27,AT36,AT45,AT54)/60*100))/100,1)*60","v":0},{"$f":"INT(((SUM(AU9,AU18,AU27,AU36,AU45,AU54)*100)+(SUM(AV9,AV18,AV27,AV36,AV45,AV54)/60*100))/100)","v":0},{"$f":"MOD(((SUM(AU9,AU18,AU27,AU36,AU45,AU54)*100)+(SUM(AV9,AV18,AV27,AV36,AV45,AV54)/60*100))/100,1)*60","v":0},{"$f":"INT(((SUM(AW9,AW18,AW27,AW36,AW45,AW54)*100)+(SUM(AX9,AX18,AX27,AX36,AX45,AX54)/60*100))/100)","v":0},{"$f":"MOD(((SUM(AW9,AW18,AW27,AW36,AW45,AW54)*100)+(SUM(AX9,AX18,AX27,AX36,AX45,AX54)/60*100))/100,1)*60","v":0},{"$f":"INT(((SUM(AY9,AY18,AY27,AY36,AY45,AY54)*100)+(SUM(AZ9,AZ18,AZ27,AZ36,AZ45,AZ54)/60*100))/100)","v":0},{"$f":"MOD(((SUM(AY9,AY18,AY27,AY36,AY45,AY54)*100)+(SUM(AZ9,AZ18,AZ27,AZ36,AZ45,AZ54)/60*100))/100,1)*60","v":0},{"$f":"INT(((SUM(BA9,BA18,BA27,BA36,BA45,BA54)*100)+(SUM(BB9,BB18,BB27,BB36,BB45,BB54)/60*100))/100)","v":0},{"$f":"MOD(((SUM(BA9,BA18,BA27,BA36,BA45,BA54)*100)+(SUM(BB9,BB18,BB27,BB36,BB45,BB54)/60*100))/100,1)*60","v":0},{"$f":"INT(((SUM(BC9,BC18,BC27,BC36,BC45,BC54)*100)+(SUM(BD9,BD18,BD27,BD36,BD45,BD54)/60*100))/100)","v":0},{"$f":"MOD(((SUM(BC9,BC18,BC27,BC36,BC45,BC54)*100)+(SUM(BD9,BD18,BD27,BD36,BD45,BD54)/60*100))/100,1)*60","v":0},{"$f":"INT(((SUM(BE9,BE18,BE27,BE36,BE45,BE54)*100)+(SUM(BF9,BF18,BF27,BF36,BF45,BF54)/60*100))/100)","v":0},{"$f":"MOD(((SUM(BE9,BE18,BE27,BE36,BE45,BE54)*100)+(SUM(BF9,BF18,BF27,BF36,BF45,BF54)/60*100))/100,1)*60","v":0},{"$f":"INT(((SUM(BG9,BG18,BG27,BG36,BG45,BG54)*100)+(SUM(BH9,BH18,BH27,BH36,BH45,BH54)/60*100))/100)","v":0},{"$f":"MOD(((SUM(BG9,BG18,BG27,BG36,BG45,BG54)*100)+(SUM(BH9,BH18,BH27,BH36,BH45,BH54)/60*100))/100,1)*60","v":0}]
[null,null,null,null,null,null,null,null,"Abrechnungsmonat",null,null,null,null,null,null,"Jahr",null,null,null,"Monatsarbeitszeit IST",null,{"$f":"INT((60*SUM(V54,V45,V36,V27,V18,V9)+SUM(W54,W45,W36,W27,W18,W9)-W56)/60)","v":0},{"$f":"INT(60*SUM(V54,V45,V36,V27,V18,V9)+SUM(W54,W45,W36,W27,W18,W9)-60*INT((60*SUM(V54,V45,V36,V27,V18,V9)+SUM(W54,W45,W36,W27,W18,W9))/60))","v":0},{"$f":"INT((60*SUM(X54,X45,X36,X27,X18,X9)+SUM(Y54,Y45,Y36,Y27,Y18,Y9)-Y56)/60)","v":0},{"$f":"INT(60*SUM(X54,X45,X36,X27,X18,X9)+SUM(Y54,Y45,Y36,Y27,Y18,Y9)-60*INT((60*SUM(X54,X45,X36,X27,X18,X9)+SUM(Y54,Y45,Y36,Y27,Y18,Y9))/60))","v":0},{"$f":"INT((60*SUM(Z54,Z45,Z36,Z27,Z18,Z9)+SUM(AA54,AA45,AA36,AA27,AA18,AA9)-AA56)/60)","v":0},{"$f":"INT(60*SUM(Z54,Z45,Z36,Z27,Z18,Z9)+SUM(AA54,AA45,AA36,AA27,AA18,AA9)-60*INT((60*SUM(Z54,Z45,Z36,Z27,Z18,Z9)+SUM(AA54,AA45,AA36,AA27,AA18,AA9))/60))","v":0},{"$f":"INT((60*SUM(AB54,AB45,AB36,AB27,AB18,AB9)+SUM(AC54,AC45,AC36,AC27,AC18,AC9)-AC56)/60)","v":0},{"$f":"INT(60*SUM(AB54,AB45,AB36,AB27,AB18,AB9)+SUM(AC54,AC45,AC36,AC27,AC18,AC9)-60*INT((60*SUM(AB54,AB45,AB36,AB27,AB18,AB9)+SUM(AC54,AC45,AC36,AC27,AC18,AC9))/60))","v":0},{"$f":"INT((60*SUM(AD54,AD45,AD36,AD27,AD18,AD9)+SUM(AE54,AE45,AE36,AE27,AE18,AE9)-AE56)/60)","v":0},{"$f":"INT(60*SUM(AD54,AD45,AD36,AD27,AD18,AD9)+SUM(AE54,AE45,AE36,AE27,AE18,AE9)-60*INT((60*SUM(AD54,AD45,AD36,AD27,AD18,AD9)+SUM(AE54,AE45,AE36,AE27,AE18,AE9))/60))","v":0},{"$f":"INT((60*SUM(AF54,AF45,AF36,AF27,AF18,AF9)+SUM(AG54,AG45,AG36,AG27,AG18,AG9)-AG56)/60)","v":0},{"$f":"INT(60*SUM(AF54,AF45,AF36,AF27,AF18,AF9)+SUM(AG54,AG45,AG36,AG27,AG18,AG9)-60*INT((60*SUM(AF54,AF45,AF36,AF27,AF18,AF9)+SUM(AG54,AG45,AG36,AG27,AG18,AG9))/60))","v":0}]
[null,null,null,null,null,null,null,null,{"$f":"Einstellungen!K23","v":"Franziska von Hohenheim"},null,null,null,null,null,null,null,null,null,null,"Übertrag aus Vormonat (+/-)",{"$f":"IF(V57*W57<0,\"!\",\"\")","v":""},{"$f":"ROUND(Nov!V60,0)","v":-1817},{"$f":"ROUND(Nov!W60,0)","v":0}]
[null,null,null,null,null,null,null,null,"Name, Vorname",null,null,null,null,null,null,null,"Datum",null,null,"Summe",null,{"$f":"ROUND(SIGN(V56+V57+(W56+W57)/60)*ROUNDDOWN(ABS(V56+V57+(W56+W57)/60),0),0)","v":-1817},{"$f":"ROUND(SIGN(V56+V57+(W56+W57)/60)*(ABS(V56+V57+(W56+W57)/60)-ABS(V58))*60,0)","v":0}]
[null,null,null,null,null,null,null,null,{"$f":"Einstellungen!$K$25","v":"630"},null,{"$f":"Einstellungen!K24","v":"KIM"},null,null,null,null,null,null,null,null,"Monatsarbeitszeit SOLL",null,{"$f":"SUM(Einstellungen!B14)","v":158},{"$f":"SUM(Einstellungen!C14)","v":0}]
[null,null,null,null,null,null,null,null,"Einr.-Nr.",null,"Abt. / FG",null,null,null,null,null,"Name Leiter/in",null,null,"Zeitübertrag auf Folgemonat",{"$f":"IF(V60*W60<0,\"!\",\"\")","v":""},{"$f":"ROUND(SIGN(V58-V59+(W58-W59)/60)*ROUNDDOWN(ABS(V58-V59+(W58-W59)/60),0),0)","v":-1975},{"$f":"ROUND(SIGN(V58-V59+(W58-W59)/60)*(ABS(V58-V59+(W58-W59)/60)-ABS(V60))*60,0)","v":0}]
[]
[null,null,null,null,null,null,null,null,null,null,null,null,null,null,null,null,null,null,null,"Summe Urlaubstage",null,{"$f":"SUMPRODUCT((U5:U6=\"U\")*(E14:E15>0))+SUMPRODUCT((U11:U15=\"U\")*(E11:E15>0))+SUMPRODUCT((U20:U24=\"U\")*(E11:E15>0))+SUMPRODUCT((U29:U33=\"U\")*(E11:E15>0))+SUMPRODUCT((U38:U42=\"U\")*(E11:E15>0))+SUMPRODUCT((U47:U51=\"U\")*(E11:E15>0))","v":0}]
[null,null,null,null,null,null,null,null,"Datum",null,"Unterschrift Mitarbeiter/in",null,null,null,null,null,"Unterschrift Leiter/in",null,null,"alter / neuer Übertrag",null,{"$f":"IF(SUM(Einstellungen!K27:K30)>0,Nov!W63,\"--- \")","v":30},{"$f":"IF(SUM(Einstellungen!K27:K30)>0,V63-V62,\"--- \")","v":30}]

{"sheet":"Einstellungen","index":12,"n_rows":45,"n_cols":17,"rows_kept":45,"cut":false,"hidden":true,"merged":[[26,15,26,16],[20,5,20,6],[30,11,30,14],[32,11,32,13],[12,11,12,12],[14,11,14,13],[21,11,21,13],[29,11,29,14],[19,11,19,12],[22,11,22,12],[22,8,22,9],[23,14,23,16],[24,14,24,16],[28,14,28,16],[25,15,25,16],[24,1,24,2],[30,8,30,9],[23,8,23,9],[24,8,24,9],[26,8,26,9],[27,8,27,9],[28,8,28,9],[29,8,29,9],[45,8,45,16],[40,0,40,7],[40,8,40,16],[41,0,41,7],[41,8,41,16],[42,0,42,7],[42,8,42,16],[33,11,35,16],[43,0,43,7],[43,8,43,16],[44,0,44,7],[44,8,44,16],[37,0,37,6],[37,9,37,16],[38,0,38,7],[38,8,38,16],[39,0,39,7],[39,8,39,16]]}
[2026,null,"monatl. Arbeitszeit","Beschäftigung",null,"Soll-Arbeitszeit",null,null,null,null,null,"Hinweise:"]
["Monat","Stunden","Minuten"," in %",null,"1.) >>>",null,null,null,null,1,"I Beschäftigte mit 39,5 Std-Woche"]
[{"$f":"DATE($A$1,1,1)","v":"2026-01-01"},{"$f":"ROUND(IF($K$2,ROUNDDOWN(((G3*60+H3)/60)*D3*5/Jan!$H$55*Jan!$G$55/$H$21,0),ROUNDDOWN(((I3*60+J3)/60)*D3*5/Jan!$H$55*Jan!$G$55/$J$21,0)),0)","v":158},{"$f":"ROUND(IF($K$2,(((G3*60+H3)/60*D3*5/Jan!$H$55*Jan!$G$55/$H$21)-B3)*60,(((I3*60+J3)/60*D3*5/Jan!$H$55*Jan!$G$55/$J$21)-B3)*60),0)","v":0},1,"<<< 2.)",{"$f":"A3","v":"2026-01-01"},{"$f":"INT(H$16/5*Jan!$H$55)","v":158},{"$f":"(H$16/5*Jan!$H$55-INT(H$16/5*Jan!$H$55))*60","v":0},{"$f":"INT(J$16/5*Jan!$H$55)","v":164},{"$f":"(J$16/5*Jan!$H$55-INT(J$16/5*Jan!$H$55))*60","v":0},null,"",null,"Beschäftigungsumfang"]
[{"$f":"DATE(YEAR(A3),MONTH(A3)+1,DAY(A3))","v":"2026-02-01"},{"$f":"ROUND(IF($K$2,ROUNDDOWN(((G4*60+H4)/60)*D4*5/Febr!$H$55*Febr!$G$55/$H$21,0),ROUNDDOWN(((I4*60+J4)/60)*D4*5/Febr!$H$55*Febr!$G$55/$J$21,0)),0)","v":158},{"$f":"ROUND(IF($K$2,(((G4*60+H4)/60*D4*5/Febr!$H$55*Febr!$G$55/$H$21)-B4)*60,(((I4*60+J4)/60*D4*5/Febr!$H$55*Febr!$G$55/$J$21)-B4)*60),0)","v":0},{"$f":"D3","v":1},null,{"$f":"A4","v":"2026-02-01"},{"$f":"INT(H$16/5*Febr!$H$55)","v":158},{"$f":"(H$16/5*Febr!$H$55-INT(H$16/5*Febr!$H$55))*60","v":0},{"$f":"INT(J$16/5*Febr!$H$55)","v":164},{"$f":"(J$16/5*Febr!$H$55-INT(J$16/5*Febr!$H$55))*60","v":0},null,"5 Tage-Woche",null,1,0.75,null,0.5]
[{"$f":"DATE(YEAR(A4),MONTH(A4)+1,DAY(A4))","v":"2026-03-01"},{"$f":"ROUND(IF($K$2,ROUNDDOWN(((G5*60+H5)/60)*D5*5/März!$H$55*März!$G$55/$H$21,0),ROUNDDOWN(((I5*60+J5)/60)*D5*5/März!$H$55*März!$G$55/$J$21,0)),0)","v":173},{"$f":"ROUND(IF($K$2,(((G5*60+H5)/60*D5*5/März!$H$55*März!$G$55/$H$21)-B5)*60,(((I5*60+J5)/60*D5*5/März!$H$55*März!$G$55/$J$21)-B5)*60),0)","v":48},{"$f":"D3","v":1},null,{"$f":"A5","v":"2026-03-01"},{"$f":"INT(H$16/5*März!$H$55)","v":173},{"$f":"(H$16/5*März!$H$55-INT(H$16/5*März!$H$55))*60","v":48.000000000000682},{"$f":"INT(J$16/5*März!$H$55)","v":180},{"$f":"(J$16/5*März!$H$55-INT(J$16/5*März!$H$55))*60","v":23.999999999998636},null,"",null," "," ",null," "]
[{"$f":"DATE(YEAR(A5),MONTH(A5)+1,DAY(A5))","v":"2026-04-01"},{"$f":"ROUND(IF($K$2,ROUNDDOWN(((G6*60+H6)/60)*D6*5/Apr!$H$55*Apr!$G$55/$H$21,0),ROUNDDOWN(((I6*60+J6)/60)*D6*5/Apr!$H$55*Apr!$G$55/$J$21,0)),0)","v":158},{"$f":"ROUND(IF($K$2,(((G6*60+H6)/60*D6*5/Apr!$H$55*Apr!$G$55/$H$21)-B6)*60,(((I6*60+J6)/60*D6*5/Apr!$H$55*Apr!$G$55/$J$21)-B6)*60),0)","v":0},{"$f":"D3","v":1},null,"2026-04-01",{"$f":"INT(H$16/5*Apr!$H$55)","v":158},{"$f":"(H$16/5*Apr!$H$55-INT(H$16/5*Apr!$H$55))*60","v":0},{"$f":"INT(J$16/5*Apr!$H$55)","v":164},{"$f":"(J$16/5*Apr!$H$55-INT(J$16/5*Apr!$H$55))*60","v":0},null,"tägliche Regel-",null," "," ",null," "]
["2026-05-01",{"$f":"ROUND(IF($K$2,ROUNDDOWN(((G7*60+H7)/60)*D7*5/Mai!$H$55*Mai!$G$55/$H$21,0),ROUNDDOWN(((I7*60+J7)/60)*D7*5/Mai!$H$55*Mai!$G$55/$J$21,0)),0)","v":142},{"$f":"ROUND(IF($K$2,(((G7*60+H7)/60*D7*5/Mai!$H$55*Mai!$G$55/$H$21)-B7)*60,(((I7*60+J7)/60*D7*5/Mai!$H$55*Mai!$G$55/$J$21)-B7)*60),0)","v":12},{"$f":"D3","v":1},null,"2026-05-01",{"$f":"INT(H$16/5*Mai!$H$55)","v":142},{"$f":"(H$16/5*Mai!$H$55-INT(H$16/5*Mai!$H$55))*60","v":12.000000000001023},{"$f":"INT(J$16/5*Mai!$H$55)","v":147},{"$f":"(J$16/5*Mai!$H$55-INT(J$16/5*Mai!$H$55))*60","v":35.999999999999659},null,"arbeitszeit für"]
["2026-06-01",{"$f":"ROUND(IF($K$2,ROUNDDOWN(((G8*60+H8)/60)*D8*5/Juni!$H$55*Juni!$G$55/$H$21,0),ROUNDDOWN(((I8*60+J8)/60)*D8*5/Juni!$H$55*Juni!$G$55/$J$21,0)),0)","v":165},{"$f":"ROUND(IF($K$2,(((G8*60+H8)/60*D8*5/Juni!$H$55*Juni!$G$55/$H$21)-B8)*60,(((I8*60+J8)/60*D8*5/Juni!$H$55*Juni!$G$55/$J$21)-B8)*60),0)","v":54},{"$f":"D3","v":1},null,"2026-06-01",{"$f":"INT(H$16/5*Juni!$H$55)","v":165},{"$f":"(H$16/5*Juni!$H$55-INT(H$16/5*Juni!$H$55))*60","v":54.000000000000341},{"$f":"INT(J$16/5*Juni!$H$55)","v":172},{"$f":"(J$16/5*Juni!$H$55-INT(J$16/5*Juni!$H$55))*60","v":11.999999999999318},null,"Wochenfeier-"]
["2026-07-01",{"$f":"ROUND(IF($K$2,ROUNDDOWN(((G9*60+H9)/60)*D9*5/Juli!$H$55*Juli!$G$55/$H$21,0),ROUNDDOWN(((I9*60+J9)/60)*D9*5/Juli!$H$55*Juli!$G$55/$J$21,0)),0)","v":181},{"$f":"ROUND(IF($K$2,(((G9*60+H9)/60*D9*5/Juli!$H$55*Juli!$G$55/$H$21)-B9)*60,(((I9*60+J9)/60*D9*5/Juli!$H$55*Juli!$G$55/$J$21)-B9)*60),0)","v":42},{"$f":"D3","v":1},null,"2026-07-01",{"$f":"INT(H$16/5*Juli!$H$55)","v":181},{"$f":"(H$16/5*Juli!$H$55-INT(H$16/5*Juli!$H$55))*60","v":42.000000000001023},{"$f":"INT(J$16/5*Juli!$H$55)","v":188},{"$f":"(J$16/5*Juli!$H$55-INT(J$16/5*Juli!$H$55))*60","v":35.999999999999659},null,"tage, bei Urlaub"]
["2026-08-01",{"$f":"ROUND(IF($K$2,ROUNDDOWN(((G10*60+H10)/60)*D10*5/Aug!$H$55*Aug!$G$55/$H$21,0),ROUNDDOWN(((I10*60+J10)/60)*D10*5/Aug!$H$55*Aug!$G$55/$J$21,0)),0)","v":165},{"$f":"ROUND(IF($K$2,(((G10*60+H10)/60*D10*5/Aug!$H$55*Aug!$G$55/$H$21)-B10)*60,(((I10*60+J10)/60*D10*5/Aug!$H$55*Aug!$G$55/$J$21)-B10)*60),0)","v":54},{"$f":"D3","v":1},null,"2026-08-01",{"$f":"INT(H$16/5*Aug!$H$55)","v":165},{"$f":"(H$16/5*Aug!$H$55-INT(H$16/5*Aug!$H$55))*60","v":54.000000000000341},{"$f":"INT(J$16/5*Aug!$H$55)","v":172},{"$f":"(J$16/5*Aug!$H$55-INT(J$16/5*Aug!$H$55))*60","v":11.999999999999318},null,"oder Krankheit"]
["2026-09-01",{"$f":"ROUND(IF($K$2,ROUNDDOWN(((G11*60+H11)/60)*D11*5/Sept!$H$55*Sept!$G$55/$H$21,0),ROUNDDOWN(((I11*60+J11)/60)*D11*5/Sept!$H$55*Sept!$G$55/$J$21,0)),0)","v":173},{"$f":"ROUND(IF($K$2,(((G11*60+H11)/60*D11*5/Sept!$H$55*Sept!$G$55/$H$21)-B11)*60,(((I11*60+J11)/60*D11*5/Sept!$H$55*Sept!$G$55/$J$21)-B11)*60),0)","v":48},{"$f":"D3","v":1},null,"2026-09-01",{"$f":"INT(H$16/5*Sept!$H$55)","v":173},{"$f":"(H$16/5*Sept!$H$55-INT(H$16/5*Sept!$H$55))*60","v":48.000000000000682},{"$f":"INT(J$16/5*Sept!$H$55)","v":180},{"$f":"(J$16/5*Sept!$H$55-INT(J$16/5*Sept!$H$55))*60","v":23.999999999998636},null,"Mo-Fr  ","Std.Min"," 7.54"," 5.56",null," 3.57"]
["2026-10-01",{"$f":"ROUND(IF($K$2,ROUNDDOWN(((G12*60+H12)/60)*D12*5/Okt!$H$55*Okt!$G$55/$H$21,0),ROUNDDOWN(((I12*60+J12)/60)*D12*5/Okt!$H$55*Okt!$G$55/$J$21,0)),0)","v":173},{"$f":"ROUND(IF($K$2,(((G12*60+H12)/60*D12*5/Okt!$H$55*Okt!$G$55/$H$21)-B12)*60,(((I12*60+J12)/60*D12*5/Okt!$H$55*Okt!$G$55/$J$21)-B12)*60),0)","v":48},{"$f":"D3","v":1},null,"2026-10-01",{"$f":"INT(H$16/5*Okt!$H$55)","v":173},{"$f":"(H$16/5*Okt!$H$55-INT(H$16/5*Okt!$H$55))*60","v":48.000000000000682},{"$f":"INT(J$16/5*Okt!$H$55)","v":180},{"$f":"(J$16/5*Okt!$H$55-INT(J$16/5*Okt!$H$55))*60","v":23.999999999998636},null,""," "," "," ",null," "]
["2026-11-01",{"$f":"ROUND(IF($K$2,ROUNDDOWN(((G13*60+H13)/60)*D13*5/Nov!$H$55*Nov!$G$55/$H$21,0),ROUNDDOWN(((I13*60+J13)/60)*D13*5/Nov!$H$55*Nov!$G$55/$J$21,0)),0)","v":165},{"$f":"ROUND(IF($K$2,(((G13*60+H13)/60*D13*5/Nov!$H$55*Nov!$G$55/$H$21)-B13)*60,(((I13*60+J13)/60*D13*5/Nov!$H$55*Nov!$G$55/$J$21)-B13)*60),0)","v":54},{"$f":"D3","v":1},null,"2026-11-01",{"$f":"INT(H$16/5*Nov!$H$55)","v":165},{"$f":"(H$16/5*Nov!$H$55-INT(H$16/5*Nov!$H$55))*60","v":54.000000000000341},{"$f":"INT(J$16/5*Nov!$H$55)","v":172},{"$f":"(J$16/5*Nov!$H$55-INT(J$16/5*Nov!$H$55))*60","v":11.999999999999318},null,"Wochen",null," "," ",null," "]
["2026-12-01",{"$f":"ROUND(IF($K$2,ROUNDDOWN(((G14*60+H14)/60)*D14*5/Dez!$H$55*Dez!$G$55/$H$21,0),ROUNDDOWN(((I14*60+J14)/60)*D14*5/Dez!$H$55*Dez!$G$55/$J$21,0)),0)","v":158},{"$f":"ROUND(IF($K$2,(((G14*60+H14)/60*D14*5/Dez!$H$55*Dez!$G$55/$H$21)-B14)*60,(((I14*60+J14)/60*D14*5/Dez!$H$55*Dez!$G$55/$J$21)-B14)*60),0)","v":0},{"$f":"D3","v":1},null,"2026-12-01",{"$f":"INT(H$16/5*Dez!$H$55)","v":158},{"$f":"(H$16/5*Dez!$H$55-INT(H$16/5*Dez!$H$55))*60","v":0},{"$f":"INT(J$16/5*Dez!$H$55)","v":164},{"$f":"(J$16/5*Dez!$H$55-INT(J$16/5*Dez!$H$55))*60","v":0},null,"Arbeitzeit","Std.Min","39.30","29.38",null,"19.45"]
[null,null,null,null,null,"Zur Info:",null,null,null,null,null,"max.Übertrag auf das",null,null," ",null," "]
[null,null,null,null,null,"Vollzeit Woche:",null,39.5,null,41,null,"Folgejahr Std.Min",null,"39.30","39.30",null,"39.30"]
[null,"Meine tägl. Regelarbeitszeit:",null,null,null,"X% = pro Woche:",null,{"$f":"H16*D3","v":39.5},null,{"$f":"J16*D3","v":41},null,"II Beschäftigte mit 41 Std-Woche"]
[null,null,"Std","Min",null,"pro Tag Dezim.:",null,{"$f":"IF(H21>0,H17/H21,)","v":7.9},null,{"$f":"IF(J21>0,J17/J21,)","v":8.1999999999999993},null,"tägliche Arbeitszeit"]
[{"$f":"IF(OR(C19>0,D19>0),1,0)","v":1},"Montag",7,54,"<<< 3.)","pro Tag Std:Min:",null,{"$f":"H18/24","v":"07:54:00"},null,{"$f":"J18/24","v":"08:12:00"},null,"Mo-Fr  ","Std.Min","8.12","6.09",null,"4.06"]
[{"$f":"IF(OR(C20>0,D20>0),1,0)","v":1},"Dienstag",7,54,null,null,null,null,null,null,null,"Wochen",null," "," ",null," "]
[{"$f":"IF(OR(C21>0,D21>0),1,0)","v":1},"Mittwoch",7,54,null,"Arbeitstage/Woche:",null,{"$f":"SUM(A19:A23)","v":5},null,{"$f":"SUM(A19:A23)","v":5},null,"Arbeitzeit","Std.Min","41.00","30.45",null,"20.30"]
[{"$f":"IF(OR(C22>0,D22>0),1,0)","v":1},"Donnerstag",7,54,null,null,null,null,null,null,null,"max.Übertrag auf das",null,null," "," "," "]
[{"$f":"IF(OR(C23>0,D23>0),1,0)","v":1},"Freitag",7,54,null,"Kontrolle",null,null,"Name:",null,"Franziska von Hohenheim","Folgejahr Std.Min",null,"41.00","41.00"," ","41.00"]
[null,"Dezim. Kontrollsumme:",null,{"$f":"((SUM(D19:D23))*60+(SUM(C19:C23)*3600))/3600","v":39.5},null,null,null,"4.) >>>","Abt./FG:",null,"KIM","Kernarbeitszeit:",null,"Mo-Do","9:00 - 14:30 Uhr"]
[null,"Abweichung in %:",null,{"$f":"ABS(1-IF(K2=0,J17,H17)/D24)","v":0},null,null,null,null,"Einrichtung:",null,"630","","","Fr","9:00 - 12:00 Uhr"]
["Arbeitszeitblatt Universität Hohenheim",null,null,null,null,null,null,null,null,null,null,"Gleitzeit:","frühester Beginn",null,null,"6:00 Uhr"]
[{"$f":"\"Universität Hohenheim KIM © \"&A1","v":"Universität Hohenheim KIM © 2026"},null,null,null,null,null,null,null,"Urlaubsanspruch:",null,30,"","spätestes Ende",null,null,"21:00 Uhr"]
["Version 5.12",null,null,null,null,null,null,"5.) >>>","Zusatzurlaub:",null,0,""]
["*) beachte § 5 der Dienstvereinbarung vom 17.04.2024 über die Arbeitszeit der Beschäftigten der Universität Hohenheim",null,null,null,null,null,null,null,"Sonstige Tage:","Sonstige Tage",0,"Mittagspause zw.",null,null,"11:15 - 14:00 Uhr"]
[null,"Ich bestätige, dass die Angaben in diesem",null,null,null,null,null,null,"Resturlaub Vorjahr:",null,0,"ab 6 Std. Arbeitszeit: Dauer min.",null,null,null,null,"30 Min"]
[null,"Arbeitszeitblatt im Einklang mit den geltenden",null,null,null,null,null,null,"Verfall Ende Sept.:",null,"Ja","ab 9 Std. (exklusiv Beamte) min.",null,null,null,null,"45 Min"]
[null,"Arbeitszeitregelungen stehen.",null,null,null,null,null,null,null,null,null,"",null," ","max.",null,"120 Min"]
[null,null,null,null,null,null,null,null,null,null,null,"tägliche Arbeitszeit  ",null,null,"max.",null," 10 Std"]
[null,null,null,null,null,null,null,null,null,null,null,"*) beachte § 5 der Dienstvereinbarung vom 17.04.2024 über die Arbeitszeit der Beschäftigten der Universität Hohenheim"]
[]
[]
[]
[]
["H I N W E I S E",null,null,null,null,null,null,null,"I N F O R M A T I O N"]
[]
["1.) In G2/I2 die für Sie geltende Arbeitszeit auswählen.",null,null,null,null,null,null,null,"1.) In the cells G2/I2, select the number of weekly hours that applies to you."]
["2.) In D3 tragen Sie Ihren Beschäftigungsumfang in % ein.",null,null,null,null,null,null,null,"2.) In the cell D3, enter the scope of your employment (100%, 65%, 50%, etc.)"]
["3.) In C18-24/D18-24 tragen Sie Ihre tägliche Regelarbeitszeit ein (in H19/J19 als Mittelwert berechnet). Entscheidend ist die wöchentliche Arbeitszeit und nicht der ggf. gerundete Wert der tägl. Regelarbeitszeit.",null,null,null,null,null,null,null,"3.) In the cells C18-24 and D18-24, enter your regular daily working hours (it is initally calculated as an average value of your total working hours divided across 5 days)"]
["4.) Ab K23 tragen Sie Ihren Namen, Ihre Abteilung und Einrichtungsnummer ein.",null,null,null,null,null,null,null,"4.) From K23 on enter your name, your department and your institution number."]
["5.) Ab K27 tragen Sie bitte Ihren Jahresurlaubsanspruch, Zusatzurlaub, sonstige Tage und den Resturlaub aus dem Vorjahr ein. Die Eintragung beim Verfall des Resturlaubs Ende September ändern Sie bitte nur in Ausnahmefällen.",null,null,null,null,null,null,null,"5.) From K27 on enter the number of vacation days you have, any additional vacation to which you are entitled (vacation due to severe disability, etc.), any other relevant days and any vacation you have remaining from the previous year. Only change K31 in special cases. "]

{"sheet":"Projektdaten","index":13,"n_rows":29,"n_cols":8,"rows_kept":29,"cut":false,"hidden":true,"merged":[]}
[]
[null,"EU-Projekte (Horizon 2020, Horizon Europe):",null,null,null,null,null,"Bitte tragen Sie hier jeweils die Projektbezeichnung"]
[null,null,null,null,null,null,null,"(Akronym) und die Grant Agreement Nummer ein."]
[null,null,"Projekt 1:","EU Projekt 1"]
[]
[null,null,"Projekt 2:","EU Projekt 2"]
[]
[null,null,"Projekt 3:","EU Projekt 3"]
[]
[]
[null,"Andere (nationale) Projekte:",null,null,null,null,null,"Bitte tragen Sie hier jeweils die Projektbezeichnung"]
[null,null,null,null,null,null,null,"(z. B. Akronym) und gegebenenfalls das"]
[null,null,"Projekt 1:","Projekt 1",null,null,null,"Förderkennzeichen oder die Vertragsnummer ein."]
[]
[null,null,"Projekt 2:","Projekt 2"]
[]
[null,null,"Projekt 3:","Projekt 3"]
[]
[null,null,"Projekt 4:","Projekt 4"]
[]
[null,null,"Projekt 5:","Projekt 5"]
[]
[null,null,"Projekt 6:","Projekt 6"]
[]
[null,null,"Projekt 7:","Projekt 7"]
[]
[null,null,"Projekt 8:","Projekt 8"]
[]
[null,null,"Projekt 9:","Projekt 9"]

{"sheet":"Check","index":14,"n_rows":7,"n_cols":2,"rows_kept":7,"cut":false,"hidden":true,"merged":[]}
["U"]
["K"]
["F"]
["D"]
[]
[]
[null,{"$f":"A7","v":0}]

{"sheet":"Hinweise!","index":15,"n_rows":17,"n_cols":7,"rows_kept":17,"cut":false,"hidden":false,"merged":[[16,1,16,2],[16,5,16,6],[0,1,0,2],[0,5,0,6],[1,1,1,2],[1,5,1,6],[13,1,13,2],[13,5,13,6],[12,1,12,2],[12,5,12,6],[14,1,14,2],[14,5,14,6],[15,1,15,2],[15,5,15,6]]}
[null,"W I C H T I G E    H I N W E I S E:",null,null,null,"I M P O R T A N T    I N F O R M A T I O N:"]
[null,"Dieses Zeiterfassungsblatt ist für Arbeitnehmer/innen und Beamt/innen in Voll- und Teilzeit verwendbar. Im Registerblatt \"Einstellungen\" wählen Sie aus, welche wöchentliche Arbeitszeit für Sie gilt (39,5 oder 41 Std-Woche) und welche tägliche Arbeitszeit gilt. Diese Zeiten werden durch einen Link mit dem Feld \"Monatsarbeitszeit SOLL\" des jeweiligen Monats verbunden. Teilzeitbeschäftigte tragen bei den \"Einstellungen\" außerdem die Teilzeit-Prozentangabe und die Stunden/Minuten der täglichen Regelarbeitszeit pro Wochentag ein. Im Registerblatt \"Einstellungen\" tragen Sie außerdem Ihren Namen, Ihre Abteilung und die Einrichtungs-Nr. ein.\nDie Einhaltung der Arbeitszeitverordnung liegt in Ihrem Verantwortungsbereich und wird Ihnen vom Zeitblatt nicht abgenommen. Jede/r Beschäftigte ist für die Daten, die er/sie einträgt, selbst verantwortlich! ",null,null,null,"This timesheet can be used for employees, civil servants, working full-time or part-time. On the sheet \"Einstellungen,\" you choose which weekly working time applies to you (39.5 or 41 hours per week). The required working time is entered in the form \"Einstellungen\" and linked to the field \"Monatsarbeitszeit SOLL\" (required monthly hours) of the respective month. Part-time employees also need to enter the percentage of their employment hours in the form \"Einstellungen\" and the hours/minutes of their regular working hours each weekday. In the form \"Einstellungen\" you also enter your name, department/institution (Abteilung), and institution number (Einrichtungs-Nr.).\nYou are responsible for adhering to the Working Hours Ordinance (Arbeitszeitverordnung). This responsibility is not taken out of your hands with the timesheet."]
[]
[null,"Allgemeines","Es sind nur die gelben Textfelder beschreibbar.",null,null,"General information","Only the yellow fields can be edited."]
[null,"Eingabeformat Datumseingaben",{"$f":"\"z. B. 01.01.\" & Einstellungen!$A$1","v":"z. B. 01.01.2026"},null,null,"Entry format for dates",{"$f":"\"e.g. 01.01.\" & Einstellungen!$A$1","v":"e.g. 01.01.2026"}]
[null,"Eingabeformat Zeitangaben","z. B. 08:30 (Der Doppelpunkt ist zwingend als Trennzeichen zwischen Stunden- und Minutenwert erforderlich)",null,null,"Entry format for times","e.g. 08:30 (the colon is required as a separator between the hours and minutes)"]
[]
[null,"Übertrag aus Vormonat","Wert in Stunden und Minuten ggf. mit negativem Vorzeichen eingeben. Der Übertragungszeitraum beträgt 1 Jahr. Maximal ist 1 Wochenarbeitszeit übertragbar. Sofern der Übertrag aus dem Vormonat negativ ist und 1 Stunde unterschreiten sollte, ist das negative Vorzeichen vor den Minutenwert zu setzen. D. h. das Vorzeichen bei der Stunde und Minute ist immer gleich zu setzen. Gemischtes Vorzeichen (z. B. 1 Stunde, -30 Minuten) führt zur Fehlberechnung.      \n",null,null,"Carry-over from the previous month","Enter value in hours and minutes with a negative sign if necessary. The carry-over time period is one year. A maximum of one week of working time can be carried over. If the carry-over from the previous month is negative and less than 1 hour, the negative sign should be placed before the minutes. That is, the sign by the hour and minute should always be equal. Mixed signs (e.g. 1 hour, -30 minutes) lead to incorrect calculations."]
[null,"Tägl. Regelarbeitszeit (\"Einstellungen\")","Angabe in Stunden und Minuten (Ganzzahlen) in die vorgesehenen Spalten. Diese tägliche Arbeitszeit wird für die anzusetzende Arbeitszeit für Urlaubs- und Krankheitstage, ganztägige Berufsschule und für Feiertage verwendet.",null,null,"Daily working hours (\"Einstellungen\")","Enter hours and minutes (whole numbers) in the columns. These daily working times are used to calculate hours for vacation and sick days, days in training school (for apprentices) that take an entire day, and for holidays."]
[null,"Arbeitsleistung am Wochenende","Es können auch angeordnete Arbeitsstunden am Wochenende eingetragen werden. Es gilt jedoch nach wie vor die Arbeitswoche von Montag bis Freitag. Eine Arbeitsleistung am Wochenende stellt einen dienstlichen Sonderfall dar. Dasselbe gilt für Beschäftigte, die eine Vereinbarung zum mobilen Arbeiten abgeschlossen haben. Mobile Arbeit kann nur von Montag bis Freitag geleistet werden. Auf die Dienstvereinbarung über die Arbeitszeit der Beschäftigten der Universität Hohenheim und auf die Dienstvereinbarung zur mobilen Arbeit wird ausdrücklich verwiesen.",null,null,"Work on weekends","Working hours that the supervisor required to be done on the weekend may be entered. The Monday - Friday work week still applies. Work on the weekend is an exception. The same applies for employees who have signed an agreement on mobile working. Mobile working may only be done between Monday and Friday. Explicit reference is made here to the Operating Agreement on the Working Hours for University of Hohenheim Employees and on the Operating Agreement on mobile working."]
[null,"Urlaubs- und Feiertage, Krankheitstage, Arbeitszeitausgleich, Befreiung von der Arbeit oder Berufsschultag","Fehltage in Spalte U durch U (Urlaub), K (Krankheit), F (Feiertag) oder B (Befreiung von der Arbeit oder Berufsschule) kennzeichnen, so dass die auf diesen Tag entfallende Soll-Arbeitszeit übernommen wird. Bei Dienstreisen ist Beginn und Ende der Dienstreise bis zur Tagessumme von 10 Stunden als Arbeitszeit manuell einzutragen; in der Spalte T bitte einen Hinweis auf die Dienstreise eintragen. Mobile Arbeit bzw. Homeoffice ist durch ein X in Spalte U zu kennzeichnen. Bei Arbeitszeitausgleich (ganztägig) ist in Spalte U ein A einzutragen.",null,null,"Vacation and holidays, sick days, working time balancing, time off from work or days in training school","Days that are missed should be marked in the column U with U (vacation), K (illness), F (holiday), or B (time offf rom work or training school for apprentices) so that the regular working hours are counted.In the case of a business trip the start and end of the mission must be entered manually as working time up to a daily total of 10 hours; please enter a reference to the business trip in the T column. Mobile work or home office is to be indicated by an X in column U. Use an A in column U in case of working time balancing (full day)."]
[null,"Urlaubsberechnung","Die Urlaubsberechnung dient der besseren Übersicht und ersetzt nicht die schriftliche Urlaubsgenehmigung mit dem sonst üblichen Urlaubsantrag! Die Berechnung erfolgt aufgrund der Angaben im Registerblatt \"Einstellungen\". Abgezogen werden ganze Urlaubstage, sofern der Urlaubstag auch ein Arbeitstag ist (Teilzeit). Ende September verfällt automatisch nicht genommener Resturlaub aus dem Vorjahr, sofern bei den  \"Einstellungen\" nichts anderes im Feld \"Verfall Ende Sept.:\" vermerkt ist.\n  ",null,null,"Calculating vacation","The vacation calculation serves to provide a better overview but under no circumstances does it replace a written vacation approval with the required vacation request form! The calculation is done using the information given in the form \"Einstellungen.\" Whole vacation days are counted if the vacation day is a work day (part-time). At the end of September, any vacation remaining from the previous year automatically expires if nothing else is entered in the field \"Verfall Ende Sept.:\" in the form \"Einstellungen.\"\n"]
[null,{"$f":"\"Arbeitszeitblatt für EU-Projekte im Jahr \"& Einstellungen!$A$1&\" (\"&Einstellungen!$A$28&\")\"","v":"Arbeitszeitblatt für EU-Projekte im Jahr 2026 (Version 5.12)"},null,null,null,{"$f":"\"Arbeitszeitblatt für EU-Projekte im Jahr \"& Einstellungen!$A$1&\" (\"&Einstellungen!$A$28&\")\"","v":"Arbeitszeitblatt für EU-Projekte im Jahr 2026 (Version 5.12)"}]
[null,"(Weiterentwicklung des Arbeitszeitblattes von ZENDAS)",null,null,null,"(Weiterentwicklung des Arbeitszeitblattes von ZENDAS)"]
[]
[null,"Universität Hohenheim ",null,null,null,"Universität Hohenheim "]
[null,"Kommunikations-, Informations- und Medienzentrum (630)",null,null,null,"Kommunikations-, Informations- und Medienzentrum (630)"]

{"sheet":"English help","index":16,"n_rows":20,"n_cols":2,"rows_kept":20,"cut":false,"hidden":true,"merged":[[1,0,1,1],[3,0,3,1]]}
[]
["English assistance for filling out the monthly time sheets"]
[]
["Before starting, please read the English notes on the \"Hinweise\" sheet."]
[]
["1.","First ensure that you have correctly filled out the sheet \"Einstellungen\" (settings) with your employment data. Assistance for filling out that sheet is included at the bottom of that sheet."]
["2.","When recording your working hours, you record the times you started and stopped working in column K (time you started) and column N (time you stopped). Enter the start and end times of your lunch break in columns L and M."]
["3.","If you are sick, please enter a \"K\" in column U for the day. Your regular working time for that day will be automatically entered."]
["4.","If you have taken vacation, please enter a \"U\" in column U for the day(s). Your regular working time will be automatically entered."]
["5.","If there is a holiday not already recorded in the time sheet, please enter an \"F\" in column U for that day. Your regular working time will be automatically entered."]
["6.","In cells V/W56, the number of hours you have already worked during the month are automatically entered. This cannot be edited."]
["7.","In cells V/W57, your carry-over time from the previous month is recorded and calculated with your working hours for this month."]
["8.","In cells V/W57 you can see the number of hours you have already worked in the current month including the carry-over."]
["9.","In cells V/W58, you can see the number of hours you are required to work in the current month."]
["10.","In cells V/W59 you can see your carry-over from the current month to the next month."]
["11.","In cell W61 you can see the number of vacation days taken in the current month."]
["12.","In cell V62 you can see the number of vacation days you had coming into the current month."]
["13.","In cell W62 you can see the number of vacation days you will have going into the next month."]
["14.","On the last day of each month after completing your time sheet, you will need to print it out and sign and date it. The date goes in cell I62 and the signature in K-O62. You then need to give it to your supervisor."]
["15.","Columns X-BH are for time that must be recorded for specific projects. If you have questions about which sections you need to fill out, please speak with your supervisor."]

{"sheet":"Makros deaktiviert!","index":17,"n_rows":3,"n_cols":2,"rows_kept":3,"cut":false,"hidden":false,"merged":[]}
[]
[]
[null,"Für die Verwendung dieses Programms müssen Makros aktiviert sein!"]